{"text_format":"1","workbook":"xlsx","n_sheets":5,"sheets":["Disclaimer","Zdroj","Cenové indexy ","Adresy","CZKEUR Xchange rate"],"not_rendered":{"charts":0,"images":0,"macros":1,"external_links":1,"defined_names":10,"comments":0,"pivot_tables":0},"unopened":[],"bounds":{"document_bytes":16777216,"sheet_cells":100000,"rows_first":2000,"rows_last":500,"rows_between":2000,"halvings":0,"cell_chars":16384,"cell_head_chars":4096},"cells_cut":0,"cells_raw":0,"read":"whole","date_system":"1900"}

{"sheet":"Disclaimer","index":0,"n_rows":2,"n_cols":2,"rows_kept":2,"cut":false,"hidden":false,"merged":[[1,1,1,6]]}
[]
[null,"Táto verzia databázy nákupov Zdravotníckej techniky je testovacia verzia, s obmedzeným rozsahom zmlúv, ako aj informáciami o nákupoch. Jej cieľom je dopomôcť poskytovateľom zdravotnej starostlivosti pri stanovovaní PHZ a vyjednávaní s dodávateľmi zdravotníckej techniky. Databáza je vytváraná ručným či automatickým prepisom realizovaných nákupov v ČR a SR, čo determinuje aj detail informácií o každom nákupe. V niektorých prípadoch sú dostupné informácie na úrovni každej položky, v niektorých len za celkový sumárne nákup. \n\nPoložky v databáze nie sú vždy zjednotené a databáza bola expandovaná postupne, ako sa tvorila. Aj z tohto dôvodu sa zverejnila približne len polovica fuknčnej databázy.  Napriek tomu obsahu približne 900 nákupov najčastejšie kupovaných položiek. Ceny sú zobrazené aj pôvodných hodnotách, aj prepočítané k posledným hodnotám inflácie EUROSTATU zdravotníckej techniky. Dostupnosť informácií o cene je označená v stĺpci \"detail ceny položky\".\n\nPri stanovovaní optimálnej hodnoty PZS daného nákupu postupuje IZP tak, že so zreteľom platobným podmienok daného PZS sa stanovuje cena ako maximálne z priemeru, alebo prvého quintileu dostupných cien, očistených o extrémne hodnoty, či príliš staré nákupy. V exceli je predpripravené aj grafické rozhranie pre detailné analýzy v databáze. V prípade záujmu o konkrétne zmluvy, či iné otázky ohľadom využitia a funkcionality databáz, skontaktuje prosím Martina Smatanu z Inštitútu zdravotnej politky (martin.smatana@health.gov.sk; 0905 485 687). "]

{"sheet":"Zdroj","index":1,"n_rows":10789,"n_cols":60,"rows_kept":1125,"cut":true,"hidden":false,"merged":[],"bounds":{"rows_first":500,"rows_last":125,"rows_between":500,"halvings":2}}
["Kategória","Sub-kategória","Položka","Detail položky","Technické parametre položky","Ostatné detaily","Názov zostavy","Názov položky","Zameranie prístroja","Výrobca","Detail ceny položky","HW / SW","Nákupca","Krajina nákupcu","Dodávateľ","Dodávateľ IČO","Počet kusov","Cena bez DPH","Cena s DPH","Výmenný kurz","Cena EUR bez DPH","Cena EUR s DPH","Cena EUR bez DPH za jednotku","Cena EUR s DPH za jednotku","HICP k dátumu nákupu (2015 = 100)","Cena EUR bez DPH za jednotku HICP k 11/2016","Cena EUR s DPH za jednotku HICP k 11/2016","Rok nákupu","Mesiac nákupu","Deň nákupu","Dátum pre účely mapy","Zaškolenie","Doprava a inštalácia","Financovanie","Nakupované v rámci komplexnej dodávky","Servis","Dĺžka záručnej doby (mesiace)","Dĺžka pozáručného servisu (mesiace)","Maximálny reakčný čas na opravu (hodiny)","Odkaz","Treba dovypýtať ","Výnimočný nákup","Účastník súťaže 1","Účastník súťaže 2","Účastník súťaže 3","Mesto nákupcu (link)","Ulica nákupcu (link)","M","Dátum + M + mesiac",null,null,null,null,null,"Mesto nákupcu","Ulica nákupcu","check","check2","check","check2"]
["SPECT/CT",null,"Celá zostava",null,null,null,"Siemens symbia Intevo 2",null,null,"","sumárna cena","HW/SW","Fakultní nemocnice Ostrava","ČR","EDOMED a.s.",null,1,15120000,{"$f":"R2*1.21","v":18295200},{"$f":"IF(N2=\"SR\",1,IF(AC2=\"\",VLOOKUP(AW2,'CZKEUR Xchange rate'!$D$13:$E$234,2,FALSE),VLOOKUP(AW2,'CZKEUR Xchange rate'!$A$13:$B$234,2,FALSE)))","v":27.253},{"$f":"R2/T2","v":554801.30627820792},{"$f":"S2/T2","v":671309.58059663151},{"$f":"U2/Q2","v":554801.30627820792},{"$f":"V2/Q2","v":671309.58059663151},{"$f":"VLOOKUP(AW2,'Cenové indexy '!$D$7:$E$200,2,FALSE)","v":99.88},{"$f":"W2/Y2*'Cenové indexy '!$E$149","v":572854.01197909075},{"$f":"Z2*1.2","v":687424.81437490892},2015,null,null,{"$f":"DATE(AB2,AC2,AD2)","v":"2014-11-30"},"Áno","Áno","Neurčené","Nie","24 mesiacov zadarmo, potom (?)",null,null,null,"Zmluva 1_MS",null,null,null,null,null,{"$f":"VLOOKUP(M2,Adresy!$A$4:$C$156,2,FALSE)","v":"Ostrava"},{"$f":"VLOOKUP(M2,Adresy!$A$4:$C$156,3,FALSE)","v":"17. listopadu"},"M",{"$f":"IF(AC2=\"\",CONCATENATE(AB2,AV2,\"06\"),IF(LEN(AC2)=1,CONCATENATE(AB2,AV2,\"0\"&AC2),CONCATENATE(AB2,AV2,AC2)))","v":"2015M06"},null,null,null,null,null,{"$f":"VLOOKUP(M2,Adresy!$A$3:$C$122,2,FALSE)","v":"Ostrava"},{"$f":"VLOOKUP(M2,Adresy!$A$3:$C$122,3,FALSE)","v":"17. listopadu"},{"$f":"IF(BC2<>AT2,1,0)","v":0},0,0,0]
["SPECT/CT",null,"Detektory 3/8 s nízkym profilom",null,null,null,"Siemens symbia Intevo 2",null,null,"","bez položkovej identifikácie ceny (v rámci sumárnej ceny)","HW","Fakultní nemocnice Ostrava","ČR","EDOMED a.s.",null,2,null,null,{"$f":"IF(N3=\"SR\",1,IF(AC3=\"\",VLOOKUP(AW3,'CZKEUR Xchange rate'!$D$13:$E$234,2,FALSE),VLOOKUP(AW3,'CZKEUR Xchange rate'!$A$13:$B$234,2,FALSE)))","v":27.253},{"$f":"R3/T3","v":0},{"$f":"S3/T3","v":0},null,null,{"$f":"VLOOKUP(AW3,'Cenové indexy '!$D$7:$E$200,2,FALSE)","v":99.88},{"$f":"W3/Y3*'Cenové indexy '!$E$149","v":0},0,2015,null,null,"2014-11-30","Áno","Áno","Neurčené","Nie","24 mesiacov zadarmo, potom (?)",null,null,null,"Zmluva 1_MS",null,null,null,null,null,{"$f":"VLOOKUP(M3,Adresy!$A$4:$C$156,2,FALSE)","v":"Ostrava"},{"$f":"VLOOKUP(M3,Adresy!$A$4:$C$156,3,FALSE)","v":"17. listopadu"},"M",{"$f":"IF(AC3=\"\",CONCATENATE(AB3,AV3,\"06\"),IF(LEN(AC3)=1,CONCATENATE(AB3,AV3,\"0\"&AC3),CONCATENATE(AB3,AV3,AC3)))","v":"2015M06"},null,null,null,null,null,{"$f":"VLOOKUP(M3,Adresy!$A$3:$C$122,2,FALSE)","v":"Ostrava"},{"$f":"VLOOKUP(M3,Adresy!$A$3:$C$122,3,FALSE)","v":"17. listopadu"},0,0,0,0]
["SPECT/CT",null,"Kaudálne naklápanie",null,null,null,"Siemens symbia Intevo 2",null,null,"","bez položkovej identifikácie ceny (v rámci sumárnej ceny)","HW","Fakultní nemocnice Ostrava","ČR","EDOMED a.s.",null,1,null,null,{"$f":"IF(N4=\"SR\",1,IF(AC4=\"\",VLOOKUP(AW4,'CZKEUR Xchange rate'!$D$13:$E$234,2,FALSE),VLOOKUP(AW4,'CZKEUR Xchange rate'!$A$13:$B$234,2,FALSE)))","v":27.253},0,0,null,null,{"$f":"VLOOKUP(AW4,'Cenové indexy '!$D$7:$E$200,2,FALSE)","v":99.88},{"$f":"W4/Y4*'Cenové indexy '!$E$149","v":0},0,2015,null,null,"2014-11-30","Áno","Áno","Neurčené","Nie","24 mesiacov zadarmo, potom (?)",null,null,null,"Zmluva 1_MS",null,null,null,null,null,{"$f":"VLOOKUP(M4,Adresy!$A$4:$C$156,2,FALSE)","v":"Ostrava"},{"$f":"VLOOKUP(M4,Adresy!$A$4:$C$156,3,FALSE)","v":"17. listopadu"},"M","2015M06",null,null,null,null,null,{"$f":"VLOOKUP(M4,Adresy!$A$3:$C$122,2,FALSE)","v":"Ostrava"},{"$f":"VLOOKUP(M4,Adresy!$A$3:$C$122,3,FALSE)","v":"17. listopadu"},0,0,0,0]
["SPECT/CT",null,"Kolimátor pre nízke energie, vysoké rozlíšenie",null,null,null,"Siemens symbia Intevo 2",null,null,"","bez položkovej identifikácie ceny (v rámci sumárnej ceny)","HW","Fakultní nemocnice Ostrava","ČR","EDOMED a.s.",null,2,null,null,{"$f":"IF(N5=\"SR\",1,IF(AC5=\"\",VLOOKUP(AW5,'CZKEUR Xchange rate'!$D$13:$E$234,2,FALSE),VLOOKUP(AW5,'CZKEUR Xchange rate'!$A$13:$B$234,2,FALSE)))","v":27.253},0,0,null,null,{"$f":"VLOOKUP(AW5,'Cenové indexy '!$D$7:$E$200,2,FALSE)","v":99.88},{"$f":"W5/Y5*'Cenové indexy '!$E$149","v":0},0,2015,null,null,"2014-11-30","Áno","Áno","Neurčené","Nie","24 mesiacov zadarmo, potom (?)",null,null,null,"Zmluva 1_MS",null,null,null,null,null,{"$f":"VLOOKUP(M5,Adresy!$A$4:$C$156,2,FALSE)","v":"Ostrava"},{"$f":"VLOOKUP(M5,Adresy!$A$4:$C$156,3,FALSE)","v":"17. listopadu"},"M","2015M06",null,null,null,null,null,{"$f":"VLOOKUP(M5,Adresy!$A$3:$C$122,2,FALSE)","v":"Ostrava"},{"$f":"VLOOKUP(M5,Adresy!$A$3:$C$122,3,FALSE)","v":"17. listopadu"},0,0,0,0]
["SPECT/CT",null,"Kolimátor pre stredné energie",null,null,null,"Siemens symbia Intevo 2",null,null,"","bez položkovej identifikácie ceny (v rámci sumárnej ceny)","HW","Fakultní nemocnice Ostrava","ČR","EDOMED a.s.",null,2,null,null,{"$f":"IF(N6=\"SR\",1,IF(AC6=\"\",VLOOKUP(AW6,'CZKEUR Xchange rate'!$D$13:$E$234,2,FALSE),VLOOKUP(AW6,'CZKEUR Xchange rate'!$A$13:$B$234,2,FALSE)))","v":27.253},0,0,null,null,{"$f":"VLOOKUP(AW6,'Cenové indexy '!$D$7:$E$200,2,FALSE)","v":99.88},{"$f":"W6/Y6*'Cenové indexy '!$E$149","v":0},0,2015,null,null,"2014-11-30","Áno","Áno","Neurčené","Nie","24 mesiacov zadarmo, potom (?)",null,null,null,"Zmluva 1_MS",null,null,null,null,null,{"$f":"VLOOKUP(M6,Adresy!$A$4:$C$156,2,FALSE)","v":"Ostrava"},{"$f":"VLOOKUP(M6,Adresy!$A$4:$C$156,3,FALSE)","v":"17. listopadu"},"M","2015M06",null,null,null,null,null,{"$f":"VLOOKUP(M6,Adresy!$A$3:$C$122,2,FALSE)","v":"Ostrava"},{"$f":"VLOOKUP(M6,Adresy!$A$3:$C$122,3,FALSE)","v":"17. listopadu"},0,0,0,0]
["SPECT/CT",null,"Kolimátor pre vysoké energie",null,null,null,"Siemens symbia Intevo 2",null,null,"","bez položkovej identifikácie ceny (v rámci sumárnej ceny)","HW","Fakultní nemocnice Ostrava","ČR","EDOMED a.s.",null,2,null,null,{"$f":"IF(N7=\"SR\",1,IF(AC7=\"\",VLOOKUP(AW7,'CZKEUR Xchange rate'!$D$13:$E$234,2,FALSE),VLOOKUP(AW7,'CZKEUR Xchange rate'!$A$13:$B$234,2,FALSE)))","v":27.253},0,0,null,null,{"$f":"VLOOKUP(AW7,'Cenové indexy '!$D$7:$E$200,2,FALSE)","v":99.88},{"$f":"W7/Y7*'Cenové indexy '!$E$149","v":0},0,2015,null,null,"2014-11-30","Áno","Áno","Neurčené","Nie","24 mesiacov zadarmo, potom (?)",null,null,null,"Zmluva 1_MS",null,null,null,null,null,{"$f":"VLOOKUP(M7,Adresy!$A$4:$C$156,2,FALSE)","v":"Ostrava"},{"$f":"VLOOKUP(M7,Adresy!$A$4:$C$156,3,FALSE)","v":"17. listopadu"},"M","2015M06",null,null,null,null,null,{"$f":"VLOOKUP(M7,Adresy!$A$3:$C$122,2,FALSE)","v":"Ostrava"},{"$f":"VLOOKUP(M7,Adresy!$A$3:$C$122,3,FALSE)","v":"17. listopadu"},0,0,0,0]
["SPECT/CT",null,"Symbia - sada pre zvýšenie produktivity",null,null,null,"Siemens symbia Intevo 2",null,null,"","bez položkovej identifikácie ceny (v rámci sumárnej ceny)","HW","Fakultní nemocnice Ostrava","ČR","EDOMED a.s.",null,1,null,null,{"$f":"IF(N8=\"SR\",1,IF(AC8=\"\",VLOOKUP(AW8,'CZKEUR Xchange rate'!$D$13:$E$234,2,FALSE),VLOOKUP(AW8,'CZKEUR Xchange rate'!$A$13:$B$234,2,FALSE)))","v":27.253},0,0,null,null,{"$f":"VLOOKUP(AW8,'Cenové indexy '!$D$7:$E$200,2,FALSE)","v":99.88},{"$f":"W8/Y8*'Cenové indexy '!$E$149","v":0},0,2015,null,null,"2014-11-30","Áno","Áno","Neurčené","Nie","24 mesiacov zadarmo, potom (?)",null,null,null,"Zmluva 1_MS",null,null,null,null,null,{"$f":"VLOOKUP(M8,Adresy!$A$4:$C$156,2,FALSE)","v":"Ostrava"},{"$f":"VLOOKUP(M8,Adresy!$A$4:$C$156,3,FALSE)","v":"17. listopadu"},"M","2015M06",null,null,null,null,null,{"$f":"VLOOKUP(M8,Adresy!$A$3:$C$122,2,FALSE)","v":"Ostrava"},{"$f":"VLOOKUP(M8,Adresy!$A$3:$C$122,3,FALSE)","v":"17. listopadu"},0,0,0,0]
["SPECT/CT",null,"Školenie na AutoQC",null,null,null,"Siemens symbia Intevo 2",null,null,"","bez položkovej identifikácie ceny (v rámci sumárnej ceny)","HW","Fakultní nemocnice Ostrava","ČR","EDOMED a.s.",null,1,null,null,{"$f":"IF(N9=\"SR\",1,IF(AC9=\"\",VLOOKUP(AW9,'CZKEUR Xchange rate'!$D$13:$E$234,2,FALSE),VLOOKUP(AW9,'CZKEUR Xchange rate'!$A$13:$B$234,2,FALSE)))","v":27.253},0,0,null,null,{"$f":"VLOOKUP(AW9,'Cenové indexy '!$D$7:$E$200,2,FALSE)","v":99.88},{"$f":"W9/Y9*'Cenové indexy '!$E$149","v":0},0,2015,null,null,"2014-11-30","Áno","Áno","Neurčené","Nie","24 mesiacov zadarmo, potom (?)",null,null,null,"Zmluva 1_MS",null,null,null,null,null,{"$f":"VLOOKUP(M9,Adresy!$A$4:$C$156,2,FALSE)","v":"Ostrava"},{"$f":"VLOOKUP(M9,Adresy!$A$4:$C$156,3,FALSE)","v":"17. listopadu"},"M","2015M06",null,null,null,null,null,{"$f":"VLOOKUP(M9,Adresy!$A$3:$C$122,2,FALSE)","v":"Ostrava"},{"$f":"VLOOKUP(M9,Adresy!$A$3:$C$122,3,FALSE)","v":"17. listopadu"},0,0,0,0]
["SPECT/CT",null,"Súprava pre zrovnanie polohy zdrojov AutoQC",null,null,null,"Siemens symbia Intevo 2",null,null,"","bez položkovej identifikácie ceny (v rámci sumárnej ceny)","HW","Fakultní nemocnice Ostrava","ČR","EDOMED a.s.",null,1,null,null,{"$f":"IF(N10=\"SR\",1,IF(AC10=\"\",VLOOKUP(AW10,'CZKEUR Xchange rate'!$D$13:$E$234,2,FALSE),VLOOKUP(AW10,'CZKEUR Xchange rate'!$A$13:$B$234,2,FALSE)))","v":27.253},0,0,null,null,{"$f":"VLOOKUP(AW10,'Cenové indexy '!$D$7:$E$200,2,FALSE)","v":99.88},{"$f":"W10/Y10*'Cenové indexy '!$E$149","v":0},0,2015,null,null,"2014-11-30","Áno","Áno","Neurčené","Nie","24 mesiacov zadarmo, potom (?)",null,null,null,"Zmluva 1_MS",null,null,null,null,null,{"$f":"VLOOKUP(M10,Adresy!$A$4:$C$156,2,FALSE)","v":"Ostrava"},{"$f":"VLOOKUP(M10,Adresy!$A$4:$C$156,3,FALSE)","v":"17. listopadu"},"M","2015M06",null,null,null,null,null,{"$f":"VLOOKUP(M10,Adresy!$A$3:$C$122,2,FALSE)","v":"Ostrava"},{"$f":"VLOOKUP(M10,Adresy!$A$3:$C$122,3,FALSE)","v":"17. listopadu"},0,0,0,0]
["SPECT/CT",null,"Sada zdrojov auto QC",null,null,null,"Siemens symbia Intevo 2",null,null,"","bez položkovej identifikácie ceny (v rámci sumárnej ceny)","HW","Fakultní nemocnice Ostrava","ČR","EDOMED a.s.",null,1,null,null,{"$f":"IF(N11=\"SR\",1,IF(AC11=\"\",VLOOKUP(AW11,'CZKEUR Xchange rate'!$D$13:$E$234,2,FALSE),VLOOKUP(AW11,'CZKEUR Xchange rate'!$A$13:$B$234,2,FALSE)))","v":27.253},0,0,null,null,{"$f":"VLOOKUP(AW11,'Cenové indexy '!$D$7:$E$200,2,FALSE)","v":99.88},{"$f":"W11/Y11*'Cenové indexy '!$E$149","v":0},0,2015,null,null,"2014-11-30","Áno","Áno","Neurčené","Nie","24 mesiacov zadarmo, potom (?)",null,null,null,"Zmluva 1_MS",null,null,null,null,null,{"$f":"VLOOKUP(M11,Adresy!$A$4:$C$156,2,FALSE)","v":"Ostrava"},{"$f":"VLOOKUP(M11,Adresy!$A$4:$C$156,3,FALSE)","v":"17. listopadu"},"M","2015M06",null,null,null,null,null,{"$f":"VLOOKUP(M11,Adresy!$A$3:$C$122,2,FALSE)","v":"Ostrava"},{"$f":"VLOOKUP(M11,Adresy!$A$3:$C$122,3,FALSE)","v":"17. listopadu"},0,0,0,0]
["SPECT/CT",null,"Vozík pre kolimátor",null,null,null,"Siemens symbia Intevo 2",null,null,"","bez položkovej identifikácie ceny (v rámci sumárnej ceny)","HW","Fakultní nemocnice Ostrava","ČR","EDOMED a.s.",null,1,null,null,{"$f":"IF(N12=\"SR\",1,IF(AC12=\"\",VLOOKUP(AW12,'CZKEUR Xchange rate'!$D$13:$E$234,2,FALSE),VLOOKUP(AW12,'CZKEUR Xchange rate'!$A$13:$B$234,2,FALSE)))","v":27.253},0,0,null,null,{"$f":"VLOOKUP(AW12,'Cenové indexy '!$D$7:$E$200,2,FALSE)","v":99.88},{"$f":"W12/Y12*'Cenové indexy '!$E$149","v":0},0,2015,null,null,"2014-11-30","Áno","Áno","Neurčené","Nie","24 mesiacov zadarmo, potom (?)",null,null,null,"Zmluva 1_MS",null,null,null,null,null,{"$f":"VLOOKUP(M12,Adresy!$A$4:$C$156,2,FALSE)","v":"Ostrava"},{"$f":"VLOOKUP(M12,Adresy!$A$4:$C$156,3,FALSE)","v":"17. listopadu"},"M","2015M06",null,null,null,null,null,{"$f":"VLOOKUP(M12,Adresy!$A$3:$C$122,2,FALSE)","v":"Ostrava"},{"$f":"VLOOKUP(M12,Adresy!$A$3:$C$122,3,FALSE)","v":"17. listopadu"},0,0,0,0]
["SPECT/CT",null,"Špeciálny rekonštrukčný systém",null,null,null,"Siemens symbia Intevo 2",null,null,"","bez položkovej identifikácie ceny (v rámci sumárnej ceny)","HW","Fakultní nemocnice Ostrava","ČR","EDOMED a.s.",null,1,null,null,{"$f":"IF(N13=\"SR\",1,IF(AC13=\"\",VLOOKUP(AW13,'CZKEUR Xchange rate'!$D$13:$E$234,2,FALSE),VLOOKUP(AW13,'CZKEUR Xchange rate'!$A$13:$B$234,2,FALSE)))","v":27.253},0,0,null,null,{"$f":"VLOOKUP(AW13,'Cenové indexy '!$D$7:$E$200,2,FALSE)","v":99.88},{"$f":"W13/Y13*'Cenové indexy '!$E$149","v":0},0,2015,null,null,"2014-11-30","Áno","Áno","Neurčené","Nie","24 mesiacov zadarmo, potom (?)",null,null,null,"Zmluva 1_MS",null,null,null,null,null,{"$f":"VLOOKUP(M13,Adresy!$A$4:$C$156,2,FALSE)","v":"Ostrava"},{"$f":"VLOOKUP(M13,Adresy!$A$4:$C$156,3,FALSE)","v":"17. listopadu"},"M","2015M06",null,null,null,null,null,{"$f":"VLOOKUP(M13,Adresy!$A$3:$C$122,2,FALSE)","v":"Ostrava"},{"$f":"VLOOKUP(M13,Adresy!$A$3:$C$122,3,FALSE)","v":"17. listopadu"},0,0,0,0]
["SPECT/CT",null,"xSPECT QUANT Tc99m",null,null,null,"Siemens symbia Intevo 2",null,null,"","bez položkovej identifikácie ceny (v rámci sumárnej ceny)","HW","Fakultní nemocnice Ostrava","ČR","EDOMED a.s.",null,1,null,null,{"$f":"IF(N14=\"SR\",1,IF(AC14=\"\",VLOOKUP(AW14,'CZKEUR Xchange rate'!$D$13:$E$234,2,FALSE),VLOOKUP(AW14,'CZKEUR Xchange rate'!$A$13:$B$234,2,FALSE)))","v":27.253},0,0,null,null,{"$f":"VLOOKUP(AW14,'Cenové indexy '!$D$7:$E$200,2,FALSE)","v":99.88},{"$f":"W14/Y14*'Cenové indexy '!$E$149","v":0},0,2015,null,null,"2014-11-30","Áno","Áno","Neurčené","Nie","24 mesiacov zadarmo, potom (?)",null,null,null,"Zmluva 1_MS",null,null,null,null,null,{"$f":"VLOOKUP(M14,Adresy!$A$4:$C$156,2,FALSE)","v":"Ostrava"},{"$f":"VLOOKUP(M14,Adresy!$A$4:$C$156,3,FALSE)","v":"17. listopadu"},"M","2015M06",null,null,null,null,null,{"$f":"VLOOKUP(M14,Adresy!$A$3:$C$122,2,FALSE)","v":"Ostrava"},{"$f":"VLOOKUP(M14,Adresy!$A$3:$C$122,3,FALSE)","v":"17. listopadu"},0,0,0,0]
["SPECT/CT",null,"xSPECT Bone Bundle",null,null,null,"Siemens symbia Intevo 2",null,null,"","bez položkovej identifikácie ceny (v rámci sumárnej ceny)","HW","Fakultní nemocnice Ostrava","ČR","EDOMED a.s.",null,1,null,null,{"$f":"IF(N15=\"SR\",1,IF(AC15=\"\",VLOOKUP(AW15,'CZKEUR Xchange rate'!$D$13:$E$234,2,FALSE),VLOOKUP(AW15,'CZKEUR Xchange rate'!$A$13:$B$234,2,FALSE)))","v":27.253},0,0,null,null,{"$f":"VLOOKUP(AW15,'Cenové indexy '!$D$7:$E$200,2,FALSE)","v":99.88},{"$f":"W15/Y15*'Cenové indexy '!$E$149","v":0},0,2015,null,null,"2014-11-30","Áno","Áno","Neurčené","Nie","24 mesiacov zadarmo, potom (?)",null,null,null,"Zmluva 1_MS",null,null,null,null,null,{"$f":"VLOOKUP(M15,Adresy!$A$4:$C$156,2,FALSE)","v":"Ostrava"},{"$f":"VLOOKUP(M15,Adresy!$A$4:$C$156,3,FALSE)","v":"17. listopadu"},"M","2015M06",null,null,null,null,null,{"$f":"VLOOKUP(M15,Adresy!$A$3:$C$122,2,FALSE)","v":"Ostrava"},{"$f":"VLOOKUP(M15,Adresy!$A$3:$C$122,3,FALSE)","v":"17. listopadu"},0,0,0,0]
["SPECT/CT",null,"xSPECT quant - súprava kal zdroja",null,null,null,"Siemens symbia Intevo 2",null,null,"","bez položkovej identifikácie ceny (v rámci sumárnej ceny)","HW","Fakultní nemocnice Ostrava","ČR","EDOMED a.s.",null,1,null,null,{"$f":"IF(N16=\"SR\",1,IF(AC16=\"\",VLOOKUP(AW16,'CZKEUR Xchange rate'!$D$13:$E$234,2,FALSE),VLOOKUP(AW16,'CZKEUR Xchange rate'!$A$13:$B$234,2,FALSE)))","v":27.253},0,0,null,null,{"$f":"VLOOKUP(AW16,'Cenové indexy '!$D$7:$E$200,2,FALSE)","v":99.88},{"$f":"W16/Y16*'Cenové indexy '!$E$149","v":0},0,2015,null,null,"2014-11-30","Áno","Áno","Neurčené","Nie","24 mesiacov zadarmo, potom (?)",null,null,null,"Zmluva 1_MS",null,null,null,null,null,{"$f":"VLOOKUP(M16,Adresy!$A$4:$C$156,2,FALSE)","v":"Ostrava"},{"$f":"VLOOKUP(M16,Adresy!$A$4:$C$156,3,FALSE)","v":"17. listopadu"},"M","2015M06",null,null,null,null,null,{"$f":"VLOOKUP(M16,Adresy!$A$3:$C$122,2,FALSE)","v":"Ostrava"},{"$f":"VLOOKUP(M16,Adresy!$A$3:$C$122,3,FALSE)","v":"17. listopadu"},0,0,0,0]
["SPECT/CT",null,"xSPECT quant - polohové riadenie zdroja",null,null,null,"Siemens symbia Intevo 2",null,null,"","bez položkovej identifikácie ceny (v rámci sumárnej ceny)","HW","Fakultní nemocnice Ostrava","ČR","EDOMED a.s.",null,1,null,null,{"$f":"IF(N17=\"SR\",1,IF(AC17=\"\",VLOOKUP(AW17,'CZKEUR Xchange rate'!$D$13:$E$234,2,FALSE),VLOOKUP(AW17,'CZKEUR Xchange rate'!$A$13:$B$234,2,FALSE)))","v":27.253},0,0,null,null,{"$f":"VLOOKUP(AW17,'Cenové indexy '!$D$7:$E$200,2,FALSE)","v":99.88},{"$f":"W17/Y17*'Cenové indexy '!$E$149","v":0},0,2015,null,null,"2014-11-30","Áno","Áno","Neurčené","Nie","24 mesiacov zadarmo, potom (?)",null,null,null,"Zmluva 1_MS",null,null,null,null,null,{"$f":"VLOOKUP(M17,Adresy!$A$4:$C$156,2,FALSE)","v":"Ostrava"},{"$f":"VLOOKUP(M17,Adresy!$A$4:$C$156,3,FALSE)","v":"17. listopadu"},"M","2015M06",null,null,null,null,null,{"$f":"VLOOKUP(M17,Adresy!$A$3:$C$122,2,FALSE)","v":"Ostrava"},{"$f":"VLOOKUP(M17,Adresy!$A$3:$C$122,3,FALSE)","v":"17. listopadu"},0,0,0,0]
["SPECT/CT",null,"Interný EKG pre systém Symbia",null,null,null,"Siemens symbia Intevo 2",null,null,"","bez položkovej identifikácie ceny (v rámci sumárnej ceny)","HW","Fakultní nemocnice Ostrava","ČR","EDOMED a.s.",null,1,null,null,{"$f":"IF(N18=\"SR\",1,IF(AC18=\"\",VLOOKUP(AW18,'CZKEUR Xchange rate'!$D$13:$E$234,2,FALSE),VLOOKUP(AW18,'CZKEUR Xchange rate'!$A$13:$B$234,2,FALSE)))","v":27.253},0,0,null,null,{"$f":"VLOOKUP(AW18,'Cenové indexy '!$D$7:$E$200,2,FALSE)","v":99.88},{"$f":"W18/Y18*'Cenové indexy '!$E$149","v":0},0,2015,null,null,"2014-11-30","Áno","Áno","Neurčené","Nie","24 mesiacov zadarmo, potom (?)",null,null,null,"Zmluva 1_MS",null,null,null,null,null,{"$f":"VLOOKUP(M18,Adresy!$A$4:$C$156,2,FALSE)","v":"Ostrava"},{"$f":"VLOOKUP(M18,Adresy!$A$4:$C$156,3,FALSE)","v":"17. listopadu"},"M","2015M06",null,null,null,null,null,{"$f":"VLOOKUP(M18,Adresy!$A$3:$C$122,2,FALSE)","v":"Ostrava"},{"$f":"VLOOKUP(M18,Adresy!$A$3:$C$122,3,FALSE)","v":"17. listopadu"},0,0,0,0]
["SPECT/CT",null,"Kábel PHS pod podlahou",null,null,null,"Siemens symbia Intevo 2",null,null,"","bez položkovej identifikácie ceny (v rámci sumárnej ceny)","HW","Fakultní nemocnice Ostrava","ČR","EDOMED a.s.",null,1,null,null,{"$f":"IF(N19=\"SR\",1,IF(AC19=\"\",VLOOKUP(AW19,'CZKEUR Xchange rate'!$D$13:$E$234,2,FALSE),VLOOKUP(AW19,'CZKEUR Xchange rate'!$A$13:$B$234,2,FALSE)))","v":27.253},0,0,null,null,{"$f":"VLOOKUP(AW19,'Cenové indexy '!$D$7:$E$200,2,FALSE)","v":99.88},{"$f":"W19/Y19*'Cenové indexy '!$E$149","v":0},0,2015,null,null,"2014-11-30","Áno","Áno","Neurčené","Nie","24 mesiacov zadarmo, potom (?)",null,null,null,"Zmluva 1_MS",null,null,null,null,null,{"$f":"VLOOKUP(M19,Adresy!$A$4:$C$156,2,FALSE)","v":"Ostrava"},{"$f":"VLOOKUP(M19,Adresy!$A$4:$C$156,3,FALSE)","v":"17. listopadu"},"M","2015M06",null,null,null,null,null,{"$f":"VLOOKUP(M19,Adresy!$A$3:$C$122,2,FALSE)","v":"Ostrava"},{"$f":"VLOOKUP(M19,Adresy!$A$3:$C$122,3,FALSE)","v":"17. listopadu"},0,0,0,0]
["SPECT/CT",null,"Služby diaľkovej diagnostiky",null,null,null,"Siemens symbia Intevo 2",null,null,"","bez položkovej identifikácie ceny (v rámci sumárnej ceny)","HW","Fakultní nemocnice Ostrava","ČR","EDOMED a.s.",null,1,null,null,{"$f":"IF(N20=\"SR\",1,IF(AC20=\"\",VLOOKUP(AW20,'CZKEUR Xchange rate'!$D$13:$E$234,2,FALSE),VLOOKUP(AW20,'CZKEUR Xchange rate'!$A$13:$B$234,2,FALSE)))","v":27.253},0,0,null,null,{"$f":"VLOOKUP(AW20,'Cenové indexy '!$D$7:$E$200,2,FALSE)","v":99.88},{"$f":"W20/Y20*'Cenové indexy '!$E$149","v":0},0,2015,null,null,"2014-11-30","Áno","Áno","Neurčené","Nie","24 mesiacov zadarmo, potom (?)",null,null,null,"Zmluva 1_MS",null,null,null,null,null,{"$f":"VLOOKUP(M20,Adresy!$A$4:$C$156,2,FALSE)","v":"Ostrava"},{"$f":"VLOOKUP(M20,Adresy!$A$4:$C$156,3,FALSE)","v":"17. listopadu"},"M","2015M06",null,null,null,null,null,{"$f":"VLOOKUP(M20,Adresy!$A$3:$C$122,2,FALSE)","v":"Ostrava"},{"$f":"VLOOKUP(M20,Adresy!$A$3:$C$122,3,FALSE)","v":"17. listopadu"},0,0,0,0]
["SPECT/CT",null,"Symbia.net",null,null,null,"Siemens symbia Intevo 2",null,null,"","bez položkovej identifikácie ceny (v rámci sumárnej ceny)","SW","Fakultní nemocnice Ostrava","ČR","EDOMED a.s.",null,1,null,null,{"$f":"IF(N21=\"SR\",1,IF(AC21=\"\",VLOOKUP(AW21,'CZKEUR Xchange rate'!$D$13:$E$234,2,FALSE),VLOOKUP(AW21,'CZKEUR Xchange rate'!$A$13:$B$234,2,FALSE)))","v":27.253},0,0,null,null,{"$f":"VLOOKUP(AW21,'Cenové indexy '!$D$7:$E$200,2,FALSE)","v":99.88},{"$f":"W21/Y21*'Cenové indexy '!$E$149","v":0},0,2015,null,null,"2014-11-30","Áno","Áno","Neurčené","Nie","24 mesiacov zadarmo, potom (?)",null,null,null,"Zmluva 1_MS",null,null,null,null,null,{"$f":"VLOOKUP(M21,Adresy!$A$4:$C$156,2,FALSE)","v":"Ostrava"},{"$f":"VLOOKUP(M21,Adresy!$A$4:$C$156,3,FALSE)","v":"17. listopadu"},"M","2015M06",null,null,null,null,null,{"$f":"VLOOKUP(M21,Adresy!$A$3:$C$122,2,FALSE)","v":"Ostrava"},{"$f":"VLOOKUP(M21,Adresy!$A$3:$C$122,3,FALSE)","v":"17. listopadu"},0,0,0,0]
["SPECT/CT",null,"Server management",null,null,null,"Siemens symbia Intevo 2",null,null,"","bez položkovej identifikácie ceny (v rámci sumárnej ceny)","SW","Fakultní nemocnice Ostrava","ČR","EDOMED a.s.",null,1,null,null,{"$f":"IF(N22=\"SR\",1,IF(AC22=\"\",VLOOKUP(AW22,'CZKEUR Xchange rate'!$D$13:$E$234,2,FALSE),VLOOKUP(AW22,'CZKEUR Xchange rate'!$A$13:$B$234,2,FALSE)))","v":27.253},0,0,null,null,{"$f":"VLOOKUP(AW22,'Cenové indexy '!$D$7:$E$200,2,FALSE)","v":99.88},{"$f":"W22/Y22*'Cenové indexy '!$E$149","v":0},0,2015,null,null,"2014-11-30","Áno","Áno","Neurčené","Nie","24 mesiacov zadarmo, potom (?)",null,null,null,"Zmluva 1_MS",null,null,null,null,null,{"$f":"VLOOKUP(M22,Adresy!$A$4:$C$156,2,FALSE)","v":"Ostrava"},{"$f":"VLOOKUP(M22,Adresy!$A$4:$C$156,3,FALSE)","v":"17. listopadu"},"M","2015M06",null,null,null,null,null,{"$f":"VLOOKUP(M22,Adresy!$A$3:$C$122,2,FALSE)","v":"Ostrava"},{"$f":"VLOOKUP(M22,Adresy!$A$3:$C$122,3,FALSE)","v":"17. listopadu"},0,0,0,0]
["SPECT/CT",null,"Symbia.net, klient",null,null,null,"Siemens symbia Intevo 2",null,null,"","bez položkovej identifikácie ceny (v rámci sumárnej ceny)","SW","Fakultní nemocnice Ostrava","ČR","EDOMED a.s.",null,2,null,null,{"$f":"IF(N23=\"SR\",1,IF(AC23=\"\",VLOOKUP(AW23,'CZKEUR Xchange rate'!$D$13:$E$234,2,FALSE),VLOOKUP(AW23,'CZKEUR Xchange rate'!$A$13:$B$234,2,FALSE)))","v":27.253},0,0,null,null,{"$f":"VLOOKUP(AW23,'Cenové indexy '!$D$7:$E$200,2,FALSE)","v":99.88},{"$f":"W23/Y23*'Cenové indexy '!$E$149","v":0},0,2015,null,null,"2014-11-30","Áno","Áno","Neurčené","Nie","24 mesiacov zadarmo, potom (?)",null,null,null,"Zmluva 1_MS",null,null,null,null,null,{"$f":"VLOOKUP(M23,Adresy!$A$4:$C$156,2,FALSE)","v":"Ostrava"},{"$f":"VLOOKUP(M23,Adresy!$A$4:$C$156,3,FALSE)","v":"17. listopadu"},"M","2015M06",null,null,null,null,null,{"$f":"VLOOKUP(M23,Adresy!$A$3:$C$122,2,FALSE)","v":"Ostrava"},{"$f":"VLOOKUP(M23,Adresy!$A$3:$C$122,3,FALSE)","v":"17. listopadu"},0,0,0,0]
["SPECT/CT",null,"Pokročilý engine pre onkológiu",null,null,null,"Siemens symbia Intevo 2",null,null,"","bez položkovej identifikácie ceny (v rámci sumárnej ceny)","SW","Fakultní nemocnice Ostrava","ČR","EDOMED a.s.",null,1,null,null,{"$f":"IF(N24=\"SR\",1,IF(AC24=\"\",VLOOKUP(AW24,'CZKEUR Xchange rate'!$D$13:$E$234,2,FALSE),VLOOKUP(AW24,'CZKEUR Xchange rate'!$A$13:$B$234,2,FALSE)))","v":27.253},0,0,null,null,{"$f":"VLOOKUP(AW24,'Cenové indexy '!$D$7:$E$200,2,FALSE)","v":99.88},{"$f":"W24/Y24*'Cenové indexy '!$E$149","v":0},0,2015,null,null,"2014-11-30","Áno","Áno","Neurčené","Nie","24 mesiacov zadarmo, potom (?)",null,null,null,"Zmluva 1_MS",null,null,null,null,null,{"$f":"VLOOKUP(M24,Adresy!$A$4:$C$156,2,FALSE)","v":"Ostrava"},{"$f":"VLOOKUP(M24,Adresy!$A$4:$C$156,3,FALSE)","v":"17. listopadu"},"M","2015M06",null,null,null,null,null,{"$f":"VLOOKUP(M24,Adresy!$A$3:$C$122,2,FALSE)","v":"Ostrava"},{"$f":"VLOOKUP(M24,Adresy!$A$3:$C$122,3,FALSE)","v":"17. listopadu"},0,0,0,0]
["SPECT/CT",null," + pokročilý engine pre onkológiu",null,null,null,"Siemens symbia Intevo 2",null,null,"","bez položkovej identifikácie ceny (v rámci sumárnej ceny)","SW","Fakultní nemocnice Ostrava","ČR","EDOMED a.s.",null,2,null,null,{"$f":"IF(N25=\"SR\",1,IF(AC25=\"\",VLOOKUP(AW25,'CZKEUR Xchange rate'!$D$13:$E$234,2,FALSE),VLOOKUP(AW25,'CZKEUR Xchange rate'!$A$13:$B$234,2,FALSE)))","v":27.253},0,0,null,null,{"$f":"VLOOKUP(AW25,'Cenové indexy '!$D$7:$E$200,2,FALSE)","v":99.88},{"$f":"W25/Y25*'Cenové indexy '!$E$149","v":0},0,2015,null,null,"2014-11-30","Áno","Áno","Neurčené","Nie","24 mesiacov zadarmo, potom (?)",null,null,null,"Zmluva 1_MS",null,null,null,null,null,{"$f":"VLOOKUP(M25,Adresy!$A$4:$C$156,2,FALSE)","v":"Ostrava"},{"$f":"VLOOKUP(M25,Adresy!$A$4:$C$156,3,FALSE)","v":"17. listopadu"},"M","2015M06",null,null,null,null,null,{"$f":"VLOOKUP(M25,Adresy!$A$3:$C$122,2,FALSE)","v":"Ostrava"},{"$f":"VLOOKUP(M25,Adresy!$A$3:$C$122,3,FALSE)","v":"17. listopadu"},0,0,0,0]
["SPECT/CT",null,"Kardiologický engine 4DM",null,null,null,"Siemens symbia Intevo 2",null,null,"","bez položkovej identifikácie ceny (v rámci sumárnej ceny)","SW","Fakultní nemocnice Ostrava","ČR","EDOMED a.s.",null,1,null,null,{"$f":"IF(N26=\"SR\",1,IF(AC26=\"\",VLOOKUP(AW26,'CZKEUR Xchange rate'!$D$13:$E$234,2,FALSE),VLOOKUP(AW26,'CZKEUR Xchange rate'!$A$13:$B$234,2,FALSE)))","v":27.253},0,0,null,null,{"$f":"VLOOKUP(AW26,'Cenové indexy '!$D$7:$E$200,2,FALSE)","v":99.88},{"$f":"W26/Y26*'Cenové indexy '!$E$149","v":0},0,2015,null,null,"2014-11-30","Áno","Áno","Neurčené","Nie","24 mesiacov zadarmo, potom (?)",null,null,null,"Zmluva 1_MS",null,null,null,null,null,{"$f":"VLOOKUP(M26,Adresy!$A$4:$C$156,2,FALSE)","v":"Ostrava"},{"$f":"VLOOKUP(M26,Adresy!$A$4:$C$156,3,FALSE)","v":"17. listopadu"},"M","2015M06",null,null,null,null,null,{"$f":"VLOOKUP(M26,Adresy!$A$3:$C$122,2,FALSE)","v":"Ostrava"},{"$f":"VLOOKUP(M26,Adresy!$A$3:$C$122,3,FALSE)","v":"17. listopadu"},0,0,0,0]
["SPECT/CT",null," + kardiologický engine 4DM",null,null,null,"Siemens symbia Intevo 2",null,null,"","bez položkovej identifikácie ceny (v rámci sumárnej ceny)","SW","Fakultní nemocnice Ostrava","ČR","EDOMED a.s.",null,2,null,null,{"$f":"IF(N27=\"SR\",1,IF(AC27=\"\",VLOOKUP(AW27,'CZKEUR Xchange rate'!$D$13:$E$234,2,FALSE),VLOOKUP(AW27,'CZKEUR Xchange rate'!$A$13:$B$234,2,FALSE)))","v":27.253},0,0,null,null,{"$f":"VLOOKUP(AW27,'Cenové indexy '!$D$7:$E$200,2,FALSE)","v":99.88},{"$f":"W27/Y27*'Cenové indexy '!$E$149","v":0},0,2015,null,null,"2014-11-30","Áno","Áno","Neurčené","Nie","24 mesiacov zadarmo, potom (?)",null,null,null,"Zmluva 1_MS",null,null,null,null,null,{"$f":"VLOOKUP(M27,Adresy!$A$4:$C$156,2,FALSE)","v":"Ostrava"},{"$f":"VLOOKUP(M27,Adresy!$A$4:$C$156,3,FALSE)","v":"17. listopadu"},"M","2015M06",null,null,null,null,null,{"$f":"VLOOKUP(M27,Adresy!$A$3:$C$122,2,FALSE)","v":"Ostrava"},{"$f":"VLOOKUP(M27,Adresy!$A$3:$C$122,3,FALSE)","v":"17. listopadu"},0,0,0,0]
["SPECT/CT",null,"Neurologický engine",null,null,null,"Siemens symbia Intevo 2",null,null,"","bez položkovej identifikácie ceny (v rámci sumárnej ceny)","SW","Fakultní nemocnice Ostrava","ČR","EDOMED a.s.",null,1,null,null,{"$f":"IF(N28=\"SR\",1,IF(AC28=\"\",VLOOKUP(AW28,'CZKEUR Xchange rate'!$D$13:$E$234,2,FALSE),VLOOKUP(AW28,'CZKEUR Xchange rate'!$A$13:$B$234,2,FALSE)))","v":27.253},0,0,null,null,{"$f":"VLOOKUP(AW28,'Cenové indexy '!$D$7:$E$200,2,FALSE)","v":99.88},{"$f":"W28/Y28*'Cenové indexy '!$E$149","v":0},0,2015,null,null,"2014-11-30","Áno","Áno","Neurčené","Nie","24 mesiacov zadarmo, potom (?)",null,null,null,"Zmluva 1_MS",null,null,null,null,null,{"$f":"VLOOKUP(M28,Adresy!$A$4:$C$156,2,FALSE)","v":"Ostrava"},{"$f":"VLOOKUP(M28,Adresy!$A$4:$C$156,3,FALSE)","v":"17. listopadu"},"M","2015M06",null,null,null,null,null,{"$f":"VLOOKUP(M28,Adresy!$A$3:$C$122,2,FALSE)","v":"Ostrava"},{"$f":"VLOOKUP(M28,Adresy!$A$3:$C$122,3,FALSE)","v":"17. listopadu"},0,0,0,0]
["SPECT/CT",null," + neurologický engine",null,null,null,"Siemens symbia Intevo 2",null,null,"","bez položkovej identifikácie ceny (v rámci sumárnej ceny)","SW","Fakultní nemocnice Ostrava","ČR","EDOMED a.s.",null,2,null,null,{"$f":"IF(N29=\"SR\",1,IF(AC29=\"\",VLOOKUP(AW29,'CZKEUR Xchange rate'!$D$13:$E$234,2,FALSE),VLOOKUP(AW29,'CZKEUR Xchange rate'!$A$13:$B$234,2,FALSE)))","v":27.253},0,0,null,null,{"$f":"VLOOKUP(AW29,'Cenové indexy '!$D$7:$E$200,2,FALSE)","v":99.88},{"$f":"W29/Y29*'Cenové indexy '!$E$149","v":0},0,2015,null,null,"2014-11-30","Áno","Áno","Neurčené","Nie","24 mesiacov zadarmo, potom (?)",null,null,null,"Zmluva 1_MS",null,null,null,null,null,{"$f":"VLOOKUP(M29,Adresy!$A$4:$C$156,2,FALSE)","v":"Ostrava"},{"$f":"VLOOKUP(M29,Adresy!$A$4:$C$156,3,FALSE)","v":"17. listopadu"},"M","2015M06",null,null,null,null,null,{"$f":"VLOOKUP(M29,Adresy!$A$3:$C$122,2,FALSE)","v":"Ostrava"},{"$f":"VLOOKUP(M29,Adresy!$A$3:$C$122,3,FALSE)","v":"17. listopadu"},0,0,0,0]
["SPECT/CT",null,"Spracovanie zamerané na určitý orgán",null,null,null,"Siemens symbia Intevo 2",null,null,"","bez položkovej identifikácie ceny (v rámci sumárnej ceny)","SW","Fakultní nemocnice Ostrava","ČR","EDOMED a.s.",null,1,null,null,{"$f":"IF(N30=\"SR\",1,IF(AC30=\"\",VLOOKUP(AW30,'CZKEUR Xchange rate'!$D$13:$E$234,2,FALSE),VLOOKUP(AW30,'CZKEUR Xchange rate'!$A$13:$B$234,2,FALSE)))","v":27.253},0,0,null,null,{"$f":"VLOOKUP(AW30,'Cenové indexy '!$D$7:$E$200,2,FALSE)","v":99.88},{"$f":"W30/Y30*'Cenové indexy '!$E$149","v":0},0,2015,null,null,"2014-11-30","Áno","Áno","Neurčené","Nie","24 mesiacov zadarmo, potom (?)",null,null,null,"Zmluva 1_MS",null,null,null,null,null,{"$f":"VLOOKUP(M30,Adresy!$A$4:$C$156,2,FALSE)","v":"Ostrava"},{"$f":"VLOOKUP(M30,Adresy!$A$4:$C$156,3,FALSE)","v":"17. listopadu"},"M","2015M06",null,null,null,null,null,{"$f":"VLOOKUP(M30,Adresy!$A$3:$C$122,2,FALSE)","v":"Ostrava"},{"$f":"VLOOKUP(M30,Adresy!$A$3:$C$122,3,FALSE)","v":"17. listopadu"},0,0,0,0]
["SPECT/CT",null," + spracovanie zamerané na určitý orgán",null,null,null,"Siemens symbia Intevo 2",null,null,"","bez položkovej identifikácie ceny (v rámci sumárnej ceny)","SW","Fakultní nemocnice Ostrava","ČR","EDOMED a.s.",null,2,null,null,{"$f":"IF(N31=\"SR\",1,IF(AC31=\"\",VLOOKUP(AW31,'CZKEUR Xchange rate'!$D$13:$E$234,2,FALSE),VLOOKUP(AW31,'CZKEUR Xchange rate'!$A$13:$B$234,2,FALSE)))","v":27.253},0,0,null,null,{"$f":"VLOOKUP(AW31,'Cenové indexy '!$D$7:$E$200,2,FALSE)","v":99.88},{"$f":"W31/Y31*'Cenové indexy '!$E$149","v":0},0,2015,null,null,"2014-11-30","Áno","Áno","Neurčené","Nie","24 mesiacov zadarmo, potom (?)",null,null,null,"Zmluva 1_MS",null,null,null,null,null,{"$f":"VLOOKUP(M31,Adresy!$A$4:$C$156,2,FALSE)","v":"Ostrava"},{"$f":"VLOOKUP(M31,Adresy!$A$4:$C$156,3,FALSE)","v":"17. listopadu"},"M","2015M06",null,null,null,null,null,{"$f":"VLOOKUP(M31,Adresy!$A$3:$C$122,2,FALSE)","v":"Ostrava"},{"$f":"VLOOKUP(M31,Adresy!$A$3:$C$122,3,FALSE)","v":"17. listopadu"},0,0,0,0]
["SPECT/CT",null,"Pokročilý enigine \"reconstruction\"",null,null,null,"Siemens symbia Intevo 2",null,null,"","bez položkovej identifikácie ceny (v rámci sumárnej ceny)","SW","Fakultní nemocnice Ostrava","ČR","EDOMED a.s.",null,1,null,null,{"$f":"IF(N32=\"SR\",1,IF(AC32=\"\",VLOOKUP(AW32,'CZKEUR Xchange rate'!$D$13:$E$234,2,FALSE),VLOOKUP(AW32,'CZKEUR Xchange rate'!$A$13:$B$234,2,FALSE)))","v":27.253},0,0,null,null,{"$f":"VLOOKUP(AW32,'Cenové indexy '!$D$7:$E$200,2,FALSE)","v":99.88},{"$f":"W32/Y32*'Cenové indexy '!$E$149","v":0},0,2015,null,null,"2014-11-30","Áno","Áno","Neurčené","Nie","24 mesiacov zadarmo, potom (?)",null,null,null,"Zmluva 1_MS",null,null,null,null,null,{"$f":"VLOOKUP(M32,Adresy!$A$4:$C$156,2,FALSE)","v":"Ostrava"},{"$f":"VLOOKUP(M32,Adresy!$A$4:$C$156,3,FALSE)","v":"17. listopadu"},"M","2015M06",null,null,null,null,null,{"$f":"VLOOKUP(M32,Adresy!$A$3:$C$122,2,FALSE)","v":"Ostrava"},{"$f":"VLOOKUP(M32,Adresy!$A$3:$C$122,3,FALSE)","v":"17. listopadu"},0,0,0,0]
["SPECT/CT",null," + pokročilá rekonštrukcia",null,null,null,"Siemens symbia Intevo 2",null,null,"","bez položkovej identifikácie ceny (v rámci sumárnej ceny)","SW","Fakultní nemocnice Ostrava","ČR","EDOMED a.s.",null,2,null,null,{"$f":"IF(N33=\"SR\",1,IF(AC33=\"\",VLOOKUP(AW33,'CZKEUR Xchange rate'!$D$13:$E$234,2,FALSE),VLOOKUP(AW33,'CZKEUR Xchange rate'!$A$13:$B$234,2,FALSE)))","v":27.253},0,0,null,null,{"$f":"VLOOKUP(AW33,'Cenové indexy '!$D$7:$E$200,2,FALSE)","v":99.88},{"$f":"W33/Y33*'Cenové indexy '!$E$149","v":0},0,2015,null,null,"2014-11-30","Áno","Áno","Neurčené","Nie","24 mesiacov zadarmo, potom (?)",null,null,null,"Zmluva 1_MS",null,null,null,null,null,{"$f":"VLOOKUP(M33,Adresy!$A$4:$C$156,2,FALSE)","v":"Ostrava"},{"$f":"VLOOKUP(M33,Adresy!$A$4:$C$156,3,FALSE)","v":"17. listopadu"},"M","2015M06",null,null,null,null,null,{"$f":"VLOOKUP(M33,Adresy!$A$3:$C$122,2,FALSE)","v":"Ostrava"},{"$f":"VLOOKUP(M33,Adresy!$A$3:$C$122,3,FALSE)","v":"17. listopadu"},0,0,0,0]
["SPECT/CT",null,"Kompletná vyhodnocovacia stanica - HW",null,null,null,"Siemens symbia Intevo 2",null,null,"","položková cena (súčasť sumárnej ceny)","HW","Fakultní nemocnice Ostrava","ČR","EDOMED a.s.",null,2,280800,{"$f":"R34*1.21","v":339768},{"$f":"IF(N34=\"SR\",1,IF(AC34=\"\",VLOOKUP(AW34,'CZKEUR Xchange rate'!$D$13:$E$234,2,FALSE),VLOOKUP(AW34,'CZKEUR Xchange rate'!$A$13:$B$234,2,FALSE)))","v":27.253},10303.452830881004,12467.177925366015,{"$f":"U34/Q34","v":5151.726415440502},{"$f":"V34/Q34","v":6233.5889626830076},{"$f":"VLOOKUP(AW34,'Cenové indexy '!$D$7:$E$200,2,FALSE)","v":99.88},{"$f":"W34/Y34*'Cenové indexy '!$E$149","v":5319.3586826629853},6383.2304191955818,2015,null,null,"2014-11-30","Áno","Áno","Neurčené","Nie","24 mesiacov zadarmo, potom (?)",null,null,null,"Zmluva 1_MS",null,null,null,null,null,{"$f":"VLOOKUP(M34,Adresy!$A$4:$C$156,2,FALSE)","v":"Ostrava"},{"$f":"VLOOKUP(M34,Adresy!$A$4:$C$156,3,FALSE)","v":"17. listopadu"},"M","2015M06",null,null,null,null,null,{"$f":"VLOOKUP(M34,Adresy!$A$3:$C$122,2,FALSE)","v":"Ostrava"},{"$f":"VLOOKUP(M34,Adresy!$A$3:$C$122,3,FALSE)","v":"17. listopadu"},0,0,0,0]
["SPECT/CT",null,"Farebná tlačiareň A4, 600dpi",null,null,null,"Siemens symbia Intevo 2",null,null,"","položková cena (súčasť sumárnej ceny)","HW","Fakultní nemocnice Ostrava","ČR","EDOMED a.s.",null,1,54000,{"$f":"R35*1.21","v":65340},{"$f":"IF(N35=\"SR\",1,IF(AC35=\"\",VLOOKUP(AW35,'CZKEUR Xchange rate'!$D$13:$E$234,2,FALSE),VLOOKUP(AW35,'CZKEUR Xchange rate'!$A$13:$B$234,2,FALSE)))","v":27.253},1981.4332367078853,2397.5342164165413,1981.4332367078853,2397.5342164165413,{"$f":"VLOOKUP(AW35,'Cenové indexy '!$D$7:$E$200,2,FALSE)","v":99.88},{"$f":"W35/Y35*'Cenové indexy '!$E$149","v":2045.9071856396097},2455.0886227675314,2015,null,null,"2014-11-30","Áno","Áno","Neurčené","Nie","24 mesiacov zadarmo, potom (?)",null,null,null,"Zmluva 1_MS",null,null,null,null,null,{"$f":"VLOOKUP(M35,Adresy!$A$4:$C$156,2,FALSE)","v":"Ostrava"},{"$f":"VLOOKUP(M35,Adresy!$A$4:$C$156,3,FALSE)","v":"17. listopadu"},"M","2015M06",null,null,null,null,null,{"$f":"VLOOKUP(M35,Adresy!$A$3:$C$122,2,FALSE)","v":"Ostrava"},{"$f":"VLOOKUP(M35,Adresy!$A$3:$C$122,3,FALSE)","v":"17. listopadu"},0,0,0,0]
["SPECT/CT",null,"Bar fanton",null,null,null,"Siemens symbia Intevo 2",null,null,"","položková cena (súčasť sumárnej ceny)","HW","Fakultní nemocnice Ostrava","ČR","EDOMED a.s.",null,1,183600,{"$f":"R36*1.21","v":222156},{"$f":"IF(N36=\"SR\",1,IF(AC36=\"\",VLOOKUP(AW36,'CZKEUR Xchange rate'!$D$13:$E$234,2,FALSE),VLOOKUP(AW36,'CZKEUR Xchange rate'!$A$13:$B$234,2,FALSE)))","v":27.253},6736.8730048068101,8151.6163358162403,6736.8730048068101,8151.6163358162403,{"$f":"VLOOKUP(AW36,'Cenové indexy '!$D$7:$E$200,2,FALSE)","v":99.88},{"$f":"W36/Y36*'Cenové indexy '!$E$149","v":6956.0844311746732},8347.3013174096068,2015,null,null,"2014-11-30","Áno","Áno","Neurčené","Nie","24 mesiacov zadarmo, potom (?)",null,null,null,"Zmluva 1_MS",null,null,null,null,null,{"$f":"VLOOKUP(M36,Adresy!$A$4:$C$156,2,FALSE)","v":"Ostrava"},{"$f":"VLOOKUP(M36,Adresy!$A$4:$C$156,3,FALSE)","v":"17. listopadu"},"M","2015M06",null,null,null,null,null,{"$f":"VLOOKUP(M36,Adresy!$A$3:$C$122,2,FALSE)","v":"Ostrava"},{"$f":"VLOOKUP(M36,Adresy!$A$3:$C$122,3,FALSE)","v":"17. listopadu"},0,0,0,0]
["SPECT/CT",null,"Jaszcak fantom",null,null,null,"Siemens symbia Intevo 2",null,null,"","položková cena (súčasť sumárnej ceny)","HW","Fakultní nemocnice Ostrava","ČR","EDOMED a.s.",null,1,118800,{"$f":"R37*1.21","v":143748},{"$f":"IF(N37=\"SR\",1,IF(AC37=\"\",VLOOKUP(AW37,'CZKEUR Xchange rate'!$D$13:$E$234,2,FALSE),VLOOKUP(AW37,'CZKEUR Xchange rate'!$A$13:$B$234,2,FALSE)))","v":27.253},4359.153120757348,5274.5752761163913,4359.153120757348,5274.5752761163913,{"$f":"VLOOKUP(AW37,'Cenové indexy '!$D$7:$E$200,2,FALSE)","v":99.88},{"$f":"W37/Y37*'Cenové indexy '!$E$149","v":4500.9958084071413},5401.1949700885698,2015,null,null,"2014-11-30","Áno","Áno","Neurčené","Nie","24 mesiacov zadarmo, potom (?)",null,null,null,"Zmluva 1_MS",null,null,null,null,null,{"$f":"VLOOKUP(M37,Adresy!$A$4:$C$156,2,FALSE)","v":"Ostrava"},{"$f":"VLOOKUP(M37,Adresy!$A$4:$C$156,3,FALSE)","v":"17. listopadu"},"M","2015M06",null,null,null,null,null,{"$f":"VLOOKUP(M37,Adresy!$A$3:$C$122,2,FALSE)","v":"Ostrava"},{"$f":"VLOOKUP(M37,Adresy!$A$3:$C$122,3,FALSE)","v":"17. listopadu"},0,0,0,0]
["SPECT/CT",null,"Bodové a plošné zdroje pre kalibráciu Co",null,null,null,"Siemens symbia Intevo 2",null,null,"","položková cena (súčasť sumárnej ceny)","HW","Fakultní nemocnice Ostrava","ČR","EDOMED a.s.",null,1,108000,{"$f":"R38*1.21","v":130680},{"$f":"IF(N38=\"SR\",1,IF(AC38=\"\",VLOOKUP(AW38,'CZKEUR Xchange rate'!$D$13:$E$234,2,FALSE),VLOOKUP(AW38,'CZKEUR Xchange rate'!$A$13:$B$234,2,FALSE)))","v":27.253},3962.8664734157705,4795.0684328330826,3962.8664734157705,4795.0684328330826,{"$f":"VLOOKUP(AW38,'Cenové indexy '!$D$7:$E$200,2,FALSE)","v":99.88},{"$f":"W38/Y38*'Cenové indexy '!$E$149","v":4091.8143712792194},4910.1772455350629,2015,null,null,"2014-11-30","Áno","Áno","Neurčené","Nie","24 mesiacov zadarmo, potom (?)",null,null,null,"Zmluva 1_MS",null,null,null,null,null,{"$f":"VLOOKUP(M38,Adresy!$A$4:$C$156,2,FALSE)","v":"Ostrava"},{"$f":"VLOOKUP(M38,Adresy!$A$4:$C$156,3,FALSE)","v":"17. listopadu"},"M","2015M06",null,null,null,null,null,{"$f":"VLOOKUP(M38,Adresy!$A$3:$C$122,2,FALSE)","v":"Ostrava"},{"$f":"VLOOKUP(M38,Adresy!$A$3:$C$122,3,FALSE)","v":"17. listopadu"},0,0,0,0]
["SPECT/CT",null,"Celá zostava",null,null,null,"Siemens symbia Intevo Excel",null,null,"","sumárna cena","HW/SW","Fakultní nemocnice v Motole","ČR","Siemens Healthcare s.r.o.",null,1,1003900,12147190,{"$f":"IF(N39=\"SR\",1,IF(AC39=\"\",VLOOKUP(AW39,'CZKEUR Xchange rate'!$D$13:$E$234,2,FALSE),VLOOKUP(AW39,'CZKEUR Xchange rate'!$A$13:$B$234,2,FALSE)))","v":27.452999999999999},36567.952500637453,442472.22525771317,36567.952500637453,442472.22525771317,{"$f":"VLOOKUP(AW39,'Cenové indexy '!$D$7:$E$200,2,FALSE)","v":99.5},{"$f":"W39/Y39*'Cenové indexy '!$E$149","v":37902.039611967237},45482.447534360683,2014,null,null,"2013-11-30","Áno","Áno","ERDF","Nie","24 mesiacov zadarmo, potom (?)",null,null,null,"Zmluva 2_MS",null,null,null,null,null,{"$f":"VLOOKUP(M39,Adresy!$A$4:$C$156,2,FALSE)","v":"Praha"},{"$f":"VLOOKUP(M39,Adresy!$A$4:$C$156,3,FALSE)","v":"V úvalu 84"},"M","2014M06",null,null,null,null,null,{"$f":"VLOOKUP(M39,Adresy!$A$3:$C$122,2,FALSE)","v":"Praha"},{"$f":"VLOOKUP(M39,Adresy!$A$3:$C$122,3,FALSE)","v":"V úvalu 84"},0,0,0,0]
["SPECT/CT",null,"Detektory 3/8 s nízkym profilom",null,null,null,"Siemens symbia Intevo Excel",null,null,"","bez položkovej identifikácie ceny (v rámci sumárnej ceny)","HW","Fakultní nemocnice v Motole","ČR","Siemens Healthcare s.r.o.",null,2,null,null,{"$f":"IF(N40=\"SR\",1,IF(AC40=\"\",VLOOKUP(AW40,'CZKEUR Xchange rate'!$D$13:$E$234,2,FALSE),VLOOKUP(AW40,'CZKEUR Xchange rate'!$A$13:$B$234,2,FALSE)))","v":27.452999999999999},{"$f":"R40/T40","v":0},{"$f":"S40/T40","v":0},null,null,{"$f":"VLOOKUP(AW40,'Cenové indexy '!$D$7:$E$200,2,FALSE)","v":99.5},{"$f":"W40/Y40*'Cenové indexy '!$E$149","v":0},0,2014,null,null,"2013-11-30","Áno","Áno","ERDF","Nie","24 mesiacov zadarmo, potom (?)",null,null,null,"Zmluva 2_MS",null,null,null,null,null,{"$f":"VLOOKUP(M40,Adresy!$A$4:$C$156,2,FALSE)","v":"Praha"},{"$f":"VLOOKUP(M40,Adresy!$A$4:$C$156,3,FALSE)","v":"V úvalu 84"},"M","2014M06",null,null,null,null,null,{"$f":"VLOOKUP(M40,Adresy!$A$3:$C$122,2,FALSE)","v":"Praha"},{"$f":"VLOOKUP(M40,Adresy!$A$3:$C$122,3,FALSE)","v":"V úvalu 84"},0,0,0,0]
["SPECT/CT",null,"Kaudálne naklápanie",null,null,null,"Siemens symbia Intevo Excel",null,null,"","bez položkovej identifikácie ceny (v rámci sumárnej ceny)","HW","Fakultní nemocnice v Motole","ČR","Siemens Healthcare s.r.o.",null,1,null,null,{"$f":"IF(N41=\"SR\",1,IF(AC41=\"\",VLOOKUP(AW41,'CZKEUR Xchange rate'!$D$13:$E$234,2,FALSE),VLOOKUP(AW41,'CZKEUR Xchange rate'!$A$13:$B$234,2,FALSE)))","v":27.452999999999999},{"$f":"R41/T41","v":0},{"$f":"S41/T41","v":0},null,null,{"$f":"VLOOKUP(AW41,'Cenové indexy '!$D$7:$E$200,2,FALSE)","v":99.5},{"$f":"W41/Y41*'Cenové indexy '!$E$149","v":0},0,2014,null,null,"2013-11-30","Áno","Áno","ERDF","Nie","24 mesiacov zadarmo, potom (?)",null,null,null,"Zmluva 2_MS",null,null,null,null,null,{"$f":"VLOOKUP(M41,Adresy!$A$4:$C$156,2,FALSE)","v":"Praha"},{"$f":"VLOOKUP(M41,Adresy!$A$4:$C$156,3,FALSE)","v":"V úvalu 84"},"M","2014M06",null,null,null,null,null,{"$f":"VLOOKUP(M41,Adresy!$A$3:$C$122,2,FALSE)","v":"Praha"},{"$f":"VLOOKUP(M41,Adresy!$A$3:$C$122,3,FALSE)","v":"V úvalu 84"},0,0,0,0]
["SPECT/CT",null,"Kolimátor pre nízke energie, vysoké rozlíšenie",null,null,null,"Siemens symbia Intevo Excel",null,null,"","bez položkovej identifikácie ceny (v rámci sumárnej ceny)","HW","Fakultní nemocnice v Motole","ČR","Siemens Healthcare s.r.o.",null,2,null,null,{"$f":"IF(N42=\"SR\",1,IF(AC42=\"\",VLOOKUP(AW42,'CZKEUR Xchange rate'!$D$13:$E$234,2,FALSE),VLOOKUP(AW42,'CZKEUR Xchange rate'!$A$13:$B$234,2,FALSE)))","v":27.452999999999999},0,0,null,null,{"$f":"VLOOKUP(AW42,'Cenové indexy '!$D$7:$E$200,2,FALSE)","v":99.5},{"$f":"W42/Y42*'Cenové indexy '!$E$149","v":0},0,2014,null,null,"2013-11-30","Áno","Áno","ERDF","Nie","24 mesiacov zadarmo, potom (?)",null,null,null,"Zmluva 2_MS",null,null,null,null,null,{"$f":"VLOOKUP(M42,Adresy!$A$4:$C$156,2,FALSE)","v":"Praha"},{"$f":"VLOOKUP(M42,Adresy!$A$4:$C$156,3,FALSE)","v":"V úvalu 84"},"M","2014M06",null,null,null,null,null,{"$f":"VLOOKUP(M42,Adresy!$A$3:$C$122,2,FALSE)","v":"Praha"},{"$f":"VLOOKUP(M42,Adresy!$A$3:$C$122,3,FALSE)","v":"V úvalu 84"},0,0,0,0]
["SPECT/CT",null,"Vozík pre kolimátor",null,null,null,"Siemens symbia Intevo Excel",null,null,"","bez položkovej identifikácie ceny (v rámci sumárnej ceny)","HW","Fakultní nemocnice v Motole","ČR","Siemens Healthcare s.r.o.",null,1,null,null,{"$f":"IF(N43=\"SR\",1,IF(AC43=\"\",VLOOKUP(AW43,'CZKEUR Xchange rate'!$D$13:$E$234,2,FALSE),VLOOKUP(AW43,'CZKEUR Xchange rate'!$A$13:$B$234,2,FALSE)))","v":27.452999999999999},0,0,null,null,{"$f":"VLOOKUP(AW43,'Cenové indexy '!$D$7:$E$200,2,FALSE)","v":99.5},{"$f":"W43/Y43*'Cenové indexy '!$E$149","v":0},0,2014,null,null,"2013-11-30","Áno","Áno","ERDF","Nie","24 mesiacov zadarmo, potom (?)",null,null,null,"Zmluva 2_MS",null,null,null,null,null,{"$f":"VLOOKUP(M43,Adresy!$A$4:$C$156,2,FALSE)","v":"Praha"},{"$f":"VLOOKUP(M43,Adresy!$A$4:$C$156,3,FALSE)","v":"V úvalu 84"},"M","2014M06",null,null,null,null,null,{"$f":"VLOOKUP(M43,Adresy!$A$3:$C$122,2,FALSE)","v":"Praha"},{"$f":"VLOOKUP(M43,Adresy!$A$3:$C$122,3,FALSE)","v":"V úvalu 84"},0,0,0,0]
["SPECT/CT",null,"Interný EKG pre systém Symbia",null,null,null,"Siemens symbia Intevo Excel",null,null,"","bez položkovej identifikácie ceny (v rámci sumárnej ceny)","HW","Fakultní nemocnice v Motole","ČR","Siemens Healthcare s.r.o.",null,1,null,null,{"$f":"IF(N44=\"SR\",1,IF(AC44=\"\",VLOOKUP(AW44,'CZKEUR Xchange rate'!$D$13:$E$234,2,FALSE),VLOOKUP(AW44,'CZKEUR Xchange rate'!$A$13:$B$234,2,FALSE)))","v":27.452999999999999},0,0,null,null,{"$f":"VLOOKUP(AW44,'Cenové indexy '!$D$7:$E$200,2,FALSE)","v":99.5},{"$f":"W44/Y44*'Cenové indexy '!$E$149","v":0},0,2014,null,null,"2013-11-30","Áno","Áno","ERDF","Nie","24 mesiacov zadarmo, potom (?)",null,null,null,"Zmluva 2_MS",null,null,null,null,null,{"$f":"VLOOKUP(M44,Adresy!$A$4:$C$156,2,FALSE)","v":"Praha"},{"$f":"VLOOKUP(M44,Adresy!$A$4:$C$156,3,FALSE)","v":"V úvalu 84"},"M","2014M06",null,null,null,null,null,{"$f":"VLOOKUP(M44,Adresy!$A$3:$C$122,2,FALSE)","v":"Praha"},{"$f":"VLOOKUP(M44,Adresy!$A$3:$C$122,3,FALSE)","v":"V úvalu 84"},0,0,0,0]
["SPECT/CT",null,"Kábel PHS pod podlahou",null,null,null,"Siemens symbia Intevo Excel",null,null,"","bez položkovej identifikácie ceny (v rámci sumárnej ceny)","HW","Fakultní nemocnice v Motole","ČR","Siemens Healthcare s.r.o.",null,1,null,null,{"$f":"IF(N45=\"SR\",1,IF(AC45=\"\",VLOOKUP(AW45,'CZKEUR Xchange rate'!$D$13:$E$234,2,FALSE),VLOOKUP(AW45,'CZKEUR Xchange rate'!$A$13:$B$234,2,FALSE)))","v":27.452999999999999},0,0,null,null,{"$f":"VLOOKUP(AW45,'Cenové indexy '!$D$7:$E$200,2,FALSE)","v":99.5},{"$f":"W45/Y45*'Cenové indexy '!$E$149","v":0},0,2014,null,null,"2013-11-30","Áno","Áno","ERDF","Nie","24 mesiacov zadarmo, potom (?)",null,null,null,"Zmluva 2_MS",null,null,null,null,null,{"$f":"VLOOKUP(M45,Adresy!$A$4:$C$156,2,FALSE)","v":"Praha"},{"$f":"VLOOKUP(M45,Adresy!$A$4:$C$156,3,FALSE)","v":"V úvalu 84"},"M","2014M06",null,null,null,null,null,{"$f":"VLOOKUP(M45,Adresy!$A$3:$C$122,2,FALSE)","v":"Praha"},{"$f":"VLOOKUP(M45,Adresy!$A$3:$C$122,3,FALSE)","v":"V úvalu 84"},0,0,0,0]
["SPECT/CT",null,"Pediatrický držiak",null,null,null,"Siemens symbia Intevo Excel",null,null,"","bez položkovej identifikácie ceny (v rámci sumárnej ceny)","HW","Fakultní nemocnice v Motole","ČR","Siemens Healthcare s.r.o.",null,1,null,null,{"$f":"IF(N46=\"SR\",1,IF(AC46=\"\",VLOOKUP(AW46,'CZKEUR Xchange rate'!$D$13:$E$234,2,FALSE),VLOOKUP(AW46,'CZKEUR Xchange rate'!$A$13:$B$234,2,FALSE)))","v":27.452999999999999},0,0,null,null,{"$f":"VLOOKUP(AW46,'Cenové indexy '!$D$7:$E$200,2,FALSE)","v":99.5},{"$f":"W46/Y46*'Cenové indexy '!$E$149","v":0},0,2014,null,null,"2013-11-30","Áno","Áno","ERDF","Nie","24 mesiacov zadarmo, potom (?)",null,null,null,"Zmluva 2_MS",null,null,null,null,null,{"$f":"VLOOKUP(M46,Adresy!$A$4:$C$156,2,FALSE)","v":"Praha"},{"$f":"VLOOKUP(M46,Adresy!$A$4:$C$156,3,FALSE)","v":"V úvalu 84"},"M","2014M06",null,null,null,null,null,{"$f":"VLOOKUP(M46,Adresy!$A$3:$C$122,2,FALSE)","v":"Praha"},{"$f":"VLOOKUP(M46,Adresy!$A$3:$C$122,3,FALSE)","v":"V úvalu 84"},0,0,0,0]
["SPECT/CT",null,"Služby diaľkovej diagnostiky",null,null,null,"Siemens symbia Intevo Excel",null,null,"","bez položkovej identifikácie ceny (v rámci sumárnej ceny)","SW","Fakultní nemocnice v Motole","ČR","Siemens Healthcare s.r.o.",null,1,null,null,{"$f":"IF(N47=\"SR\",1,IF(AC47=\"\",VLOOKUP(AW47,'CZKEUR Xchange rate'!$D$13:$E$234,2,FALSE),VLOOKUP(AW47,'CZKEUR Xchange rate'!$A$13:$B$234,2,FALSE)))","v":27.452999999999999},0,0,null,null,{"$f":"VLOOKUP(AW47,'Cenové indexy '!$D$7:$E$200,2,FALSE)","v":99.5},{"$f":"W47/Y47*'Cenové indexy '!$E$149","v":0},0,2014,null,null,"2013-11-30","Áno","Áno","ERDF","Nie","24 mesiacov zadarmo, potom (?)",null,null,null,"Zmluva 2_MS",null,null,null,null,null,{"$f":"VLOOKUP(M47,Adresy!$A$4:$C$156,2,FALSE)","v":"Praha"},{"$f":"VLOOKUP(M47,Adresy!$A$4:$C$156,3,FALSE)","v":"V úvalu 84"},"M","2014M06",null,null,null,null,null,{"$f":"VLOOKUP(M47,Adresy!$A$3:$C$122,2,FALSE)","v":"Praha"},{"$f":"VLOOKUP(M47,Adresy!$A$3:$C$122,3,FALSE)","v":"V úvalu 84"},0,0,0,0]
["SPECT/CT",null,"Spracovanie zamerané na určitý orgán",null,null,null,"Siemens symbia Intevo Excel",null,null,"","bez položkovej identifikácie ceny (v rámci sumárnej ceny)","SW","Fakultní nemocnice v Motole","ČR","Siemens Healthcare s.r.o.",null,1,null,null,{"$f":"IF(N48=\"SR\",1,IF(AC48=\"\",VLOOKUP(AW48,'CZKEUR Xchange rate'!$D$13:$E$234,2,FALSE),VLOOKUP(AW48,'CZKEUR Xchange rate'!$A$13:$B$234,2,FALSE)))","v":27.452999999999999},0,0,null,null,{"$f":"VLOOKUP(AW48,'Cenové indexy '!$D$7:$E$200,2,FALSE)","v":99.5},{"$f":"W48/Y48*'Cenové indexy '!$E$149","v":0},0,2014,null,null,"2013-11-30","Áno","Áno","ERDF","Nie","24 mesiacov zadarmo, potom (?)",null,null,null,"Zmluva 2_MS",null,null,null,null,null,{"$f":"VLOOKUP(M48,Adresy!$A$4:$C$156,2,FALSE)","v":"Praha"},{"$f":"VLOOKUP(M48,Adresy!$A$4:$C$156,3,FALSE)","v":"V úvalu 84"},"M","2014M06",null,null,null,null,null,{"$f":"VLOOKUP(M48,Adresy!$A$3:$C$122,2,FALSE)","v":"Praha"},{"$f":"VLOOKUP(M48,Adresy!$A$3:$C$122,3,FALSE)","v":"V úvalu 84"},0,0,0,0]
["SPECT/CT",null,"Pokročilý engine pre onkológiu",null,null,null,"Siemens symbia Intevo Excel",null,null,"","bez položkovej identifikácie ceny (v rámci sumárnej ceny)","SW","Fakultní nemocnice v Motole","ČR","Siemens Healthcare s.r.o.",null,1,null,null,{"$f":"IF(N49=\"SR\",1,IF(AC49=\"\",VLOOKUP(AW49,'CZKEUR Xchange rate'!$D$13:$E$234,2,FALSE),VLOOKUP(AW49,'CZKEUR Xchange rate'!$A$13:$B$234,2,FALSE)))","v":27.452999999999999},0,0,null,null,{"$f":"VLOOKUP(AW49,'Cenové indexy '!$D$7:$E$200,2,FALSE)","v":99.5},{"$f":"W49/Y49*'Cenové indexy '!$E$149","v":0},0,2014,null,null,"2013-11-30","Áno","Áno","ERDF","Nie","24 mesiacov zadarmo, potom (?)",null,null,null,"Zmluva 2_MS",null,null,null,null,null,{"$f":"VLOOKUP(M49,Adresy!$A$4:$C$156,2,FALSE)","v":"Praha"},{"$f":"VLOOKUP(M49,Adresy!$A$4:$C$156,3,FALSE)","v":"V úvalu 84"},"M","2014M06",null,null,null,null,null,{"$f":"VLOOKUP(M49,Adresy!$A$3:$C$122,2,FALSE)","v":"Praha"},{"$f":"VLOOKUP(M49,Adresy!$A$3:$C$122,3,FALSE)","v":"V úvalu 84"},0,0,0,0]
["SPECT/CT",null,"Pokročilý enigine \"reconstruction\"",null,null,null,"Siemens symbia Intevo Excel",null,null,"","bez položkovej identifikácie ceny (v rámci sumárnej ceny)","SW","Fakultní nemocnice v Motole","ČR","Siemens Healthcare s.r.o.",null,1,null,null,{"$f":"IF(N50=\"SR\",1,IF(AC50=\"\",VLOOKUP(AW50,'CZKEUR Xchange rate'!$D$13:$E$234,2,FALSE),VLOOKUP(AW50,'CZKEUR Xchange rate'!$A$13:$B$234,2,FALSE)))","v":27.452999999999999},0,0,null,null,{"$f":"VLOOKUP(AW50,'Cenové indexy '!$D$7:$E$200,2,FALSE)","v":99.5},{"$f":"W50/Y50*'Cenové indexy '!$E$149","v":0},0,2014,null,null,"2013-11-30","Áno","Áno","ERDF","Nie","24 mesiacov zadarmo, potom (?)",null,null,null,"Zmluva 2_MS",null,null,null,null,null,{"$f":"VLOOKUP(M50,Adresy!$A$4:$C$156,2,FALSE)","v":"Praha"},{"$f":"VLOOKUP(M50,Adresy!$A$4:$C$156,3,FALSE)","v":"V úvalu 84"},"M","2014M06",null,null,null,null,null,{"$f":"VLOOKUP(M50,Adresy!$A$3:$C$122,2,FALSE)","v":"Praha"},{"$f":"VLOOKUP(M50,Adresy!$A$3:$C$122,3,FALSE)","v":"V úvalu 84"},0,0,0,0]
["SPECT/CT",null,"Celá zostava",null,null,null,"GE Optima NM/CT640",null,null,"","sumárna cena","HW/SW","Institut klinické a experimentální medicíny","ČR","Aceso Praha s.r.o.",null,1,11330000,13709300,{"$f":"IF(N51=\"SR\",1,IF(AC51=\"\",VLOOKUP(AW51,'CZKEUR Xchange rate'!$D$13:$E$234,2,FALSE),VLOOKUP(AW51,'CZKEUR Xchange rate'!$A$13:$B$234,2,FALSE)))","v":27.253},415734.04762778408,503038.19762961875,{"$f":"U51/Q51","v":415734.04762778408},{"$f":"V51/Q51","v":503038.19762961875},{"$f":"VLOOKUP(AW51,'Cenové indexy '!$D$7:$E$200,2,FALSE)","v":99.88},{"$f":"W51/Y51*'Cenové indexy '!$E$149","v":429261.63728327368},515113.96473992837,2015,null,null,"2014-11-30","Áno","Áno","Neurčené","Nie","24 mesiacov zadarmo, potom (?)",null,null,null,"Zmluva 3_MS",null,null,null,null,null,{"$f":"VLOOKUP(M51,Adresy!$A$4:$C$156,2,FALSE)","v":"Praha"},{"$f":"VLOOKUP(M51,Adresy!$A$4:$C$156,3,FALSE)","v":"Vídeňská 1959/9"},"M","2015M06",null,null,null,null,null,{"$f":"VLOOKUP(M51,Adresy!$A$3:$C$122,2,FALSE)","v":"Praha"},{"$f":"VLOOKUP(M51,Adresy!$A$3:$C$122,3,FALSE)","v":"Vídeňská 1959/9"},0,0,0,0]
["SPECT/CT",null,"Detektory 3/8 s nízkym profilom",null,null,null,"GE Optima NM/CT640",null,null,"","bez položkovej identifikácie ceny (v rámci sumárnej ceny)","HW","Institut klinické a experimentální medicíny","ČR","Aceso Praha s.r.o.",null,1,null,null,{"$f":"IF(N52=\"SR\",1,IF(AC52=\"\",VLOOKUP(AW52,'CZKEUR Xchange rate'!$D$13:$E$234,2,FALSE),VLOOKUP(AW52,'CZKEUR Xchange rate'!$A$13:$B$234,2,FALSE)))","v":27.253},0,0,null,null,{"$f":"VLOOKUP(AW52,'Cenové indexy '!$D$7:$E$200,2,FALSE)","v":99.88},{"$f":"W52/Y52*'Cenové indexy '!$E$149","v":0},0,2015,null,null,"2014-11-30","Áno","Áno","Neurčené","Nie","24 mesiacov zadarmo, potom (?)",null,null,null,"Zmluva 3_MS",null,null,null,null,null,{"$f":"VLOOKUP(M52,Adresy!$A$4:$C$156,2,FALSE)","v":"Praha"},{"$f":"VLOOKUP(M52,Adresy!$A$4:$C$156,3,FALSE)","v":"Vídeňská 1959/9"},"M","2015M06",null,null,null,null,null,{"$f":"VLOOKUP(M52,Adresy!$A$3:$C$122,2,FALSE)","v":"Praha"},{"$f":"VLOOKUP(M52,Adresy!$A$3:$C$122,3,FALSE)","v":"Vídeňská 1959/9"},0,0,0,0]
["SPECT/CT",null,"Pacientský stôl",null,null,null,"GE Optima NM/CT640",null,null,"","bez položkovej identifikácie ceny (v rámci sumárnej ceny)","HW","Institut klinické a experimentální medicíny","ČR","Aceso Praha s.r.o.",null,1,null,null,{"$f":"IF(N53=\"SR\",1,IF(AC53=\"\",VLOOKUP(AW53,'CZKEUR Xchange rate'!$D$13:$E$234,2,FALSE),VLOOKUP(AW53,'CZKEUR Xchange rate'!$A$13:$B$234,2,FALSE)))","v":27.253},0,0,null,null,{"$f":"VLOOKUP(AW53,'Cenové indexy '!$D$7:$E$200,2,FALSE)","v":99.88},{"$f":"W53/Y53*'Cenové indexy '!$E$149","v":0},0,2015,null,null,"2014-11-30","Áno","Áno","Neurčené","Nie","24 mesiacov zadarmo, potom (?)",null,null,null,"Zmluva 3_MS",null,null,null,null,null,{"$f":"VLOOKUP(M53,Adresy!$A$4:$C$156,2,FALSE)","v":"Praha"},{"$f":"VLOOKUP(M53,Adresy!$A$4:$C$156,3,FALSE)","v":"Vídeňská 1959/9"},"M","2015M06",null,null,null,null,null,{"$f":"VLOOKUP(M53,Adresy!$A$3:$C$122,2,FALSE)","v":"Praha"},{"$f":"VLOOKUP(M53,Adresy!$A$3:$C$122,3,FALSE)","v":"Vídeňská 1959/9"},0,0,0,0]
["SPECT/CT",null,"Akvizičná konzola",null,null,null,"GE Optima NM/CT640",null,null,"","bez položkovej identifikácie ceny (v rámci sumárnej ceny)","HW","Institut klinické a experimentální medicíny","ČR","Aceso Praha s.r.o.",null,1,null,null,{"$f":"IF(N54=\"SR\",1,IF(AC54=\"\",VLOOKUP(AW54,'CZKEUR Xchange rate'!$D$13:$E$234,2,FALSE),VLOOKUP(AW54,'CZKEUR Xchange rate'!$A$13:$B$234,2,FALSE)))","v":27.253},0,0,null,null,{"$f":"VLOOKUP(AW54,'Cenové indexy '!$D$7:$E$200,2,FALSE)","v":99.88},{"$f":"W54/Y54*'Cenové indexy '!$E$149","v":0},0,2015,null,null,"2014-11-30","Áno","Áno","Neurčené","Nie","24 mesiacov zadarmo, potom (?)",null,null,null,"Zmluva 3_MS",null,null,null,null,null,{"$f":"VLOOKUP(M54,Adresy!$A$4:$C$156,2,FALSE)","v":"Praha"},{"$f":"VLOOKUP(M54,Adresy!$A$4:$C$156,3,FALSE)","v":"Vídeňská 1959/9"},"M","2015M06",null,null,null,null,null,{"$f":"VLOOKUP(M54,Adresy!$A$3:$C$122,2,FALSE)","v":"Praha"},{"$f":"VLOOKUP(M54,Adresy!$A$3:$C$122,3,FALSE)","v":"Vídeňská 1959/9"},0,0,0,0]
["SPECT/CT",null,"Akvizičná stanica Otpima",null,null,null,"GE Optima NM/CT640",null,null,"","bez položkovej identifikácie ceny (v rámci sumárnej ceny)","HW","Institut klinické a experimentální medicíny","ČR","Aceso Praha s.r.o.",null,1,null,null,{"$f":"IF(N55=\"SR\",1,IF(AC55=\"\",VLOOKUP(AW55,'CZKEUR Xchange rate'!$D$13:$E$234,2,FALSE),VLOOKUP(AW55,'CZKEUR Xchange rate'!$A$13:$B$234,2,FALSE)))","v":27.253},0,0,null,null,{"$f":"VLOOKUP(AW55,'Cenové indexy '!$D$7:$E$200,2,FALSE)","v":99.88},{"$f":"W55/Y55*'Cenové indexy '!$E$149","v":0},0,2015,null,null,"2014-11-30","Áno","Áno","Neurčené","Nie","24 mesiacov zadarmo, potom (?)",null,null,null,"Zmluva 3_MS",null,null,null,null,null,{"$f":"VLOOKUP(M55,Adresy!$A$4:$C$156,2,FALSE)","v":"Praha"},{"$f":"VLOOKUP(M55,Adresy!$A$4:$C$156,3,FALSE)","v":"Vídeňská 1959/9"},"M","2015M06",null,null,null,null,null,{"$f":"VLOOKUP(M55,Adresy!$A$3:$C$122,2,FALSE)","v":"Praha"},{"$f":"VLOOKUP(M55,Adresy!$A$3:$C$122,3,FALSE)","v":"Vídeňská 1959/9"},0,0,0,0]
["SPECT/CT",null,"Kolimátor pre nízke energie, vysoké rozlíšenie",null,null,null,"GE Optima NM/CT640",null,null,"","bez položkovej identifikácie ceny (v rámci sumárnej ceny)","HW","Institut klinické a experimentální medicíny","ČR","Aceso Praha s.r.o.",null,2,null,null,{"$f":"IF(N56=\"SR\",1,IF(AC56=\"\",VLOOKUP(AW56,'CZKEUR Xchange rate'!$D$13:$E$234,2,FALSE),VLOOKUP(AW56,'CZKEUR Xchange rate'!$A$13:$B$234,2,FALSE)))","v":27.253},0,0,null,null,{"$f":"VLOOKUP(AW56,'Cenové indexy '!$D$7:$E$200,2,FALSE)","v":99.88},{"$f":"W56/Y56*'Cenové indexy '!$E$149","v":0},0,2015,null,null,"2014-11-30","Áno","Áno","Neurčené","Nie","24 mesiacov zadarmo, potom (?)",null,null,null,"Zmluva 3_MS",null,null,null,null,null,{"$f":"VLOOKUP(M56,Adresy!$A$4:$C$156,2,FALSE)","v":"Praha"},{"$f":"VLOOKUP(M56,Adresy!$A$4:$C$156,3,FALSE)","v":"Vídeňská 1959/9"},"M","2015M06",null,null,null,null,null,{"$f":"VLOOKUP(M56,Adresy!$A$3:$C$122,2,FALSE)","v":"Praha"},{"$f":"VLOOKUP(M56,Adresy!$A$3:$C$122,3,FALSE)","v":"Vídeňská 1959/9"},0,0,0,0]
["SPECT/CT",null,"Kolimátor pre stredné energie",null,null,null,"GE Optima NM/CT640",null,null,"","bez položkovej identifikácie ceny (v rámci sumárnej ceny)","HW","Institut klinické a experimentální medicíny","ČR","Aceso Praha s.r.o.",null,2,null,null,{"$f":"IF(N57=\"SR\",1,IF(AC57=\"\",VLOOKUP(AW57,'CZKEUR Xchange rate'!$D$13:$E$234,2,FALSE),VLOOKUP(AW57,'CZKEUR Xchange rate'!$A$13:$B$234,2,FALSE)))","v":27.253},0,0,null,null,{"$f":"VLOOKUP(AW57,'Cenové indexy '!$D$7:$E$200,2,FALSE)","v":99.88},{"$f":"W57/Y57*'Cenové indexy '!$E$149","v":0},0,2015,null,null,"2014-11-30","Áno","Áno","Neurčené","Nie","24 mesiacov zadarmo, potom (?)",null,null,null,"Zmluva 3_MS",null,null,null,null,null,{"$f":"VLOOKUP(M57,Adresy!$A$4:$C$156,2,FALSE)","v":"Praha"},{"$f":"VLOOKUP(M57,Adresy!$A$4:$C$156,3,FALSE)","v":"Vídeňská 1959/9"},"M","2015M06",null,null,null,null,null,{"$f":"VLOOKUP(M57,Adresy!$A$3:$C$122,2,FALSE)","v":"Praha"},{"$f":"VLOOKUP(M57,Adresy!$A$3:$C$122,3,FALSE)","v":"Vídeňská 1959/9"},0,0,0,0]
["SPECT/CT",null,"Postprocesingový systém Xeleris 3.1",null,null,null,"GE Optima NM/CT640",null,null,"","bez položkovej identifikácie ceny (v rámci sumárnej ceny)","SW","Institut klinické a experimentální medicíny","ČR","Aceso Praha s.r.o.",null,1,null,null,{"$f":"IF(N58=\"SR\",1,IF(AC58=\"\",VLOOKUP(AW58,'CZKEUR Xchange rate'!$D$13:$E$234,2,FALSE),VLOOKUP(AW58,'CZKEUR Xchange rate'!$A$13:$B$234,2,FALSE)))","v":27.253},0,0,null,null,{"$f":"VLOOKUP(AW58,'Cenové indexy '!$D$7:$E$200,2,FALSE)","v":99.88},{"$f":"W58/Y58*'Cenové indexy '!$E$149","v":0},0,2015,null,null,"2014-11-30","Áno","Áno","Neurčené","Nie","24 mesiacov zadarmo, potom (?)",null,null,null,"Zmluva 3_MS",null,null,null,null,null,{"$f":"VLOOKUP(M58,Adresy!$A$4:$C$156,2,FALSE)","v":"Praha"},{"$f":"VLOOKUP(M58,Adresy!$A$4:$C$156,3,FALSE)","v":"Vídeňská 1959/9"},"M","2015M06",null,null,null,null,null,{"$f":"VLOOKUP(M58,Adresy!$A$3:$C$122,2,FALSE)","v":"Praha"},{"$f":"VLOOKUP(M58,Adresy!$A$3:$C$122,3,FALSE)","v":"Vídeňská 1959/9"},0,0,0,0]
["SPECT/CT",null,"Služby diaľkovej diagnostiky / licensie",null,null,null,"GE Optima NM/CT640",null,null,"","bez položkovej identifikácie ceny (v rámci sumárnej ceny)","SW","Institut klinické a experimentální medicíny","ČR","Aceso Praha s.r.o.",null,4,null,null,{"$f":"IF(N59=\"SR\",1,IF(AC59=\"\",VLOOKUP(AW59,'CZKEUR Xchange rate'!$D$13:$E$234,2,FALSE),VLOOKUP(AW59,'CZKEUR Xchange rate'!$A$13:$B$234,2,FALSE)))","v":27.253},0,0,null,null,{"$f":"VLOOKUP(AW59,'Cenové indexy '!$D$7:$E$200,2,FALSE)","v":99.88},{"$f":"W59/Y59*'Cenové indexy '!$E$149","v":0},0,2015,null,null,"2014-11-30","Áno","Áno","Neurčené","Nie","24 mesiacov zadarmo, potom (?)",null,null,null,"Zmluva 3_MS",null,null,null,null,null,{"$f":"VLOOKUP(M59,Adresy!$A$4:$C$156,2,FALSE)","v":"Praha"},{"$f":"VLOOKUP(M59,Adresy!$A$4:$C$156,3,FALSE)","v":"Vídeňská 1959/9"},"M","2015M06",null,null,null,null,null,{"$f":"VLOOKUP(M59,Adresy!$A$3:$C$122,2,FALSE)","v":"Praha"},{"$f":"VLOOKUP(M59,Adresy!$A$3:$C$122,3,FALSE)","v":"Vídeňská 1959/9"},0,0,0,0]
["SPECT/CT",null,"Licensia pre dual monitor",null,null,null,"GE Optima NM/CT640",null,null,"","bez položkovej identifikácie ceny (v rámci sumárnej ceny)","SW","Institut klinické a experimentální medicíny","ČR","Aceso Praha s.r.o.",null,1,null,null,{"$f":"IF(N60=\"SR\",1,IF(AC60=\"\",VLOOKUP(AW60,'CZKEUR Xchange rate'!$D$13:$E$234,2,FALSE),VLOOKUP(AW60,'CZKEUR Xchange rate'!$A$13:$B$234,2,FALSE)))","v":27.253},0,0,null,null,{"$f":"VLOOKUP(AW60,'Cenové indexy '!$D$7:$E$200,2,FALSE)","v":99.88},{"$f":"W60/Y60*'Cenové indexy '!$E$149","v":0},0,2015,null,null,"2014-11-30","Áno","Áno","Neurčené","Nie","24 mesiacov zadarmo, potom (?)",null,null,null,"Zmluva 3_MS",null,null,null,null,null,{"$f":"VLOOKUP(M60,Adresy!$A$4:$C$156,2,FALSE)","v":"Praha"},{"$f":"VLOOKUP(M60,Adresy!$A$4:$C$156,3,FALSE)","v":"Vídeňská 1959/9"},"M","2015M06",null,null,null,null,null,{"$f":"VLOOKUP(M60,Adresy!$A$3:$C$122,2,FALSE)","v":"Praha"},{"$f":"VLOOKUP(M60,Adresy!$A$3:$C$122,3,FALSE)","v":"Vídeňská 1959/9"},0,0,0,0]
["SPECT/CT",null,"Licensia pre Xeleris 3 server",null,null,null,"GE Optima NM/CT640",null,null,"","bez položkovej identifikácie ceny (v rámci sumárnej ceny)","SW","Institut klinické a experimentální medicíny","ČR","Aceso Praha s.r.o.",null,1,null,null,{"$f":"IF(N61=\"SR\",1,IF(AC61=\"\",VLOOKUP(AW61,'CZKEUR Xchange rate'!$D$13:$E$234,2,FALSE),VLOOKUP(AW61,'CZKEUR Xchange rate'!$A$13:$B$234,2,FALSE)))","v":27.253},0,0,null,null,{"$f":"VLOOKUP(AW61,'Cenové indexy '!$D$7:$E$200,2,FALSE)","v":99.88},{"$f":"W61/Y61*'Cenové indexy '!$E$149","v":0},0,2015,null,null,"2014-11-30","Áno","Áno","Neurčené","Nie","24 mesiacov zadarmo, potom (?)",null,null,null,"Zmluva 3_MS",null,null,null,null,null,{"$f":"VLOOKUP(M61,Adresy!$A$4:$C$156,2,FALSE)","v":"Praha"},{"$f":"VLOOKUP(M61,Adresy!$A$4:$C$156,3,FALSE)","v":"Vídeňská 1959/9"},"M","2015M06",null,null,null,null,null,{"$f":"VLOOKUP(M61,Adresy!$A$3:$C$122,2,FALSE)","v":"Praha"},{"$f":"VLOOKUP(M61,Adresy!$A$3:$C$122,3,FALSE)","v":"Vídeňská 1959/9"},0,0,0,0]
["SPECT/CT",null,"Licensia evolution for bone a cardiac",null,null,null,"GE Optima NM/CT640",null,null,"","bez položkovej identifikácie ceny (v rámci sumárnej ceny)","SW","Institut klinické a experimentální medicíny","ČR","Aceso Praha s.r.o.",null,1,null,null,{"$f":"IF(N62=\"SR\",1,IF(AC62=\"\",VLOOKUP(AW62,'CZKEUR Xchange rate'!$D$13:$E$234,2,FALSE),VLOOKUP(AW62,'CZKEUR Xchange rate'!$A$13:$B$234,2,FALSE)))","v":27.253},0,0,null,null,{"$f":"VLOOKUP(AW62,'Cenové indexy '!$D$7:$E$200,2,FALSE)","v":99.88},{"$f":"W62/Y62*'Cenové indexy '!$E$149","v":0},0,2015,null,null,"2014-11-30","Áno","Áno","Neurčené","Nie","24 mesiacov zadarmo, potom (?)",null,null,null,"Zmluva 3_MS",null,null,null,null,null,{"$f":"VLOOKUP(M62,Adresy!$A$4:$C$156,2,FALSE)","v":"Praha"},{"$f":"VLOOKUP(M62,Adresy!$A$4:$C$156,3,FALSE)","v":"Vídeňská 1959/9"},"M","2015M06",null,null,null,null,null,{"$f":"VLOOKUP(M62,Adresy!$A$3:$C$122,2,FALSE)","v":"Praha"},{"$f":"VLOOKUP(M62,Adresy!$A$3:$C$122,3,FALSE)","v":"Vídeňská 1959/9"},0,0,0,0]
["SPECT/CT",null,"Licensia 4D-MSPECT a 4DM-CT",null,null,null,"GE Optima NM/CT640",null,null,"","bez položkovej identifikácie ceny (v rámci sumárnej ceny)","SW","Institut klinické a experimentální medicíny","ČR","Aceso Praha s.r.o.",null,1,null,null,{"$f":"IF(N63=\"SR\",1,IF(AC63=\"\",VLOOKUP(AW63,'CZKEUR Xchange rate'!$D$13:$E$234,2,FALSE),VLOOKUP(AW63,'CZKEUR Xchange rate'!$A$13:$B$234,2,FALSE)))","v":27.253},0,0,null,null,{"$f":"VLOOKUP(AW63,'Cenové indexy '!$D$7:$E$200,2,FALSE)","v":99.88},{"$f":"W63/Y63*'Cenové indexy '!$E$149","v":0},0,2015,null,null,"2014-11-30","Áno","Áno","Neurčené","Nie","24 mesiacov zadarmo, potom (?)",null,null,null,"Zmluva 3_MS",null,null,null,null,null,{"$f":"VLOOKUP(M63,Adresy!$A$4:$C$156,2,FALSE)","v":"Praha"},{"$f":"VLOOKUP(M63,Adresy!$A$4:$C$156,3,FALSE)","v":"Vídeňská 1959/9"},"M","2015M06",null,null,null,null,null,{"$f":"VLOOKUP(M63,Adresy!$A$3:$C$122,2,FALSE)","v":"Praha"},{"$f":"VLOOKUP(M63,Adresy!$A$3:$C$122,3,FALSE)","v":"Vídeňská 1959/9"},0,0,0,0]
["SPECT/CT",null,"Volumetrix 3D",null,null,null,"GE Optima NM/CT640",null,null,"","bez položkovej identifikácie ceny (v rámci sumárnej ceny)","SW","Institut klinické a experimentální medicíny","ČR","Aceso Praha s.r.o.",null,1,null,null,{"$f":"IF(N64=\"SR\",1,IF(AC64=\"\",VLOOKUP(AW64,'CZKEUR Xchange rate'!$D$13:$E$234,2,FALSE),VLOOKUP(AW64,'CZKEUR Xchange rate'!$A$13:$B$234,2,FALSE)))","v":27.253},0,0,null,null,{"$f":"VLOOKUP(AW64,'Cenové indexy '!$D$7:$E$200,2,FALSE)","v":99.88},{"$f":"W64/Y64*'Cenové indexy '!$E$149","v":0},0,2015,null,null,"2014-11-30","Áno","Áno","Neurčené","Nie","24 mesiacov zadarmo, potom (?)",null,null,null,"Zmluva 3_MS",null,null,null,null,null,{"$f":"VLOOKUP(M64,Adresy!$A$4:$C$156,2,FALSE)","v":"Praha"},{"$f":"VLOOKUP(M64,Adresy!$A$4:$C$156,3,FALSE)","v":"Vídeňská 1959/9"},"M","2015M06",null,null,null,null,null,{"$f":"VLOOKUP(M64,Adresy!$A$3:$C$122,2,FALSE)","v":"Praha"},{"$f":"VLOOKUP(M64,Adresy!$A$3:$C$122,3,FALSE)","v":"Vídeňská 1959/9"},0,0,0,0]
["SPECT/CT",null,"Software NeuroGam a NeuroMatch",null,null,null,"GE Optima NM/CT640",null,null,"","bez položkovej identifikácie ceny (v rámci sumárnej ceny)","SW","Institut klinické a experimentální medicíny","ČR","Aceso Praha s.r.o.",null,1,null,null,{"$f":"IF(N65=\"SR\",1,IF(AC65=\"\",VLOOKUP(AW65,'CZKEUR Xchange rate'!$D$13:$E$234,2,FALSE),VLOOKUP(AW65,'CZKEUR Xchange rate'!$A$13:$B$234,2,FALSE)))","v":27.253},0,0,null,null,{"$f":"VLOOKUP(AW65,'Cenové indexy '!$D$7:$E$200,2,FALSE)","v":99.88},{"$f":"W65/Y65*'Cenové indexy '!$E$149","v":0},0,2015,null,null,"2014-11-30","Áno","Áno","Neurčené","Nie","24 mesiacov zadarmo, potom (?)",null,null,null,"Zmluva 3_MS",null,null,null,null,null,{"$f":"VLOOKUP(M65,Adresy!$A$4:$C$156,2,FALSE)","v":"Praha"},{"$f":"VLOOKUP(M65,Adresy!$A$4:$C$156,3,FALSE)","v":"Vídeňská 1959/9"},"M","2015M06",null,null,null,null,null,{"$f":"VLOOKUP(M65,Adresy!$A$3:$C$122,2,FALSE)","v":"Praha"},{"$f":"VLOOKUP(M65,Adresy!$A$3:$C$122,3,FALSE)","v":"Vídeňská 1959/9"},0,0,0,0]
["SPECT/CT",null,"Ivy 7600 cardiac trigger monitor",null,null,null,"GE Optima NM/CT640",null,null,"","bez položkovej identifikácie ceny (v rámci sumárnej ceny)","HW","Institut klinické a experimentální medicíny","ČR","Aceso Praha s.r.o.",null,1,null,null,{"$f":"IF(N66=\"SR\",1,IF(AC66=\"\",VLOOKUP(AW66,'CZKEUR Xchange rate'!$D$13:$E$234,2,FALSE),VLOOKUP(AW66,'CZKEUR Xchange rate'!$A$13:$B$234,2,FALSE)))","v":27.253},0,0,null,null,{"$f":"VLOOKUP(AW66,'Cenové indexy '!$D$7:$E$200,2,FALSE)","v":99.88},{"$f":"W66/Y66*'Cenové indexy '!$E$149","v":0},{"$f":"Z66*1.2","v":0},2015,null,null,{"$f":"DATE(AB66,AC66,AD66)","v":"2014-11-30"},"Áno","Áno","Neurčené","Nie","24 mesiacov zadarmo, potom (?)",null,null,null,"Zmluva 3_MS",null,null,null,null,null,{"$f":"VLOOKUP(M66,Adresy!$A$4:$C$156,2,FALSE)","v":"Praha"},{"$f":"VLOOKUP(M66,Adresy!$A$4:$C$156,3,FALSE)","v":"Vídeňská 1959/9"},"M","2015M06",null,null,null,null,null,{"$f":"VLOOKUP(M66,Adresy!$A$3:$C$122,2,FALSE)","v":"Praha"},{"$f":"VLOOKUP(M66,Adresy!$A$3:$C$122,3,FALSE)","v":"Vídeňská 1959/9"},{"$f":"IF(BC66<>AT66,1,0)","v":0},0,0,0]
["SPECT/CT",null,"Ostatné stacionárne vybavenie",null,null,null,"GE Optima NM/CT640",null,null,"","bez položkovej identifikácie ceny (v rámci sumárnej ceny)","HW","Institut klinické a experimentální medicíny","ČR","Aceso Praha s.r.o.",null,1,null,null,{"$f":"IF(N67=\"SR\",1,IF(AC67=\"\",VLOOKUP(AW67,'CZKEUR Xchange rate'!$D$13:$E$234,2,FALSE),VLOOKUP(AW67,'CZKEUR Xchange rate'!$A$13:$B$234,2,FALSE)))","v":27.253},0,0,null,null,{"$f":"VLOOKUP(AW67,'Cenové indexy '!$D$7:$E$200,2,FALSE)","v":99.88},{"$f":"W67/Y67*'Cenové indexy '!$E$149","v":0},0,2015,null,null,"2014-11-30","Áno","Áno","Neurčené","Nie","24 mesiacov zadarmo, potom (?)",null,null,null,"Zmluva 3_MS",null,null,null,null,null,{"$f":"VLOOKUP(M67,Adresy!$A$4:$C$156,2,FALSE)","v":"Praha"},{"$f":"VLOOKUP(M67,Adresy!$A$4:$C$156,3,FALSE)","v":"Vídeňská 1959/9"},"M",{"$f":"IF(AC67=\"\",CONCATENATE(AB67,AV67,\"06\"),IF(LEN(AC67)=1,CONCATENATE(AB67,AV67,\"0\"&AC67),CONCATENATE(AB67,AV67,AC67)))","v":"2015M06"},null,null,null,null,null,{"$f":"VLOOKUP(M67,Adresy!$A$3:$C$122,2,FALSE)","v":"Praha"},{"$f":"VLOOKUP(M67,Adresy!$A$3:$C$122,3,FALSE)","v":"Vídeňská 1959/9"},0,0,0,0]
["SPECT/CT",null,"Diagnostický monitor",null,"Mdview 243",null,"GE Optima NM/CT640",null,null,"","bez položkovej identifikácie ceny (v rámci sumárnej ceny)","HW","Institut klinické a experimentální medicíny","ČR","Aceso Praha s.r.o.",null,1,null,null,{"$f":"IF(N68=\"SR\",1,IF(AC68=\"\",VLOOKUP(AW68,'CZKEUR Xchange rate'!$D$13:$E$234,2,FALSE),VLOOKUP(AW68,'CZKEUR Xchange rate'!$A$13:$B$234,2,FALSE)))","v":27.253},0,0,null,null,{"$f":"VLOOKUP(AW68,'Cenové indexy '!$D$7:$E$200,2,FALSE)","v":99.88},{"$f":"W68/Y68*'Cenové indexy '!$E$149","v":0},0,2015,null,null,"2014-11-30","Áno","Áno","Neurčené","Nie","24 mesiacov zadarmo, potom (?)",null,null,null,"Zmluva 3_MS",null,null,null,null,null,{"$f":"VLOOKUP(M68,Adresy!$A$4:$C$156,2,FALSE)","v":"Praha"},{"$f":"VLOOKUP(M68,Adresy!$A$4:$C$156,3,FALSE)","v":"Vídeňská 1959/9"},"M","2015M06",null,null,null,null,null,{"$f":"VLOOKUP(M68,Adresy!$A$3:$C$122,2,FALSE)","v":"Praha"},{"$f":"VLOOKUP(M68,Adresy!$A$3:$C$122,3,FALSE)","v":"Vídeňská 1959/9"},0,0,0,0]
["SPECT/CT",null,"Klinický monitor",null,"MD242C2",null,"GE Optima NM/CT640",null,null,"","bez položkovej identifikácie ceny (v rámci sumárnej ceny)","HW","Institut klinické a experimentální medicíny","ČR","Aceso Praha s.r.o.",null,1,null,null,{"$f":"IF(N69=\"SR\",1,IF(AC69=\"\",VLOOKUP(AW69,'CZKEUR Xchange rate'!$D$13:$E$234,2,FALSE),VLOOKUP(AW69,'CZKEUR Xchange rate'!$A$13:$B$234,2,FALSE)))","v":27.253},0,0,null,null,{"$f":"VLOOKUP(AW69,'Cenové indexy '!$D$7:$E$200,2,FALSE)","v":99.88},{"$f":"W69/Y69*'Cenové indexy '!$E$149","v":0},0,2015,null,null,"2014-11-30","Áno","Áno","Neurčené","Nie","24 mesiacov zadarmo, potom (?)",null,null,null,"Zmluva 3_MS",null,null,null,null,null,{"$f":"VLOOKUP(M69,Adresy!$A$4:$C$156,2,FALSE)","v":"Praha"},{"$f":"VLOOKUP(M69,Adresy!$A$4:$C$156,3,FALSE)","v":"Vídeňská 1959/9"},"M","2015M06",null,null,null,null,null,{"$f":"VLOOKUP(M69,Adresy!$A$3:$C$122,2,FALSE)","v":"Praha"},{"$f":"VLOOKUP(M69,Adresy!$A$3:$C$122,3,FALSE)","v":"Vídeňská 1959/9"},0,0,0,0]
["SPECT/CT",null,"PC pracovná stanica pre nukleárnu medicínu",null,"Z230",null,"GE Optima NM/CT640",null,null,"","bez položkovej identifikácie ceny (v rámci sumárnej ceny)","HW","Institut klinické a experimentální medicíny","ČR","Aceso Praha s.r.o.",null,1,null,null,{"$f":"IF(N70=\"SR\",1,IF(AC70=\"\",VLOOKUP(AW70,'CZKEUR Xchange rate'!$D$13:$E$234,2,FALSE),VLOOKUP(AW70,'CZKEUR Xchange rate'!$A$13:$B$234,2,FALSE)))","v":27.253},0,0,null,null,{"$f":"VLOOKUP(AW70,'Cenové indexy '!$D$7:$E$200,2,FALSE)","v":99.88},{"$f":"W70/Y70*'Cenové indexy '!$E$149","v":0},0,2015,null,null,"2014-11-30","Áno","Áno","Neurčené","Nie","24 mesiacov zadarmo, potom (?)",null,null,null,"Zmluva 3_MS",null,null,null,null,null,{"$f":"VLOOKUP(M70,Adresy!$A$4:$C$156,2,FALSE)","v":"Praha"},{"$f":"VLOOKUP(M70,Adresy!$A$4:$C$156,3,FALSE)","v":"Vídeňská 1959/9"},"M","2015M06",null,null,null,null,null,{"$f":"VLOOKUP(M70,Adresy!$A$3:$C$122,2,FALSE)","v":"Praha"},{"$f":"VLOOKUP(M70,Adresy!$A$3:$C$122,3,FALSE)","v":"Vídeňská 1959/9"},0,0,0,0]
["SPECT/CT",null,"Celá zostava",null,null,null,"Siemens symbia Intevo Excel",null,null,"","sumárna cena","HW/SW","Nemocnice Znojmo","ČR","EDOMED a.s.",null,1,13392000,{"$f":"R71*1.21","v":16204320},{"$f":"IF(N71=\"SR\",1,IF(AC71=\"\",VLOOKUP(AW71,'CZKEUR Xchange rate'!$D$13:$E$234,2,FALSE),VLOOKUP(AW71,'CZKEUR Xchange rate'!$A$13:$B$234,2,FALSE)))","v":27.452999999999999},487815.53928532399,590256.80253524205,{"$f":"U71/Q71","v":487815.53928532399},{"$f":"V71/Q71","v":590256.80253524205},{"$f":"VLOOKUP(AW71,'Cenové indexy '!$D$7:$E$200,2,FALSE)","v":99.5},{"$f":"W71/Y71*'Cenové indexy '!$E$149","v":505612.22679894936},606734.67215873918,2014,null,null,"2013-11-30","Nie","Áno / nie","Neurčené","Nie","24 mesiacov zadarmo, potom 8 rokov podľa zmluvy",null,null,null,"Zmluva 4_MS",null,null,null,null,null,{"$f":"VLOOKUP(M71,Adresy!$A$4:$C$156,2,FALSE)","v":" Znojmo"},{"$f":"VLOOKUP(M71,Adresy!$A$4:$C$156,3,FALSE)","v":"MUDr. Jana Janského 2675/11"},"M","2014M06",null,null,null,null,null,{"$f":"VLOOKUP(M71,Adresy!$A$3:$C$122,2,FALSE)","v":" Znojmo"},{"$f":"VLOOKUP(M71,Adresy!$A$3:$C$122,3,FALSE)","v":"MUDr. Jana Janského 2675/11"},0,0,0,0]
["SPECT/CT",null,"Detektory 3/8 s nízkym profilom",null,null,null,"Siemens symbia Intevo Excel",null,null,"","bez položkovej identifikácie ceny (v rámci sumárnej ceny)","HW","Nemocnice Znojmo","ČR","EDOMED a.s.",null,2,null,null,{"$f":"IF(N72=\"SR\",1,IF(AC72=\"\",VLOOKUP(AW72,'CZKEUR Xchange rate'!$D$13:$E$234,2,FALSE),VLOOKUP(AW72,'CZKEUR Xchange rate'!$A$13:$B$234,2,FALSE)))","v":27.452999999999999},0,0,null,null,{"$f":"VLOOKUP(AW72,'Cenové indexy '!$D$7:$E$200,2,FALSE)","v":99.5},{"$f":"W72/Y72*'Cenové indexy '!$E$149","v":0},0,2014,null,null,"2013-11-30","Nie","Áno / nie","Neurčené","Nie","24 mesiacov zadarmo, potom 8 rokov podľa zmluvy",null,null,null,"Zmluva 4_MS",null,null,null,null,null,{"$f":"VLOOKUP(M72,Adresy!$A$4:$C$156,2,FALSE)","v":" Znojmo"},{"$f":"VLOOKUP(M72,Adresy!$A$4:$C$156,3,FALSE)","v":"MUDr. Jana Janského 2675/11"},"M","2014M06",null,null,null,null,null,{"$f":"VLOOKUP(M72,Adresy!$A$3:$C$122,2,FALSE)","v":" Znojmo"},{"$f":"VLOOKUP(M72,Adresy!$A$3:$C$122,3,FALSE)","v":"MUDr. Jana Janského 2675/11"},0,0,0,0]
["SPECT/CT",null,"Kaudálne naklápanie",null,null,null,"Siemens symbia Intevo Excel",null,null,"","bez položkovej identifikácie ceny (v rámci sumárnej ceny)","HW","Nemocnice Znojmo","ČR","EDOMED a.s.",null,1,null,null,{"$f":"IF(N73=\"SR\",1,IF(AC73=\"\",VLOOKUP(AW73,'CZKEUR Xchange rate'!$D$13:$E$234,2,FALSE),VLOOKUP(AW73,'CZKEUR Xchange rate'!$A$13:$B$234,2,FALSE)))","v":27.452999999999999},0,0,null,null,{"$f":"VLOOKUP(AW73,'Cenové indexy '!$D$7:$E$200,2,FALSE)","v":99.5},{"$f":"W73/Y73*'Cenové indexy '!$E$149","v":0},0,2014,null,null,"2013-11-30","Nie","Áno / nie","Neurčené","Nie","24 mesiacov zadarmo, potom 8 rokov podľa zmluvy",null,null,null,"Zmluva 4_MS",null,null,null,null,null,{"$f":"VLOOKUP(M73,Adresy!$A$4:$C$156,2,FALSE)","v":" Znojmo"},{"$f":"VLOOKUP(M73,Adresy!$A$4:$C$156,3,FALSE)","v":"MUDr. Jana Janského 2675/11"},"M","2014M06",null,null,null,null,null,{"$f":"VLOOKUP(M73,Adresy!$A$3:$C$122,2,FALSE)","v":" Znojmo"},{"$f":"VLOOKUP(M73,Adresy!$A$3:$C$122,3,FALSE)","v":"MUDr. Jana Janského 2675/11"},0,0,0,0]
["SPECT/CT",null,"Kolimátor pre nízke energie, vysoké rozlíšenie",null,null,null,"Siemens symbia Intevo Excel",null,null,"","bez položkovej identifikácie ceny (v rámci sumárnej ceny)","HW","Nemocnice Znojmo","ČR","EDOMED a.s.",null,2,null,null,{"$f":"IF(N74=\"SR\",1,IF(AC74=\"\",VLOOKUP(AW74,'CZKEUR Xchange rate'!$D$13:$E$234,2,FALSE),VLOOKUP(AW74,'CZKEUR Xchange rate'!$A$13:$B$234,2,FALSE)))","v":27.452999999999999},0,0,null,null,{"$f":"VLOOKUP(AW74,'Cenové indexy '!$D$7:$E$200,2,FALSE)","v":99.5},{"$f":"W74/Y74*'Cenové indexy '!$E$149","v":0},0,2014,null,null,"2013-11-30","Nie","Áno / nie","Neurčené","Nie","24 mesiacov zadarmo, potom 8 rokov podľa zmluvy",null,null,null,"Zmluva 4_MS",null,null,null,null,null,{"$f":"VLOOKUP(M74,Adresy!$A$4:$C$156,2,FALSE)","v":" Znojmo"},{"$f":"VLOOKUP(M74,Adresy!$A$4:$C$156,3,FALSE)","v":"MUDr. Jana Janského 2675/11"},"M","2014M06",null,null,null,null,null,{"$f":"VLOOKUP(M74,Adresy!$A$3:$C$122,2,FALSE)","v":" Znojmo"},{"$f":"VLOOKUP(M74,Adresy!$A$3:$C$122,3,FALSE)","v":"MUDr. Jana Janského 2675/11"},0,0,0,0]
["SPECT/CT",null,"Kolimátor pre stredné energie",null,null,null,"Siemens symbia Intevo Excel",null,null,"","bez položkovej identifikácie ceny (v rámci sumárnej ceny)","HW","Nemocnice Znojmo","ČR","EDOMED a.s.",null,2,null,null,{"$f":"IF(N75=\"SR\",1,IF(AC75=\"\",VLOOKUP(AW75,'CZKEUR Xchange rate'!$D$13:$E$234,2,FALSE),VLOOKUP(AW75,'CZKEUR Xchange rate'!$A$13:$B$234,2,FALSE)))","v":27.452999999999999},0,0,null,null,{"$f":"VLOOKUP(AW75,'Cenové indexy '!$D$7:$E$200,2,FALSE)","v":99.5},{"$f":"W75/Y75*'Cenové indexy '!$E$149","v":0},0,2014,null,null,"2013-11-30","Nie","Áno / nie","Neurčené","Nie","24 mesiacov zadarmo, potom 8 rokov podľa zmluvy",null,null,null,"Zmluva 4_MS",null,null,null,null,null,{"$f":"VLOOKUP(M75,Adresy!$A$4:$C$156,2,FALSE)","v":" Znojmo"},{"$f":"VLOOKUP(M75,Adresy!$A$4:$C$156,3,FALSE)","v":"MUDr. Jana Janského 2675/11"},"M","2014M06",null,null,null,null,null,{"$f":"VLOOKUP(M75,Adresy!$A$3:$C$122,2,FALSE)","v":" Znojmo"},{"$f":"VLOOKUP(M75,Adresy!$A$3:$C$122,3,FALSE)","v":"MUDr. Jana Janského 2675/11"},0,0,0,0]
["SPECT/CT",null,"Vozík pre kolimátor",null,null,null,"Siemens symbia Intevo Excel",null,null,"","bez položkovej identifikácie ceny (v rámci sumárnej ceny)","HW","Nemocnice Znojmo","ČR","EDOMED a.s.",null,1,null,null,{"$f":"IF(N76=\"SR\",1,IF(AC76=\"\",VLOOKUP(AW76,'CZKEUR Xchange rate'!$D$13:$E$234,2,FALSE),VLOOKUP(AW76,'CZKEUR Xchange rate'!$A$13:$B$234,2,FALSE)))","v":27.452999999999999},0,0,null,null,{"$f":"VLOOKUP(AW76,'Cenové indexy '!$D$7:$E$200,2,FALSE)","v":99.5},{"$f":"W76/Y76*'Cenové indexy '!$E$149","v":0},0,2014,null,null,"2013-11-30","Nie","Áno / nie","Neurčené","Nie","24 mesiacov zadarmo, potom 8 rokov podľa zmluvy",null,null,null,"Zmluva 4_MS",null,null,null,null,null,{"$f":"VLOOKUP(M76,Adresy!$A$4:$C$156,2,FALSE)","v":" Znojmo"},{"$f":"VLOOKUP(M76,Adresy!$A$4:$C$156,3,FALSE)","v":"MUDr. Jana Janského 2675/11"},"M","2014M06",null,null,null,null,null,{"$f":"VLOOKUP(M76,Adresy!$A$3:$C$122,2,FALSE)","v":" Znojmo"},{"$f":"VLOOKUP(M76,Adresy!$A$3:$C$122,3,FALSE)","v":"MUDr. Jana Janského 2675/11"},0,0,0,0]
["SPECT/CT",null,"Interný EKG pre systém Symbia",null,null,null,"Siemens symbia Intevo Excel",null,null,"","bez položkovej identifikácie ceny (v rámci sumárnej ceny)","HW","Nemocnice Znojmo","ČR","EDOMED a.s.",null,1,null,null,{"$f":"IF(N77=\"SR\",1,IF(AC77=\"\",VLOOKUP(AW77,'CZKEUR Xchange rate'!$D$13:$E$234,2,FALSE),VLOOKUP(AW77,'CZKEUR Xchange rate'!$A$13:$B$234,2,FALSE)))","v":27.452999999999999},0,0,null,null,{"$f":"VLOOKUP(AW77,'Cenové indexy '!$D$7:$E$200,2,FALSE)","v":99.5},{"$f":"W77/Y77*'Cenové indexy '!$E$149","v":0},0,2014,null,null,"2013-11-30","Nie","Áno / nie","Neurčené","Nie","24 mesiacov zadarmo, potom 8 rokov podľa zmluvy",null,null,null,"Zmluva 4_MS",null,null,null,null,null,{"$f":"VLOOKUP(M77,Adresy!$A$4:$C$156,2,FALSE)","v":" Znojmo"},{"$f":"VLOOKUP(M77,Adresy!$A$4:$C$156,3,FALSE)","v":"MUDr. Jana Janského 2675/11"},"M","2014M06",null,null,null,null,null,{"$f":"VLOOKUP(M77,Adresy!$A$3:$C$122,2,FALSE)","v":" Znojmo"},{"$f":"VLOOKUP(M77,Adresy!$A$3:$C$122,3,FALSE)","v":"MUDr. Jana Janského 2675/11"},0,0,0,0]
["SPECT/CT",null,"Kábel PHS pod podlahou",null,null,null,"Siemens symbia Intevo Excel",null,null,"","bez položkovej identifikácie ceny (v rámci sumárnej ceny)","HW","Nemocnice Znojmo","ČR","EDOMED a.s.",null,1,null,null,{"$f":"IF(N78=\"SR\",1,IF(AC78=\"\",VLOOKUP(AW78,'CZKEUR Xchange rate'!$D$13:$E$234,2,FALSE),VLOOKUP(AW78,'CZKEUR Xchange rate'!$A$13:$B$234,2,FALSE)))","v":27.452999999999999},0,0,null,null,{"$f":"VLOOKUP(AW78,'Cenové indexy '!$D$7:$E$200,2,FALSE)","v":99.5},{"$f":"W78/Y78*'Cenové indexy '!$E$149","v":0},0,2014,null,null,"2013-11-30","Nie","Áno / nie","Neurčené","Nie","24 mesiacov zadarmo, potom 8 rokov podľa zmluvy",null,null,null,"Zmluva 4_MS",null,null,null,null,null,{"$f":"VLOOKUP(M78,Adresy!$A$4:$C$156,2,FALSE)","v":" Znojmo"},{"$f":"VLOOKUP(M78,Adresy!$A$4:$C$156,3,FALSE)","v":"MUDr. Jana Janského 2675/11"},"M","2014M06",null,null,null,null,null,{"$f":"VLOOKUP(M78,Adresy!$A$3:$C$122,2,FALSE)","v":" Znojmo"},{"$f":"VLOOKUP(M78,Adresy!$A$3:$C$122,3,FALSE)","v":"MUDr. Jana Janského 2675/11"},0,0,0,0]
["SPECT/CT",null,"Služby diaľkovej diagnostiky",null,null,null,"Siemens symbia Intevo Excel",null,null,"","bez položkovej identifikácie ceny (v rámci sumárnej ceny)","SW","Nemocnice Znojmo","ČR","EDOMED a.s.",null,1,null,null,{"$f":"IF(N79=\"SR\",1,IF(AC79=\"\",VLOOKUP(AW79,'CZKEUR Xchange rate'!$D$13:$E$234,2,FALSE),VLOOKUP(AW79,'CZKEUR Xchange rate'!$A$13:$B$234,2,FALSE)))","v":27.452999999999999},0,0,null,null,{"$f":"VLOOKUP(AW79,'Cenové indexy '!$D$7:$E$200,2,FALSE)","v":99.5},{"$f":"W79/Y79*'Cenové indexy '!$E$149","v":0},0,2014,null,null,"2013-11-30","Nie","Áno / nie","Neurčené","Nie","24 mesiacov zadarmo, potom 8 rokov podľa zmluvy",null,null,null,"Zmluva 4_MS",null,null,null,null,null,{"$f":"VLOOKUP(M79,Adresy!$A$4:$C$156,2,FALSE)","v":" Znojmo"},{"$f":"VLOOKUP(M79,Adresy!$A$4:$C$156,3,FALSE)","v":"MUDr. Jana Janského 2675/11"},"M","2014M06",null,null,null,null,null,{"$f":"VLOOKUP(M79,Adresy!$A$3:$C$122,2,FALSE)","v":" Znojmo"},{"$f":"VLOOKUP(M79,Adresy!$A$3:$C$122,3,FALSE)","v":"MUDr. Jana Janského 2675/11"},0,0,0,0]
["SPECT/CT",null,"Symbia.net",null,null,null,"Siemens symbia Intevo Excel",null,null,"","bez položkovej identifikácie ceny (v rámci sumárnej ceny)","SW","Nemocnice Znojmo","ČR","EDOMED a.s.",null,1,null,null,{"$f":"IF(N80=\"SR\",1,IF(AC80=\"\",VLOOKUP(AW80,'CZKEUR Xchange rate'!$D$13:$E$234,2,FALSE),VLOOKUP(AW80,'CZKEUR Xchange rate'!$A$13:$B$234,2,FALSE)))","v":27.452999999999999},0,0,null,null,{"$f":"VLOOKUP(AW80,'Cenové indexy '!$D$7:$E$200,2,FALSE)","v":99.5},{"$f":"W80/Y80*'Cenové indexy '!$E$149","v":0},0,2014,null,null,"2013-11-30","Nie","Áno / nie","Neurčené","Nie","24 mesiacov zadarmo, potom 8 rokov podľa zmluvy",null,null,null,"Zmluva 4_MS",null,null,null,null,null,{"$f":"VLOOKUP(M80,Adresy!$A$4:$C$156,2,FALSE)","v":" Znojmo"},{"$f":"VLOOKUP(M80,Adresy!$A$4:$C$156,3,FALSE)","v":"MUDr. Jana Janského 2675/11"},"M","2014M06",null,null,null,null,null,{"$f":"VLOOKUP(M80,Adresy!$A$3:$C$122,2,FALSE)","v":" Znojmo"},{"$f":"VLOOKUP(M80,Adresy!$A$3:$C$122,3,FALSE)","v":"MUDr. Jana Janského 2675/11"},0,0,0,0]
["SPECT/CT",null,"Server management",null,null,null,"Siemens symbia Intevo Excel",null,null,"","bez položkovej identifikácie ceny (v rámci sumárnej ceny)","SW","Nemocnice Znojmo","ČR","EDOMED a.s.",null,1,null,null,{"$f":"IF(N81=\"SR\",1,IF(AC81=\"\",VLOOKUP(AW81,'CZKEUR Xchange rate'!$D$13:$E$234,2,FALSE),VLOOKUP(AW81,'CZKEUR Xchange rate'!$A$13:$B$234,2,FALSE)))","v":27.452999999999999},0,0,null,null,{"$f":"VLOOKUP(AW81,'Cenové indexy '!$D$7:$E$200,2,FALSE)","v":99.5},{"$f":"W81/Y81*'Cenové indexy '!$E$149","v":0},0,2014,null,null,"2013-11-30","Nie","Áno / nie","Neurčené","Nie","24 mesiacov zadarmo, potom 8 rokov podľa zmluvy",null,null,null,"Zmluva 4_MS",null,null,null,null,null,{"$f":"VLOOKUP(M81,Adresy!$A$4:$C$156,2,FALSE)","v":" Znojmo"},{"$f":"VLOOKUP(M81,Adresy!$A$4:$C$156,3,FALSE)","v":"MUDr. Jana Janského 2675/11"},"M","2014M06",null,null,null,null,null,{"$f":"VLOOKUP(M81,Adresy!$A$3:$C$122,2,FALSE)","v":" Znojmo"},{"$f":"VLOOKUP(M81,Adresy!$A$3:$C$122,3,FALSE)","v":"MUDr. Jana Janského 2675/11"},0,0,0,0]
["SPECT/CT",null,"Symbia.net, klient",null,null,null,"Siemens symbia Intevo Excel",null,null,"","bez položkovej identifikácie ceny (v rámci sumárnej ceny)","SW","Nemocnice Znojmo","ČR","EDOMED a.s.",null,1,null,null,{"$f":"IF(N82=\"SR\",1,IF(AC82=\"\",VLOOKUP(AW82,'CZKEUR Xchange rate'!$D$13:$E$234,2,FALSE),VLOOKUP(AW82,'CZKEUR Xchange rate'!$A$13:$B$234,2,FALSE)))","v":27.452999999999999},0,0,null,null,{"$f":"VLOOKUP(AW82,'Cenové indexy '!$D$7:$E$200,2,FALSE)","v":99.5},{"$f":"W82/Y82*'Cenové indexy '!$E$149","v":0},0,2014,null,null,"2013-11-30","Nie","Áno / nie","Neurčené","Nie","24 mesiacov zadarmo, potom 8 rokov podľa zmluvy",null,null,null,"Zmluva 4_MS",null,null,null,null,null,{"$f":"VLOOKUP(M82,Adresy!$A$4:$C$156,2,FALSE)","v":" Znojmo"},{"$f":"VLOOKUP(M82,Adresy!$A$4:$C$156,3,FALSE)","v":"MUDr. Jana Janského 2675/11"},"M","2014M06",null,null,null,null,null,{"$f":"VLOOKUP(M82,Adresy!$A$3:$C$122,2,FALSE)","v":" Znojmo"},{"$f":"VLOOKUP(M82,Adresy!$A$3:$C$122,3,FALSE)","v":"MUDr. Jana Janského 2675/11"},0,0,0,0]
["SPECT/CT",null,"Pokročilý engine pre onkológiu",null,null,null,"Siemens symbia Intevo Excel",null,null,"","bez položkovej identifikácie ceny (v rámci sumárnej ceny)","SW","Nemocnice Znojmo","ČR","EDOMED a.s.",null,1,null,null,{"$f":"IF(N83=\"SR\",1,IF(AC83=\"\",VLOOKUP(AW83,'CZKEUR Xchange rate'!$D$13:$E$234,2,FALSE),VLOOKUP(AW83,'CZKEUR Xchange rate'!$A$13:$B$234,2,FALSE)))","v":27.452999999999999},0,0,null,null,{"$f":"VLOOKUP(AW83,'Cenové indexy '!$D$7:$E$200,2,FALSE)","v":99.5},{"$f":"W83/Y83*'Cenové indexy '!$E$149","v":0},0,2014,null,null,"2013-11-30","Nie","Áno / nie","Neurčené","Nie","24 mesiacov zadarmo, potom 8 rokov podľa zmluvy",null,null,null,"Zmluva 4_MS",null,null,null,null,null,{"$f":"VLOOKUP(M83,Adresy!$A$4:$C$156,2,FALSE)","v":" Znojmo"},{"$f":"VLOOKUP(M83,Adresy!$A$4:$C$156,3,FALSE)","v":"MUDr. Jana Janského 2675/11"},"M","2014M06",null,null,null,null,null,{"$f":"VLOOKUP(M83,Adresy!$A$3:$C$122,2,FALSE)","v":" Znojmo"},{"$f":"VLOOKUP(M83,Adresy!$A$3:$C$122,3,FALSE)","v":"MUDr. Jana Janského 2675/11"},0,0,0,0]
["SPECT/CT",null," + pokročilý engine pre onkológiu",null,null,null,"Siemens symbia Intevo Excel",null,null,"","bez položkovej identifikácie ceny (v rámci sumárnej ceny)","SW","Nemocnice Znojmo","ČR","EDOMED a.s.",null,1,null,null,{"$f":"IF(N84=\"SR\",1,IF(AC84=\"\",VLOOKUP(AW84,'CZKEUR Xchange rate'!$D$13:$E$234,2,FALSE),VLOOKUP(AW84,'CZKEUR Xchange rate'!$A$13:$B$234,2,FALSE)))","v":27.452999999999999},0,0,null,null,{"$f":"VLOOKUP(AW84,'Cenové indexy '!$D$7:$E$200,2,FALSE)","v":99.5},{"$f":"W84/Y84*'Cenové indexy '!$E$149","v":0},0,2014,null,null,"2013-11-30","Nie","Áno / nie","Neurčené","Nie","24 mesiacov zadarmo, potom 8 rokov podľa zmluvy",null,null,null,"Zmluva 4_MS",null,null,null,null,null,{"$f":"VLOOKUP(M84,Adresy!$A$4:$C$156,2,FALSE)","v":" Znojmo"},{"$f":"VLOOKUP(M84,Adresy!$A$4:$C$156,3,FALSE)","v":"MUDr. Jana Janského 2675/11"},"M","2014M06",null,null,null,null,null,{"$f":"VLOOKUP(M84,Adresy!$A$3:$C$122,2,FALSE)","v":" Znojmo"},{"$f":"VLOOKUP(M84,Adresy!$A$3:$C$122,3,FALSE)","v":"MUDr. Jana Janského 2675/11"},0,0,0,0]
["SPECT/CT",null,"Kardiologický engine 4DM",null,null,null,"Siemens symbia Intevo Excel",null,null,"","bez položkovej identifikácie ceny (v rámci sumárnej ceny)","SW","Nemocnice Znojmo","ČR","EDOMED a.s.",null,1,null,null,{"$f":"IF(N85=\"SR\",1,IF(AC85=\"\",VLOOKUP(AW85,'CZKEUR Xchange rate'!$D$13:$E$234,2,FALSE),VLOOKUP(AW85,'CZKEUR Xchange rate'!$A$13:$B$234,2,FALSE)))","v":27.452999999999999},0,0,null,null,{"$f":"VLOOKUP(AW85,'Cenové indexy '!$D$7:$E$200,2,FALSE)","v":99.5},{"$f":"W85/Y85*'Cenové indexy '!$E$149","v":0},0,2014,null,null,"2013-11-30","Nie","Áno / nie","Neurčené","Nie","24 mesiacov zadarmo, potom 8 rokov podľa zmluvy",null,null,null,"Zmluva 4_MS",null,null,null,null,null,{"$f":"VLOOKUP(M85,Adresy!$A$4:$C$156,2,FALSE)","v":" Znojmo"},{"$f":"VLOOKUP(M85,Adresy!$A$4:$C$156,3,FALSE)","v":"MUDr. Jana Janského 2675/11"},"M","2014M06",null,null,null,null,null,{"$f":"VLOOKUP(M85,Adresy!$A$3:$C$122,2,FALSE)","v":" Znojmo"},{"$f":"VLOOKUP(M85,Adresy!$A$3:$C$122,3,FALSE)","v":"MUDr. Jana Janského 2675/11"},0,0,0,0]
["SPECT/CT",null," + kardiologický engine 4DM",null,null,null,"Siemens symbia Intevo Excel",null,null,"","bez položkovej identifikácie ceny (v rámci sumárnej ceny)","SW","Nemocnice Znojmo","ČR","EDOMED a.s.",null,1,null,null,{"$f":"IF(N86=\"SR\",1,IF(AC86=\"\",VLOOKUP(AW86,'CZKEUR Xchange rate'!$D$13:$E$234,2,FALSE),VLOOKUP(AW86,'CZKEUR Xchange rate'!$A$13:$B$234,2,FALSE)))","v":27.452999999999999},0,0,null,null,{"$f":"VLOOKUP(AW86,'Cenové indexy '!$D$7:$E$200,2,FALSE)","v":99.5},{"$f":"W86/Y86*'Cenové indexy '!$E$149","v":0},0,2014,null,null,"2013-11-30","Nie","Áno / nie","Neurčené","Nie","24 mesiacov zadarmo, potom 8 rokov podľa zmluvy",null,null,null,"Zmluva 4_MS",null,null,null,null,null,{"$f":"VLOOKUP(M86,Adresy!$A$4:$C$156,2,FALSE)","v":" Znojmo"},{"$f":"VLOOKUP(M86,Adresy!$A$4:$C$156,3,FALSE)","v":"MUDr. Jana Janského 2675/11"},"M","2014M06",null,null,null,null,null,{"$f":"VLOOKUP(M86,Adresy!$A$3:$C$122,2,FALSE)","v":" Znojmo"},{"$f":"VLOOKUP(M86,Adresy!$A$3:$C$122,3,FALSE)","v":"MUDr. Jana Janského 2675/11"},0,0,0,0]
["SPECT/CT",null,"Spracovanie zamerané na určitý orgán",null,null,null,"Siemens symbia Intevo Excel",null,null,"","bez položkovej identifikácie ceny (v rámci sumárnej ceny)","SW","Nemocnice Znojmo","ČR","EDOMED a.s.",null,1,null,null,{"$f":"IF(N87=\"SR\",1,IF(AC87=\"\",VLOOKUP(AW87,'CZKEUR Xchange rate'!$D$13:$E$234,2,FALSE),VLOOKUP(AW87,'CZKEUR Xchange rate'!$A$13:$B$234,2,FALSE)))","v":27.452999999999999},0,0,null,null,{"$f":"VLOOKUP(AW87,'Cenové indexy '!$D$7:$E$200,2,FALSE)","v":99.5},{"$f":"W87/Y87*'Cenové indexy '!$E$149","v":0},0,2014,null,null,"2013-11-30","Nie","Áno / nie","Neurčené","Nie","24 mesiacov zadarmo, potom 8 rokov podľa zmluvy",null,null,null,"Zmluva 4_MS",null,null,null,null,null,{"$f":"VLOOKUP(M87,Adresy!$A$4:$C$156,2,FALSE)","v":" Znojmo"},{"$f":"VLOOKUP(M87,Adresy!$A$4:$C$156,3,FALSE)","v":"MUDr. Jana Janského 2675/11"},"M","2014M06",null,null,null,null,null,{"$f":"VLOOKUP(M87,Adresy!$A$3:$C$122,2,FALSE)","v":" Znojmo"},{"$f":"VLOOKUP(M87,Adresy!$A$3:$C$122,3,FALSE)","v":"MUDr. Jana Janského 2675/11"},0,0,0,0]
["SPECT/CT",null," + spracovanie zamerané na určitý orgán",null,null,null,"Siemens symbia Intevo Excel",null,null,"","bez položkovej identifikácie ceny (v rámci sumárnej ceny)","SW","Nemocnice Znojmo","ČR","EDOMED a.s.",null,1,null,null,{"$f":"IF(N88=\"SR\",1,IF(AC88=\"\",VLOOKUP(AW88,'CZKEUR Xchange rate'!$D$13:$E$234,2,FALSE),VLOOKUP(AW88,'CZKEUR Xchange rate'!$A$13:$B$234,2,FALSE)))","v":27.452999999999999},0,0,null,null,{"$f":"VLOOKUP(AW88,'Cenové indexy '!$D$7:$E$200,2,FALSE)","v":99.5},{"$f":"W88/Y88*'Cenové indexy '!$E$149","v":0},0,2014,null,null,"2013-11-30","Nie","Áno / nie","Neurčené","Nie","24 mesiacov zadarmo, potom 8 rokov podľa zmluvy",null,null,null,"Zmluva 4_MS",null,null,null,null,null,{"$f":"VLOOKUP(M88,Adresy!$A$4:$C$156,2,FALSE)","v":" Znojmo"},{"$f":"VLOOKUP(M88,Adresy!$A$4:$C$156,3,FALSE)","v":"MUDr. Jana Janského 2675/11"},"M","2014M06",null,null,null,null,null,{"$f":"VLOOKUP(M88,Adresy!$A$3:$C$122,2,FALSE)","v":" Znojmo"},{"$f":"VLOOKUP(M88,Adresy!$A$3:$C$122,3,FALSE)","v":"MUDr. Jana Janského 2675/11"},0,0,0,0]
["SPECT/CT",null,"Pokročilý enigine \"reconstruction\"",null,null,null,"Siemens symbia Intevo Excel",null,null,"","bez položkovej identifikácie ceny (v rámci sumárnej ceny)","SW","Nemocnice Znojmo","ČR","EDOMED a.s.",null,1,null,null,{"$f":"IF(N89=\"SR\",1,IF(AC89=\"\",VLOOKUP(AW89,'CZKEUR Xchange rate'!$D$13:$E$234,2,FALSE),VLOOKUP(AW89,'CZKEUR Xchange rate'!$A$13:$B$234,2,FALSE)))","v":27.452999999999999},0,0,null,null,{"$f":"VLOOKUP(AW89,'Cenové indexy '!$D$7:$E$200,2,FALSE)","v":99.5},{"$f":"W89/Y89*'Cenové indexy '!$E$149","v":0},0,2014,null,null,"2013-11-30","Nie","Áno / nie","Neurčené","Nie","24 mesiacov zadarmo, potom 8 rokov podľa zmluvy",null,null,null,"Zmluva 4_MS",null,null,null,null,null,{"$f":"VLOOKUP(M89,Adresy!$A$4:$C$156,2,FALSE)","v":" Znojmo"},{"$f":"VLOOKUP(M89,Adresy!$A$4:$C$156,3,FALSE)","v":"MUDr. Jana Janského 2675/11"},"M","2014M06",null,null,null,null,null,{"$f":"VLOOKUP(M89,Adresy!$A$3:$C$122,2,FALSE)","v":" Znojmo"},{"$f":"VLOOKUP(M89,Adresy!$A$3:$C$122,3,FALSE)","v":"MUDr. Jana Janského 2675/11"},0,0,0,0]
["SPECT/CT",null," + pokročilá rekonštrukcia",null,null,null,"Siemens symbia Intevo Excel",null,null,"","bez položkovej identifikácie ceny (v rámci sumárnej ceny)","SW","Nemocnice Znojmo","ČR","EDOMED a.s.",null,1,null,null,{"$f":"IF(N90=\"SR\",1,IF(AC90=\"\",VLOOKUP(AW90,'CZKEUR Xchange rate'!$D$13:$E$234,2,FALSE),VLOOKUP(AW90,'CZKEUR Xchange rate'!$A$13:$B$234,2,FALSE)))","v":27.452999999999999},0,0,null,null,{"$f":"VLOOKUP(AW90,'Cenové indexy '!$D$7:$E$200,2,FALSE)","v":99.5},{"$f":"W90/Y90*'Cenové indexy '!$E$149","v":0},0,2014,null,null,"2013-11-30","Nie","Áno / nie","Neurčené","Nie","24 mesiacov zadarmo, potom 8 rokov podľa zmluvy",null,null,null,"Zmluva 4_MS",null,null,null,null,null,{"$f":"VLOOKUP(M90,Adresy!$A$4:$C$156,2,FALSE)","v":" Znojmo"},{"$f":"VLOOKUP(M90,Adresy!$A$4:$C$156,3,FALSE)","v":"MUDr. Jana Janského 2675/11"},"M","2014M06",null,null,null,null,null,{"$f":"VLOOKUP(M90,Adresy!$A$3:$C$122,2,FALSE)","v":" Znojmo"},{"$f":"VLOOKUP(M90,Adresy!$A$3:$C$122,3,FALSE)","v":"MUDr. Jana Janského 2675/11"},0,0,0,0]
["SPECT/CT",null,"Monitor LCD 19",null,null,null,"Siemens symbia Intevo Excel",null,null,"","bez položkovej identifikácie ceny (v rámci sumárnej ceny)","HW","Nemocnice Znojmo","ČR","EDOMED a.s.",null,2,null,null,{"$f":"IF(N91=\"SR\",1,IF(AC91=\"\",VLOOKUP(AW91,'CZKEUR Xchange rate'!$D$13:$E$234,2,FALSE),VLOOKUP(AW91,'CZKEUR Xchange rate'!$A$13:$B$234,2,FALSE)))","v":27.452999999999999},0,0,null,null,{"$f":"VLOOKUP(AW91,'Cenové indexy '!$D$7:$E$200,2,FALSE)","v":99.5},{"$f":"W91/Y91*'Cenové indexy '!$E$149","v":0},0,2014,null,null,"2013-11-30","Nie","Áno / nie","Neurčené","Nie","24 mesiacov zadarmo, potom 8 rokov podľa zmluvy",null,null,null,"Zmluva 4_MS",null,null,null,null,null,{"$f":"VLOOKUP(M91,Adresy!$A$4:$C$156,2,FALSE)","v":" Znojmo"},{"$f":"VLOOKUP(M91,Adresy!$A$4:$C$156,3,FALSE)","v":"MUDr. Jana Janského 2675/11"},"M","2014M06",null,null,null,null,null,{"$f":"VLOOKUP(M91,Adresy!$A$3:$C$122,2,FALSE)","v":" Znojmo"},{"$f":"VLOOKUP(M91,Adresy!$A$3:$C$122,3,FALSE)","v":"MUDr. Jana Janského 2675/11"},0,0,0,0]
["SPECT/CT",null,"PC pre vyhodocovaciu stanicu",null,null,null,"Siemens symbia Intevo Excel",null,null,"","bez položkovej identifikácie ceny (v rámci sumárnej ceny)","HW","Nemocnice Znojmo","ČR","EDOMED a.s.",null,1,null,null,{"$f":"IF(N92=\"SR\",1,IF(AC92=\"\",VLOOKUP(AW92,'CZKEUR Xchange rate'!$D$13:$E$234,2,FALSE),VLOOKUP(AW92,'CZKEUR Xchange rate'!$A$13:$B$234,2,FALSE)))","v":27.452999999999999},0,0,null,null,{"$f":"VLOOKUP(AW92,'Cenové indexy '!$D$7:$E$200,2,FALSE)","v":99.5},{"$f":"W92/Y92*'Cenové indexy '!$E$149","v":0},0,2014,null,null,"2013-11-30","Nie","Áno / nie","Neurčené","Nie","24 mesiacov zadarmo, potom 8 rokov podľa zmluvy",null,null,null,"Zmluva 4_MS",null,null,null,null,null,{"$f":"VLOOKUP(M92,Adresy!$A$4:$C$156,2,FALSE)","v":" Znojmo"},{"$f":"VLOOKUP(M92,Adresy!$A$4:$C$156,3,FALSE)","v":"MUDr. Jana Janského 2675/11"},"M","2014M06",null,null,null,null,null,{"$f":"VLOOKUP(M92,Adresy!$A$3:$C$122,2,FALSE)","v":" Znojmo"},{"$f":"VLOOKUP(M92,Adresy!$A$3:$C$122,3,FALSE)","v":"MUDr. Jana Janského 2675/11"},0,0,0,0]
["SPECT/CT",null,"UPS APC",null,null,null,"Siemens symbia Intevo Excel",null,null,"","bez položkovej identifikácie ceny (v rámci sumárnej ceny)","HW","Nemocnice Znojmo","ČR","EDOMED a.s.",null,1,null,null,{"$f":"IF(N93=\"SR\",1,IF(AC93=\"\",VLOOKUP(AW93,'CZKEUR Xchange rate'!$D$13:$E$234,2,FALSE),VLOOKUP(AW93,'CZKEUR Xchange rate'!$A$13:$B$234,2,FALSE)))","v":27.452999999999999},0,0,null,null,{"$f":"VLOOKUP(AW93,'Cenové indexy '!$D$7:$E$200,2,FALSE)","v":99.5},{"$f":"W93/Y93*'Cenové indexy '!$E$149","v":0},0,2014,null,null,"2013-11-30","Nie","Áno / nie","Neurčené","Nie","24 mesiacov zadarmo, potom 8 rokov podľa zmluvy",null,null,null,"Zmluva 4_MS",null,null,null,null,null,{"$f":"VLOOKUP(M93,Adresy!$A$4:$C$156,2,FALSE)","v":" Znojmo"},{"$f":"VLOOKUP(M93,Adresy!$A$4:$C$156,3,FALSE)","v":"MUDr. Jana Janského 2675/11"},"M","2014M06",null,null,null,null,null,{"$f":"VLOOKUP(M93,Adresy!$A$3:$C$122,2,FALSE)","v":" Znojmo"},{"$f":"VLOOKUP(M93,Adresy!$A$3:$C$122,3,FALSE)","v":"MUDr. Jana Janského 2675/11"},0,0,0,0]
["SPECT/CT",null,"25 Neurology Engine",null,null,null,"Siemens symbia Intevo Excel",null,null,"","bez položkovej identifikácie ceny (v rámci sumárnej ceny)","SW","Nemocnice Znojmo","ČR","EDOMED a.s.",null,1,null,null,{"$f":"IF(N94=\"SR\",1,IF(AC94=\"\",VLOOKUP(AW94,'CZKEUR Xchange rate'!$D$13:$E$234,2,FALSE),VLOOKUP(AW94,'CZKEUR Xchange rate'!$A$13:$B$234,2,FALSE)))","v":27.452999999999999},0,0,null,null,{"$f":"VLOOKUP(AW94,'Cenové indexy '!$D$7:$E$200,2,FALSE)","v":99.5},{"$f":"W94/Y94*'Cenové indexy '!$E$149","v":0},0,2014,null,null,"2013-11-30","Nie","Áno / nie","Neurčené","Nie","24 mesiacov zadarmo, potom 8 rokov podľa zmluvy",null,null,null,"Zmluva 4_MS",null,null,null,null,null,{"$f":"VLOOKUP(M94,Adresy!$A$4:$C$156,2,FALSE)","v":" Znojmo"},{"$f":"VLOOKUP(M94,Adresy!$A$4:$C$156,3,FALSE)","v":"MUDr. Jana Janského 2675/11"},"M","2014M06",null,null,null,null,null,{"$f":"VLOOKUP(M94,Adresy!$A$3:$C$122,2,FALSE)","v":" Znojmo"},{"$f":"VLOOKUP(M94,Adresy!$A$3:$C$122,3,FALSE)","v":"MUDr. Jana Janského 2675/11"},0,0,0,0]
["SPECT/CT",null,"26+ Neurology engine",null,null,null,"Siemens symbia Intevo Excel",null,null,"","bez položkovej identifikácie ceny (v rámci sumárnej ceny)","SW","Nemocnice Znojmo","ČR","EDOMED a.s.",null,1,null,null,{"$f":"IF(N95=\"SR\",1,IF(AC95=\"\",VLOOKUP(AW95,'CZKEUR Xchange rate'!$D$13:$E$234,2,FALSE),VLOOKUP(AW95,'CZKEUR Xchange rate'!$A$13:$B$234,2,FALSE)))","v":27.452999999999999},0,0,null,null,{"$f":"VLOOKUP(AW95,'Cenové indexy '!$D$7:$E$200,2,FALSE)","v":99.5},{"$f":"W95/Y95*'Cenové indexy '!$E$149","v":0},0,2014,null,null,"2013-11-30","Nie","Áno / nie","Neurčené","Nie","24 mesiacov zadarmo, potom 8 rokov podľa zmluvy",null,null,null,"Zmluva 4_MS",null,null,null,null,null,{"$f":"VLOOKUP(M95,Adresy!$A$4:$C$156,2,FALSE)","v":" Znojmo"},{"$f":"VLOOKUP(M95,Adresy!$A$4:$C$156,3,FALSE)","v":"MUDr. Jana Janského 2675/11"},"M","2014M06",null,null,null,null,null,{"$f":"VLOOKUP(M95,Adresy!$A$3:$C$122,2,FALSE)","v":" Znojmo"},{"$f":"VLOOKUP(M95,Adresy!$A$3:$C$122,3,FALSE)","v":"MUDr. Jana Janského 2675/11"},0,0,0,0]
["SPECT/CT",null,"Demontáž a likvidácia",null,null,null,"Siemens symbia Intevo Excel",null,null,"","položková cena (súčasť sumárnej ceny)","služby","Nemocnice Znojmo","ČR","EDOMED a.s.",null,1,50000,{"$f":"R96*1.21","v":60500},{"$f":"IF(N96=\"SR\",1,IF(AC96=\"\",VLOOKUP(AW96,'CZKEUR Xchange rate'!$D$13:$E$234,2,FALSE),VLOOKUP(AW96,'CZKEUR Xchange rate'!$A$13:$B$234,2,FALSE)))","v":27.452999999999999},1821.2945761847523,2203.7664371835499,{"$f":"U96/Q96","v":1821.2945761847523},{"$f":"V96/Q96","v":2203.7664371835499},{"$f":"VLOOKUP(AW96,'Cenové indexy '!$D$7:$E$200,2,FALSE)","v":99.5},{"$f":"W96/Y96*'Cenové indexy '!$E$149","v":1887.7397953963166},2265.2877544755797,2014,null,null,"2013-11-30","Nie","Áno / nie","Neurčené","Nie","24 mesiacov zadarmo, potom 8 rokov podľa zmluvy",null,null,null,"Zmluva 4_MS",null,null,null,null,null,{"$f":"VLOOKUP(M96,Adresy!$A$4:$C$156,2,FALSE)","v":" Znojmo"},{"$f":"VLOOKUP(M96,Adresy!$A$4:$C$156,3,FALSE)","v":"MUDr. Jana Janského 2675/11"},"M","2014M06",null,null,null,null,null,{"$f":"VLOOKUP(M96,Adresy!$A$3:$C$122,2,FALSE)","v":" Znojmo"},{"$f":"VLOOKUP(M96,Adresy!$A$3:$C$122,3,FALSE)","v":"MUDr. Jana Janského 2675/11"},0,0,0,0]
["SPECT/CT",null,"Predinštalačná príprava",null,null,null,"Siemens symbia Intevo Excel",null,null,"","položková cena (súčasť sumárnej ceny)","služby","Nemocnice Znojmo","ČR","EDOMED a.s.",null,1,540000,{"$f":"R97*1.21","v":653400},{"$f":"IF(N97=\"SR\",1,IF(AC97=\"\",VLOOKUP(AW97,'CZKEUR Xchange rate'!$D$13:$E$234,2,FALSE),VLOOKUP(AW97,'CZKEUR Xchange rate'!$A$13:$B$234,2,FALSE)))","v":27.452999999999999},19669.981422795325,23800.67752158234,19669.981422795325,23800.67752158234,{"$f":"VLOOKUP(AW97,'Cenové indexy '!$D$7:$E$200,2,FALSE)","v":99.5},{"$f":"W97/Y97*'Cenové indexy '!$E$149","v":20387.589790280217},24465.107748336261,2014,null,null,"2013-11-30","Nie","Áno / nie","Neurčené","Nie","24 mesiacov zadarmo, potom 8 rokov podľa zmluvy",null,null,null,"Zmluva 4_MS",null,null,null,null,null,{"$f":"VLOOKUP(M97,Adresy!$A$4:$C$156,2,FALSE)","v":" Znojmo"},{"$f":"VLOOKUP(M97,Adresy!$A$4:$C$156,3,FALSE)","v":"MUDr. Jana Janského 2675/11"},"M","2014M06",null,null,null,null,null,{"$f":"VLOOKUP(M97,Adresy!$A$3:$C$122,2,FALSE)","v":" Znojmo"},{"$f":"VLOOKUP(M97,Adresy!$A$3:$C$122,3,FALSE)","v":"MUDr. Jana Janského 2675/11"},0,0,0,0]
["SPECT/CT",null,"Montáž a napojenie do PACS a NUS",null,null,null,"Siemens symbia Intevo Excel",null,null,"","položková cena (súčasť sumárnej ceny)","služby","Nemocnice Znojmo","ČR","EDOMED a.s.",null,1,100000,{"$f":"R98*1.21","v":121000},{"$f":"IF(N98=\"SR\",1,IF(AC98=\"\",VLOOKUP(AW98,'CZKEUR Xchange rate'!$D$13:$E$234,2,FALSE),VLOOKUP(AW98,'CZKEUR Xchange rate'!$A$13:$B$234,2,FALSE)))","v":27.452999999999999},3642.5891523695045,4407.5328743670998,3642.5891523695045,4407.5328743670998,{"$f":"VLOOKUP(AW98,'Cenové indexy '!$D$7:$E$200,2,FALSE)","v":99.5},{"$f":"W98/Y98*'Cenové indexy '!$E$149","v":3775.4795907926332},4530.5755089511595,2014,null,null,"2013-11-30","Nie","Áno / nie","Neurčené","Nie","24 mesiacov zadarmo, potom 8 rokov podľa zmluvy",null,null,null,"Zmluva 4_MS",null,null,null,null,null,{"$f":"VLOOKUP(M98,Adresy!$A$4:$C$156,2,FALSE)","v":" Znojmo"},{"$f":"VLOOKUP(M98,Adresy!$A$4:$C$156,3,FALSE)","v":"MUDr. Jana Janského 2675/11"},"M","2014M06",null,null,null,null,null,{"$f":"VLOOKUP(M98,Adresy!$A$3:$C$122,2,FALSE)","v":" Znojmo"},{"$f":"VLOOKUP(M98,Adresy!$A$3:$C$122,3,FALSE)","v":"MUDr. Jana Janského 2675/11"},0,0,0,0]
["SPECT/CT",null,"Zaškolenie personálu a dodanie dokumentácie",null,null,null,"Siemens symbia Intevo Excel",null,null,"","položková cena (súčasť sumárnej ceny)","služby","Nemocnice Znojmo","ČR","EDOMED a.s.",null,1,50000,{"$f":"R99*1.21","v":60500},{"$f":"IF(N99=\"SR\",1,IF(AC99=\"\",VLOOKUP(AW99,'CZKEUR Xchange rate'!$D$13:$E$234,2,FALSE),VLOOKUP(AW99,'CZKEUR Xchange rate'!$A$13:$B$234,2,FALSE)))","v":27.452999999999999},1821.2945761847523,2203.7664371835499,1821.2945761847523,2203.7664371835499,{"$f":"VLOOKUP(AW99,'Cenové indexy '!$D$7:$E$200,2,FALSE)","v":99.5},{"$f":"W99/Y99*'Cenové indexy '!$E$149","v":1887.7397953963166},2265.2877544755797,2014,null,null,"2013-11-30","Nie","Áno / nie","Neurčené","Nie","24 mesiacov zadarmo, potom 8 rokov podľa zmluvy",null,null,null,"Zmluva 4_MS",null,null,null,null,null,{"$f":"VLOOKUP(M99,Adresy!$A$4:$C$156,2,FALSE)","v":" Znojmo"},{"$f":"VLOOKUP(M99,Adresy!$A$4:$C$156,3,FALSE)","v":"MUDr. Jana Janského 2675/11"},"M","2014M06",null,null,null,null,null,{"$f":"VLOOKUP(M99,Adresy!$A$3:$C$122,2,FALSE)","v":" Znojmo"},{"$f":"VLOOKUP(M99,Adresy!$A$3:$C$122,3,FALSE)","v":"MUDr. Jana Janského 2675/11"},0,0,0,0]
["SPECT/CT",null,"Skúška dlhodobej stability",null,null,null,"Siemens symbia Intevo Excel",null,null,"","položková cena (súčasť sumárnej ceny)","služby","Nemocnice Znojmo","ČR","EDOMED a.s.",null,1,40000,{"$f":"R100*1.21","v":48400},{"$f":"IF(N100=\"SR\",1,IF(AC100=\"\",VLOOKUP(AW100,'CZKEUR Xchange rate'!$D$13:$E$234,2,FALSE),VLOOKUP(AW100,'CZKEUR Xchange rate'!$A$13:$B$234,2,FALSE)))","v":27.452999999999999},1457.0356609478017,1763.0131497468401,1457.0356609478017,1763.0131497468401,{"$f":"VLOOKUP(AW100,'Cenové indexy '!$D$7:$E$200,2,FALSE)","v":99.5},{"$f":"W100/Y100*'Cenové indexy '!$E$149","v":1510.191836317053},1812.2302035804635,2014,null,null,"2013-11-30","Nie","Áno / nie","Neurčené","Nie","24 mesiacov zadarmo, potom 8 rokov podľa zmluvy",null,null,null,"Zmluva 4_MS",null,null,null,null,null,{"$f":"VLOOKUP(M100,Adresy!$A$4:$C$156,2,FALSE)","v":" Znojmo"},{"$f":"VLOOKUP(M100,Adresy!$A$4:$C$156,3,FALSE)","v":"MUDr. Jana Janského 2675/11"},"M","2014M06",null,null,null,null,null,{"$f":"VLOOKUP(M100,Adresy!$A$3:$C$122,2,FALSE)","v":" Znojmo"},{"$f":"VLOOKUP(M100,Adresy!$A$3:$C$122,3,FALSE)","v":"MUDr. Jana Janského 2675/11"},0,0,0,0]
["SPECT/CT",null,"Pozáručný servis  (8 rokov po záruke)",null,"8 rokov po záručnej dobe",null,"Siemens symbia Intevo Excel",null,null,"","sumárna cena","služby","Nemocnice Znojmo","ČR","EDOMED a.s.",null,1,7358000,8903180,{"$f":"IF(N101=\"SR\",1,IF(AC101=\"\",VLOOKUP(AW101,'CZKEUR Xchange rate'!$D$13:$E$234,2,FALSE),VLOOKUP(AW101,'CZKEUR Xchange rate'!$A$13:$B$234,2,FALSE)))","v":27.253},269988.62510549295,326686.23637764651,269988.62510549295,326686.23637764651,{"$f":"VLOOKUP(AW101,'Cenové indexy '!$D$7:$E$200,2,FALSE)","v":99.88},{"$f":"W101/Y101*'Cenové indexy '!$E$149","v":278773.79762844899},334528.55715413875,2015,null,null,"2014-11-30",null,null,null,"Nie","8 ročná zmluva",null,null,null,"Zmluva 6_MS",null,null,null,null,null,{"$f":"VLOOKUP(M101,Adresy!$A$4:$C$156,2,FALSE)","v":" Znojmo"},{"$f":"VLOOKUP(M101,Adresy!$A$4:$C$156,3,FALSE)","v":"MUDr. Jana Janského 2675/11"},"M","2015M06",null,null,null,null,null,{"$f":"VLOOKUP(M101,Adresy!$A$3:$C$122,2,FALSE)","v":" Znojmo"},{"$f":"VLOOKUP(M101,Adresy!$A$3:$C$122,3,FALSE)","v":"MUDr. Jana Janského 2675/11"},0,0,0,0]
["SPECT/CT",null,"Celá zostava",null,null,null,"PHILIPS BrightView XCT",null,null,"Philips","sumárna cena","HW/SW","Inštitút nukleárnej a molekulárnej medicíny","SR","S&T",null,1,574990,689988,{"$f":"IF(N102=\"SR\",1,IF(AC102=\"\",VLOOKUP(AW102,'CZKEUR Xchange rate'!$D$13:$E$234,2,FALSE),VLOOKUP(AW102,'CZKEUR Xchange rate'!$A$13:$B$234,2,FALSE)))","v":1},574990,689988,574990,689988,{"$f":"VLOOKUP(AW102,'Cenové indexy '!$D$7:$E$200,2,FALSE)","v":89.51},{"$f":"W102/Y102*'Cenové indexy '!$E$149","v":662481.49592224322},794977.79510669189,2011,null,null,"2010-11-30","Áno","Áno","Neurčené","Nie","24 mesiacov zadarmo, potom 6 rokov podľa zmluvy",null,null,null,"Zmluva 5_MS",null,null,null,null,null,{"$f":"VLOOKUP(M102,Adresy!$A$4:$C$156,2,FALSE)","v":"Košice"},{"$f":"VLOOKUP(M102,Adresy!$A$4:$C$156,3,FALSE)","v":"Rastislavova 785/43"},"M","2011M06",null,null,null,null,null,{"$f":"VLOOKUP(M102,Adresy!$A$3:$C$122,2,FALSE)","v":"Košice"},{"$f":"VLOOKUP(M102,Adresy!$A$3:$C$122,3,FALSE)","v":"Rastislavova 785/43"},0,0,0,0]
["SPECT/CT",null,"Detektory 3/8 s nízkym profilom",null,null,null,"PHILIPS BrightView XCT",null,null,"Philips","bez položkovej identifikácie ceny (v rámci sumárnej ceny)","HW","Inštitút nukleárnej a molekulárnej medicíny","SR","S&T",null,1,null,null,{"$f":"IF(N103=\"SR\",1,IF(AC103=\"\",VLOOKUP(AW103,'CZKEUR Xchange rate'!$D$13:$E$234,2,FALSE),VLOOKUP(AW103,'CZKEUR Xchange rate'!$A$13:$B$234,2,FALSE)))","v":1},0,0,null,null,{"$f":"VLOOKUP(AW103,'Cenové indexy '!$D$7:$E$200,2,FALSE)","v":89.51},{"$f":"W103/Y103*'Cenové indexy '!$E$149","v":0},0,2011,null,null,"2010-11-30","Áno","Áno","Neurčené","Nie","24 mesiacov zadarmo, potom 6 rokov podľa zmluvy",null,null,null,"Zmluva 5_MS",null,null,null,null,null,{"$f":"VLOOKUP(M103,Adresy!$A$4:$C$156,2,FALSE)","v":"Košice"},{"$f":"VLOOKUP(M103,Adresy!$A$4:$C$156,3,FALSE)","v":"Rastislavova 785/43"},"M","2011M06",null,null,null,null,null,{"$f":"VLOOKUP(M103,Adresy!$A$3:$C$122,2,FALSE)","v":"Košice"},{"$f":"VLOOKUP(M103,Adresy!$A$3:$C$122,3,FALSE)","v":"Rastislavova 785/43"},0,0,0,0]
["SPECT/CT",null,"Kolimátor pre nízke energie, vysoké rozlíšenie",null,null,null,"PHILIPS BrightView XCT",null,null,"Philips","bez položkovej identifikácie ceny (v rámci sumárnej ceny)","HW","Inštitút nukleárnej a molekulárnej medicíny","SR","S&T",null,1,null,null,{"$f":"IF(N104=\"SR\",1,IF(AC104=\"\",VLOOKUP(AW104,'CZKEUR Xchange rate'!$D$13:$E$234,2,FALSE),VLOOKUP(AW104,'CZKEUR Xchange rate'!$A$13:$B$234,2,FALSE)))","v":1},0,0,null,null,{"$f":"VLOOKUP(AW104,'Cenové indexy '!$D$7:$E$200,2,FALSE)","v":89.51},{"$f":"W104/Y104*'Cenové indexy '!$E$149","v":0},0,2011,null,null,"2010-11-30","Áno","Áno","Neurčené","Nie","24 mesiacov zadarmo, potom 6 rokov podľa zmluvy",null,null,null,"Zmluva 5_MS",null,null,null,null,null,{"$f":"VLOOKUP(M104,Adresy!$A$4:$C$156,2,FALSE)","v":"Košice"},{"$f":"VLOOKUP(M104,Adresy!$A$4:$C$156,3,FALSE)","v":"Rastislavova 785/43"},"M","2011M06",null,null,null,null,null,{"$f":"VLOOKUP(M104,Adresy!$A$3:$C$122,2,FALSE)","v":"Košice"},{"$f":"VLOOKUP(M104,Adresy!$A$3:$C$122,3,FALSE)","v":"Rastislavova 785/43"},0,0,0,0]
["SPECT/CT",null,"Kolimátor pre stredné energie",null,null,null,"PHILIPS BrightView XCT",null,null,"Philips","bez položkovej identifikácie ceny (v rámci sumárnej ceny)","HW","Inštitút nukleárnej a molekulárnej medicíny","SR","S&T",null,1,null,null,{"$f":"IF(N105=\"SR\",1,IF(AC105=\"\",VLOOKUP(AW105,'CZKEUR Xchange rate'!$D$13:$E$234,2,FALSE),VLOOKUP(AW105,'CZKEUR Xchange rate'!$A$13:$B$234,2,FALSE)))","v":1},{"$f":"R105/T105","v":0},{"$f":"S105/T105","v":0},null,null,{"$f":"VLOOKUP(AW105,'Cenové indexy '!$D$7:$E$200,2,FALSE)","v":89.51},{"$f":"W105/Y105*'Cenové indexy '!$E$149","v":0},0,2011,null,null,"2010-11-30","Áno","Áno","Neurčené","Nie","24 mesiacov zadarmo, potom 6 rokov podľa zmluvy",null,null,null,"Zmluva 5_MS",null,null,null,null,null,{"$f":"VLOOKUP(M105,Adresy!$A$4:$C$156,2,FALSE)","v":"Košice"},{"$f":"VLOOKUP(M105,Adresy!$A$4:$C$156,3,FALSE)","v":"Rastislavova 785/43"},"M","2011M06",null,null,null,null,null,{"$f":"VLOOKUP(M105,Adresy!$A$3:$C$122,2,FALSE)","v":"Košice"},{"$f":"VLOOKUP(M105,Adresy!$A$3:$C$122,3,FALSE)","v":"Rastislavova 785/43"},0,0,0,0]
["SPECT/CT",null,"Počítačový systém pre akvizíciu",null,null,null,"PHILIPS BrightView XCT",null,null,"Philips","bez položkovej identifikácie ceny (v rámci sumárnej ceny)","HW/SW","Inštitút nukleárnej a molekulárnej medicíny","SR","S&T",null,1,null,null,{"$f":"IF(N106=\"SR\",1,IF(AC106=\"\",VLOOKUP(AW106,'CZKEUR Xchange rate'!$D$13:$E$234,2,FALSE),VLOOKUP(AW106,'CZKEUR Xchange rate'!$A$13:$B$234,2,FALSE)))","v":1},0,0,null,null,{"$f":"VLOOKUP(AW106,'Cenové indexy '!$D$7:$E$200,2,FALSE)","v":89.51},{"$f":"W106/Y106*'Cenové indexy '!$E$149","v":0},0,2011,null,null,"2010-11-30","Áno","Áno","Neurčené","Nie","24 mesiacov zadarmo, potom 6 rokov podľa zmluvy",null,null,null,"Zmluva 5_MS",null,null,null,null,null,{"$f":"VLOOKUP(M106,Adresy!$A$4:$C$156,2,FALSE)","v":"Košice"},{"$f":"VLOOKUP(M106,Adresy!$A$4:$C$156,3,FALSE)","v":"Rastislavova 785/43"},"M","2011M06",null,null,null,null,null,{"$f":"VLOOKUP(M106,Adresy!$A$3:$C$122,2,FALSE)","v":"Košice"},{"$f":"VLOOKUP(M106,Adresy!$A$3:$C$122,3,FALSE)","v":"Rastislavova 785/43"},0,0,0,0]
["SPECT/CT",null,"Počítačový systém pre spracovanie údajov",null,null,null,"PHILIPS BrightView XCT",null,null,"Philips","bez položkovej identifikácie ceny (v rámci sumárnej ceny)","SW","Inštitút nukleárnej a molekulárnej medicíny","SR","S&T",null,2,null,null,{"$f":"IF(N107=\"SR\",1,IF(AC107=\"\",VLOOKUP(AW107,'CZKEUR Xchange rate'!$D$13:$E$234,2,FALSE),VLOOKUP(AW107,'CZKEUR Xchange rate'!$A$13:$B$234,2,FALSE)))","v":1},0,0,null,null,{"$f":"VLOOKUP(AW107,'Cenové indexy '!$D$7:$E$200,2,FALSE)","v":89.51},{"$f":"W107/Y107*'Cenové indexy '!$E$149","v":0},0,2011,null,null,"2010-11-30","Áno","Áno","Neurčené","Nie","24 mesiacov zadarmo, potom 6 rokov podľa zmluvy",null,null,null,"Zmluva 5_MS",null,null,null,null,null,{"$f":"VLOOKUP(M107,Adresy!$A$4:$C$156,2,FALSE)","v":"Košice"},{"$f":"VLOOKUP(M107,Adresy!$A$4:$C$156,3,FALSE)","v":"Rastislavova 785/43"},"M","2011M06",null,null,null,null,null,{"$f":"VLOOKUP(M107,Adresy!$A$3:$C$122,2,FALSE)","v":"Košice"},{"$f":"VLOOKUP(M107,Adresy!$A$3:$C$122,3,FALSE)","v":"Rastislavova 785/43"},0,0,0,0]
["SPECT/CT",null,"Software (cardio, neuro)",null,null,null,"PHILIPS BrightView XCT",null,null,"Philips","bez položkovej identifikácie ceny (v rámci sumárnej ceny)","SW","Inštitút nukleárnej a molekulárnej medicíny","SR","S&T",null,1,null,null,{"$f":"IF(N108=\"SR\",1,IF(AC108=\"\",VLOOKUP(AW108,'CZKEUR Xchange rate'!$D$13:$E$234,2,FALSE),VLOOKUP(AW108,'CZKEUR Xchange rate'!$A$13:$B$234,2,FALSE)))","v":1},0,0,null,null,{"$f":"VLOOKUP(AW108,'Cenové indexy '!$D$7:$E$200,2,FALSE)","v":89.51},{"$f":"W108/Y108*'Cenové indexy '!$E$149","v":0},0,2011,null,null,"2010-11-30","Áno","Áno","Neurčené","Nie","24 mesiacov zadarmo, potom 6 rokov podľa zmluvy",null,null,null,"Zmluva 5_MS",null,null,null,null,null,{"$f":"VLOOKUP(M108,Adresy!$A$4:$C$156,2,FALSE)","v":"Košice"},{"$f":"VLOOKUP(M108,Adresy!$A$4:$C$156,3,FALSE)","v":"Rastislavova 785/43"},"M","2011M06",null,null,null,null,null,{"$f":"VLOOKUP(M108,Adresy!$A$3:$C$122,2,FALSE)","v":"Košice"},{"$f":"VLOOKUP(M108,Adresy!$A$3:$C$122,3,FALSE)","v":"Rastislavova 785/43"},0,0,0,0]
["SPECT/CT",null,"Pozáručný servis  (6 rokov po záruke)",null,"6 rokov po záručnej dobe",null,"PHILIPS BrightView XCT",null,null,"Philips","položková cena (súčasť sumárnej ceny)","služby","Inštitút nukleárnej a molekulárnej medicíny","SR","S&T",null,1,194580,233496,{"$f":"IF(N109=\"SR\",1,IF(AC109=\"\",VLOOKUP(AW109,'CZKEUR Xchange rate'!$D$13:$E$234,2,FALSE),VLOOKUP(AW109,'CZKEUR Xchange rate'!$A$13:$B$234,2,FALSE)))","v":1},194580,233496,{"$f":"U109/Q109","v":194580},{"$f":"V109/Q109","v":233496},{"$f":"VLOOKUP(AW109,'Cenové indexy '!$D$7:$E$200,2,FALSE)","v":89.51},{"$f":"W109/Y109*'Cenové indexy '!$E$149","v":224187.63713551557},269025.16456261865,2011,null,null,"2010-11-30",null,null,null,"Nie","6 ročná zmluva",null,null,null,"Zmluva 5_MS",null,null,null,null,null,{"$f":"VLOOKUP(M109,Adresy!$A$4:$C$156,2,FALSE)","v":"Košice"},{"$f":"VLOOKUP(M109,Adresy!$A$4:$C$156,3,FALSE)","v":"Rastislavova 785/43"},"M","2011M06",null,null,null,null,null,{"$f":"VLOOKUP(M109,Adresy!$A$3:$C$122,2,FALSE)","v":"Košice"},{"$f":"VLOOKUP(M109,Adresy!$A$3:$C$122,3,FALSE)","v":"Rastislavova 785/43"},0,0,0,0]
["kamera SPECT",null,"Celá zostava",null,null,null,"Siemens Symbia S",null,null,"","sumárna cena","HW/SW","Fakultní nemocnice v Motole","ČR","Siemens Healthcare s.r.o.",null,1,6400000,7744000,{"$f":"IF(N110=\"SR\",1,IF(AC110=\"\",VLOOKUP(AW110,'CZKEUR Xchange rate'!$D$13:$E$234,2,FALSE),VLOOKUP(AW110,'CZKEUR Xchange rate'!$A$13:$B$234,2,FALSE)))","v":27.452999999999999},233125.70575164829,282082.10395949439,{"$f":"U110/Q110","v":233125.70575164829},{"$f":"V110/Q110","v":282082.10395949439},{"$f":"VLOOKUP(AW110,'Cenové indexy '!$D$7:$E$200,2,FALSE)","v":99.5},{"$f":"W110/Y110*'Cenové indexy '!$E$149","v":241630.69381072852},289956.83257287421,2014,null,null,"2013-11-30","Áno","Áno","ERDF","Nie","24 mesiacov zadarmo",null,null,null,"Zmluva 1_DG",null,null,null,null,null,{"$f":"VLOOKUP(M110,Adresy!$A$4:$C$156,2,FALSE)","v":"Praha"},{"$f":"VLOOKUP(M110,Adresy!$A$4:$C$156,3,FALSE)","v":"V úvalu 84"},"M","2014M06",null,null,null,null,null,{"$f":"VLOOKUP(M110,Adresy!$A$3:$C$122,2,FALSE)","v":"Praha"},{"$f":"VLOOKUP(M110,Adresy!$A$3:$C$122,3,FALSE)","v":"V úvalu 84"},0,0,0,0]
["kamera SPECT",null,"Symbia S Series",null,null,null,"Siemens Symbia S",null,null,"","bez položkovej identifikácie ceny (v rámci sumárnej ceny)","HW","Fakultní nemocnice v Motole","ČR","Siemens Healthcare s.r.o.",null,1,null,null,{"$f":"IF(N111=\"SR\",1,IF(AC111=\"\",VLOOKUP(AW111,'CZKEUR Xchange rate'!$D$13:$E$234,2,FALSE),VLOOKUP(AW111,'CZKEUR Xchange rate'!$A$13:$B$234,2,FALSE)))","v":27.452999999999999},0,0,null,null,{"$f":"VLOOKUP(AW111,'Cenové indexy '!$D$7:$E$200,2,FALSE)","v":99.5},{"$f":"W111/Y111*'Cenové indexy '!$E$149","v":0},0,2014,null,null,"2013-11-30","Áno","Áno","ERDF","Nie","24 mesiacov zadarmo",null,null,null,"Zmluva 1_DG",null,null,null,null,null,{"$f":"VLOOKUP(M111,Adresy!$A$4:$C$156,2,FALSE)","v":"Praha"},{"$f":"VLOOKUP(M111,Adresy!$A$4:$C$156,3,FALSE)","v":"V úvalu 84"},"M","2014M06",null,null,null,null,null,{"$f":"VLOOKUP(M111,Adresy!$A$3:$C$122,2,FALSE)","v":"Praha"},{"$f":"VLOOKUP(M111,Adresy!$A$3:$C$122,3,FALSE)","v":"V úvalu 84"},0,0,0,0]
["kamera SPECT",null,"Symbia S",null,null,null,"Siemens Symbia S",null,null,"","bez položkovej identifikácie ceny (v rámci sumárnej ceny)","HW","Fakultní nemocnice v Motole","ČR","Siemens Healthcare s.r.o.",null,1,null,null,{"$f":"IF(N112=\"SR\",1,IF(AC112=\"\",VLOOKUP(AW112,'CZKEUR Xchange rate'!$D$13:$E$234,2,FALSE),VLOOKUP(AW112,'CZKEUR Xchange rate'!$A$13:$B$234,2,FALSE)))","v":27.452999999999999},0,0,null,null,{"$f":"VLOOKUP(AW112,'Cenové indexy '!$D$7:$E$200,2,FALSE)","v":99.5},{"$f":"W112/Y112*'Cenové indexy '!$E$149","v":0},0,2014,null,null,"2013-11-30","Áno","Áno","ERDF","Nie","24 mesiacov zadarmo",null,null,null,"Zmluva 1_DG",null,null,null,null,null,{"$f":"VLOOKUP(M112,Adresy!$A$4:$C$156,2,FALSE)","v":"Praha"},{"$f":"VLOOKUP(M112,Adresy!$A$4:$C$156,3,FALSE)","v":"V úvalu 84"},"M","2014M06",null,null,null,null,null,{"$f":"VLOOKUP(M112,Adresy!$A$3:$C$122,2,FALSE)","v":"Praha"},{"$f":"VLOOKUP(M112,Adresy!$A$3:$C$122,3,FALSE)","v":"V úvalu 84"},0,0,0,0]
["kamera SPECT",null,"Detektor 5/8",null,null,null,"Siemens Symbia S",null,null,"","bez položkovej identifikácie ceny (v rámci sumárnej ceny)","HW","Fakultní nemocnice v Motole","ČR","Siemens Healthcare s.r.o.",null,2,null,null,{"$f":"IF(N113=\"SR\",1,IF(AC113=\"\",VLOOKUP(AW113,'CZKEUR Xchange rate'!$D$13:$E$234,2,FALSE),VLOOKUP(AW113,'CZKEUR Xchange rate'!$A$13:$B$234,2,FALSE)))","v":27.452999999999999},0,0,null,null,{"$f":"VLOOKUP(AW113,'Cenové indexy '!$D$7:$E$200,2,FALSE)","v":99.5},{"$f":"W113/Y113*'Cenové indexy '!$E$149","v":0},0,2014,null,null,"2013-11-30","Áno","Áno","ERDF","Nie","24 mesiacov zadarmo",null,null,null,"Zmluva 1_DG",null,null,null,null,null,{"$f":"VLOOKUP(M113,Adresy!$A$4:$C$156,2,FALSE)","v":"Praha"},{"$f":"VLOOKUP(M113,Adresy!$A$4:$C$156,3,FALSE)","v":"V úvalu 84"},"M","2014M06",null,null,null,null,null,{"$f":"VLOOKUP(M113,Adresy!$A$3:$C$122,2,FALSE)","v":"Praha"},{"$f":"VLOOKUP(M113,Adresy!$A$3:$C$122,3,FALSE)","v":"V úvalu 84"},0,0,0,0]
["kamera SPECT",null,"Držiak detektoru s kaudálnym naklápaním",null,null,null,"Siemens Symbia S",null,null,"","bez položkovej identifikácie ceny (v rámci sumárnej ceny)","HW","Fakultní nemocnice v Motole","ČR","Siemens Healthcare s.r.o.",null,1,null,null,{"$f":"IF(N114=\"SR\",1,IF(AC114=\"\",VLOOKUP(AW114,'CZKEUR Xchange rate'!$D$13:$E$234,2,FALSE),VLOOKUP(AW114,'CZKEUR Xchange rate'!$A$13:$B$234,2,FALSE)))","v":27.452999999999999},0,0,null,null,{"$f":"VLOOKUP(AW114,'Cenové indexy '!$D$7:$E$200,2,FALSE)","v":99.5},{"$f":"W114/Y114*'Cenové indexy '!$E$149","v":0},0,2014,null,null,"2013-11-30","Áno","Áno","ERDF","Nie","24 mesiacov zadarmo",null,null,null,"Zmluva 1_DG",null,null,null,null,null,{"$f":"VLOOKUP(M114,Adresy!$A$4:$C$156,2,FALSE)","v":"Praha"},{"$f":"VLOOKUP(M114,Adresy!$A$4:$C$156,3,FALSE)","v":"V úvalu 84"},"M","2014M06",null,null,null,null,null,{"$f":"VLOOKUP(M114,Adresy!$A$3:$C$122,2,FALSE)","v":"Praha"},{"$f":"VLOOKUP(M114,Adresy!$A$3:$C$122,3,FALSE)","v":"V úvalu 84"},0,0,0,0]
["kamera SPECT",null,"Kolimátor pre nízke energie, vysoké rozlíšenie",null,null,null,"Siemens Symbia S",null,null,"","bez položkovej identifikácie ceny (v rámci sumárnej ceny)","HW","Fakultní nemocnice v Motole","ČR","Siemens Healthcare s.r.o.",null,2,null,null,{"$f":"IF(N115=\"SR\",1,IF(AC115=\"\",VLOOKUP(AW115,'CZKEUR Xchange rate'!$D$13:$E$234,2,FALSE),VLOOKUP(AW115,'CZKEUR Xchange rate'!$A$13:$B$234,2,FALSE)))","v":27.452999999999999},0,0,null,null,{"$f":"VLOOKUP(AW115,'Cenové indexy '!$D$7:$E$200,2,FALSE)","v":99.5},{"$f":"W115/Y115*'Cenové indexy '!$E$149","v":0},0,2014,null,null,"2013-11-30","Áno","Áno","ERDF","Nie","24 mesiacov zadarmo",null,null,null,"Zmluva 1_DG",null,null,null,null,null,{"$f":"VLOOKUP(M115,Adresy!$A$4:$C$156,2,FALSE)","v":"Praha"},{"$f":"VLOOKUP(M115,Adresy!$A$4:$C$156,3,FALSE)","v":"V úvalu 84"},"M","2014M06",null,null,null,null,null,{"$f":"VLOOKUP(M115,Adresy!$A$3:$C$122,2,FALSE)","v":"Praha"},{"$f":"VLOOKUP(M115,Adresy!$A$3:$C$122,3,FALSE)","v":"V úvalu 84"},0,0,0,0]
["kamera SPECT",null,"Kolimátor pre vysoké energie",null,null,null,"Siemens Symbia S",null,null,"","bez položkovej identifikácie ceny (v rámci sumárnej ceny)","HW","Fakultní nemocnice v Motole","ČR","Siemens Healthcare s.r.o.",null,2,null,null,{"$f":"IF(N116=\"SR\",1,IF(AC116=\"\",VLOOKUP(AW116,'CZKEUR Xchange rate'!$D$13:$E$234,2,FALSE),VLOOKUP(AW116,'CZKEUR Xchange rate'!$A$13:$B$234,2,FALSE)))","v":27.452999999999999},0,0,null,null,{"$f":"VLOOKUP(AW116,'Cenové indexy '!$D$7:$E$200,2,FALSE)","v":99.5},{"$f":"W116/Y116*'Cenové indexy '!$E$149","v":0},0,2014,null,null,"2013-11-30","Áno","Áno","ERDF","Nie","24 mesiacov zadarmo",null,null,null,"Zmluva 1_DG",null,null,null,null,null,{"$f":"VLOOKUP(M116,Adresy!$A$4:$C$156,2,FALSE)","v":"Praha"},{"$f":"VLOOKUP(M116,Adresy!$A$4:$C$156,3,FALSE)","v":"V úvalu 84"},"M","2014M06",null,null,null,null,null,{"$f":"VLOOKUP(M116,Adresy!$A$3:$C$122,2,FALSE)","v":"Praha"},{"$f":"VLOOKUP(M116,Adresy!$A$3:$C$122,3,FALSE)","v":"V úvalu 84"},0,0,0,0]
["kamera SPECT",null,"Interný EKG pre systém Symbia",null,null,null,"Siemens Symbia S",null,null,"","bez položkovej identifikácie ceny (v rámci sumárnej ceny)","HW","Fakultní nemocnice v Motole","ČR","Siemens Healthcare s.r.o.",null,1,null,null,{"$f":"IF(N117=\"SR\",1,IF(AC117=\"\",VLOOKUP(AW117,'CZKEUR Xchange rate'!$D$13:$E$234,2,FALSE),VLOOKUP(AW117,'CZKEUR Xchange rate'!$A$13:$B$234,2,FALSE)))","v":27.452999999999999},0,0,null,null,{"$f":"VLOOKUP(AW117,'Cenové indexy '!$D$7:$E$200,2,FALSE)","v":99.5},{"$f":"W117/Y117*'Cenové indexy '!$E$149","v":0},0,2014,null,null,"2013-11-30","Áno","Áno","ERDF","Nie","24 mesiacov zadarmo",null,null,null,"Zmluva 1_DG",null,null,null,null,null,{"$f":"VLOOKUP(M117,Adresy!$A$4:$C$156,2,FALSE)","v":"Praha"},{"$f":"VLOOKUP(M117,Adresy!$A$4:$C$156,3,FALSE)","v":"V úvalu 84"},"M","2014M06",null,null,null,null,null,{"$f":"VLOOKUP(M117,Adresy!$A$3:$C$122,2,FALSE)","v":"Praha"},{"$f":"VLOOKUP(M117,Adresy!$A$3:$C$122,3,FALSE)","v":"V úvalu 84"},0,0,0,0]
["kamera SPECT",null,"Monitor LCD 19",null,null,null,"Siemens Symbia S",null,null,"","bez položkovej identifikácie ceny (v rámci sumárnej ceny)","HW","Fakultní nemocnice v Motole","ČR","Siemens Healthcare s.r.o.",null,1,null,null,{"$f":"IF(N118=\"SR\",1,IF(AC118=\"\",VLOOKUP(AW118,'CZKEUR Xchange rate'!$D$13:$E$234,2,FALSE),VLOOKUP(AW118,'CZKEUR Xchange rate'!$A$13:$B$234,2,FALSE)))","v":27.452999999999999},0,0,null,null,{"$f":"VLOOKUP(AW118,'Cenové indexy '!$D$7:$E$200,2,FALSE)","v":99.5},{"$f":"W118/Y118*'Cenové indexy '!$E$149","v":0},0,2014,null,null,"2013-11-30","Áno","Áno","ERDF","Nie","24 mesiacov zadarmo",null,null,null,"Zmluva 1_DG",null,null,null,null,null,{"$f":"VLOOKUP(M118,Adresy!$A$4:$C$156,2,FALSE)","v":"Praha"},{"$f":"VLOOKUP(M118,Adresy!$A$4:$C$156,3,FALSE)","v":"V úvalu 84"},"M","2014M06",null,null,null,null,null,{"$f":"VLOOKUP(M118,Adresy!$A$3:$C$122,2,FALSE)","v":"Praha"},{"$f":"VLOOKUP(M118,Adresy!$A$3:$C$122,3,FALSE)","v":"V úvalu 84"},0,0,0,0]
["kamera SPECT",null,"Služby diaľkovej diagnostiky",null,null,null,"Siemens Symbia S",null,null,"","bez položkovej identifikácie ceny (v rámci sumárnej ceny)","SW","Fakultní nemocnice v Motole","ČR","Siemens Healthcare s.r.o.",null,1,null,null,{"$f":"IF(N119=\"SR\",1,IF(AC119=\"\",VLOOKUP(AW119,'CZKEUR Xchange rate'!$D$13:$E$234,2,FALSE),VLOOKUP(AW119,'CZKEUR Xchange rate'!$A$13:$B$234,2,FALSE)))","v":27.452999999999999},0,0,null,null,{"$f":"VLOOKUP(AW119,'Cenové indexy '!$D$7:$E$200,2,FALSE)","v":99.5},{"$f":"W119/Y119*'Cenové indexy '!$E$149","v":0},0,2014,null,null,"2013-11-30","Áno","Áno","ERDF","Nie","24 mesiacov zadarmo",null,null,null,"Zmluva 1_DG",null,null,null,null,null,{"$f":"VLOOKUP(M119,Adresy!$A$4:$C$156,2,FALSE)","v":"Praha"},{"$f":"VLOOKUP(M119,Adresy!$A$4:$C$156,3,FALSE)","v":"V úvalu 84"},"M","2014M06",null,null,null,null,null,{"$f":"VLOOKUP(M119,Adresy!$A$3:$C$122,2,FALSE)","v":"Praha"},{"$f":"VLOOKUP(M119,Adresy!$A$3:$C$122,3,FALSE)","v":"V úvalu 84"},0,0,0,0]
["kamera SPECT",null,"Vozík pre kolimátor",null,null,null,"Siemens Symbia S",null,null,"","bez položkovej identifikácie ceny (v rámci sumárnej ceny)","HW","Fakultní nemocnice v Motole","ČR","Siemens Healthcare s.r.o.",null,1,null,null,{"$f":"IF(N120=\"SR\",1,IF(AC120=\"\",VLOOKUP(AW120,'CZKEUR Xchange rate'!$D$13:$E$234,2,FALSE),VLOOKUP(AW120,'CZKEUR Xchange rate'!$A$13:$B$234,2,FALSE)))","v":27.452999999999999},0,0,null,null,{"$f":"VLOOKUP(AW120,'Cenové indexy '!$D$7:$E$200,2,FALSE)","v":99.5},{"$f":"W120/Y120*'Cenové indexy '!$E$149","v":0},0,2014,null,null,"2013-11-30","Áno","Áno","ERDF","Nie","24 mesiacov zadarmo",null,null,null,"Zmluva 1_DG",null,null,null,null,null,{"$f":"VLOOKUP(M120,Adresy!$A$4:$C$156,2,FALSE)","v":"Praha"},{"$f":"VLOOKUP(M120,Adresy!$A$4:$C$156,3,FALSE)","v":"V úvalu 84"},"M","2014M06",null,null,null,null,null,{"$f":"VLOOKUP(M120,Adresy!$A$3:$C$122,2,FALSE)","v":"Praha"},{"$f":"VLOOKUP(M120,Adresy!$A$3:$C$122,3,FALSE)","v":"V úvalu 84"},0,0,0,0]
["kamera SPECT",null,"Symbia.net",null,null,null,"Siemens Symbia S",null,null,"","bez položkovej identifikácie ceny (v rámci sumárnej ceny)","SW","Fakultní nemocnice v Motole","ČR","Siemens Healthcare s.r.o.",null,1,null,null,{"$f":"IF(N121=\"SR\",1,IF(AC121=\"\",VLOOKUP(AW121,'CZKEUR Xchange rate'!$D$13:$E$234,2,FALSE),VLOOKUP(AW121,'CZKEUR Xchange rate'!$A$13:$B$234,2,FALSE)))","v":27.452999999999999},0,0,null,null,{"$f":"VLOOKUP(AW121,'Cenové indexy '!$D$7:$E$200,2,FALSE)","v":99.5},{"$f":"W121/Y121*'Cenové indexy '!$E$149","v":0},0,2014,null,null,"2013-11-30","Áno","Áno","ERDF","Nie","24 mesiacov zadarmo",null,null,null,"Zmluva 1_DG",null,null,null,null,null,{"$f":"VLOOKUP(M121,Adresy!$A$4:$C$156,2,FALSE)","v":"Praha"},{"$f":"VLOOKUP(M121,Adresy!$A$4:$C$156,3,FALSE)","v":"V úvalu 84"},"M","2014M06",null,null,null,null,null,{"$f":"VLOOKUP(M121,Adresy!$A$3:$C$122,2,FALSE)","v":"Praha"},{"$f":"VLOOKUP(M121,Adresy!$A$3:$C$122,3,FALSE)","v":"V úvalu 84"},0,0,0,0]
["kamera SPECT",null,"Monitor LCD 19",null,null,null,"Siemens Symbia S",null,null,"","bez položkovej identifikácie ceny (v rámci sumárnej ceny)","HW","Fakultní nemocnice v Motole","ČR","Siemens Healthcare s.r.o.",null,2,null,null,{"$f":"IF(N122=\"SR\",1,IF(AC122=\"\",VLOOKUP(AW122,'CZKEUR Xchange rate'!$D$13:$E$234,2,FALSE),VLOOKUP(AW122,'CZKEUR Xchange rate'!$A$13:$B$234,2,FALSE)))","v":27.452999999999999},0,0,null,null,{"$f":"VLOOKUP(AW122,'Cenové indexy '!$D$7:$E$200,2,FALSE)","v":99.5},{"$f":"W122/Y122*'Cenové indexy '!$E$149","v":0},0,2014,null,null,"2013-11-30","Áno","Áno","ERDF","Nie","24 mesiacov zadarmo",null,null,null,"Zmluva 1_DG",null,null,null,null,null,{"$f":"VLOOKUP(M122,Adresy!$A$4:$C$156,2,FALSE)","v":"Praha"},{"$f":"VLOOKUP(M122,Adresy!$A$4:$C$156,3,FALSE)","v":"V úvalu 84"},"M","2014M06",null,null,null,null,null,{"$f":"VLOOKUP(M122,Adresy!$A$3:$C$122,2,FALSE)","v":"Praha"},{"$f":"VLOOKUP(M122,Adresy!$A$3:$C$122,3,FALSE)","v":"V úvalu 84"},0,0,0,0]
["kamera SPECT",null,"Engine pre onkológiu",null,null,null,"Siemens Symbia S",null,null,"","bez položkovej identifikácie ceny (v rámci sumárnej ceny)","SW","Fakultní nemocnice v Motole","ČR","Siemens Healthcare s.r.o.",null,1,null,null,{"$f":"IF(N123=\"SR\",1,IF(AC123=\"\",VLOOKUP(AW123,'CZKEUR Xchange rate'!$D$13:$E$234,2,FALSE),VLOOKUP(AW123,'CZKEUR Xchange rate'!$A$13:$B$234,2,FALSE)))","v":27.452999999999999},0,0,null,null,{"$f":"VLOOKUP(AW123,'Cenové indexy '!$D$7:$E$200,2,FALSE)","v":99.5},{"$f":"W123/Y123*'Cenové indexy '!$E$149","v":0},0,2014,null,null,"2013-11-30","Áno","Áno","ERDF","Nie","24 mesiacov zadarmo",null,null,null,"Zmluva 1_DG",null,null,null,null,null,{"$f":"VLOOKUP(M123,Adresy!$A$4:$C$156,2,FALSE)","v":"Praha"},{"$f":"VLOOKUP(M123,Adresy!$A$4:$C$156,3,FALSE)","v":"V úvalu 84"},"M","2014M06",null,null,null,null,null,{"$f":"VLOOKUP(M123,Adresy!$A$3:$C$122,2,FALSE)","v":"Praha"},{"$f":"VLOOKUP(M123,Adresy!$A$3:$C$122,3,FALSE)","v":"V úvalu 84"},0,0,0,0]
["kamera SPECT",null,"Spracovanie zamerané na určitý orgán",null,null,null,"Siemens Symbia S",null,null,"","bez položkovej identifikácie ceny (v rámci sumárnej ceny)","SW","Fakultní nemocnice v Motole","ČR","Siemens Healthcare s.r.o.",null,1,null,null,{"$f":"IF(N124=\"SR\",1,IF(AC124=\"\",VLOOKUP(AW124,'CZKEUR Xchange rate'!$D$13:$E$234,2,FALSE),VLOOKUP(AW124,'CZKEUR Xchange rate'!$A$13:$B$234,2,FALSE)))","v":27.452999999999999},0,0,null,null,{"$f":"VLOOKUP(AW124,'Cenové indexy '!$D$7:$E$200,2,FALSE)","v":99.5},{"$f":"W124/Y124*'Cenové indexy '!$E$149","v":0},0,2014,null,null,"2013-11-30","Áno","Áno","ERDF","Nie","24 mesiacov zadarmo",null,null,null,"Zmluva 1_DG",null,null,null,null,null,{"$f":"VLOOKUP(M124,Adresy!$A$4:$C$156,2,FALSE)","v":"Praha"},{"$f":"VLOOKUP(M124,Adresy!$A$4:$C$156,3,FALSE)","v":"V úvalu 84"},"M","2014M06",null,null,null,null,null,{"$f":"VLOOKUP(M124,Adresy!$A$3:$C$122,2,FALSE)","v":"Praha"},{"$f":"VLOOKUP(M124,Adresy!$A$3:$C$122,3,FALSE)","v":"V úvalu 84"},0,0,0,0]
["kamera SPECT",null,"Kvadrantový barfantom",null,null,null,"Siemens Symbia S",null,null,"","bez položkovej identifikácie ceny (v rámci sumárnej ceny)","HW","Fakultní nemocnice v Motole","ČR","Siemens Healthcare s.r.o.",null,1,null,null,{"$f":"IF(N125=\"SR\",1,IF(AC125=\"\",VLOOKUP(AW125,'CZKEUR Xchange rate'!$D$13:$E$234,2,FALSE),VLOOKUP(AW125,'CZKEUR Xchange rate'!$A$13:$B$234,2,FALSE)))","v":27.452999999999999},0,0,null,null,{"$f":"VLOOKUP(AW125,'Cenové indexy '!$D$7:$E$200,2,FALSE)","v":99.5},{"$f":"W125/Y125*'Cenové indexy '!$E$149","v":0},0,2014,null,null,"2013-11-30","Áno","Áno","ERDF","Nie","24 mesiacov zadarmo",null,null,null,"Zmluva 1_DG",null,null,null,null,null,{"$f":"VLOOKUP(M125,Adresy!$A$4:$C$156,2,FALSE)","v":"Praha"},{"$f":"VLOOKUP(M125,Adresy!$A$4:$C$156,3,FALSE)","v":"V úvalu 84"},"M","2014M06",null,null,null,null,null,{"$f":"VLOOKUP(M125,Adresy!$A$3:$C$122,2,FALSE)","v":"Praha"},{"$f":"VLOOKUP(M125,Adresy!$A$3:$C$122,3,FALSE)","v":"V úvalu 84"},0,0,0,0]
["SPECT/CT",null,"Celá zostava",null,null,null,null,"Siemens symbia Intevo Excel",null,"","sumárna cena","HW/SW","Fakultní nemocnice Brno","ČR","Siemens Healthcare s.r.o.",null,1,10750000,13007500,{"$f":"IF(N126=\"SR\",1,IF(AC126=\"\",VLOOKUP(AW126,'CZKEUR Xchange rate'!$D$13:$E$234,2,FALSE),VLOOKUP(AW126,'CZKEUR Xchange rate'!$A$13:$B$234,2,FALSE)))","v":27.452999999999999},391578.3338797217,473809.78399446327,{"$f":"U126/Q126","v":391578.3338797217},{"$f":"V126/Q126","v":473809.78399446327},{"$f":"VLOOKUP(AW126,'Cenové indexy '!$D$7:$E$200,2,FALSE)","v":99.5},{"$f":"W126/Y126*'Cenové indexy '!$E$149","v":405864.05601020803},487036.86721224961,2014,null,null,"2013-11-30","Áno","Áno","ERDF","Nie","24 mesiacov zadarmo, potom (?)",null,null,null,"Zmluva 1_AT",null,null,null,null,null,{"$f":"VLOOKUP(M126,Adresy!$A$4:$C$156,2,FALSE)","v":"Brno"},{"$f":"VLOOKUP(M126,Adresy!$A$4:$C$156,3,FALSE)","v":"Jihlavská 340/20"},"M","2014M06",null,null,null,null,null,{"$f":"VLOOKUP(M126,Adresy!$A$3:$C$122,2,FALSE)","v":"Brno"},{"$f":"VLOOKUP(M126,Adresy!$A$3:$C$122,3,FALSE)","v":"Jihlavská 340/20"},0,0,0,0]
["SPECT/CT",null,"Detektory 3/8 s nízkym profilom",null,null,null,null,"Siemens symbia Intevo Excel",null,"","bez položkovej identifikácie ceny (v rámci sumárnej ceny)","HW","Fakultní nemocnice Brno","ČR","Siemens Healthcare s.r.o.",null,1,null,null,{"$f":"IF(N127=\"SR\",1,IF(AC127=\"\",VLOOKUP(AW127,'CZKEUR Xchange rate'!$D$13:$E$234,2,FALSE),VLOOKUP(AW127,'CZKEUR Xchange rate'!$A$13:$B$234,2,FALSE)))","v":27.452999999999999},0,0,null,null,{"$f":"VLOOKUP(AW127,'Cenové indexy '!$D$7:$E$200,2,FALSE)","v":99.5},{"$f":"W127/Y127*'Cenové indexy '!$E$149","v":0},0,2014,null,null,"2013-11-30","Áno","Áno","ERDF","Nie","24 mesiacov zadarmo, potom (?)",null,null,null,"Zmluva 1_AT",null,null,null,null,null,{"$f":"VLOOKUP(M127,Adresy!$A$4:$C$156,2,FALSE)","v":"Brno"},{"$f":"VLOOKUP(M127,Adresy!$A$4:$C$156,3,FALSE)","v":"Jihlavská 340/20"},"M","2014M06",null,null,null,null,null,{"$f":"VLOOKUP(M127,Adresy!$A$3:$C$122,2,FALSE)","v":"Brno"},{"$f":"VLOOKUP(M127,Adresy!$A$3:$C$122,3,FALSE)","v":"Jihlavská 340/20"},0,0,0,0]
["SPECT/CT",null,"Kaudálne naklápanie",null,null,null,null,"Siemens symbia Intevo Excel",null,"","bez položkovej identifikácie ceny (v rámci sumárnej ceny)","HW","Fakultní nemocnice Brno","ČR","Siemens Healthcare s.r.o.",null,2,null,null,{"$f":"IF(N128=\"SR\",1,IF(AC128=\"\",VLOOKUP(AW128,'CZKEUR Xchange rate'!$D$13:$E$234,2,FALSE),VLOOKUP(AW128,'CZKEUR Xchange rate'!$A$13:$B$234,2,FALSE)))","v":27.452999999999999},0,0,null,null,{"$f":"VLOOKUP(AW128,'Cenové indexy '!$D$7:$E$200,2,FALSE)","v":99.5},{"$f":"W128/Y128*'Cenové indexy '!$E$149","v":0},0,2014,null,null,"2013-11-30","Áno","Áno","ERDF","Nie","24 mesiacov zadarmo, potom (?)",null,null,null,"Zmluva 1_AT",null,null,null,null,null,{"$f":"VLOOKUP(M128,Adresy!$A$4:$C$156,2,FALSE)","v":"Brno"},{"$f":"VLOOKUP(M128,Adresy!$A$4:$C$156,3,FALSE)","v":"Jihlavská 340/20"},"M","2014M06",null,null,null,null,null,{"$f":"VLOOKUP(M128,Adresy!$A$3:$C$122,2,FALSE)","v":"Brno"},{"$f":"VLOOKUP(M128,Adresy!$A$3:$C$122,3,FALSE)","v":"Jihlavská 340/20"},0,0,0,0]
["SPECT/CT",null,"Kolimátor pre nízke energie, vysoké rozlíšenie",null,null,null,null,"Siemens symbia Intevo Excel",null,"","bez položkovej identifikácie ceny (v rámci sumárnej ceny)","HW","Fakultní nemocnice Brno","ČR","Siemens Healthcare s.r.o.",null,1,null,null,{"$f":"IF(N129=\"SR\",1,IF(AC129=\"\",VLOOKUP(AW129,'CZKEUR Xchange rate'!$D$13:$E$234,2,FALSE),VLOOKUP(AW129,'CZKEUR Xchange rate'!$A$13:$B$234,2,FALSE)))","v":27.452999999999999},0,0,null,null,{"$f":"VLOOKUP(AW129,'Cenové indexy '!$D$7:$E$200,2,FALSE)","v":99.5},{"$f":"W129/Y129*'Cenové indexy '!$E$149","v":0},0,2014,null,null,"2013-11-30","Áno","Áno","ERDF","Nie","24 mesiacov zadarmo, potom (?)",null,null,null,"Zmluva 1_AT",null,null,null,null,null,{"$f":"VLOOKUP(M129,Adresy!$A$4:$C$156,2,FALSE)","v":"Brno"},{"$f":"VLOOKUP(M129,Adresy!$A$4:$C$156,3,FALSE)","v":"Jihlavská 340/20"},"M","2014M06",null,null,null,null,null,{"$f":"VLOOKUP(M129,Adresy!$A$3:$C$122,2,FALSE)","v":"Brno"},{"$f":"VLOOKUP(M129,Adresy!$A$3:$C$122,3,FALSE)","v":"Jihlavská 340/20"},0,0,0,0]
["SPECT/CT",null,"Vozík pre kolimátor",null,null,null,null,"Siemens symbia Intevo Excel",null,"","bez položkovej identifikácie ceny (v rámci sumárnej ceny)","HW","Fakultní nemocnice Brno","ČR","Siemens Healthcare s.r.o.",null,1,null,null,{"$f":"IF(N130=\"SR\",1,IF(AC130=\"\",VLOOKUP(AW130,'CZKEUR Xchange rate'!$D$13:$E$234,2,FALSE),VLOOKUP(AW130,'CZKEUR Xchange rate'!$A$13:$B$234,2,FALSE)))","v":27.452999999999999},0,0,null,null,{"$f":"VLOOKUP(AW130,'Cenové indexy '!$D$7:$E$200,2,FALSE)","v":99.5},{"$f":"W130/Y130*'Cenové indexy '!$E$149","v":0},{"$f":"Z130*1.2","v":0},2014,null,null,{"$f":"DATE(AB130,AC130,AD130)","v":"2013-11-30"},"Áno","Áno","ERDF","Nie","24 mesiacov zadarmo, potom (?)",null,null,null,"Zmluva 1_AT",null,null,null,null,null,{"$f":"VLOOKUP(M130,Adresy!$A$4:$C$156,2,FALSE)","v":"Brno"},{"$f":"VLOOKUP(M130,Adresy!$A$4:$C$156,3,FALSE)","v":"Jihlavská 340/20"},"M","2014M06",null,null,null,null,null,{"$f":"VLOOKUP(M130,Adresy!$A$3:$C$122,2,FALSE)","v":"Brno"},{"$f":"VLOOKUP(M130,Adresy!$A$3:$C$122,3,FALSE)","v":"Jihlavská 340/20"},{"$f":"IF(BC130<>AT130,1,0)","v":0},0,0,0]
["SPECT/CT",null,"Interný EKG pre systém Symbia",null,null,null,null,"Siemens symbia Intevo Excel",null,"","bez položkovej identifikácie ceny (v rámci sumárnej ceny)","HW","Fakultní nemocnice Brno","ČR","Siemens Healthcare s.r.o.",null,1,null,null,{"$f":"IF(N131=\"SR\",1,IF(AC131=\"\",VLOOKUP(AW131,'CZKEUR Xchange rate'!$D$13:$E$234,2,FALSE),VLOOKUP(AW131,'CZKEUR Xchange rate'!$A$13:$B$234,2,FALSE)))","v":27.452999999999999},0,0,null,null,{"$f":"VLOOKUP(AW131,'Cenové indexy '!$D$7:$E$200,2,FALSE)","v":99.5},{"$f":"W131/Y131*'Cenové indexy '!$E$149","v":0},0,2014,null,null,"2013-11-30","Áno","Áno","ERDF","Nie","24 mesiacov zadarmo, potom (?)",null,null,null,"Zmluva 1_AT",null,null,null,null,null,{"$f":"VLOOKUP(M131,Adresy!$A$4:$C$156,2,FALSE)","v":"Brno"},{"$f":"VLOOKUP(M131,Adresy!$A$4:$C$156,3,FALSE)","v":"Jihlavská 340/20"},"M",{"$f":"IF(AC131=\"\",CONCATENATE(AB131,AV131,\"06\"),IF(LEN(AC131)=1,CONCATENATE(AB131,AV131,\"0\"&AC131),CONCATENATE(AB131,AV131,AC131)))","v":"2014M06"},null,null,null,null,null,{"$f":"VLOOKUP(M131,Adresy!$A$3:$C$122,2,FALSE)","v":"Brno"},{"$f":"VLOOKUP(M131,Adresy!$A$3:$C$122,3,FALSE)","v":"Jihlavská 340/20"},0,0,0,0]
["SPECT/CT",null,"Kábel PHS pod podlahou",null,null,null,null,"Siemens symbia Intevo Excel",null,"","bez položkovej identifikácie ceny (v rámci sumárnej ceny)","HW","Fakultní nemocnice Brno","ČR","Siemens Healthcare s.r.o.",null,1,null,null,{"$f":"IF(N132=\"SR\",1,IF(AC132=\"\",VLOOKUP(AW132,'CZKEUR Xchange rate'!$D$13:$E$234,2,FALSE),VLOOKUP(AW132,'CZKEUR Xchange rate'!$A$13:$B$234,2,FALSE)))","v":27.452999999999999},0,0,null,null,{"$f":"VLOOKUP(AW132,'Cenové indexy '!$D$7:$E$200,2,FALSE)","v":99.5},{"$f":"W132/Y132*'Cenové indexy '!$E$149","v":0},0,2014,null,null,"2013-11-30","Áno","Áno","ERDF","Nie","24 mesiacov zadarmo, potom (?)",null,null,null,"Zmluva 1_AT",null,null,null,null,null,{"$f":"VLOOKUP(M132,Adresy!$A$4:$C$156,2,FALSE)","v":"Brno"},{"$f":"VLOOKUP(M132,Adresy!$A$4:$C$156,3,FALSE)","v":"Jihlavská 340/20"},"M","2014M06",null,null,null,null,null,{"$f":"VLOOKUP(M132,Adresy!$A$3:$C$122,2,FALSE)","v":"Brno"},{"$f":"VLOOKUP(M132,Adresy!$A$3:$C$122,3,FALSE)","v":"Jihlavská 340/20"},0,0,0,0]
["SPECT/CT",null,"Pediatrický držiak",null,null,null,null,"Siemens symbia Intevo Excel",null,"","bez položkovej identifikácie ceny (v rámci sumárnej ceny)","HW","Fakultní nemocnice Brno","ČR","Siemens Healthcare s.r.o.",null,1,null,null,{"$f":"IF(N133=\"SR\",1,IF(AC133=\"\",VLOOKUP(AW133,'CZKEUR Xchange rate'!$D$13:$E$234,2,FALSE),VLOOKUP(AW133,'CZKEUR Xchange rate'!$A$13:$B$234,2,FALSE)))","v":27.452999999999999},0,0,null,null,{"$f":"VLOOKUP(AW133,'Cenové indexy '!$D$7:$E$200,2,FALSE)","v":99.5},{"$f":"W133/Y133*'Cenové indexy '!$E$149","v":0},0,2014,null,null,"2013-11-30","Áno","Áno","ERDF","Nie","24 mesiacov zadarmo, potom (?)",null,null,null,"Zmluva 1_AT",null,null,null,null,null,{"$f":"VLOOKUP(M133,Adresy!$A$4:$C$156,2,FALSE)","v":"Brno"},{"$f":"VLOOKUP(M133,Adresy!$A$4:$C$156,3,FALSE)","v":"Jihlavská 340/20"},"M","2014M06",null,null,null,null,null,{"$f":"VLOOKUP(M133,Adresy!$A$3:$C$122,2,FALSE)","v":"Brno"},{"$f":"VLOOKUP(M133,Adresy!$A$3:$C$122,3,FALSE)","v":"Jihlavská 340/20"},0,0,0,0]
["SPECT/CT",null,"Služby diaľkovej diagnostiky",null,null,null,null,"Siemens symbia Intevo Excel",null,"","bez položkovej identifikácie ceny (v rámci sumárnej ceny)","SW","Fakultní nemocnice Brno","ČR","Siemens Healthcare s.r.o.",null,1,null,null,{"$f":"IF(N134=\"SR\",1,IF(AC134=\"\",VLOOKUP(AW134,'CZKEUR Xchange rate'!$D$13:$E$234,2,FALSE),VLOOKUP(AW134,'CZKEUR Xchange rate'!$A$13:$B$234,2,FALSE)))","v":27.452999999999999},0,0,null,null,{"$f":"VLOOKUP(AW134,'Cenové indexy '!$D$7:$E$200,2,FALSE)","v":99.5},{"$f":"W134/Y134*'Cenové indexy '!$E$149","v":0},0,2014,null,null,"2013-11-30","Áno","Áno","ERDF","Nie","24 mesiacov zadarmo, potom (?)",null,null,null,"Zmluva 1_AT",null,null,null,null,null,{"$f":"VLOOKUP(M134,Adresy!$A$4:$C$156,2,FALSE)","v":"Brno"},{"$f":"VLOOKUP(M134,Adresy!$A$4:$C$156,3,FALSE)","v":"Jihlavská 340/20"},"M","2014M06",null,null,null,null,null,{"$f":"VLOOKUP(M134,Adresy!$A$3:$C$122,2,FALSE)","v":"Brno"},{"$f":"VLOOKUP(M134,Adresy!$A$3:$C$122,3,FALSE)","v":"Jihlavská 340/20"},0,0,0,0]
["SPECT/CT",null,"Symbia.net",null,null,null,null,"Siemens symbia Intevo Excel",null,"","bez položkovej identifikácie ceny (v rámci sumárnej ceny)","SW","Fakultní nemocnice Brno","ČR","Siemens Healthcare s.r.o.",null,1,null,null,{"$f":"IF(N135=\"SR\",1,IF(AC135=\"\",VLOOKUP(AW135,'CZKEUR Xchange rate'!$D$13:$E$234,2,FALSE),VLOOKUP(AW135,'CZKEUR Xchange rate'!$A$13:$B$234,2,FALSE)))","v":27.452999999999999},0,0,null,null,{"$f":"VLOOKUP(AW135,'Cenové indexy '!$D$7:$E$200,2,FALSE)","v":99.5},{"$f":"W135/Y135*'Cenové indexy '!$E$149","v":0},0,2014,null,null,"2013-11-30","Áno","Áno","ERDF","Nie","24 mesiacov zadarmo, potom (?)",null,null,null,"Zmluva 1_AT",null,null,null,null,null,{"$f":"VLOOKUP(M135,Adresy!$A$4:$C$156,2,FALSE)","v":"Brno"},{"$f":"VLOOKUP(M135,Adresy!$A$4:$C$156,3,FALSE)","v":"Jihlavská 340/20"},"M","2014M06",null,null,null,null,null,{"$f":"VLOOKUP(M135,Adresy!$A$3:$C$122,2,FALSE)","v":"Brno"},{"$f":"VLOOKUP(M135,Adresy!$A$3:$C$122,3,FALSE)","v":"Jihlavská 340/20"},0,0,0,0]
["SPECT/CT",null,"Monitor 22, LCD DICOM",null,null,null,null,"Siemens symbia Intevo Excel",null,"","bez položkovej identifikácie ceny (v rámci sumárnej ceny)","HW","Fakultní nemocnice Brno","ČR","Siemens Healthcare s.r.o.",null,1,null,null,{"$f":"IF(N136=\"SR\",1,IF(AC136=\"\",VLOOKUP(AW136,'CZKEUR Xchange rate'!$D$13:$E$234,2,FALSE),VLOOKUP(AW136,'CZKEUR Xchange rate'!$A$13:$B$234,2,FALSE)))","v":27.452999999999999},0,0,null,null,{"$f":"VLOOKUP(AW136,'Cenové indexy '!$D$7:$E$200,2,FALSE)","v":99.5},{"$f":"W136/Y136*'Cenové indexy '!$E$149","v":0},0,2014,null,null,"2013-11-30","Áno","Áno","ERDF","Nie","24 mesiacov zadarmo, potom (?)",null,null,null,"Zmluva 1_AT",null,null,null,null,null,{"$f":"VLOOKUP(M136,Adresy!$A$4:$C$156,2,FALSE)","v":"Brno"},{"$f":"VLOOKUP(M136,Adresy!$A$4:$C$156,3,FALSE)","v":"Jihlavská 340/20"},"M","2014M06",null,null,null,null,null,{"$f":"VLOOKUP(M136,Adresy!$A$3:$C$122,2,FALSE)","v":"Brno"},{"$f":"VLOOKUP(M136,Adresy!$A$3:$C$122,3,FALSE)","v":"Jihlavská 340/20"},0,0,0,0]
["SPECT/CT",null,"Server management",null,null,null,null,"Siemens symbia Intevo Excel",null,"","bez položkovej identifikácie ceny (v rámci sumárnej ceny)","SW","Fakultní nemocnice Brno","ČR","Siemens Healthcare s.r.o.",null,1,null,null,{"$f":"IF(N137=\"SR\",1,IF(AC137=\"\",VLOOKUP(AW137,'CZKEUR Xchange rate'!$D$13:$E$234,2,FALSE),VLOOKUP(AW137,'CZKEUR Xchange rate'!$A$13:$B$234,2,FALSE)))","v":27.452999999999999},0,0,null,null,{"$f":"VLOOKUP(AW137,'Cenové indexy '!$D$7:$E$200,2,FALSE)","v":99.5},{"$f":"W137/Y137*'Cenové indexy '!$E$149","v":0},0,2014,null,null,"2013-11-30","Áno","Áno","ERDF","Nie","24 mesiacov zadarmo, potom (?)",null,null,null,"Zmluva 1_AT",null,null,null,null,null,{"$f":"VLOOKUP(M137,Adresy!$A$4:$C$156,2,FALSE)","v":"Brno"},{"$f":"VLOOKUP(M137,Adresy!$A$4:$C$156,3,FALSE)","v":"Jihlavská 340/20"},"M","2014M06",null,null,null,null,null,{"$f":"VLOOKUP(M137,Adresy!$A$3:$C$122,2,FALSE)","v":"Brno"},{"$f":"VLOOKUP(M137,Adresy!$A$3:$C$122,3,FALSE)","v":"Jihlavská 340/20"},0,0,0,0]
["SPECT/CT",null,"Symbia.net, klient",null,null,null,null,"Siemens symbia Intevo Excel",null,"","bez položkovej identifikácie ceny (v rámci sumárnej ceny)","SW","Fakultní nemocnice Brno","ČR","Siemens Healthcare s.r.o.",null,3,null,null,{"$f":"IF(N138=\"SR\",1,IF(AC138=\"\",VLOOKUP(AW138,'CZKEUR Xchange rate'!$D$13:$E$234,2,FALSE),VLOOKUP(AW138,'CZKEUR Xchange rate'!$A$13:$B$234,2,FALSE)))","v":27.452999999999999},0,0,null,null,{"$f":"VLOOKUP(AW138,'Cenové indexy '!$D$7:$E$200,2,FALSE)","v":99.5},{"$f":"W138/Y138*'Cenové indexy '!$E$149","v":0},0,2014,null,null,"2013-11-30","Áno","Áno","ERDF","Nie","24 mesiacov zadarmo, potom (?)",null,null,null,"Zmluva 1_AT",null,null,null,null,null,{"$f":"VLOOKUP(M138,Adresy!$A$4:$C$156,2,FALSE)","v":"Brno"},{"$f":"VLOOKUP(M138,Adresy!$A$4:$C$156,3,FALSE)","v":"Jihlavská 340/20"},"M","2014M06",null,null,null,null,null,{"$f":"VLOOKUP(M138,Adresy!$A$3:$C$122,2,FALSE)","v":"Brno"},{"$f":"VLOOKUP(M138,Adresy!$A$3:$C$122,3,FALSE)","v":"Jihlavská 340/20"},0,0,0,0]
["SPECT/CT",null,"Pokročilý engine pre onkológiu",null,null,null,null,"Siemens symbia Intevo Excel",null,"","bez položkovej identifikácie ceny (v rámci sumárnej ceny)","SW","Fakultní nemocnice Brno","ČR","Siemens Healthcare s.r.o.",null,1,null,null,{"$f":"IF(N139=\"SR\",1,IF(AC139=\"\",VLOOKUP(AW139,'CZKEUR Xchange rate'!$D$13:$E$234,2,FALSE),VLOOKUP(AW139,'CZKEUR Xchange rate'!$A$13:$B$234,2,FALSE)))","v":27.452999999999999},0,0,null,null,{"$f":"VLOOKUP(AW139,'Cenové indexy '!$D$7:$E$200,2,FALSE)","v":99.5},{"$f":"W139/Y139*'Cenové indexy '!$E$149","v":0},0,2014,null,null,"2013-11-30","Áno","Áno","ERDF","Nie","24 mesiacov zadarmo, potom (?)",null,null,null,"Zmluva 1_AT",null,null,null,null,null,{"$f":"VLOOKUP(M139,Adresy!$A$4:$C$156,2,FALSE)","v":"Brno"},{"$f":"VLOOKUP(M139,Adresy!$A$4:$C$156,3,FALSE)","v":"Jihlavská 340/20"},"M","2014M06",null,null,null,null,null,{"$f":"VLOOKUP(M139,Adresy!$A$3:$C$122,2,FALSE)","v":"Brno"},{"$f":"VLOOKUP(M139,Adresy!$A$3:$C$122,3,FALSE)","v":"Jihlavská 340/20"},0,0,0,0]
["SPECT/CT",null," + pokročilý engine pre onkológiu",null,null,null,null,"Siemens symbia Intevo Excel",null,"","bez položkovej identifikácie ceny (v rámci sumárnej ceny)","SW","Fakultní nemocnice Brno","ČR","Siemens Healthcare s.r.o.",null,3,null,null,{"$f":"IF(N140=\"SR\",1,IF(AC140=\"\",VLOOKUP(AW140,'CZKEUR Xchange rate'!$D$13:$E$234,2,FALSE),VLOOKUP(AW140,'CZKEUR Xchange rate'!$A$13:$B$234,2,FALSE)))","v":27.452999999999999},0,0,null,null,{"$f":"VLOOKUP(AW140,'Cenové indexy '!$D$7:$E$200,2,FALSE)","v":99.5},{"$f":"W140/Y140*'Cenové indexy '!$E$149","v":0},0,2014,null,null,"2013-11-30","Áno","Áno","ERDF","Nie","24 mesiacov zadarmo, potom (?)",null,null,null,"Zmluva 1_AT",null,null,null,null,null,{"$f":"VLOOKUP(M140,Adresy!$A$4:$C$156,2,FALSE)","v":"Brno"},{"$f":"VLOOKUP(M140,Adresy!$A$4:$C$156,3,FALSE)","v":"Jihlavská 340/20"},"M","2014M06",null,null,null,null,null,{"$f":"VLOOKUP(M140,Adresy!$A$3:$C$122,2,FALSE)","v":"Brno"},{"$f":"VLOOKUP(M140,Adresy!$A$3:$C$122,3,FALSE)","v":"Jihlavská 340/20"},0,0,0,0]
["SPECT/CT",null,"Kardiologický engine 4DM",null,null,null,null,"Siemens symbia Intevo Excel",null,"","bez položkovej identifikácie ceny (v rámci sumárnej ceny)","SW","Fakultní nemocnice Brno","ČR","Siemens Healthcare s.r.o.",null,1,null,null,{"$f":"IF(N141=\"SR\",1,IF(AC141=\"\",VLOOKUP(AW141,'CZKEUR Xchange rate'!$D$13:$E$234,2,FALSE),VLOOKUP(AW141,'CZKEUR Xchange rate'!$A$13:$B$234,2,FALSE)))","v":27.452999999999999},0,0,null,null,{"$f":"VLOOKUP(AW141,'Cenové indexy '!$D$7:$E$200,2,FALSE)","v":99.5},{"$f":"W141/Y141*'Cenové indexy '!$E$149","v":0},0,2014,null,null,"2013-11-30","Áno","Áno","ERDF","Nie","24 mesiacov zadarmo, potom (?)",null,null,null,"Zmluva 1_AT",null,null,null,null,null,{"$f":"VLOOKUP(M141,Adresy!$A$4:$C$156,2,FALSE)","v":"Brno"},{"$f":"VLOOKUP(M141,Adresy!$A$4:$C$156,3,FALSE)","v":"Jihlavská 340/20"},"M","2014M06",null,null,null,null,null,{"$f":"VLOOKUP(M141,Adresy!$A$3:$C$122,2,FALSE)","v":"Brno"},{"$f":"VLOOKUP(M141,Adresy!$A$3:$C$122,3,FALSE)","v":"Jihlavská 340/20"},0,0,0,0]
["SPECT/CT",null," + kardiologický engine 4DM",null,null,null,null,"Siemens symbia Intevo Excel",null,"","bez položkovej identifikácie ceny (v rámci sumárnej ceny)","SW","Fakultní nemocnice Brno","ČR","Siemens Healthcare s.r.o.",null,3,null,null,{"$f":"IF(N142=\"SR\",1,IF(AC142=\"\",VLOOKUP(AW142,'CZKEUR Xchange rate'!$D$13:$E$234,2,FALSE),VLOOKUP(AW142,'CZKEUR Xchange rate'!$A$13:$B$234,2,FALSE)))","v":27.452999999999999},0,0,null,null,{"$f":"VLOOKUP(AW142,'Cenové indexy '!$D$7:$E$200,2,FALSE)","v":99.5},{"$f":"W142/Y142*'Cenové indexy '!$E$149","v":0},0,2014,null,null,"2013-11-30","Áno","Áno","ERDF","Nie","24 mesiacov zadarmo, potom (?)",null,null,null,"Zmluva 1_AT",null,null,null,null,null,{"$f":"VLOOKUP(M142,Adresy!$A$4:$C$156,2,FALSE)","v":"Brno"},{"$f":"VLOOKUP(M142,Adresy!$A$4:$C$156,3,FALSE)","v":"Jihlavská 340/20"},"M","2014M06",null,null,null,null,null,{"$f":"VLOOKUP(M142,Adresy!$A$3:$C$122,2,FALSE)","v":"Brno"},{"$f":"VLOOKUP(M142,Adresy!$A$3:$C$122,3,FALSE)","v":"Jihlavská 340/20"},0,0,0,0]
["SPECT/CT",null,"Neurologický engine",null,null,null,null,"Siemens symbia Intevo Excel",null,"","bez položkovej identifikácie ceny (v rámci sumárnej ceny)","SW","Fakultní nemocnice Brno","ČR","Siemens Healthcare s.r.o.",null,1,null,null,{"$f":"IF(N143=\"SR\",1,IF(AC143=\"\",VLOOKUP(AW143,'CZKEUR Xchange rate'!$D$13:$E$234,2,FALSE),VLOOKUP(AW143,'CZKEUR Xchange rate'!$A$13:$B$234,2,FALSE)))","v":27.452999999999999},0,0,null,null,{"$f":"VLOOKUP(AW143,'Cenové indexy '!$D$7:$E$200,2,FALSE)","v":99.5},{"$f":"W143/Y143*'Cenové indexy '!$E$149","v":0},0,2014,null,null,"2013-11-30","Áno","Áno","ERDF","Nie","24 mesiacov zadarmo, potom (?)",null,null,null,"Zmluva 1_AT",null,null,null,null,null,{"$f":"VLOOKUP(M143,Adresy!$A$4:$C$156,2,FALSE)","v":"Brno"},{"$f":"VLOOKUP(M143,Adresy!$A$4:$C$156,3,FALSE)","v":"Jihlavská 340/20"},"M","2014M06",null,null,null,null,null,{"$f":"VLOOKUP(M143,Adresy!$A$3:$C$122,2,FALSE)","v":"Brno"},{"$f":"VLOOKUP(M143,Adresy!$A$3:$C$122,3,FALSE)","v":"Jihlavská 340/20"},0,0,0,0]
["SPECT/CT",null," + neurologický engine",null,null,null,null,"Siemens symbia Intevo Excel",null,"","bez položkovej identifikácie ceny (v rámci sumárnej ceny)","SW","Fakultní nemocnice Brno","ČR","Siemens Healthcare s.r.o.",null,3,null,null,{"$f":"IF(N144=\"SR\",1,IF(AC144=\"\",VLOOKUP(AW144,'CZKEUR Xchange rate'!$D$13:$E$234,2,FALSE),VLOOKUP(AW144,'CZKEUR Xchange rate'!$A$13:$B$234,2,FALSE)))","v":27.452999999999999},0,0,null,null,{"$f":"VLOOKUP(AW144,'Cenové indexy '!$D$7:$E$200,2,FALSE)","v":99.5},{"$f":"W144/Y144*'Cenové indexy '!$E$149","v":0},0,2014,null,null,"2013-11-30","Áno","Áno","ERDF","Nie","24 mesiacov zadarmo, potom (?)",null,null,null,"Zmluva 1_AT",null,null,null,null,null,{"$f":"VLOOKUP(M144,Adresy!$A$4:$C$156,2,FALSE)","v":"Brno"},{"$f":"VLOOKUP(M144,Adresy!$A$4:$C$156,3,FALSE)","v":"Jihlavská 340/20"},"M","2014M06",null,null,null,null,null,{"$f":"VLOOKUP(M144,Adresy!$A$3:$C$122,2,FALSE)","v":"Brno"},{"$f":"VLOOKUP(M144,Adresy!$A$3:$C$122,3,FALSE)","v":"Jihlavská 340/20"},0,0,0,0]
["SPECT/CT",null,"Spracovanie zamerané na určitý orgán",null,null,null,null,"Siemens symbia Intevo Excel",null,"","bez položkovej identifikácie ceny (v rámci sumárnej ceny)","SW","Fakultní nemocnice Brno","ČR","Siemens Healthcare s.r.o.",null,1,null,null,{"$f":"IF(N145=\"SR\",1,IF(AC145=\"\",VLOOKUP(AW145,'CZKEUR Xchange rate'!$D$13:$E$234,2,FALSE),VLOOKUP(AW145,'CZKEUR Xchange rate'!$A$13:$B$234,2,FALSE)))","v":27.452999999999999},0,0,null,null,{"$f":"VLOOKUP(AW145,'Cenové indexy '!$D$7:$E$200,2,FALSE)","v":99.5},{"$f":"W145/Y145*'Cenové indexy '!$E$149","v":0},0,2014,null,null,"2013-11-30","Áno","Áno","ERDF","Nie","24 mesiacov zadarmo, potom (?)",null,null,null,"Zmluva 1_AT",null,null,null,null,null,{"$f":"VLOOKUP(M145,Adresy!$A$4:$C$156,2,FALSE)","v":"Brno"},{"$f":"VLOOKUP(M145,Adresy!$A$4:$C$156,3,FALSE)","v":"Jihlavská 340/20"},"M","2014M06",null,null,null,null,null,{"$f":"VLOOKUP(M145,Adresy!$A$3:$C$122,2,FALSE)","v":"Brno"},{"$f":"VLOOKUP(M145,Adresy!$A$3:$C$122,3,FALSE)","v":"Jihlavská 340/20"},0,0,0,0]
["SPECT/CT",null," + spracovanie zamerané na určitý orgán",null,null,null,null,"Siemens symbia Intevo Excel",null,"","bez položkovej identifikácie ceny (v rámci sumárnej ceny)","SW","Fakultní nemocnice Brno","ČR","Siemens Healthcare s.r.o.",null,3,null,null,{"$f":"IF(N146=\"SR\",1,IF(AC146=\"\",VLOOKUP(AW146,'CZKEUR Xchange rate'!$D$13:$E$234,2,FALSE),VLOOKUP(AW146,'CZKEUR Xchange rate'!$A$13:$B$234,2,FALSE)))","v":27.452999999999999},0,0,null,null,{"$f":"VLOOKUP(AW146,'Cenové indexy '!$D$7:$E$200,2,FALSE)","v":99.5},{"$f":"W146/Y146*'Cenové indexy '!$E$149","v":0},0,2014,null,null,"2013-11-30","Áno","Áno","ERDF","Nie","24 mesiacov zadarmo, potom (?)",null,null,null,"Zmluva 1_AT",null,null,null,null,null,{"$f":"VLOOKUP(M146,Adresy!$A$4:$C$156,2,FALSE)","v":"Brno"},{"$f":"VLOOKUP(M146,Adresy!$A$4:$C$156,3,FALSE)","v":"Jihlavská 340/20"},"M","2014M06",null,null,null,null,null,{"$f":"VLOOKUP(M146,Adresy!$A$3:$C$122,2,FALSE)","v":"Brno"},{"$f":"VLOOKUP(M146,Adresy!$A$3:$C$122,3,FALSE)","v":"Jihlavská 340/20"},0,0,0,0]
["SPECT/CT",null,"Pokročilý enigine \"reconstruction\"",null,null,null,null,"Siemens symbia Intevo Excel",null,"","bez položkovej identifikácie ceny (v rámci sumárnej ceny)","SW","Fakultní nemocnice Brno","ČR","Siemens Healthcare s.r.o.",null,1,null,null,{"$f":"IF(N147=\"SR\",1,IF(AC147=\"\",VLOOKUP(AW147,'CZKEUR Xchange rate'!$D$13:$E$234,2,FALSE),VLOOKUP(AW147,'CZKEUR Xchange rate'!$A$13:$B$234,2,FALSE)))","v":27.452999999999999},0,0,null,null,{"$f":"VLOOKUP(AW147,'Cenové indexy '!$D$7:$E$200,2,FALSE)","v":99.5},{"$f":"W147/Y147*'Cenové indexy '!$E$149","v":0},0,2014,null,null,"2013-11-30","Áno","Áno","ERDF","Nie","24 mesiacov zadarmo, potom (?)",null,null,null,"Zmluva 1_AT",null,null,null,null,null,{"$f":"VLOOKUP(M147,Adresy!$A$4:$C$156,2,FALSE)","v":"Brno"},{"$f":"VLOOKUP(M147,Adresy!$A$4:$C$156,3,FALSE)","v":"Jihlavská 340/20"},"M","2014M06",null,null,null,null,null,{"$f":"VLOOKUP(M147,Adresy!$A$3:$C$122,2,FALSE)","v":"Brno"},{"$f":"VLOOKUP(M147,Adresy!$A$3:$C$122,3,FALSE)","v":"Jihlavská 340/20"},0,0,0,0]
["SPECT/CT",null," + pokročilá rekonštrukcia",null,null,null,null,"Siemens symbia Intevo Excel",null,"","bez položkovej identifikácie ceny (v rámci sumárnej ceny)","SW","Fakultní nemocnice Brno","ČR","Siemens Healthcare s.r.o.",null,3,null,null,{"$f":"IF(N148=\"SR\",1,IF(AC148=\"\",VLOOKUP(AW148,'CZKEUR Xchange rate'!$D$13:$E$234,2,FALSE),VLOOKUP(AW148,'CZKEUR Xchange rate'!$A$13:$B$234,2,FALSE)))","v":27.452999999999999},0,0,null,null,{"$f":"VLOOKUP(AW148,'Cenové indexy '!$D$7:$E$200,2,FALSE)","v":99.5},{"$f":"W148/Y148*'Cenové indexy '!$E$149","v":0},0,2014,null,null,"2013-11-30","Áno","Áno","ERDF","Nie","24 mesiacov zadarmo, potom (?)",null,null,null,"Zmluva 1_AT",null,null,null,null,null,{"$f":"VLOOKUP(M148,Adresy!$A$4:$C$156,2,FALSE)","v":"Brno"},{"$f":"VLOOKUP(M148,Adresy!$A$4:$C$156,3,FALSE)","v":"Jihlavská 340/20"},"M","2014M06",null,null,null,null,null,{"$f":"VLOOKUP(M148,Adresy!$A$3:$C$122,2,FALSE)","v":"Brno"},{"$f":"VLOOKUP(M148,Adresy!$A$3:$C$122,3,FALSE)","v":"Jihlavská 340/20"},0,0,0,0]
["SPECT/CT",null,"HW popisovacia stanica",null,null,null,null,"Siemens symbia Intevo Excel",null,"","bez položkovej identifikácie ceny (v rámci sumárnej ceny)","HW","Fakultní nemocnice Brno","ČR","Siemens Healthcare s.r.o.",null,1,null,null,{"$f":"IF(N149=\"SR\",1,IF(AC149=\"\",VLOOKUP(AW149,'CZKEUR Xchange rate'!$D$13:$E$234,2,FALSE),VLOOKUP(AW149,'CZKEUR Xchange rate'!$A$13:$B$234,2,FALSE)))","v":27.452999999999999},0,0,null,null,{"$f":"VLOOKUP(AW149,'Cenové indexy '!$D$7:$E$200,2,FALSE)","v":99.5},{"$f":"W149/Y149*'Cenové indexy '!$E$149","v":0},0,2014,null,null,"2013-11-30","Áno","Áno","ERDF","Nie","24 mesiacov zadarmo, potom (?)",null,null,null,"Zmluva 1_AT",null,null,null,null,null,{"$f":"VLOOKUP(M149,Adresy!$A$4:$C$156,2,FALSE)","v":"Brno"},{"$f":"VLOOKUP(M149,Adresy!$A$4:$C$156,3,FALSE)","v":"Jihlavská 340/20"},"M","2014M06",null,null,null,null,null,{"$f":"VLOOKUP(M149,Adresy!$A$3:$C$122,2,FALSE)","v":"Brno"},{"$f":"VLOOKUP(M149,Adresy!$A$3:$C$122,3,FALSE)","v":"Jihlavská 340/20"},0,0,0,0]
["SPECT/CT",null,"Farebná laserová talčiareň",null,null,null,null,"Siemens symbia Intevo Excel",null,"","bez položkovej identifikácie ceny (v rámci sumárnej ceny)","HW","Fakultní nemocnice Brno","ČR","Siemens Healthcare s.r.o.",null,1,null,null,{"$f":"IF(N150=\"SR\",1,IF(AC150=\"\",VLOOKUP(AW150,'CZKEUR Xchange rate'!$D$13:$E$234,2,FALSE),VLOOKUP(AW150,'CZKEUR Xchange rate'!$A$13:$B$234,2,FALSE)))","v":27.452999999999999},0,0,null,null,{"$f":"VLOOKUP(AW150,'Cenové indexy '!$D$7:$E$200,2,FALSE)","v":99.5},{"$f":"W150/Y150*'Cenové indexy '!$E$149","v":0},0,2014,null,null,"2013-11-30","Áno","Áno","ERDF","Nie","24 mesiacov zadarmo, potom (?)",null,null,null,"Zmluva 1_AT",null,null,null,null,null,{"$f":"VLOOKUP(M150,Adresy!$A$4:$C$156,2,FALSE)","v":"Brno"},{"$f":"VLOOKUP(M150,Adresy!$A$4:$C$156,3,FALSE)","v":"Jihlavská 340/20"},"M","2014M06",null,null,null,null,null,{"$f":"VLOOKUP(M150,Adresy!$A$3:$C$122,2,FALSE)","v":"Brno"},{"$f":"VLOOKUP(M150,Adresy!$A$3:$C$122,3,FALSE)","v":"Jihlavská 340/20"},0,0,0,0]
["SPECT/CT",null,"Celá zostava",null,null,null,"GE Discovery NM/CT670","",null,"","sumárna cena","HW/SW","Nemocnice České Budějovice, a.s.","ČR","GE Medical Systems  s.r.o.",null,1,15958650,19342637,{"$f":"IF(N151=\"SR\",1,IF(AC151=\"\",VLOOKUP(AW151,'CZKEUR Xchange rate'!$D$13:$E$234,2,FALSE),VLOOKUP(AW151,'CZKEUR Xchange rate'!$A$13:$B$234,2,FALSE)))","v":27.452999999999999},581308.05376461591,704572.79714421008,{"$f":"U151/Q151","v":581308.05376461591},{"$f":"V151/Q151","v":704572.79714421008},{"$f":"VLOOKUP(AW151,'Cenové indexy '!$D$7:$E$200,2,FALSE)","v":99.5},{"$f":"W151/Y151*'Cenové indexy '!$E$149","v":602515.57371602848},723018.6884592342,2014,null,null,"2013-11-30","Áno","Áno","Neurčené","Nie","24 mesiacov zadarmo, potom 8 rokov podľa zmluvy",null,null,null,"Zmluva 7_MS",null,null,null,null,null,{"$f":"VLOOKUP(M151,Adresy!$A$4:$C$156,2,FALSE)","v":"České Budějovice "},{"$f":"VLOOKUP(M151,Adresy!$A$4:$C$156,3,FALSE)","v":"B. Němcové 54"},"M","2014M06",null,null,null,null,null,{"$f":"VLOOKUP(M151,Adresy!$A$3:$C$122,2,FALSE)","v":"České Budějovice "},{"$f":"VLOOKUP(M151,Adresy!$A$3:$C$122,3,FALSE)","v":"B. Němcové 54"},0,0,0,0]
["SPECT/CT",null,"Detektory 3/8 s nízkym profilom",null,null,null,"GE Discovery NM/CT670",null,null,"","bez položkovej identifikácie ceny (v rámci sumárnej ceny)","HW","Nemocnice České Budějovice, a.s.","ČR","GE Medical Systems  s.r.o.",null,1,null,null,{"$f":"IF(N152=\"SR\",1,IF(AC152=\"\",VLOOKUP(AW152,'CZKEUR Xchange rate'!$D$13:$E$234,2,FALSE),VLOOKUP(AW152,'CZKEUR Xchange rate'!$A$13:$B$234,2,FALSE)))","v":27.452999999999999},0,0,null,null,{"$f":"VLOOKUP(AW152,'Cenové indexy '!$D$7:$E$200,2,FALSE)","v":99.5},{"$f":"W152/Y152*'Cenové indexy '!$E$149","v":0},0,2014,null,null,"2013-11-30","Áno","Áno","Neurčené","Nie","24 mesiacov zadarmo, potom 8 rokov podľa zmluvy",null,null,null,"Zmluva 7_MS",null,null,null,null,null,{"$f":"VLOOKUP(M152,Adresy!$A$4:$C$156,2,FALSE)","v":"České Budějovice "},{"$f":"VLOOKUP(M152,Adresy!$A$4:$C$156,3,FALSE)","v":"B. Němcové 54"},"M","2014M06",null,null,null,null,null,{"$f":"VLOOKUP(M152,Adresy!$A$3:$C$122,2,FALSE)","v":"České Budějovice "},{"$f":"VLOOKUP(M152,Adresy!$A$3:$C$122,3,FALSE)","v":"B. Němcové 54"},0,0,0,0]
["SPECT/CT",null,"Pacientský stôl",null,null,null,"GE Discovery NM/CT670",null,null,"","bez položkovej identifikácie ceny (v rámci sumárnej ceny)","HW","Nemocnice České Budějovice, a.s.","ČR","GE Medical Systems  s.r.o.",null,1,null,null,{"$f":"IF(N153=\"SR\",1,IF(AC153=\"\",VLOOKUP(AW153,'CZKEUR Xchange rate'!$D$13:$E$234,2,FALSE),VLOOKUP(AW153,'CZKEUR Xchange rate'!$A$13:$B$234,2,FALSE)))","v":27.452999999999999},0,0,null,null,{"$f":"VLOOKUP(AW153,'Cenové indexy '!$D$7:$E$200,2,FALSE)","v":99.5},{"$f":"W153/Y153*'Cenové indexy '!$E$149","v":0},0,2014,null,null,"2013-11-30","Áno","Áno","Neurčené","Nie","24 mesiacov zadarmo, potom 8 rokov podľa zmluvy",null,null,null,"Zmluva 7_MS",null,null,null,null,null,{"$f":"VLOOKUP(M153,Adresy!$A$4:$C$156,2,FALSE)","v":"České Budějovice "},{"$f":"VLOOKUP(M153,Adresy!$A$4:$C$156,3,FALSE)","v":"B. Němcové 54"},"M","2014M06",null,null,null,null,null,{"$f":"VLOOKUP(M153,Adresy!$A$3:$C$122,2,FALSE)","v":"České Budějovice "},{"$f":"VLOOKUP(M153,Adresy!$A$3:$C$122,3,FALSE)","v":"B. Němcové 54"},0,0,0,0]
["SPECT/CT",null,"Akvizičná konzola",null,null,null,"GE Discovery NM/CT670",null,null,"","bez položkovej identifikácie ceny (v rámci sumárnej ceny)","HW","Nemocnice České Budějovice, a.s.","ČR","GE Medical Systems  s.r.o.",null,1,null,null,{"$f":"IF(N154=\"SR\",1,IF(AC154=\"\",VLOOKUP(AW154,'CZKEUR Xchange rate'!$D$13:$E$234,2,FALSE),VLOOKUP(AW154,'CZKEUR Xchange rate'!$A$13:$B$234,2,FALSE)))","v":27.452999999999999},0,0,null,null,{"$f":"VLOOKUP(AW154,'Cenové indexy '!$D$7:$E$200,2,FALSE)","v":99.5},{"$f":"W154/Y154*'Cenové indexy '!$E$149","v":0},0,2014,null,null,"2013-11-30","Áno","Áno","Neurčené","Nie","24 mesiacov zadarmo, potom 8 rokov podľa zmluvy",null,null,null,"Zmluva 7_MS",null,null,null,null,null,{"$f":"VLOOKUP(M154,Adresy!$A$4:$C$156,2,FALSE)","v":"České Budějovice "},{"$f":"VLOOKUP(M154,Adresy!$A$4:$C$156,3,FALSE)","v":"B. Němcové 54"},"M","2014M06",null,null,null,null,null,{"$f":"VLOOKUP(M154,Adresy!$A$3:$C$122,2,FALSE)","v":"České Budějovice "},{"$f":"VLOOKUP(M154,Adresy!$A$3:$C$122,3,FALSE)","v":"B. Němcové 54"},0,0,0,0]
["SPECT/CT",null,"Akvizičná stanica Discovery",null,null,null,"GE Discovery NM/CT670",null,null,"","bez položkovej identifikácie ceny (v rámci sumárnej ceny)","HW","Nemocnice České Budějovice, a.s.","ČR","GE Medical Systems  s.r.o.",null,1,null,null,{"$f":"IF(N155=\"SR\",1,IF(AC155=\"\",VLOOKUP(AW155,'CZKEUR Xchange rate'!$D$13:$E$234,2,FALSE),VLOOKUP(AW155,'CZKEUR Xchange rate'!$A$13:$B$234,2,FALSE)))","v":27.452999999999999},0,0,null,null,{"$f":"VLOOKUP(AW155,'Cenové indexy '!$D$7:$E$200,2,FALSE)","v":99.5},{"$f":"W155/Y155*'Cenové indexy '!$E$149","v":0},0,2014,null,null,"2013-11-30","Áno","Áno","Neurčené","Nie","24 mesiacov zadarmo, potom 8 rokov podľa zmluvy",null,null,null,"Zmluva 7_MS",null,null,null,null,null,{"$f":"VLOOKUP(M155,Adresy!$A$4:$C$156,2,FALSE)","v":"České Budějovice "},{"$f":"VLOOKUP(M155,Adresy!$A$4:$C$156,3,FALSE)","v":"B. Němcové 54"},"M","2014M06",null,null,null,null,null,{"$f":"VLOOKUP(M155,Adresy!$A$3:$C$122,2,FALSE)","v":"České Budějovice "},{"$f":"VLOOKUP(M155,Adresy!$A$3:$C$122,3,FALSE)","v":"B. Němcové 54"},0,0,0,0]
["SPECT/CT",null,"Kolimátor pre nízke energie, vysoké rozlíšenie",null,null,null,"GE Discovery NM/CT670",null,null,"","bez položkovej identifikácie ceny (v rámci sumárnej ceny)","HW","Nemocnice České Budějovice, a.s.","ČR","GE Medical Systems  s.r.o.",null,2,null,null,{"$f":"IF(N156=\"SR\",1,IF(AC156=\"\",VLOOKUP(AW156,'CZKEUR Xchange rate'!$D$13:$E$234,2,FALSE),VLOOKUP(AW156,'CZKEUR Xchange rate'!$A$13:$B$234,2,FALSE)))","v":27.452999999999999},0,0,null,null,{"$f":"VLOOKUP(AW156,'Cenové indexy '!$D$7:$E$200,2,FALSE)","v":99.5},{"$f":"W156/Y156*'Cenové indexy '!$E$149","v":0},0,2014,null,null,"2013-11-30","Áno","Áno","Neurčené","Nie","24 mesiacov zadarmo, potom 8 rokov podľa zmluvy",null,null,null,"Zmluva 7_MS",null,null,null,null,null,{"$f":"VLOOKUP(M156,Adresy!$A$4:$C$156,2,FALSE)","v":"České Budějovice "},{"$f":"VLOOKUP(M156,Adresy!$A$4:$C$156,3,FALSE)","v":"B. Němcové 54"},"M","2014M06",null,null,null,null,null,{"$f":"VLOOKUP(M156,Adresy!$A$3:$C$122,2,FALSE)","v":"České Budějovice "},{"$f":"VLOOKUP(M156,Adresy!$A$3:$C$122,3,FALSE)","v":"B. Němcové 54"},0,0,0,0]
["SPECT/CT",null,"Kolimátor pre stredné energie",null,null,null,"GE Discovery NM/CT670",null,null,"","bez položkovej identifikácie ceny (v rámci sumárnej ceny)","HW","Nemocnice České Budějovice, a.s.","ČR","GE Medical Systems  s.r.o.",null,2,null,null,{"$f":"IF(N157=\"SR\",1,IF(AC157=\"\",VLOOKUP(AW157,'CZKEUR Xchange rate'!$D$13:$E$234,2,FALSE),VLOOKUP(AW157,'CZKEUR Xchange rate'!$A$13:$B$234,2,FALSE)))","v":27.452999999999999},0,0,null,null,{"$f":"VLOOKUP(AW157,'Cenové indexy '!$D$7:$E$200,2,FALSE)","v":99.5},{"$f":"W157/Y157*'Cenové indexy '!$E$149","v":0},0,2014,null,null,"2013-11-30","Áno","Áno","Neurčené","Nie","24 mesiacov zadarmo, potom 8 rokov podľa zmluvy",null,null,null,"Zmluva 7_MS",null,null,null,null,null,{"$f":"VLOOKUP(M157,Adresy!$A$4:$C$156,2,FALSE)","v":"České Budějovice "},{"$f":"VLOOKUP(M157,Adresy!$A$4:$C$156,3,FALSE)","v":"B. Němcové 54"},"M","2014M06",null,null,null,null,null,{"$f":"VLOOKUP(M157,Adresy!$A$3:$C$122,2,FALSE)","v":"České Budějovice "},{"$f":"VLOOKUP(M157,Adresy!$A$3:$C$122,3,FALSE)","v":"B. Němcové 54"},0,0,0,0]
["SPECT/CT",null,"Pracovná stanica",null,"Xeleris 3",null,"GE Discovery NM/CT670",null,null,"","bez položkovej identifikácie ceny (v rámci sumárnej ceny)","HW","Nemocnice České Budějovice, a.s.","ČR","GE Medical Systems  s.r.o.",null,1,null,null,{"$f":"IF(N158=\"SR\",1,IF(AC158=\"\",VLOOKUP(AW158,'CZKEUR Xchange rate'!$D$13:$E$234,2,FALSE),VLOOKUP(AW158,'CZKEUR Xchange rate'!$A$13:$B$234,2,FALSE)))","v":27.452999999999999},0,0,null,null,{"$f":"VLOOKUP(AW158,'Cenové indexy '!$D$7:$E$200,2,FALSE)","v":99.5},{"$f":"W158/Y158*'Cenové indexy '!$E$149","v":0},0,2014,null,null,"2013-11-30","Áno","Áno","Neurčené","Nie","24 mesiacov zadarmo, potom 8 rokov podľa zmluvy",null,null,null,"Zmluva 7_MS",null,null,null,null,null,{"$f":"VLOOKUP(M158,Adresy!$A$4:$C$156,2,FALSE)","v":"České Budějovice "},{"$f":"VLOOKUP(M158,Adresy!$A$4:$C$156,3,FALSE)","v":"B. Němcové 54"},"M","2014M06",null,null,null,null,null,{"$f":"VLOOKUP(M158,Adresy!$A$3:$C$122,2,FALSE)","v":"České Budějovice "},{"$f":"VLOOKUP(M158,Adresy!$A$3:$C$122,3,FALSE)","v":"B. Němcové 54"},0,0,0,0]
["SPECT/CT",null,"Pracovná stanica",null,"Xeleris 3.1",null,"GE Discovery NM/CT670",null,null,"","bez položkovej identifikácie ceny (v rámci sumárnej ceny)","HW","Nemocnice České Budějovice, a.s.","ČR","GE Medical Systems  s.r.o.",null,1,null,null,{"$f":"IF(N159=\"SR\",1,IF(AC159=\"\",VLOOKUP(AW159,'CZKEUR Xchange rate'!$D$13:$E$234,2,FALSE),VLOOKUP(AW159,'CZKEUR Xchange rate'!$A$13:$B$234,2,FALSE)))","v":27.452999999999999},0,0,null,null,{"$f":"VLOOKUP(AW159,'Cenové indexy '!$D$7:$E$200,2,FALSE)","v":99.5},{"$f":"W159/Y159*'Cenové indexy '!$E$149","v":0},0,2014,null,null,"2013-11-30","Áno","Áno","Neurčené","Nie","24 mesiacov zadarmo, potom 8 rokov podľa zmluvy",null,null,null,"Zmluva 7_MS",null,null,null,null,null,{"$f":"VLOOKUP(M159,Adresy!$A$4:$C$156,2,FALSE)","v":"České Budějovice "},{"$f":"VLOOKUP(M159,Adresy!$A$4:$C$156,3,FALSE)","v":"B. Němcové 54"},"M","2014M06",null,null,null,null,null,{"$f":"VLOOKUP(M159,Adresy!$A$3:$C$122,2,FALSE)","v":"České Budějovice "},{"$f":"VLOOKUP(M159,Adresy!$A$3:$C$122,3,FALSE)","v":"B. Němcové 54"},0,0,0,0]
["SPECT/CT",null,"Upgrade stanice",null,"Xeleris 1 na Xeleris 3",null,"GE Discovery NM/CT670",null,null,"","bez položkovej identifikácie ceny (v rámci sumárnej ceny)","SW","Nemocnice České Budějovice, a.s.","ČR","GE Medical Systems  s.r.o.",null,1,null,null,{"$f":"IF(N160=\"SR\",1,IF(AC160=\"\",VLOOKUP(AW160,'CZKEUR Xchange rate'!$D$13:$E$234,2,FALSE),VLOOKUP(AW160,'CZKEUR Xchange rate'!$A$13:$B$234,2,FALSE)))","v":27.452999999999999},0,0,null,null,{"$f":"VLOOKUP(AW160,'Cenové indexy '!$D$7:$E$200,2,FALSE)","v":99.5},{"$f":"W160/Y160*'Cenové indexy '!$E$149","v":0},0,2014,null,null,"2013-11-30","Áno","Áno","Neurčené","Nie","24 mesiacov zadarmo, potom 8 rokov podľa zmluvy",null,null,null,"Zmluva 7_MS",null,null,null,null,null,{"$f":"VLOOKUP(M160,Adresy!$A$4:$C$156,2,FALSE)","v":"České Budějovice "},{"$f":"VLOOKUP(M160,Adresy!$A$4:$C$156,3,FALSE)","v":"B. Němcové 54"},"M","2014M06",null,null,null,null,null,{"$f":"VLOOKUP(M160,Adresy!$A$3:$C$122,2,FALSE)","v":"České Budějovice "},{"$f":"VLOOKUP(M160,Adresy!$A$3:$C$122,3,FALSE)","v":"B. Němcové 54"},0,0,0,0]
["SPECT/CT",null,"Jazyková sada pre Xeleris 3.1",null,null,null,"GE Discovery NM/CT670",null,null,"","bez položkovej identifikácie ceny (v rámci sumárnej ceny)","SW","Nemocnice České Budějovice, a.s.","ČR","GE Medical Systems  s.r.o.",null,1,null,null,{"$f":"IF(N161=\"SR\",1,IF(AC161=\"\",VLOOKUP(AW161,'CZKEUR Xchange rate'!$D$13:$E$234,2,FALSE),VLOOKUP(AW161,'CZKEUR Xchange rate'!$A$13:$B$234,2,FALSE)))","v":27.452999999999999},0,0,null,null,{"$f":"VLOOKUP(AW161,'Cenové indexy '!$D$7:$E$200,2,FALSE)","v":99.5},{"$f":"W161/Y161*'Cenové indexy '!$E$149","v":0},0,2014,null,null,"2013-11-30","Áno","Áno","Neurčené","Nie","24 mesiacov zadarmo, potom 8 rokov podľa zmluvy",null,null,null,"Zmluva 7_MS",null,null,null,null,null,{"$f":"VLOOKUP(M161,Adresy!$A$4:$C$156,2,FALSE)","v":"České Budějovice "},{"$f":"VLOOKUP(M161,Adresy!$A$4:$C$156,3,FALSE)","v":"B. Němcové 54"},"M","2014M06",null,null,null,null,null,{"$f":"VLOOKUP(M161,Adresy!$A$3:$C$122,2,FALSE)","v":"České Budějovice "},{"$f":"VLOOKUP(M161,Adresy!$A$3:$C$122,3,FALSE)","v":"B. Němcové 54"},0,0,0,0]
["SPECT/CT",null,"Monitor 23, LCD",null,null,null,"GE Discovery NM/CT670",null,null,"","bez položkovej identifikácie ceny (v rámci sumárnej ceny)","HW","Nemocnice České Budějovice, a.s.","ČR","GE Medical Systems  s.r.o.",null,1,null,null,{"$f":"IF(N162=\"SR\",1,IF(AC162=\"\",VLOOKUP(AW162,'CZKEUR Xchange rate'!$D$13:$E$234,2,FALSE),VLOOKUP(AW162,'CZKEUR Xchange rate'!$A$13:$B$234,2,FALSE)))","v":27.452999999999999},0,0,null,null,{"$f":"VLOOKUP(AW162,'Cenové indexy '!$D$7:$E$200,2,FALSE)","v":99.5},{"$f":"W162/Y162*'Cenové indexy '!$E$149","v":0},0,2014,null,null,"2013-11-30","Áno","Áno","Neurčené","Nie","24 mesiacov zadarmo, potom 8 rokov podľa zmluvy",null,null,null,"Zmluva 7_MS",null,null,null,null,null,{"$f":"VLOOKUP(M162,Adresy!$A$4:$C$156,2,FALSE)","v":"České Budějovice "},{"$f":"VLOOKUP(M162,Adresy!$A$4:$C$156,3,FALSE)","v":"B. Němcové 54"},"M","2014M06",null,null,null,null,null,{"$f":"VLOOKUP(M162,Adresy!$A$3:$C$122,2,FALSE)","v":"České Budějovice "},{"$f":"VLOOKUP(M162,Adresy!$A$3:$C$122,3,FALSE)","v":"B. Němcové 54"},0,0,0,0]
["SPECT/CT",null,"Kábelová sada",null,null,null,"GE Discovery NM/CT670",null,null,"","bez položkovej identifikácie ceny (v rámci sumárnej ceny)","HW","Nemocnice České Budějovice, a.s.","ČR","GE Medical Systems  s.r.o.",null,1,null,null,{"$f":"IF(N163=\"SR\",1,IF(AC163=\"\",VLOOKUP(AW163,'CZKEUR Xchange rate'!$D$13:$E$234,2,FALSE),VLOOKUP(AW163,'CZKEUR Xchange rate'!$A$13:$B$234,2,FALSE)))","v":27.452999999999999},0,0,null,null,{"$f":"VLOOKUP(AW163,'Cenové indexy '!$D$7:$E$200,2,FALSE)","v":99.5},{"$f":"W163/Y163*'Cenové indexy '!$E$149","v":0},0,2014,null,null,"2013-11-30","Áno","Áno","Neurčené","Nie","24 mesiacov zadarmo, potom 8 rokov podľa zmluvy",null,null,null,"Zmluva 7_MS",null,null,null,null,null,{"$f":"VLOOKUP(M163,Adresy!$A$4:$C$156,2,FALSE)","v":"České Budějovice "},{"$f":"VLOOKUP(M163,Adresy!$A$4:$C$156,3,FALSE)","v":"B. Němcové 54"},"M","2014M06",null,null,null,null,null,{"$f":"VLOOKUP(M163,Adresy!$A$3:$C$122,2,FALSE)","v":"České Budějovice "},{"$f":"VLOOKUP(M163,Adresy!$A$3:$C$122,3,FALSE)","v":"B. Němcové 54"},0,0,0,0]
["SPECT/CT",null,"Kardiologický software 4D-MSPECT",null,null,null,"GE Discovery NM/CT670",null,null,"","bez položkovej identifikácie ceny (v rámci sumárnej ceny)","SW","Nemocnice České Budějovice, a.s.","ČR","GE Medical Systems  s.r.o.",null,1,null,null,{"$f":"IF(N164=\"SR\",1,IF(AC164=\"\",VLOOKUP(AW164,'CZKEUR Xchange rate'!$D$13:$E$234,2,FALSE),VLOOKUP(AW164,'CZKEUR Xchange rate'!$A$13:$B$234,2,FALSE)))","v":27.452999999999999},0,0,null,null,{"$f":"VLOOKUP(AW164,'Cenové indexy '!$D$7:$E$200,2,FALSE)","v":99.5},{"$f":"W164/Y164*'Cenové indexy '!$E$149","v":0},0,2014,null,null,"2013-11-30","Áno","Áno","Neurčené","Nie","24 mesiacov zadarmo, potom 8 rokov podľa zmluvy",null,null,null,"Zmluva 7_MS",null,null,null,null,null,{"$f":"VLOOKUP(M164,Adresy!$A$4:$C$156,2,FALSE)","v":"České Budějovice "},{"$f":"VLOOKUP(M164,Adresy!$A$4:$C$156,3,FALSE)","v":"B. Němcové 54"},"M","2014M06",null,null,null,null,null,{"$f":"VLOOKUP(M164,Adresy!$A$3:$C$122,2,FALSE)","v":"České Budějovice "},{"$f":"VLOOKUP(M164,Adresy!$A$3:$C$122,3,FALSE)","v":"B. Němcové 54"},0,0,0,0]
["SPECT/CT",null,"Software: evolution algorithm",null,"bone and cardiac",null,"GE Discovery NM/CT670",null,null,"","bez položkovej identifikácie ceny (v rámci sumárnej ceny)","SW","Nemocnice České Budějovice, a.s.","ČR","GE Medical Systems  s.r.o.",null,2,null,null,{"$f":"IF(N165=\"SR\",1,IF(AC165=\"\",VLOOKUP(AW165,'CZKEUR Xchange rate'!$D$13:$E$234,2,FALSE),VLOOKUP(AW165,'CZKEUR Xchange rate'!$A$13:$B$234,2,FALSE)))","v":27.452999999999999},0,0,null,null,{"$f":"VLOOKUP(AW165,'Cenové indexy '!$D$7:$E$200,2,FALSE)","v":99.5},{"$f":"W165/Y165*'Cenové indexy '!$E$149","v":0},0,2014,null,null,"2013-11-30","Áno","Áno","Neurčené","Nie","24 mesiacov zadarmo, potom 8 rokov podľa zmluvy",null,null,null,"Zmluva 7_MS",null,null,null,null,null,{"$f":"VLOOKUP(M165,Adresy!$A$4:$C$156,2,FALSE)","v":"České Budějovice "},{"$f":"VLOOKUP(M165,Adresy!$A$4:$C$156,3,FALSE)","v":"B. Němcové 54"},"M","2014M06",null,null,null,null,null,{"$f":"VLOOKUP(M165,Adresy!$A$3:$C$122,2,FALSE)","v":"České Budějovice "},{"$f":"VLOOKUP(M165,Adresy!$A$3:$C$122,3,FALSE)","v":"B. Němcové 54"},0,0,0,0]
["SPECT/CT",null,"Software: evolution bone, planar a cardiac",null,null,null,"GE Discovery NM/CT670",null,null,"","bez položkovej identifikácie ceny (v rámci sumárnej ceny)","SW","Nemocnice České Budějovice, a.s.","ČR","GE Medical Systems  s.r.o.",null,1,null,null,{"$f":"IF(N166=\"SR\",1,IF(AC166=\"\",VLOOKUP(AW166,'CZKEUR Xchange rate'!$D$13:$E$234,2,FALSE),VLOOKUP(AW166,'CZKEUR Xchange rate'!$A$13:$B$234,2,FALSE)))","v":27.452999999999999},0,0,null,null,{"$f":"VLOOKUP(AW166,'Cenové indexy '!$D$7:$E$200,2,FALSE)","v":99.5},{"$f":"W166/Y166*'Cenové indexy '!$E$149","v":0},0,2014,null,null,"2013-11-30","Áno","Áno","Neurčené","Nie","24 mesiacov zadarmo, potom 8 rokov podľa zmluvy",null,null,null,"Zmluva 7_MS",null,null,null,null,null,{"$f":"VLOOKUP(M166,Adresy!$A$4:$C$156,2,FALSE)","v":"České Budějovice "},{"$f":"VLOOKUP(M166,Adresy!$A$4:$C$156,3,FALSE)","v":"B. Němcové 54"},"M","2014M06",null,null,null,null,null,{"$f":"VLOOKUP(M166,Adresy!$A$3:$C$122,2,FALSE)","v":"České Budějovice "},{"$f":"VLOOKUP(M166,Adresy!$A$3:$C$122,3,FALSE)","v":"B. Němcové 54"},0,0,0,0]
["SPECT/CT",null,"Software: neurogam a Neuromatch",null,null,null,"GE Discovery NM/CT670",null,null,"","bez položkovej identifikácie ceny (v rámci sumárnej ceny)","SW","Nemocnice České Budějovice, a.s.","ČR","GE Medical Systems  s.r.o.",null,1,null,null,{"$f":"IF(N167=\"SR\",1,IF(AC167=\"\",VLOOKUP(AW167,'CZKEUR Xchange rate'!$D$13:$E$234,2,FALSE),VLOOKUP(AW167,'CZKEUR Xchange rate'!$A$13:$B$234,2,FALSE)))","v":27.452999999999999},0,0,null,null,{"$f":"VLOOKUP(AW167,'Cenové indexy '!$D$7:$E$200,2,FALSE)","v":99.5},{"$f":"W167/Y167*'Cenové indexy '!$E$149","v":0},0,2014,null,null,"2013-11-30","Áno","Áno","Neurčené","Nie","24 mesiacov zadarmo, potom 8 rokov podľa zmluvy",null,null,null,"Zmluva 7_MS",null,null,null,null,null,{"$f":"VLOOKUP(M167,Adresy!$A$4:$C$156,2,FALSE)","v":"České Budějovice "},{"$f":"VLOOKUP(M167,Adresy!$A$4:$C$156,3,FALSE)","v":"B. Němcové 54"},"M","2014M06",null,null,null,null,null,{"$f":"VLOOKUP(M167,Adresy!$A$3:$C$122,2,FALSE)","v":"České Budějovice "},{"$f":"VLOOKUP(M167,Adresy!$A$3:$C$122,3,FALSE)","v":"B. Němcové 54"},0,0,0,0]
["SPECT/CT",null,"Volumetrix IR",null,null,null,"GE Discovery NM/CT670",null,null,"","bez položkovej identifikácie ceny (v rámci sumárnej ceny)","SW","Nemocnice České Budějovice, a.s.","ČR","GE Medical Systems  s.r.o.",null,1,null,null,{"$f":"IF(N168=\"SR\",1,IF(AC168=\"\",VLOOKUP(AW168,'CZKEUR Xchange rate'!$D$13:$E$234,2,FALSE),VLOOKUP(AW168,'CZKEUR Xchange rate'!$A$13:$B$234,2,FALSE)))","v":27.452999999999999},0,0,null,null,{"$f":"VLOOKUP(AW168,'Cenové indexy '!$D$7:$E$200,2,FALSE)","v":99.5},{"$f":"W168/Y168*'Cenové indexy '!$E$149","v":0},0,2014,null,null,"2013-11-30","Áno","Áno","Neurčené","Nie","24 mesiacov zadarmo, potom 8 rokov podľa zmluvy",null,null,null,"Zmluva 7_MS",null,null,null,null,null,{"$f":"VLOOKUP(M168,Adresy!$A$4:$C$156,2,FALSE)","v":"České Budějovice "},{"$f":"VLOOKUP(M168,Adresy!$A$4:$C$156,3,FALSE)","v":"B. Němcové 54"},"M","2014M06",null,null,null,null,null,{"$f":"VLOOKUP(M168,Adresy!$A$3:$C$122,2,FALSE)","v":"České Budějovice "},{"$f":"VLOOKUP(M168,Adresy!$A$3:$C$122,3,FALSE)","v":"B. Němcové 54"},0,0,0,0]
["SPECT/CT",null,"Volumetrix 3D",null,null,null,"GE Discovery NM/CT670",null,null,"","bez položkovej identifikácie ceny (v rámci sumárnej ceny)","SW","Nemocnice České Budějovice, a.s.","ČR","GE Medical Systems  s.r.o.",null,1,null,null,{"$f":"IF(N169=\"SR\",1,IF(AC169=\"\",VLOOKUP(AW169,'CZKEUR Xchange rate'!$D$13:$E$234,2,FALSE),VLOOKUP(AW169,'CZKEUR Xchange rate'!$A$13:$B$234,2,FALSE)))","v":27.452999999999999},{"$f":"R169/T169","v":0},{"$f":"S169/T169","v":0},null,null,{"$f":"VLOOKUP(AW169,'Cenové indexy '!$D$7:$E$200,2,FALSE)","v":99.5},{"$f":"W169/Y169*'Cenové indexy '!$E$149","v":0},0,2014,null,null,"2013-11-30","Áno","Áno","Neurčené","Nie","24 mesiacov zadarmo, potom 8 rokov podľa zmluvy",null,null,null,"Zmluva 7_MS",null,null,null,null,null,{"$f":"VLOOKUP(M169,Adresy!$A$4:$C$156,2,FALSE)","v":"České Budějovice "},{"$f":"VLOOKUP(M169,Adresy!$A$4:$C$156,3,FALSE)","v":"B. Němcové 54"},"M","2014M06",null,null,null,null,null,{"$f":"VLOOKUP(M169,Adresy!$A$3:$C$122,2,FALSE)","v":"České Budějovice "},{"$f":"VLOOKUP(M169,Adresy!$A$3:$C$122,3,FALSE)","v":"B. Němcové 54"},0,0,0,0]
["SPECT/CT",null,"Monitor",null,"IVY 3000m  RWAWE",null,"GE Discovery NM/CT670",null,null,"","bez položkovej identifikácie ceny (v rámci sumárnej ceny)","HW","Nemocnice České Budějovice, a.s.","ČR","GE Medical Systems  s.r.o.",null,1,null,null,{"$f":"IF(N170=\"SR\",1,IF(AC170=\"\",VLOOKUP(AW170,'CZKEUR Xchange rate'!$D$13:$E$234,2,FALSE),VLOOKUP(AW170,'CZKEUR Xchange rate'!$A$13:$B$234,2,FALSE)))","v":27.452999999999999},0,0,null,null,{"$f":"VLOOKUP(AW170,'Cenové indexy '!$D$7:$E$200,2,FALSE)","v":99.5},{"$f":"W170/Y170*'Cenové indexy '!$E$149","v":0},0,2014,null,null,"2013-11-30","Áno","Áno","Neurčené","Nie","24 mesiacov zadarmo, potom 8 rokov podľa zmluvy",null,null,null,"Zmluva 7_MS",null,null,null,null,null,{"$f":"VLOOKUP(M170,Adresy!$A$4:$C$156,2,FALSE)","v":"České Budějovice "},{"$f":"VLOOKUP(M170,Adresy!$A$4:$C$156,3,FALSE)","v":"B. Němcové 54"},"M","2014M06",null,null,null,null,null,{"$f":"VLOOKUP(M170,Adresy!$A$3:$C$122,2,FALSE)","v":"České Budějovice "},{"$f":"VLOOKUP(M170,Adresy!$A$3:$C$122,3,FALSE)","v":"B. Němcové 54"},0,0,0,0]
["SPECT/CT",null,"Fantom Hine Duley",null,null,null,"GE Discovery NM/CT670",null,null,"","bez položkovej identifikácie ceny (v rámci sumárnej ceny)","HW","Nemocnice České Budějovice, a.s.","ČR","GE Medical Systems  s.r.o.",null,1,null,null,{"$f":"IF(N171=\"SR\",1,IF(AC171=\"\",VLOOKUP(AW171,'CZKEUR Xchange rate'!$D$13:$E$234,2,FALSE),VLOOKUP(AW171,'CZKEUR Xchange rate'!$A$13:$B$234,2,FALSE)))","v":27.452999999999999},0,0,null,null,{"$f":"VLOOKUP(AW171,'Cenové indexy '!$D$7:$E$200,2,FALSE)","v":99.5},{"$f":"W171/Y171*'Cenové indexy '!$E$149","v":0},0,2014,null,null,"2013-11-30","Áno","Áno","Neurčené","Nie","24 mesiacov zadarmo, potom 8 rokov podľa zmluvy",null,null,null,"Zmluva 7_MS",null,null,null,null,null,{"$f":"VLOOKUP(M171,Adresy!$A$4:$C$156,2,FALSE)","v":"České Budějovice "},{"$f":"VLOOKUP(M171,Adresy!$A$4:$C$156,3,FALSE)","v":"B. Němcové 54"},"M","2014M06",null,null,null,null,null,{"$f":"VLOOKUP(M171,Adresy!$A$3:$C$122,2,FALSE)","v":"České Budějovice "},{"$f":"VLOOKUP(M171,Adresy!$A$3:$C$122,3,FALSE)","v":"B. Němcové 54"},0,0,0,0]
["SPECT/CT",null,"Zdroj co-57",null,null,null,"GE Discovery NM/CT670",null,null,"","bez položkovej identifikácie ceny (v rámci sumárnej ceny)","HW","Nemocnice České Budějovice, a.s.","ČR","GE Medical Systems  s.r.o.",null,1,null,null,{"$f":"IF(N172=\"SR\",1,IF(AC172=\"\",VLOOKUP(AW172,'CZKEUR Xchange rate'!$D$13:$E$234,2,FALSE),VLOOKUP(AW172,'CZKEUR Xchange rate'!$A$13:$B$234,2,FALSE)))","v":27.452999999999999},0,0,null,null,{"$f":"VLOOKUP(AW172,'Cenové indexy '!$D$7:$E$200,2,FALSE)","v":99.5},{"$f":"W172/Y172*'Cenové indexy '!$E$149","v":0},0,2014,null,null,"2013-11-30","Áno","Áno","Neurčené","Nie","24 mesiacov zadarmo, potom 8 rokov podľa zmluvy",null,null,null,"Zmluva 7_MS",null,null,null,null,null,{"$f":"VLOOKUP(M172,Adresy!$A$4:$C$156,2,FALSE)","v":"České Budějovice "},{"$f":"VLOOKUP(M172,Adresy!$A$4:$C$156,3,FALSE)","v":"B. Němcové 54"},"M","2014M06",null,null,null,null,null,{"$f":"VLOOKUP(M172,Adresy!$A$3:$C$122,2,FALSE)","v":"České Budějovice "},{"$f":"VLOOKUP(M172,Adresy!$A$3:$C$122,3,FALSE)","v":"B. Němcové 54"},0,0,0,0]
["SPECT/CT",null,"Ostatné stacionárne vybavenie",null,null,null,"GE Discovery NM/CT670",null,null,"","bez položkovej identifikácie ceny (v rámci sumárnej ceny)","HW","Nemocnice České Budějovice, a.s.","ČR","GE Medical Systems  s.r.o.",null,1,null,null,{"$f":"IF(N173=\"SR\",1,IF(AC173=\"\",VLOOKUP(AW173,'CZKEUR Xchange rate'!$D$13:$E$234,2,FALSE),VLOOKUP(AW173,'CZKEUR Xchange rate'!$A$13:$B$234,2,FALSE)))","v":27.452999999999999},0,0,null,null,{"$f":"VLOOKUP(AW173,'Cenové indexy '!$D$7:$E$200,2,FALSE)","v":99.5},{"$f":"W173/Y173*'Cenové indexy '!$E$149","v":0},0,2014,null,null,"2013-11-30","Áno","Áno","Neurčené","Nie","24 mesiacov zadarmo, potom 8 rokov podľa zmluvy",null,null,null,"Zmluva 7_MS",null,null,null,null,null,{"$f":"VLOOKUP(M173,Adresy!$A$4:$C$156,2,FALSE)","v":"České Budějovice "},{"$f":"VLOOKUP(M173,Adresy!$A$4:$C$156,3,FALSE)","v":"B. Němcové 54"},"M","2014M06",null,null,null,null,null,{"$f":"VLOOKUP(M173,Adresy!$A$3:$C$122,2,FALSE)","v":"České Budějovice "},{"$f":"VLOOKUP(M173,Adresy!$A$3:$C$122,3,FALSE)","v":"B. Němcové 54"},0,0,0,0]
["SPECT/CT",null,"Pozáručný servis  (8 rokov po záruke)",null,"8 rokov po záručnej dobe",null,"GE Discovery NM/CT670",null,null,"","bez položkovej identifikácie ceny (v rámci sumárnej ceny)","služby","Nemocnice České Budějovice, a.s.","ČR","GE Medical Systems  s.r.o.",null,1,8000000,9680000,{"$f":"IF(N174=\"SR\",1,IF(AC174=\"\",VLOOKUP(AW174,'CZKEUR Xchange rate'!$D$13:$E$234,2,FALSE),VLOOKUP(AW174,'CZKEUR Xchange rate'!$A$13:$B$234,2,FALSE)))","v":27.452999999999999},291407.13218956033,352602.62994936801,{"$f":"U174/Q174","v":291407.13218956033},{"$f":"V174/Q174","v":352602.62994936801},{"$f":"VLOOKUP(AW174,'Cenové indexy '!$D$7:$E$200,2,FALSE)","v":99.5},{"$f":"W174/Y174*'Cenové indexy '!$E$149","v":302038.36726341059},362446.04071609268,2014,null,null,"2013-11-30",null,null,null,null,null,null,null,null,"Zmluva 7_MS",null,null,null,null,null,{"$f":"VLOOKUP(M174,Adresy!$A$4:$C$156,2,FALSE)","v":"České Budějovice "},{"$f":"VLOOKUP(M174,Adresy!$A$4:$C$156,3,FALSE)","v":"B. Němcové 54"},"M","2014M06",null,null,null,null,null,{"$f":"VLOOKUP(M174,Adresy!$A$3:$C$122,2,FALSE)","v":"České Budějovice "},{"$f":"VLOOKUP(M174,Adresy!$A$3:$C$122,3,FALSE)","v":"B. Němcové 54"},0,0,0,0]
["SPECT/CT",null,"Celá zostava",null,null,null,"Mediso AnyScan SC",null,null,"","sumárna cena","HW/SW","Masarykov onkologický ústav","ČR","BANK.SYS s.r.o.",null,1,10850000,12369000,{"$f":"IF(N175=\"SR\",1,IF(AC175=\"\",VLOOKUP(AW175,'CZKEUR Xchange rate'!$D$13:$E$234,2,FALSE),VLOOKUP(AW175,'CZKEUR Xchange rate'!$A$13:$B$234,2,FALSE)))","v":25.64},423166.92667706707,482410.29641185649,423166.92667706707,482410.29641185649,{"$f":"VLOOKUP(AW175,'Cenové indexy '!$D$7:$E$200,2,FALSE)","v":96.04},{"$f":"W175/Y175*'Cenové indexy '!$E$149","v":454406.55089760438},545287.86107712518,2012,null,null,"2011-11-30","Áno","Áno","Neurčené","Nie","24 mesiacov zadarmo, potom (?)",null,null,null,"Zmluva 8_MS",null,null,null,null,null,{"$f":"VLOOKUP(M175,Adresy!$A$4:$C$156,2,FALSE)","v":"Brno"},{"$f":"VLOOKUP(M175,Adresy!$A$4:$C$156,3,FALSE)","v":"Žlutý kopec 543/7"},"M","2012M06",null,null,null,null,null,{"$f":"VLOOKUP(M175,Adresy!$A$3:$C$122,2,FALSE)","v":"Brno"},{"$f":"VLOOKUP(M175,Adresy!$A$3:$C$122,3,FALSE)","v":"Žlutý kopec 543/7"},0,0,0,0]
["SPECT/CT",null,"SPECT ganty",null,null,null,"Mediso AnyScan SC",null,null,"","položková cena (súčasť sumárnej ceny)","HW","Masarykov onkologický ústav","ČR","BANK.SYS s.r.o.",null,1,3800000,{"$f":"R176*1.14","v":4332000},{"$f":"IF(N176=\"SR\",1,IF(AC176=\"\",VLOOKUP(AW176,'CZKEUR Xchange rate'!$D$13:$E$234,2,FALSE),VLOOKUP(AW176,'CZKEUR Xchange rate'!$A$13:$B$234,2,FALSE)))","v":25.64},148205.92823712947,168954.75819032762,148205.92823712947,168954.75819032762,{"$f":"VLOOKUP(AW176,'Cenové indexy '!$D$7:$E$200,2,FALSE)","v":96.04},{"$f":"W176/Y176*'Cenové indexy '!$E$149","v":159146.99478441442},190976.3937412973,2012,null,null,"2011-11-30","Áno","Áno","Neurčené","Nie","24 mesiacov zadarmo, potom (?)",null,null,null,"Zmluva 8_MS",null,null,null,null,null,{"$f":"VLOOKUP(M176,Adresy!$A$4:$C$156,2,FALSE)","v":"Brno"},{"$f":"VLOOKUP(M176,Adresy!$A$4:$C$156,3,FALSE)","v":"Žlutý kopec 543/7"},"M","2012M06",null,null,null,null,null,{"$f":"VLOOKUP(M176,Adresy!$A$3:$C$122,2,FALSE)","v":"Brno"},{"$f":"VLOOKUP(M176,Adresy!$A$3:$C$122,3,FALSE)","v":"Žlutý kopec 543/7"},0,0,0,0]
["SPECT/CT",null,"CT ganty",null,null,null,"Mediso AnyScan SC",null,null,"","položková cena (súčasť sumárnej ceny)","HW","Masarykov onkologický ústav","ČR","BANK.SYS s.r.o.",null,1,3750000,4275000,{"$f":"IF(N177=\"SR\",1,IF(AC177=\"\",VLOOKUP(AW177,'CZKEUR Xchange rate'!$D$13:$E$234,2,FALSE),VLOOKUP(AW177,'CZKEUR Xchange rate'!$A$13:$B$234,2,FALSE)))","v":25.64},146255.85023400935,166731.66926677068,146255.85023400935,166731.66926677068,{"$f":"VLOOKUP(AW177,'Cenové indexy '!$D$7:$E$200,2,FALSE)","v":96.04},{"$f":"W177/Y177*'Cenové indexy '!$E$149","v":157052.95537935634},188463.5464552276,2012,null,null,"2011-11-30","Áno","Áno","Neurčené","Nie","24 mesiacov zadarmo, potom (?)",null,null,null,"Zmluva 8_MS",null,null,null,null,null,{"$f":"VLOOKUP(M177,Adresy!$A$4:$C$156,2,FALSE)","v":"Brno"},{"$f":"VLOOKUP(M177,Adresy!$A$4:$C$156,3,FALSE)","v":"Žlutý kopec 543/7"},"M","2012M06",null,null,null,null,null,{"$f":"VLOOKUP(M177,Adresy!$A$3:$C$122,2,FALSE)","v":"Brno"},{"$f":"VLOOKUP(M177,Adresy!$A$3:$C$122,3,FALSE)","v":"Žlutý kopec 543/7"},0,0,0,0]
["SPECT/CT",null,"Pacientský stôl",null,null,null,"Mediso AnyScan SC",null,null,"","položková cena (súčasť sumárnej ceny)","HW","Masarykov onkologický ústav","ČR","BANK.SYS s.r.o.",null,1,400000,455999.99999999994,{"$f":"IF(N178=\"SR\",1,IF(AC178=\"\",VLOOKUP(AW178,'CZKEUR Xchange rate'!$D$13:$E$234,2,FALSE),VLOOKUP(AW178,'CZKEUR Xchange rate'!$A$13:$B$234,2,FALSE)))","v":25.64},15600.624024960998,17784.711388455537,15600.624024960998,17784.711388455537,{"$f":"VLOOKUP(AW178,'Cenové indexy '!$D$7:$E$200,2,FALSE)","v":96.04},{"$f":"W178/Y178*'Cenové indexy '!$E$149","v":16752.315240464679},20102.778288557613,2012,null,null,"2011-11-30","Áno","Áno","Neurčené","Nie","24 mesiacov zadarmo, potom (?)",null,null,null,"Zmluva 8_MS",null,null,null,null,null,{"$f":"VLOOKUP(M178,Adresy!$A$4:$C$156,2,FALSE)","v":"Brno"},{"$f":"VLOOKUP(M178,Adresy!$A$4:$C$156,3,FALSE)","v":"Žlutý kopec 543/7"},"M","2012M06",null,null,null,null,null,{"$f":"VLOOKUP(M178,Adresy!$A$3:$C$122,2,FALSE)","v":"Brno"},{"$f":"VLOOKUP(M178,Adresy!$A$3:$C$122,3,FALSE)","v":"Žlutý kopec 543/7"},0,0,0,0]
["SPECT/CT",null,"Akvizičná konzola vrátane SW",null,null,null,"Mediso AnyScan SC",null,null,"","položková cena (súčasť sumárnej ceny)","HW/SW","Masarykov onkologický ústav","ČR","BANK.SYS s.r.o.",null,1,400000,455999.99999999994,{"$f":"IF(N179=\"SR\",1,IF(AC179=\"\",VLOOKUP(AW179,'CZKEUR Xchange rate'!$D$13:$E$234,2,FALSE),VLOOKUP(AW179,'CZKEUR Xchange rate'!$A$13:$B$234,2,FALSE)))","v":25.64},15600.624024960998,17784.711388455537,15600.624024960998,17784.711388455537,{"$f":"VLOOKUP(AW179,'Cenové indexy '!$D$7:$E$200,2,FALSE)","v":96.04},{"$f":"W179/Y179*'Cenové indexy '!$E$149","v":16752.315240464679},20102.778288557613,2012,null,null,"2011-11-30","Áno","Áno","Neurčené","Nie","24 mesiacov zadarmo, potom (?)",null,null,null,"Zmluva 8_MS",null,null,null,null,null,{"$f":"VLOOKUP(M179,Adresy!$A$4:$C$156,2,FALSE)","v":"Brno"},{"$f":"VLOOKUP(M179,Adresy!$A$4:$C$156,3,FALSE)","v":"Žlutý kopec 543/7"},"M","2012M06",null,null,null,null,null,{"$f":"VLOOKUP(M179,Adresy!$A$3:$C$122,2,FALSE)","v":"Brno"},{"$f":"VLOOKUP(M179,Adresy!$A$3:$C$122,3,FALSE)","v":"Žlutý kopec 543/7"},0,0,0,0]
["SPECT/CT",null,"EKG zariadenie pre gateovanie",null,null,null,"Mediso AnyScan SC",null,null,"","položková cena (súčasť sumárnej ceny)","HW","Masarykov onkologický ústav","ČR","BANK.SYS s.r.o.",null,1,50000,56999.999999999993,{"$f":"IF(N180=\"SR\",1,IF(AC180=\"\",VLOOKUP(AW180,'CZKEUR Xchange rate'!$D$13:$E$234,2,FALSE),VLOOKUP(AW180,'CZKEUR Xchange rate'!$A$13:$B$234,2,FALSE)))","v":25.64},1950.0780031201248,2223.0889235569421,1950.0780031201248,2223.0889235569421,{"$f":"VLOOKUP(AW180,'Cenové indexy '!$D$7:$E$200,2,FALSE)","v":96.04},{"$f":"W180/Y180*'Cenové indexy '!$E$149","v":2094.0394050580849},2512.8472860697016,2012,null,null,"2011-11-30","Áno","Áno","Neurčené","Nie","24 mesiacov zadarmo, potom (?)",null,null,null,"Zmluva 8_MS",null,null,null,null,null,{"$f":"VLOOKUP(M180,Adresy!$A$4:$C$156,2,FALSE)","v":"Brno"},{"$f":"VLOOKUP(M180,Adresy!$A$4:$C$156,3,FALSE)","v":"Žlutý kopec 543/7"},"M","2012M06",null,null,null,null,null,{"$f":"VLOOKUP(M180,Adresy!$A$3:$C$122,2,FALSE)","v":"Brno"},{"$f":"VLOOKUP(M180,Adresy!$A$3:$C$122,3,FALSE)","v":"Žlutý kopec 543/7"},0,0,0,0]
["SPECT/CT",null,"Kolimátor pre nízke energie, vysoké rozlíšenie",null,null,null,"Mediso AnyScan SC",null,null,"","položková cena (súčasť sumárnej ceny)","HW","Masarykov onkologický ústav","ČR","BANK.SYS s.r.o.",null,1,450000,512999.99999999994,{"$f":"IF(N181=\"SR\",1,IF(AC181=\"\",VLOOKUP(AW181,'CZKEUR Xchange rate'!$D$13:$E$234,2,FALSE),VLOOKUP(AW181,'CZKEUR Xchange rate'!$A$13:$B$234,2,FALSE)))","v":25.64},17550.702028081123,20007.800312012478,17550.702028081123,20007.800312012478,{"$f":"VLOOKUP(AW181,'Cenové indexy '!$D$7:$E$200,2,FALSE)","v":96.04},{"$f":"W181/Y181*'Cenové indexy '!$E$149","v":18846.354645522762},22615.625574627313,2012,null,null,"2011-11-30","Áno","Áno","Neurčené","Nie","24 mesiacov zadarmo, potom (?)",null,null,null,"Zmluva 8_MS",null,null,null,null,null,{"$f":"VLOOKUP(M181,Adresy!$A$4:$C$156,2,FALSE)","v":"Brno"},{"$f":"VLOOKUP(M181,Adresy!$A$4:$C$156,3,FALSE)","v":"Žlutý kopec 543/7"},"M","2012M06",null,null,null,null,null,{"$f":"VLOOKUP(M181,Adresy!$A$3:$C$122,2,FALSE)","v":"Brno"},{"$f":"VLOOKUP(M181,Adresy!$A$3:$C$122,3,FALSE)","v":"Žlutý kopec 543/7"},0,0,0,0]
["SPECT/CT",null,"Kolimátor pre stredné energie",null,null,null,"Mediso AnyScan SC",null,null,"","položková cena (súčasť sumárnej ceny)","HW","Masarykov onkologický ústav","ČR","BANK.SYS s.r.o.",null,1,450000,512999.99999999994,{"$f":"IF(N182=\"SR\",1,IF(AC182=\"\",VLOOKUP(AW182,'CZKEUR Xchange rate'!$D$13:$E$234,2,FALSE),VLOOKUP(AW182,'CZKEUR Xchange rate'!$A$13:$B$234,2,FALSE)))","v":25.64},17550.702028081123,20007.800312012478,17550.702028081123,20007.800312012478,{"$f":"VLOOKUP(AW182,'Cenové indexy '!$D$7:$E$200,2,FALSE)","v":96.04},{"$f":"W182/Y182*'Cenové indexy '!$E$149","v":18846.354645522762},22615.625574627313,2012,null,null,"2011-11-30","Áno","Áno","Neurčené","Nie","24 mesiacov zadarmo, potom (?)",null,null,null,"Zmluva 8_MS",null,null,null,null,null,{"$f":"VLOOKUP(M182,Adresy!$A$4:$C$156,2,FALSE)","v":"Brno"},{"$f":"VLOOKUP(M182,Adresy!$A$4:$C$156,3,FALSE)","v":"Žlutý kopec 543/7"},"M","2012M06",null,null,null,null,null,{"$f":"VLOOKUP(M182,Adresy!$A$3:$C$122,2,FALSE)","v":"Brno"},{"$f":"VLOOKUP(M182,Adresy!$A$3:$C$122,3,FALSE)","v":"Žlutý kopec 543/7"},0,0,0,0]
["SPECT/CT",null,"Injektor kontrastných látok",null,"OptiVantage DH",null,"Mediso AnyScan SC",null,null,"","položková cena (súčasť sumárnej ceny)","HW","Masarykov onkologický ústav","ČR","BANK.SYS s.r.o.",null,1,550000,627000,{"$f":"IF(N183=\"SR\",1,IF(AC183=\"\",VLOOKUP(AW183,'CZKEUR Xchange rate'!$D$13:$E$234,2,FALSE),VLOOKUP(AW183,'CZKEUR Xchange rate'!$A$13:$B$234,2,FALSE)))","v":25.64},21450.858034321373,24453.978159126364,21450.858034321373,24453.978159126364,{"$f":"VLOOKUP(AW183,'Cenové indexy '!$D$7:$E$200,2,FALSE)","v":96.04},{"$f":"W183/Y183*'Cenové indexy '!$E$149","v":23034.433455638933},27641.32014676672,2012,null,null,"2011-11-30","Áno","Áno","Neurčené","Nie","24 mesiacov zadarmo, potom (?)",null,null,null,"Zmluva 8_MS",null,null,null,null,null,{"$f":"VLOOKUP(M183,Adresy!$A$4:$C$156,2,FALSE)","v":"Brno"},{"$f":"VLOOKUP(M183,Adresy!$A$4:$C$156,3,FALSE)","v":"Žlutý kopec 543/7"},"M","2012M06",null,null,null,null,null,{"$f":"VLOOKUP(M183,Adresy!$A$3:$C$122,2,FALSE)","v":"Brno"},{"$f":"VLOOKUP(M183,Adresy!$A$3:$C$122,3,FALSE)","v":"Žlutý kopec 543/7"},0,0,0,0]
["SPECT/CT",null,"Hodnotiace stanice vrátane SW",null,null,null,"Mediso AnyScan SC",null,null,"","položková cena (súčasť sumárnej ceny)","HW/SW","Masarykov onkologický ústav","ČR","BANK.SYS s.r.o.",null,2,960000,1094400,{"$f":"IF(N184=\"SR\",1,IF(AC184=\"\",VLOOKUP(AW184,'CZKEUR Xchange rate'!$D$13:$E$234,2,FALSE),VLOOKUP(AW184,'CZKEUR Xchange rate'!$A$13:$B$234,2,FALSE)))","v":25.64},37441.497659906396,42683.307332293291,18720.748829953198,21341.653666146645,{"$f":"VLOOKUP(AW184,'Cenové indexy '!$D$7:$E$200,2,FALSE)","v":96.04},{"$f":"W184/Y184*'Cenové indexy '!$E$149","v":20102.778288557613},24123.333946269133,2012,null,null,"2011-11-30","Áno","Áno","Neurčené","Nie","24 mesiacov zadarmo, potom (?)",null,null,null,"Zmluva 8_MS",null,null,null,null,null,{"$f":"VLOOKUP(M184,Adresy!$A$4:$C$156,2,FALSE)","v":"Brno"},{"$f":"VLOOKUP(M184,Adresy!$A$4:$C$156,3,FALSE)","v":"Žlutý kopec 543/7"},"M","2012M06",null,null,null,null,null,{"$f":"VLOOKUP(M184,Adresy!$A$3:$C$122,2,FALSE)","v":"Brno"},{"$f":"VLOOKUP(M184,Adresy!$A$3:$C$122,3,FALSE)","v":"Žlutý kopec 543/7"},0,0,0,0]
["SPECT/CT",null,"Farebná laserová talčiareň",null,null,null,"Mediso AnyScan SC",null,null,"","položková cena (súčasť sumárnej ceny)","HW","Masarykov onkologický ústav","ČR","BANK.SYS s.r.o.",null,1,40000,45599.999999999993,{"$f":"IF(N185=\"SR\",1,IF(AC185=\"\",VLOOKUP(AW185,'CZKEUR Xchange rate'!$D$13:$E$234,2,FALSE),VLOOKUP(AW185,'CZKEUR Xchange rate'!$A$13:$B$234,2,FALSE)))","v":25.64},1560.0624024960998,1778.4711388455535,1560.0624024960998,1778.4711388455535,{"$f":"VLOOKUP(AW185,'Cenové indexy '!$D$7:$E$200,2,FALSE)","v":96.04},{"$f":"W185/Y185*'Cenové indexy '!$E$149","v":1675.2315240464675},2010.2778288557608,2012,null,null,"2011-11-30","Áno","Áno","Neurčené","Nie","24 mesiacov zadarmo, potom (?)",null,null,null,"Zmluva 8_MS",null,null,null,null,null,{"$f":"VLOOKUP(M185,Adresy!$A$4:$C$156,2,FALSE)","v":"Brno"},{"$f":"VLOOKUP(M185,Adresy!$A$4:$C$156,3,FALSE)","v":"Žlutý kopec 543/7"},"M","2012M06",null,null,null,null,null,{"$f":"VLOOKUP(M185,Adresy!$A$3:$C$122,2,FALSE)","v":"Brno"},{"$f":"VLOOKUP(M185,Adresy!$A$3:$C$122,3,FALSE)","v":"Žlutý kopec 543/7"},0,0,0,0]
["SPECT/CT",null,"Celá zostava",null,null,null,"PHILIPS BrightView XCT",null,null,"","sumárna cena","HW/SW","Krajská nemocnice Liberec, a.s.","ČR","EDOMED a.s.",null,1,14094000,17053740,{"$f":"IF(N186=\"SR\",1,IF(AC186=\"\",VLOOKUP(AW186,'CZKEUR Xchange rate'!$D$13:$E$234,2,FALSE),VLOOKUP(AW186,'CZKEUR Xchange rate'!$A$13:$B$234,2,FALSE)))","v":27.452999999999999},513386.51513495797,621197.68331329909,513386.51513495797,621197.68331329909,{"$f":"VLOOKUP(AW186,'Cenové indexy '!$D$7:$E$200,2,FALSE)","v":99.5},{"$f":"W186/Y186*'Cenové indexy '!$E$149","v":532116.09352631366},638539.31223157642,2014,null,null,"2013-11-30","Áno","Áno","Neurčené","Nie","24 mesiacov zadarmo, potom (?)",null,null,null,"Zmluva 9_MS",null,null,null,null,null,{"$f":"VLOOKUP(M186,Adresy!$A$4:$C$156,2,FALSE)","v":"Liberec"},{"$f":"VLOOKUP(M186,Adresy!$A$4:$C$156,3,FALSE)","v":"Husova 357/10"},"M","2014M06",null,null,null,null,null,{"$f":"VLOOKUP(M186,Adresy!$A$3:$C$122,2,FALSE)","v":"Liberec"},{"$f":"VLOOKUP(M186,Adresy!$A$3:$C$122,3,FALSE)","v":"Husova 357/10"},0,0,0,0]
["SPECT/CT",null,"SPECT/CT kamera",null,null,null,"PHILIPS BrightView XCT",null,null,"","bez položkovej identifikácie ceny (v rámci sumárnej ceny)","HW","Krajská nemocnice Liberec, a.s.","ČR","EDOMED a.s.",null,1,null,null,{"$f":"IF(N187=\"SR\",1,IF(AC187=\"\",VLOOKUP(AW187,'CZKEUR Xchange rate'!$D$13:$E$234,2,FALSE),VLOOKUP(AW187,'CZKEUR Xchange rate'!$A$13:$B$234,2,FALSE)))","v":27.452999999999999},0,0,null,null,{"$f":"VLOOKUP(AW187,'Cenové indexy '!$D$7:$E$200,2,FALSE)","v":99.5},{"$f":"W187/Y187*'Cenové indexy '!$E$149","v":0},0,2014,null,null,"2013-11-30","Áno","Áno","Neurčené","Nie","24 mesiacov zadarmo, potom (?)",null,null,null,"Zmluva 9_MS",null,null,null,null,null,{"$f":"VLOOKUP(M187,Adresy!$A$4:$C$156,2,FALSE)","v":"Liberec"},{"$f":"VLOOKUP(M187,Adresy!$A$4:$C$156,3,FALSE)","v":"Husova 357/10"},"M","2014M06",null,null,null,null,null,{"$f":"VLOOKUP(M187,Adresy!$A$3:$C$122,2,FALSE)","v":"Liberec"},{"$f":"VLOOKUP(M187,Adresy!$A$3:$C$122,3,FALSE)","v":"Husova 357/10"},0,0,0,0]
["SPECT/CT",null,"Akvizičná konzola",null,null,null,"PHILIPS BrightView XCT",null,null,"","bez položkovej identifikácie ceny (v rámci sumárnej ceny)","HW","Krajská nemocnice Liberec, a.s.","ČR","EDOMED a.s.",null,1,null,null,{"$f":"IF(N188=\"SR\",1,IF(AC188=\"\",VLOOKUP(AW188,'CZKEUR Xchange rate'!$D$13:$E$234,2,FALSE),VLOOKUP(AW188,'CZKEUR Xchange rate'!$A$13:$B$234,2,FALSE)))","v":27.452999999999999},0,0,null,null,{"$f":"VLOOKUP(AW188,'Cenové indexy '!$D$7:$E$200,2,FALSE)","v":99.5},{"$f":"W188/Y188*'Cenové indexy '!$E$149","v":0},0,2014,null,null,"2013-11-30","Áno","Áno","Neurčené","Nie","24 mesiacov zadarmo, potom (?)",null,null,null,"Zmluva 9_MS",null,null,null,null,null,{"$f":"VLOOKUP(M188,Adresy!$A$4:$C$156,2,FALSE)","v":"Liberec"},{"$f":"VLOOKUP(M188,Adresy!$A$4:$C$156,3,FALSE)","v":"Husova 357/10"},"M","2014M06",null,null,null,null,null,{"$f":"VLOOKUP(M188,Adresy!$A$3:$C$122,2,FALSE)","v":"Liberec"},{"$f":"VLOOKUP(M188,Adresy!$A$3:$C$122,3,FALSE)","v":"Husova 357/10"},0,0,0,0]
["SPECT/CT",null,"Rozšírenie pracovnej stanice použitím dvoch monitorov",null,null,null,"PHILIPS BrightView XCT",null,null,"","bez položkovej identifikácie ceny (v rámci sumárnej ceny)","HW","Krajská nemocnice Liberec, a.s.","ČR","EDOMED a.s.",null,1,null,null,{"$f":"IF(N189=\"SR\",1,IF(AC189=\"\",VLOOKUP(AW189,'CZKEUR Xchange rate'!$D$13:$E$234,2,FALSE),VLOOKUP(AW189,'CZKEUR Xchange rate'!$A$13:$B$234,2,FALSE)))","v":27.452999999999999},0,0,null,null,{"$f":"VLOOKUP(AW189,'Cenové indexy '!$D$7:$E$200,2,FALSE)","v":99.5},{"$f":"W189/Y189*'Cenové indexy '!$E$149","v":0},0,2014,null,null,"2013-11-30","Áno","Áno","Neurčené","Nie","24 mesiacov zadarmo, potom (?)",null,null,null,"Zmluva 9_MS",null,null,null,null,null,{"$f":"VLOOKUP(M189,Adresy!$A$4:$C$156,2,FALSE)","v":"Liberec"},{"$f":"VLOOKUP(M189,Adresy!$A$4:$C$156,3,FALSE)","v":"Husova 357/10"},"M","2014M06",null,null,null,null,null,{"$f":"VLOOKUP(M189,Adresy!$A$3:$C$122,2,FALSE)","v":"Liberec"},{"$f":"VLOOKUP(M189,Adresy!$A$3:$C$122,3,FALSE)","v":"Husova 357/10"},0,0,0,0]
["SPECT/CT",null,"Kit pre pohodlie pacienta",null,"BV XCT Premium comfort kit",null,"PHILIPS BrightView XCT",null,null,"","bez položkovej identifikácie ceny (v rámci sumárnej ceny)","HW","Krajská nemocnice Liberec, a.s.","ČR","EDOMED a.s.",null,1,null,null,{"$f":"IF(N190=\"SR\",1,IF(AC190=\"\",VLOOKUP(AW190,'CZKEUR Xchange rate'!$D$13:$E$234,2,FALSE),VLOOKUP(AW190,'CZKEUR Xchange rate'!$A$13:$B$234,2,FALSE)))","v":27.452999999999999},0,0,null,null,{"$f":"VLOOKUP(AW190,'Cenové indexy '!$D$7:$E$200,2,FALSE)","v":99.5},{"$f":"W190/Y190*'Cenové indexy '!$E$149","v":0},0,2014,null,null,"2013-11-30","Áno","Áno","Neurčené","Nie","24 mesiacov zadarmo, potom (?)",null,null,null,"Zmluva 9_MS",null,null,null,null,null,{"$f":"VLOOKUP(M190,Adresy!$A$4:$C$156,2,FALSE)","v":"Liberec"},{"$f":"VLOOKUP(M190,Adresy!$A$4:$C$156,3,FALSE)","v":"Husova 357/10"},"M","2014M06",null,null,null,null,null,{"$f":"VLOOKUP(M190,Adresy!$A$3:$C$122,2,FALSE)","v":"Liberec"},{"$f":"VLOOKUP(M190,Adresy!$A$3:$C$122,3,FALSE)","v":"Husova 357/10"},0,0,0,0]
["SPECT/CT",null,"Zdroj pre kalibračné procedúry",null,"PASY, GD-153",null,"PHILIPS BrightView XCT",null,null,"","bez položkovej identifikácie ceny (v rámci sumárnej ceny)","HW","Krajská nemocnice Liberec, a.s.","ČR","EDOMED a.s.",null,1,null,null,{"$f":"IF(N191=\"SR\",1,IF(AC191=\"\",VLOOKUP(AW191,'CZKEUR Xchange rate'!$D$13:$E$234,2,FALSE),VLOOKUP(AW191,'CZKEUR Xchange rate'!$A$13:$B$234,2,FALSE)))","v":27.452999999999999},0,0,null,null,{"$f":"VLOOKUP(AW191,'Cenové indexy '!$D$7:$E$200,2,FALSE)","v":99.5},{"$f":"W191/Y191*'Cenové indexy '!$E$149","v":0},0,2014,null,null,"2013-11-30","Áno","Áno","Neurčené","Nie","24 mesiacov zadarmo, potom (?)",null,null,null,"Zmluva 9_MS",null,null,null,null,null,{"$f":"VLOOKUP(M191,Adresy!$A$4:$C$156,2,FALSE)","v":"Liberec"},{"$f":"VLOOKUP(M191,Adresy!$A$4:$C$156,3,FALSE)","v":"Husova 357/10"},"M","2014M06",null,null,null,null,null,{"$f":"VLOOKUP(M191,Adresy!$A$3:$C$122,2,FALSE)","v":"Liberec"},{"$f":"VLOOKUP(M191,Adresy!$A$3:$C$122,3,FALSE)","v":"Husova 357/10"},0,0,0,0]
["SPECT/CT",null,"Kolimátor pre nízke energie, vysoké rozlíšenie",null,"XCT LEHR",null,"PHILIPS BrightView XCT",null,null,"","bez položkovej identifikácie ceny (v rámci sumárnej ceny)","HW","Krajská nemocnice Liberec, a.s.","ČR","EDOMED a.s.",null,1,null,null,{"$f":"IF(N192=\"SR\",1,IF(AC192=\"\",VLOOKUP(AW192,'CZKEUR Xchange rate'!$D$13:$E$234,2,FALSE),VLOOKUP(AW192,'CZKEUR Xchange rate'!$A$13:$B$234,2,FALSE)))","v":27.452999999999999},0,0,null,null,{"$f":"VLOOKUP(AW192,'Cenové indexy '!$D$7:$E$200,2,FALSE)","v":99.5},{"$f":"W192/Y192*'Cenové indexy '!$E$149","v":0},0,2014,null,null,"2013-11-30","Áno","Áno","Neurčené","Nie","24 mesiacov zadarmo, potom (?)",null,null,null,"Zmluva 9_MS",null,null,null,null,null,{"$f":"VLOOKUP(M192,Adresy!$A$4:$C$156,2,FALSE)","v":"Liberec"},{"$f":"VLOOKUP(M192,Adresy!$A$4:$C$156,3,FALSE)","v":"Husova 357/10"},"M","2014M06",null,null,null,null,null,{"$f":"VLOOKUP(M192,Adresy!$A$3:$C$122,2,FALSE)","v":"Liberec"},{"$f":"VLOOKUP(M192,Adresy!$A$3:$C$122,3,FALSE)","v":"Husova 357/10"},0,0,0,0]
["SPECT/CT",null,"Hodnotiaca stanica",null,"Intellispace portal IX",null,"PHILIPS BrightView XCT",null,null,"","bez položkovej identifikácie ceny (v rámci sumárnej ceny)","HW","Krajská nemocnice Liberec, a.s.","ČR","EDOMED a.s.",null,2,null,null,{"$f":"IF(N193=\"SR\",1,IF(AC193=\"\",VLOOKUP(AW193,'CZKEUR Xchange rate'!$D$13:$E$234,2,FALSE),VLOOKUP(AW193,'CZKEUR Xchange rate'!$A$13:$B$234,2,FALSE)))","v":27.452999999999999},0,0,null,null,{"$f":"VLOOKUP(AW193,'Cenové indexy '!$D$7:$E$200,2,FALSE)","v":99.5},{"$f":"W193/Y193*'Cenové indexy '!$E$149","v":0},0,2014,null,null,"2013-11-30","Áno","Áno","Neurčené","Nie","24 mesiacov zadarmo, potom (?)",null,null,null,"Zmluva 9_MS",null,null,null,null,null,{"$f":"VLOOKUP(M193,Adresy!$A$4:$C$156,2,FALSE)","v":"Liberec"},{"$f":"VLOOKUP(M193,Adresy!$A$4:$C$156,3,FALSE)","v":"Husova 357/10"},"M","2014M06",null,null,null,null,null,{"$f":"VLOOKUP(M193,Adresy!$A$3:$C$122,2,FALSE)","v":"Liberec"},{"$f":"VLOOKUP(M193,Adresy!$A$3:$C$122,3,FALSE)","v":"Husova 357/10"},0,0,0,0]
["SPECT/CT",null,"Software: automatizovanú analýzu",null,null,null,"PHILIPS BrightView XCT",null,null,"","bez položkovej identifikácie ceny (v rámci sumárnej ceny)","SW","Krajská nemocnice Liberec, a.s.","ČR","EDOMED a.s.",null,1,null,null,{"$f":"IF(N194=\"SR\",1,IF(AC194=\"\",VLOOKUP(AW194,'CZKEUR Xchange rate'!$D$13:$E$234,2,FALSE),VLOOKUP(AW194,'CZKEUR Xchange rate'!$A$13:$B$234,2,FALSE)))","v":27.452999999999999},0,0,null,null,{"$f":"VLOOKUP(AW194,'Cenové indexy '!$D$7:$E$200,2,FALSE)","v":99.5},{"$f":"W194/Y194*'Cenové indexy '!$E$149","v":0},{"$f":"Z194*1.2","v":0},2014,null,null,{"$f":"DATE(AB194,AC194,AD194)","v":"2013-11-30"},"Áno","Áno","Neurčené","Nie","24 mesiacov zadarmo, potom (?)",null,null,null,"Zmluva 9_MS",null,null,null,null,null,{"$f":"VLOOKUP(M194,Adresy!$A$4:$C$156,2,FALSE)","v":"Liberec"},{"$f":"VLOOKUP(M194,Adresy!$A$4:$C$156,3,FALSE)","v":"Husova 357/10"},"M","2014M06",null,null,null,null,null,{"$f":"VLOOKUP(M194,Adresy!$A$3:$C$122,2,FALSE)","v":"Liberec"},{"$f":"VLOOKUP(M194,Adresy!$A$3:$C$122,3,FALSE)","v":"Husova 357/10"},{"$f":"IF(BC194<>AT194,1,0)","v":0},0,0,0]
["SPECT/CT",null,"Software: kardiológia",null,"CEDARS fusion WS",null,"PHILIPS BrightView XCT",null,null,"","bez položkovej identifikácie ceny (v rámci sumárnej ceny)","SW","Krajská nemocnice Liberec, a.s.","ČR","EDOMED a.s.",null,1,null,null,{"$f":"IF(N195=\"SR\",1,IF(AC195=\"\",VLOOKUP(AW195,'CZKEUR Xchange rate'!$D$13:$E$234,2,FALSE),VLOOKUP(AW195,'CZKEUR Xchange rate'!$A$13:$B$234,2,FALSE)))","v":27.452999999999999},0,0,null,null,{"$f":"VLOOKUP(AW195,'Cenové indexy '!$D$7:$E$200,2,FALSE)","v":99.5},{"$f":"W195/Y195*'Cenové indexy '!$E$149","v":0},0,2014,null,null,"2013-11-30","Áno","Áno","Neurčené","Nie","24 mesiacov zadarmo, potom (?)",null,null,null,"Zmluva 9_MS",null,null,null,null,null,{"$f":"VLOOKUP(M195,Adresy!$A$4:$C$156,2,FALSE)","v":"Liberec"},{"$f":"VLOOKUP(M195,Adresy!$A$4:$C$156,3,FALSE)","v":"Husova 357/10"},"M",{"$f":"IF(AC195=\"\",CONCATENATE(AB195,AV195,\"06\"),IF(LEN(AC195)=1,CONCATENATE(AB195,AV195,\"0\"&AC195),CONCATENATE(AB195,AV195,AC195)))","v":"2014M06"},null,null,null,null,null,{"$f":"VLOOKUP(M195,Adresy!$A$3:$C$122,2,FALSE)","v":"Liberec"},{"$f":"VLOOKUP(M195,Adresy!$A$3:$C$122,3,FALSE)","v":"Husova 357/10"},0,0,0,0]
["SPECT/CT",null,"Software: porovnávanie a analýza štúdií",null,"NEW review IX",null,"PHILIPS BrightView XCT",null,null,"","bez položkovej identifikácie ceny (v rámci sumárnej ceny)","SW","Krajská nemocnice Liberec, a.s.","ČR","EDOMED a.s.",null,1,null,null,{"$f":"IF(N196=\"SR\",1,IF(AC196=\"\",VLOOKUP(AW196,'CZKEUR Xchange rate'!$D$13:$E$234,2,FALSE),VLOOKUP(AW196,'CZKEUR Xchange rate'!$A$13:$B$234,2,FALSE)))","v":27.452999999999999},0,0,null,null,{"$f":"VLOOKUP(AW196,'Cenové indexy '!$D$7:$E$200,2,FALSE)","v":99.5},{"$f":"W196/Y196*'Cenové indexy '!$E$149","v":0},0,2014,null,null,"2013-11-30","Áno","Áno","Neurčené","Nie","24 mesiacov zadarmo, potom (?)",null,null,null,"Zmluva 9_MS",null,null,null,null,null,{"$f":"VLOOKUP(M196,Adresy!$A$4:$C$156,2,FALSE)","v":"Liberec"},{"$f":"VLOOKUP(M196,Adresy!$A$4:$C$156,3,FALSE)","v":"Husova 357/10"},"M","2014M06",null,null,null,null,null,{"$f":"VLOOKUP(M196,Adresy!$A$3:$C$122,2,FALSE)","v":"Liberec"},{"$f":"VLOOKUP(M196,Adresy!$A$3:$C$122,3,FALSE)","v":"Husova 357/10"},0,0,0,0]
["SPECT/CT",null,"Prehliadač pre CD/DVD",null,null,null,"PHILIPS BrightView XCT",null,null,"","bez položkovej identifikácie ceny (v rámci sumárnej ceny)","HW","Krajská nemocnice Liberec, a.s.","ČR","EDOMED a.s.",null,1,null,null,{"$f":"IF(N197=\"SR\",1,IF(AC197=\"\",VLOOKUP(AW197,'CZKEUR Xchange rate'!$D$13:$E$234,2,FALSE),VLOOKUP(AW197,'CZKEUR Xchange rate'!$A$13:$B$234,2,FALSE)))","v":27.452999999999999},0,0,null,null,{"$f":"VLOOKUP(AW197,'Cenové indexy '!$D$7:$E$200,2,FALSE)","v":99.5},{"$f":"W197/Y197*'Cenové indexy '!$E$149","v":0},0,2014,null,null,"2013-11-30","Áno","Áno","Neurčené","Nie","24 mesiacov zadarmo, potom (?)",null,null,null,"Zmluva 9_MS",null,null,null,null,null,{"$f":"VLOOKUP(M197,Adresy!$A$4:$C$156,2,FALSE)","v":"Liberec"},{"$f":"VLOOKUP(M197,Adresy!$A$4:$C$156,3,FALSE)","v":"Husova 357/10"},"M","2014M06",null,null,null,null,null,{"$f":"VLOOKUP(M197,Adresy!$A$3:$C$122,2,FALSE)","v":"Liberec"},{"$f":"VLOOKUP(M197,Adresy!$A$3:$C$122,3,FALSE)","v":"Husova 357/10"},0,0,0,0]
["SPECT/CT",null,"Sofware: balík vybavenia NM",null,"NM processing app suite IX",null,"PHILIPS BrightView XCT",null,null,"","bez položkovej identifikácie ceny (v rámci sumárnej ceny)","SW","Krajská nemocnice Liberec, a.s.","ČR","EDOMED a.s.",null,1,null,null,{"$f":"IF(N198=\"SR\",1,IF(AC198=\"\",VLOOKUP(AW198,'CZKEUR Xchange rate'!$D$13:$E$234,2,FALSE),VLOOKUP(AW198,'CZKEUR Xchange rate'!$A$13:$B$234,2,FALSE)))","v":27.452999999999999},0,0,null,null,{"$f":"VLOOKUP(AW198,'Cenové indexy '!$D$7:$E$200,2,FALSE)","v":99.5},{"$f":"W198/Y198*'Cenové indexy '!$E$149","v":0},0,2014,null,null,"2013-11-30","Áno","Áno","Neurčené","Nie","24 mesiacov zadarmo, potom (?)",null,null,null,"Zmluva 9_MS",null,null,null,null,null,{"$f":"VLOOKUP(M198,Adresy!$A$4:$C$156,2,FALSE)","v":"Liberec"},{"$f":"VLOOKUP(M198,Adresy!$A$4:$C$156,3,FALSE)","v":"Husova 357/10"},"M","2014M06",null,null,null,null,null,{"$f":"VLOOKUP(M198,Adresy!$A$3:$C$122,2,FALSE)","v":"Liberec"},{"$f":"VLOOKUP(M198,Adresy!$A$3:$C$122,3,FALSE)","v":"Husova 357/10"},0,0,0,0]
["SPECT/CT",null,"Sofware: pokročilé rekonštrukčné algoritm",null,"NM astonish recon suite WS",null,"PHILIPS BrightView XCT",null,null,"","bez položkovej identifikácie ceny (v rámci sumárnej ceny)","SW","Krajská nemocnice Liberec, a.s.","ČR","EDOMED a.s.",null,1,null,null,{"$f":"IF(N199=\"SR\",1,IF(AC199=\"\",VLOOKUP(AW199,'CZKEUR Xchange rate'!$D$13:$E$234,2,FALSE),VLOOKUP(AW199,'CZKEUR Xchange rate'!$A$13:$B$234,2,FALSE)))","v":27.452999999999999},0,0,null,null,{"$f":"VLOOKUP(AW199,'Cenové indexy '!$D$7:$E$200,2,FALSE)","v":99.5},{"$f":"W199/Y199*'Cenové indexy '!$E$149","v":0},0,2014,null,null,"2013-11-30","Áno","Áno","Neurčené","Nie","24 mesiacov zadarmo, potom (?)",null,null,null,"Zmluva 9_MS",null,null,null,null,null,{"$f":"VLOOKUP(M199,Adresy!$A$4:$C$156,2,FALSE)","v":"Liberec"},{"$f":"VLOOKUP(M199,Adresy!$A$4:$C$156,3,FALSE)","v":"Husova 357/10"},"M","2014M06",null,null,null,null,null,{"$f":"VLOOKUP(M199,Adresy!$A$3:$C$122,2,FALSE)","v":"Liberec"},{"$f":"VLOOKUP(M199,Adresy!$A$3:$C$122,3,FALSE)","v":"Husova 357/10"},0,0,0,0]
["SPECT/CT",null,"Dátové úložisko",null,"Extended storage IX",null,"PHILIPS BrightView XCT",null,null,"","bez položkovej identifikácie ceny (v rámci sumárnej ceny)","HW","Krajská nemocnice Liberec, a.s.","ČR","EDOMED a.s.",null,1,null,null,{"$f":"IF(N200=\"SR\",1,IF(AC200=\"\",VLOOKUP(AW200,'CZKEUR Xchange rate'!$D$13:$E$234,2,FALSE),VLOOKUP(AW200,'CZKEUR Xchange rate'!$A$13:$B$234,2,FALSE)))","v":27.452999999999999},0,0,null,null,{"$f":"VLOOKUP(AW200,'Cenové indexy '!$D$7:$E$200,2,FALSE)","v":99.5},{"$f":"W200/Y200*'Cenové indexy '!$E$149","v":0},0,2014,null,null,"2013-11-30","Áno","Áno","Neurčené","Nie","24 mesiacov zadarmo, potom (?)",null,null,null,"Zmluva 9_MS",null,null,null,null,null,{"$f":"VLOOKUP(M200,Adresy!$A$4:$C$156,2,FALSE)","v":"Liberec"},{"$f":"VLOOKUP(M200,Adresy!$A$4:$C$156,3,FALSE)","v":"Husova 357/10"},"M","2014M06",null,null,null,null,null,{"$f":"VLOOKUP(M200,Adresy!$A$3:$C$122,2,FALSE)","v":"Liberec"},{"$f":"VLOOKUP(M200,Adresy!$A$3:$C$122,3,FALSE)","v":"Husova 357/10"},0,0,0,0]
["SPECT/CT",null,"Rozšírenie pracovnej stanice použitím dvoch monitorov",null,null,null,"PHILIPS BrightView XCT",null,null,"","bez položkovej identifikácie ceny (v rámci sumárnej ceny)","HW","Krajská nemocnice Liberec, a.s.","ČR","EDOMED a.s.",null,1,null,null,{"$f":"IF(N201=\"SR\",1,IF(AC201=\"\",VLOOKUP(AW201,'CZKEUR Xchange rate'!$D$13:$E$234,2,FALSE),VLOOKUP(AW201,'CZKEUR Xchange rate'!$A$13:$B$234,2,FALSE)))","v":27.452999999999999},0,0,null,null,{"$f":"VLOOKUP(AW201,'Cenové indexy '!$D$7:$E$200,2,FALSE)","v":99.5},{"$f":"W201/Y201*'Cenové indexy '!$E$149","v":0},0,2014,null,null,"2013-11-30","Áno","Áno","Neurčené","Nie","24 mesiacov zadarmo, potom (?)",null,null,null,"Zmluva 9_MS",null,null,null,null,null,{"$f":"VLOOKUP(M201,Adresy!$A$4:$C$156,2,FALSE)","v":"Liberec"},{"$f":"VLOOKUP(M201,Adresy!$A$4:$C$156,3,FALSE)","v":"Husova 357/10"},"M","2014M06",null,null,null,null,null,{"$f":"VLOOKUP(M201,Adresy!$A$3:$C$122,2,FALSE)","v":"Liberec"},{"$f":"VLOOKUP(M201,Adresy!$A$3:$C$122,3,FALSE)","v":"Husova 357/10"},0,0,0,0]
["SPECT/CT",null,"Zdroj",null,"5.0 KVA UPS power",null,"PHILIPS BrightView XCT",null,null,"","bez položkovej identifikácie ceny (v rámci sumárnej ceny)","HW","Krajská nemocnice Liberec, a.s.","ČR","EDOMED a.s.",null,1,null,null,{"$f":"IF(N202=\"SR\",1,IF(AC202=\"\",VLOOKUP(AW202,'CZKEUR Xchange rate'!$D$13:$E$234,2,FALSE),VLOOKUP(AW202,'CZKEUR Xchange rate'!$A$13:$B$234,2,FALSE)))","v":27.452999999999999},0,0,null,null,{"$f":"VLOOKUP(AW202,'Cenové indexy '!$D$7:$E$200,2,FALSE)","v":99.5},{"$f":"W202/Y202*'Cenové indexy '!$E$149","v":0},0,2014,null,null,"2013-11-30","Áno","Áno","Neurčené","Nie","24 mesiacov zadarmo, potom (?)",null,null,null,"Zmluva 9_MS",null,null,null,null,null,{"$f":"VLOOKUP(M202,Adresy!$A$4:$C$156,2,FALSE)","v":"Liberec"},{"$f":"VLOOKUP(M202,Adresy!$A$4:$C$156,3,FALSE)","v":"Husova 357/10"},"M","2014M06",null,null,null,null,null,{"$f":"VLOOKUP(M202,Adresy!$A$3:$C$122,2,FALSE)","v":"Liberec"},{"$f":"VLOOKUP(M202,Adresy!$A$3:$C$122,3,FALSE)","v":"Husova 357/10"},0,0,0,0]
["SPECT/CT",null,"Káble",null,null,null,"PHILIPS BrightView XCT",null,null,"","bez položkovej identifikácie ceny (v rámci sumárnej ceny)","HW","Krajská nemocnice Liberec, a.s.","ČR","EDOMED a.s.",null,1,null,null,{"$f":"IF(N203=\"SR\",1,IF(AC203=\"\",VLOOKUP(AW203,'CZKEUR Xchange rate'!$D$13:$E$234,2,FALSE),VLOOKUP(AW203,'CZKEUR Xchange rate'!$A$13:$B$234,2,FALSE)))","v":27.452999999999999},0,0,null,null,{"$f":"VLOOKUP(AW203,'Cenové indexy '!$D$7:$E$200,2,FALSE)","v":99.5},{"$f":"W203/Y203*'Cenové indexy '!$E$149","v":0},0,2014,null,null,"2013-11-30","Áno","Áno","Neurčené","Nie","24 mesiacov zadarmo, potom (?)",null,null,null,"Zmluva 9_MS",null,null,null,null,null,{"$f":"VLOOKUP(M203,Adresy!$A$4:$C$156,2,FALSE)","v":"Liberec"},{"$f":"VLOOKUP(M203,Adresy!$A$4:$C$156,3,FALSE)","v":"Husova 357/10"},"M","2014M06",null,null,null,null,null,{"$f":"VLOOKUP(M203,Adresy!$A$3:$C$122,2,FALSE)","v":"Liberec"},{"$f":"VLOOKUP(M203,Adresy!$A$3:$C$122,3,FALSE)","v":"Husova 357/10"},0,0,0,0]
["SPECT/CT",null,"EKG zariadenie pre synchronizáciu",null,null,null,"PHILIPS BrightView XCT",null,null,"","bez položkovej identifikácie ceny (v rámci sumárnej ceny)","HW","Krajská nemocnice Liberec, a.s.","ČR","EDOMED a.s.",null,1,null,null,{"$f":"IF(N204=\"SR\",1,IF(AC204=\"\",VLOOKUP(AW204,'CZKEUR Xchange rate'!$D$13:$E$234,2,FALSE),VLOOKUP(AW204,'CZKEUR Xchange rate'!$A$13:$B$234,2,FALSE)))","v":27.452999999999999},0,0,null,null,{"$f":"VLOOKUP(AW204,'Cenové indexy '!$D$7:$E$200,2,FALSE)","v":99.5},{"$f":"W204/Y204*'Cenové indexy '!$E$149","v":0},0,2014,null,null,"2013-11-30","Áno","Áno","Neurčené","Nie","24 mesiacov zadarmo, potom (?)",null,null,null,"Zmluva 9_MS",null,null,null,null,null,{"$f":"VLOOKUP(M204,Adresy!$A$4:$C$156,2,FALSE)","v":"Liberec"},{"$f":"VLOOKUP(M204,Adresy!$A$4:$C$156,3,FALSE)","v":"Husova 357/10"},"M","2014M06",null,null,null,null,null,{"$f":"VLOOKUP(M204,Adresy!$A$3:$C$122,2,FALSE)","v":"Liberec"},{"$f":"VLOOKUP(M204,Adresy!$A$3:$C$122,3,FALSE)","v":"Husova 357/10"},0,0,0,0]
["SPECT/CT",null,"Jaszcak fantom",null,"ACD deluxe ",null,"PHILIPS BrightView XCT",null,null,"","bez položkovej identifikácie ceny (v rámci sumárnej ceny)","HW","Krajská nemocnice Liberec, a.s.","ČR","EDOMED a.s.",null,1,null,null,{"$f":"IF(N205=\"SR\",1,IF(AC205=\"\",VLOOKUP(AW205,'CZKEUR Xchange rate'!$D$13:$E$234,2,FALSE),VLOOKUP(AW205,'CZKEUR Xchange rate'!$A$13:$B$234,2,FALSE)))","v":27.452999999999999},0,0,null,null,{"$f":"VLOOKUP(AW205,'Cenové indexy '!$D$7:$E$200,2,FALSE)","v":99.5},{"$f":"W205/Y205*'Cenové indexy '!$E$149","v":0},0,2014,null,null,"2013-11-30","Áno","Áno","Neurčené","Nie","24 mesiacov zadarmo, potom (?)",null,null,null,"Zmluva 9_MS",null,null,null,null,null,{"$f":"VLOOKUP(M205,Adresy!$A$4:$C$156,2,FALSE)","v":"Liberec"},{"$f":"VLOOKUP(M205,Adresy!$A$4:$C$156,3,FALSE)","v":"Husova 357/10"},"M","2014M06",null,null,null,null,null,{"$f":"VLOOKUP(M205,Adresy!$A$3:$C$122,2,FALSE)","v":"Liberec"},{"$f":"VLOOKUP(M205,Adresy!$A$3:$C$122,3,FALSE)","v":"Husova 357/10"},0,0,0,0]
["SPECT/CT",null,"Ostatné stacionárne vybavenie",null,null,null,"PHILIPS BrightView XCT",null,null,"","bez položkovej identifikácie ceny (v rámci sumárnej ceny)","HW","Krajská nemocnice Liberec, a.s.","ČR","EDOMED a.s.",null,1,null,null,{"$f":"IF(N206=\"SR\",1,IF(AC206=\"\",VLOOKUP(AW206,'CZKEUR Xchange rate'!$D$13:$E$234,2,FALSE),VLOOKUP(AW206,'CZKEUR Xchange rate'!$A$13:$B$234,2,FALSE)))","v":27.452999999999999},0,0,null,null,{"$f":"VLOOKUP(AW206,'Cenové indexy '!$D$7:$E$200,2,FALSE)","v":99.5},{"$f":"W206/Y206*'Cenové indexy '!$E$149","v":0},0,2014,null,null,"2013-11-30","Áno","Áno","Neurčené","Nie","24 mesiacov zadarmo, potom (?)",null,null,null,"Zmluva 9_MS",null,null,null,null,null,{"$f":"VLOOKUP(M206,Adresy!$A$4:$C$156,2,FALSE)","v":"Liberec"},{"$f":"VLOOKUP(M206,Adresy!$A$4:$C$156,3,FALSE)","v":"Husova 357/10"},"M","2014M06",null,null,null,null,null,{"$f":"VLOOKUP(M206,Adresy!$A$3:$C$122,2,FALSE)","v":"Liberec"},{"$f":"VLOOKUP(M206,Adresy!$A$3:$C$122,3,FALSE)","v":"Husova 357/10"},0,0,0,0]
["SPECT/CT",null,"Pozáručný servis  (6 rokov po záruke)",null,null,null,"PHILIPS BrightView XCT",null,null,"","bez položkovej identifikácie ceny (v rámci sumárnej ceny)","služby","Krajská nemocnice Liberec, a.s.","ČR","EDOMED a.s.",null,1,6000000,7260000,{"$f":"IF(N207=\"SR\",1,IF(AC207=\"\",VLOOKUP(AW207,'CZKEUR Xchange rate'!$D$13:$E$234,2,FALSE),VLOOKUP(AW207,'CZKEUR Xchange rate'!$A$13:$B$234,2,FALSE)))","v":27.452999999999999},218555.34914217025,264451.97246202599,{"$f":"U207/Q207","v":218555.34914217025},{"$f":"V207/Q207","v":264451.97246202599},{"$f":"VLOOKUP(AW207,'Cenové indexy '!$D$7:$E$200,2,FALSE)","v":99.5},{"$f":"W207/Y207*'Cenové indexy '!$E$149","v":226528.77544755794},271834.53053706954,2014,null,null,"2013-11-30","Áno","Áno","Neurčené","Nie","24 mesiacov zadarmo, potom (?)",null,null,null,"Zmluva 9_MS",null,null,null,null,null,{"$f":"VLOOKUP(M207,Adresy!$A$4:$C$156,2,FALSE)","v":"Liberec"},{"$f":"VLOOKUP(M207,Adresy!$A$4:$C$156,3,FALSE)","v":"Husova 357/10"},"M","2014M06",null,null,null,null,null,{"$f":"VLOOKUP(M207,Adresy!$A$3:$C$122,2,FALSE)","v":"Liberec"},{"$f":"VLOOKUP(M207,Adresy!$A$3:$C$122,3,FALSE)","v":"Husova 357/10"},0,0,0,0]
["SPECT/CT",null,"Pozáručný servis  (5 rokov po záruke)",null,"5 rokov po záruke",null,"PHILIPS BrightView XCT",null,null,"Philips","sumárna cena","služby","Nemocnica Poprad, a. s.","SR","S&T",null,1,265530,{"$f":"R208*1.2","v":318636},{"$f":"IF(N208=\"SR\",1,IF(AC208=\"\",VLOOKUP(AW208,'CZKEUR Xchange rate'!$D$13:$E$234,2,FALSE),VLOOKUP(AW208,'CZKEUR Xchange rate'!$A$13:$B$234,2,FALSE)))","v":1},265530,318636,{"$f":"U208/Q208","v":265530},{"$f":"V208/Q208","v":318636},{"$f":"VLOOKUP(AW208,'Cenové indexy '!$D$7:$E$200,2,FALSE)","v":98.57},{"$f":"W208/Y208*'Cenové indexy '!$E$149","v":277813.8267221264},333376.59206655168,2013,null,null,"2012-11-30",null,null,null,null,null,null,null,null,"Zmluva 10_MS",null,null,null,null,null,{"$f":"VLOOKUP(M208,Adresy!$A$4:$C$156,2,FALSE)","v":"Poprad"},{"$f":"VLOOKUP(M208,Adresy!$A$4:$C$156,3,FALSE)","v":"Banícka"},"M","2013M06",null,null,null,null,null,{"$f":"VLOOKUP(M208,Adresy!$A$3:$C$122,2,FALSE)","v":"Poprad"},{"$f":"VLOOKUP(M208,Adresy!$A$3:$C$122,3,FALSE)","v":"Banícka"},0,0,0,0]
["SPECT/CT",null,"Celá zostava",null,null,null,"GE Discovery NM/CT670",null,null,"","sumárna cena","HW/SW","Krajská nemocnice Liberec, a.s.","ČR","GE Medical Systems  s.r.o.",null,1,13759000,16648390,{"$f":"IF(N209=\"SR\",1,IF(AC209=\"\",VLOOKUP(AW209,'CZKEUR Xchange rate'!$D$13:$E$234,2,FALSE),VLOOKUP(AW209,'CZKEUR Xchange rate'!$A$13:$B$234,2,FALSE)))","v":27.452999999999999},501183.8414745201,606432.44818416936,{"$f":"U209/Q209","v":501183.8414745201},{"$f":"V209/Q209","v":606432.44818416936},{"$f":"VLOOKUP(AW209,'Cenové indexy '!$D$7:$E$200,2,FALSE)","v":99.5},{"$f":"W209/Y209*'Cenové indexy '!$E$149","v":519468.23689715838},623361.88427659008,2014,null,null,"2013-11-30","Áno","Áno","ERDF","Nie","24 meiacov zadarmo, potom 6 rokov podľa zmluvy",null,null,null,"Zmluva 11_MS",null,null,null,null,null,{"$f":"VLOOKUP(M209,Adresy!$A$4:$C$156,2,FALSE)","v":"Liberec"},{"$f":"VLOOKUP(M209,Adresy!$A$4:$C$156,3,FALSE)","v":"Husova 357/10"},"M","2014M06",null,null,null,null,null,{"$f":"VLOOKUP(M209,Adresy!$A$3:$C$122,2,FALSE)","v":"Liberec"},{"$f":"VLOOKUP(M209,Adresy!$A$3:$C$122,3,FALSE)","v":"Husova 357/10"},0,0,0,0]
["SPECT/CT",null,"Detektory 3/8 s nízkym profilom",null,null,null,"GE Discovery NM/CT670",null,null,"","bez položkovej identifikácie ceny (v rámci sumárnej ceny)","HW","Krajská nemocnice Liberec, a.s.","ČR","GE Medical Systems  s.r.o.",null,1,null,null,{"$f":"IF(N210=\"SR\",1,IF(AC210=\"\",VLOOKUP(AW210,'CZKEUR Xchange rate'!$D$13:$E$234,2,FALSE),VLOOKUP(AW210,'CZKEUR Xchange rate'!$A$13:$B$234,2,FALSE)))","v":27.452999999999999},0,0,null,null,{"$f":"VLOOKUP(AW210,'Cenové indexy '!$D$7:$E$200,2,FALSE)","v":99.5},{"$f":"W210/Y210*'Cenové indexy '!$E$149","v":0},0,2014,null,null,"2013-11-30","Áno","Áno","ERDF","Nie","24 meiacov zadarmo, potom 6 rokov podľa zmluvy",null,null,null,"Zmluva 11_MS",null,null,null,null,null,{"$f":"VLOOKUP(M210,Adresy!$A$4:$C$156,2,FALSE)","v":"Liberec"},{"$f":"VLOOKUP(M210,Adresy!$A$4:$C$156,3,FALSE)","v":"Husova 357/10"},"M","2014M06",null,null,null,null,null,{"$f":"VLOOKUP(M210,Adresy!$A$3:$C$122,2,FALSE)","v":"Liberec"},{"$f":"VLOOKUP(M210,Adresy!$A$3:$C$122,3,FALSE)","v":"Husova 357/10"},0,0,0,0]
["SPECT/CT",null,"Pacientský stôl",null,null,null,"GE Discovery NM/CT670",null,null,"","bez položkovej identifikácie ceny (v rámci sumárnej ceny)","HW","Krajská nemocnice Liberec, a.s.","ČR","GE Medical Systems  s.r.o.",null,1,null,null,{"$f":"IF(N211=\"SR\",1,IF(AC211=\"\",VLOOKUP(AW211,'CZKEUR Xchange rate'!$D$13:$E$234,2,FALSE),VLOOKUP(AW211,'CZKEUR Xchange rate'!$A$13:$B$234,2,FALSE)))","v":27.452999999999999},0,0,null,null,{"$f":"VLOOKUP(AW211,'Cenové indexy '!$D$7:$E$200,2,FALSE)","v":99.5},{"$f":"W211/Y211*'Cenové indexy '!$E$149","v":0},0,2014,null,null,"2013-11-30","Áno","Áno","ERDF","Nie","24 meiacov zadarmo, potom 6 rokov podľa zmluvy",null,null,null,"Zmluva 11_MS",null,null,null,null,null,{"$f":"VLOOKUP(M211,Adresy!$A$4:$C$156,2,FALSE)","v":"Liberec"},{"$f":"VLOOKUP(M211,Adresy!$A$4:$C$156,3,FALSE)","v":"Husova 357/10"},"M","2014M06",null,null,null,null,null,{"$f":"VLOOKUP(M211,Adresy!$A$3:$C$122,2,FALSE)","v":"Liberec"},{"$f":"VLOOKUP(M211,Adresy!$A$3:$C$122,3,FALSE)","v":"Husova 357/10"},0,0,0,0]
["SPECT/CT",null,"Akvizičná konzola",null,null,null,"GE Discovery NM/CT670",null,null,"","bez položkovej identifikácie ceny (v rámci sumárnej ceny)","HW","Krajská nemocnice Liberec, a.s.","ČR","GE Medical Systems  s.r.o.",null,1,null,null,{"$f":"IF(N212=\"SR\",1,IF(AC212=\"\",VLOOKUP(AW212,'CZKEUR Xchange rate'!$D$13:$E$234,2,FALSE),VLOOKUP(AW212,'CZKEUR Xchange rate'!$A$13:$B$234,2,FALSE)))","v":27.452999999999999},0,0,null,null,{"$f":"VLOOKUP(AW212,'Cenové indexy '!$D$7:$E$200,2,FALSE)","v":99.5},{"$f":"W212/Y212*'Cenové indexy '!$E$149","v":0},0,2014,null,null,"2013-11-30","Áno","Áno","ERDF","Nie","24 meiacov zadarmo, potom 6 rokov podľa zmluvy",null,null,null,"Zmluva 11_MS",null,null,null,null,null,{"$f":"VLOOKUP(M212,Adresy!$A$4:$C$156,2,FALSE)","v":"Liberec"},{"$f":"VLOOKUP(M212,Adresy!$A$4:$C$156,3,FALSE)","v":"Husova 357/10"},"M","2014M06",null,null,null,null,null,{"$f":"VLOOKUP(M212,Adresy!$A$3:$C$122,2,FALSE)","v":"Liberec"},{"$f":"VLOOKUP(M212,Adresy!$A$3:$C$122,3,FALSE)","v":"Husova 357/10"},0,0,0,0]
["SPECT/CT",null,"Akvizičná stanica Discovery",null,null,null,"GE Discovery NM/CT670",null,null,"","bez položkovej identifikácie ceny (v rámci sumárnej ceny)","HW","Krajská nemocnice Liberec, a.s.","ČR","GE Medical Systems  s.r.o.",null,1,null,null,{"$f":"IF(N213=\"SR\",1,IF(AC213=\"\",VLOOKUP(AW213,'CZKEUR Xchange rate'!$D$13:$E$234,2,FALSE),VLOOKUP(AW213,'CZKEUR Xchange rate'!$A$13:$B$234,2,FALSE)))","v":27.452999999999999},0,0,null,null,{"$f":"VLOOKUP(AW213,'Cenové indexy '!$D$7:$E$200,2,FALSE)","v":99.5},{"$f":"W213/Y213*'Cenové indexy '!$E$149","v":0},0,2014,null,null,"2013-11-30","Áno","Áno","ERDF","Nie","24 meiacov zadarmo, potom 6 rokov podľa zmluvy",null,null,null,"Zmluva 11_MS",null,null,null,null,null,{"$f":"VLOOKUP(M213,Adresy!$A$4:$C$156,2,FALSE)","v":"Liberec"},{"$f":"VLOOKUP(M213,Adresy!$A$4:$C$156,3,FALSE)","v":"Husova 357/10"},"M","2014M06",null,null,null,null,null,{"$f":"VLOOKUP(M213,Adresy!$A$3:$C$122,2,FALSE)","v":"Liberec"},{"$f":"VLOOKUP(M213,Adresy!$A$3:$C$122,3,FALSE)","v":"Husova 357/10"},0,0,0,0]
["SPECT/CT",null,"Kolimátor pre nízke energie, vysoké rozlíšenie",null,null,null,"GE Discovery NM/CT670",null,null,"","bez položkovej identifikácie ceny (v rámci sumárnej ceny)","HW","Krajská nemocnice Liberec, a.s.","ČR","GE Medical Systems  s.r.o.",null,2,null,null,{"$f":"IF(N214=\"SR\",1,IF(AC214=\"\",VLOOKUP(AW214,'CZKEUR Xchange rate'!$D$13:$E$234,2,FALSE),VLOOKUP(AW214,'CZKEUR Xchange rate'!$A$13:$B$234,2,FALSE)))","v":27.452999999999999},0,0,null,null,{"$f":"VLOOKUP(AW214,'Cenové indexy '!$D$7:$E$200,2,FALSE)","v":99.5},{"$f":"W214/Y214*'Cenové indexy '!$E$149","v":0},0,2014,null,null,"2013-11-30","Áno","Áno","ERDF","Nie","24 meiacov zadarmo, potom 6 rokov podľa zmluvy",null,null,null,"Zmluva 11_MS",null,null,null,null,null,{"$f":"VLOOKUP(M214,Adresy!$A$4:$C$156,2,FALSE)","v":"Liberec"},{"$f":"VLOOKUP(M214,Adresy!$A$4:$C$156,3,FALSE)","v":"Husova 357/10"},"M","2014M06",null,null,null,null,null,{"$f":"VLOOKUP(M214,Adresy!$A$3:$C$122,2,FALSE)","v":"Liberec"},{"$f":"VLOOKUP(M214,Adresy!$A$3:$C$122,3,FALSE)","v":"Husova 357/10"},0,0,0,0]
["SPECT/CT",null,"Kolimátor pre stredné energie",null,null,null,"GE Discovery NM/CT670",null,null,"","bez položkovej identifikácie ceny (v rámci sumárnej ceny)","HW","Krajská nemocnice Liberec, a.s.","ČR","GE Medical Systems  s.r.o.",null,2,null,null,{"$f":"IF(N215=\"SR\",1,IF(AC215=\"\",VLOOKUP(AW215,'CZKEUR Xchange rate'!$D$13:$E$234,2,FALSE),VLOOKUP(AW215,'CZKEUR Xchange rate'!$A$13:$B$234,2,FALSE)))","v":27.452999999999999},0,0,null,null,{"$f":"VLOOKUP(AW215,'Cenové indexy '!$D$7:$E$200,2,FALSE)","v":99.5},{"$f":"W215/Y215*'Cenové indexy '!$E$149","v":0},0,2014,null,null,"2013-11-30","Áno","Áno","ERDF","Nie","24 meiacov zadarmo, potom 6 rokov podľa zmluvy",null,null,null,"Zmluva 11_MS",null,null,null,null,null,{"$f":"VLOOKUP(M215,Adresy!$A$4:$C$156,2,FALSE)","v":"Liberec"},{"$f":"VLOOKUP(M215,Adresy!$A$4:$C$156,3,FALSE)","v":"Husova 357/10"},"M","2014M06",null,null,null,null,null,{"$f":"VLOOKUP(M215,Adresy!$A$3:$C$122,2,FALSE)","v":"Liberec"},{"$f":"VLOOKUP(M215,Adresy!$A$3:$C$122,3,FALSE)","v":"Husova 357/10"},0,0,0,0]
["SPECT/CT",null,"Server management",null,"Xeleris 3",null,"GE Discovery NM/CT670",null,null,"","bez položkovej identifikácie ceny (v rámci sumárnej ceny)","SW","Krajská nemocnice Liberec, a.s.","ČR","GE Medical Systems  s.r.o.",null,1,null,null,{"$f":"IF(N216=\"SR\",1,IF(AC216=\"\",VLOOKUP(AW216,'CZKEUR Xchange rate'!$D$13:$E$234,2,FALSE),VLOOKUP(AW216,'CZKEUR Xchange rate'!$A$13:$B$234,2,FALSE)))","v":27.452999999999999},0,0,null,null,{"$f":"VLOOKUP(AW216,'Cenové indexy '!$D$7:$E$200,2,FALSE)","v":99.5},{"$f":"W216/Y216*'Cenové indexy '!$E$149","v":0},0,2014,null,null,"2013-11-30","Áno","Áno","ERDF","Nie","24 meiacov zadarmo, potom 6 rokov podľa zmluvy",null,null,null,"Zmluva 11_MS",null,null,null,null,null,{"$f":"VLOOKUP(M216,Adresy!$A$4:$C$156,2,FALSE)","v":"Liberec"},{"$f":"VLOOKUP(M216,Adresy!$A$4:$C$156,3,FALSE)","v":"Husova 357/10"},"M","2014M06",null,null,null,null,null,{"$f":"VLOOKUP(M216,Adresy!$A$3:$C$122,2,FALSE)","v":"Liberec"},{"$f":"VLOOKUP(M216,Adresy!$A$3:$C$122,3,FALSE)","v":"Husova 357/10"},0,0,0,0]
["SPECT/CT",null,"Jazyková sada pre Xeleris server",null,null,null,"GE Discovery NM/CT670",null,null,"","bez položkovej identifikácie ceny (v rámci sumárnej ceny)","SW","Krajská nemocnice Liberec, a.s.","ČR","GE Medical Systems  s.r.o.",null,1,null,null,{"$f":"IF(N217=\"SR\",1,IF(AC217=\"\",VLOOKUP(AW217,'CZKEUR Xchange rate'!$D$13:$E$234,2,FALSE),VLOOKUP(AW217,'CZKEUR Xchange rate'!$A$13:$B$234,2,FALSE)))","v":27.452999999999999},0,0,null,null,{"$f":"VLOOKUP(AW217,'Cenové indexy '!$D$7:$E$200,2,FALSE)","v":99.5},{"$f":"W217/Y217*'Cenové indexy '!$E$149","v":0},0,2014,null,null,"2013-11-30","Áno","Áno","ERDF","Nie","24 meiacov zadarmo, potom 6 rokov podľa zmluvy",null,null,null,"Zmluva 11_MS",null,null,null,null,null,{"$f":"VLOOKUP(M217,Adresy!$A$4:$C$156,2,FALSE)","v":"Liberec"},{"$f":"VLOOKUP(M217,Adresy!$A$4:$C$156,3,FALSE)","v":"Husova 357/10"},"M","2014M06",null,null,null,null,null,{"$f":"VLOOKUP(M217,Adresy!$A$3:$C$122,2,FALSE)","v":"Liberec"},{"$f":"VLOOKUP(M217,Adresy!$A$3:$C$122,3,FALSE)","v":"Husova 357/10"},0,0,0,0]
["SPECT/CT",null,"Licensia pre dual monitor",null,null,null,"GE Discovery NM/CT670",null,null,"","bez položkovej identifikácie ceny (v rámci sumárnej ceny)","SW","Krajská nemocnice Liberec, a.s.","ČR","GE Medical Systems  s.r.o.",null,1,null,null,{"$f":"IF(N218=\"SR\",1,IF(AC218=\"\",VLOOKUP(AW218,'CZKEUR Xchange rate'!$D$13:$E$234,2,FALSE),VLOOKUP(AW218,'CZKEUR Xchange rate'!$A$13:$B$234,2,FALSE)))","v":27.452999999999999},0,0,null,null,{"$f":"VLOOKUP(AW218,'Cenové indexy '!$D$7:$E$200,2,FALSE)","v":99.5},{"$f":"W218/Y218*'Cenové indexy '!$E$149","v":0},0,2014,null,null,"2013-11-30","Áno","Áno","ERDF","Nie","24 meiacov zadarmo, potom 6 rokov podľa zmluvy",null,null,null,"Zmluva 11_MS",null,null,null,null,null,{"$f":"VLOOKUP(M218,Adresy!$A$4:$C$156,2,FALSE)","v":"Liberec"},{"$f":"VLOOKUP(M218,Adresy!$A$4:$C$156,3,FALSE)","v":"Husova 357/10"},"M","2014M06",null,null,null,null,null,{"$f":"VLOOKUP(M218,Adresy!$A$3:$C$122,2,FALSE)","v":"Liberec"},{"$f":"VLOOKUP(M218,Adresy!$A$3:$C$122,3,FALSE)","v":"Husova 357/10"},0,0,0,0]
["SPECT/CT",null,"Licensia pre vzdialenú stanicu Xeleris server",null,null,null,"GE Discovery NM/CT670",null,null,"","bez položkovej identifikácie ceny (v rámci sumárnej ceny)","SW","Krajská nemocnice Liberec, a.s.","ČR","GE Medical Systems  s.r.o.",null,3,null,null,{"$f":"IF(N219=\"SR\",1,IF(AC219=\"\",VLOOKUP(AW219,'CZKEUR Xchange rate'!$D$13:$E$234,2,FALSE),VLOOKUP(AW219,'CZKEUR Xchange rate'!$A$13:$B$234,2,FALSE)))","v":27.452999999999999},0,0,null,null,{"$f":"VLOOKUP(AW219,'Cenové indexy '!$D$7:$E$200,2,FALSE)","v":99.5},{"$f":"W219/Y219*'Cenové indexy '!$E$149","v":0},0,2014,null,null,"2013-11-30","Áno","Áno","ERDF","Nie","24 meiacov zadarmo, potom 6 rokov podľa zmluvy",null,null,null,"Zmluva 11_MS",null,null,null,null,null,{"$f":"VLOOKUP(M219,Adresy!$A$4:$C$156,2,FALSE)","v":"Liberec"},{"$f":"VLOOKUP(M219,Adresy!$A$4:$C$156,3,FALSE)","v":"Husova 357/10"},"M","2014M06",null,null,null,null,null,{"$f":"VLOOKUP(M219,Adresy!$A$3:$C$122,2,FALSE)","v":"Liberec"},{"$f":"VLOOKUP(M219,Adresy!$A$3:$C$122,3,FALSE)","v":"Husova 357/10"},0,0,0,0]
["SPECT/CT",null,"Software: evolution algorithm",null,null,null,"GE Discovery NM/CT670",null,null,"","bez položkovej identifikácie ceny (v rámci sumárnej ceny)","SW","Krajská nemocnice Liberec, a.s.","ČR","GE Medical Systems  s.r.o.",null,1,null,null,{"$f":"IF(N220=\"SR\",1,IF(AC220=\"\",VLOOKUP(AW220,'CZKEUR Xchange rate'!$D$13:$E$234,2,FALSE),VLOOKUP(AW220,'CZKEUR Xchange rate'!$A$13:$B$234,2,FALSE)))","v":27.452999999999999},0,0,null,null,{"$f":"VLOOKUP(AW220,'Cenové indexy '!$D$7:$E$200,2,FALSE)","v":99.5},{"$f":"W220/Y220*'Cenové indexy '!$E$149","v":0},0,2014,null,null,"2013-11-30","Áno","Áno","ERDF","Nie","24 meiacov zadarmo, potom 6 rokov podľa zmluvy",null,null,null,"Zmluva 11_MS",null,null,null,null,null,{"$f":"VLOOKUP(M220,Adresy!$A$4:$C$156,2,FALSE)","v":"Liberec"},{"$f":"VLOOKUP(M220,Adresy!$A$4:$C$156,3,FALSE)","v":"Husova 357/10"},"M","2014M06",null,null,null,null,null,{"$f":"VLOOKUP(M220,Adresy!$A$3:$C$122,2,FALSE)","v":"Liberec"},{"$f":"VLOOKUP(M220,Adresy!$A$3:$C$122,3,FALSE)","v":"Husova 357/10"},0,0,0,0]
["SPECT/CT",null,"Software: evolution bone, planar a cardiac",null,null,null,"GE Discovery NM/CT670",null,null,"","bez položkovej identifikácie ceny (v rámci sumárnej ceny)","SW","Krajská nemocnice Liberec, a.s.","ČR","GE Medical Systems  s.r.o.",null,1,null,null,{"$f":"IF(N221=\"SR\",1,IF(AC221=\"\",VLOOKUP(AW221,'CZKEUR Xchange rate'!$D$13:$E$234,2,FALSE),VLOOKUP(AW221,'CZKEUR Xchange rate'!$A$13:$B$234,2,FALSE)))","v":27.452999999999999},0,0,null,null,{"$f":"VLOOKUP(AW221,'Cenové indexy '!$D$7:$E$200,2,FALSE)","v":99.5},{"$f":"W221/Y221*'Cenové indexy '!$E$149","v":0},0,2014,null,null,"2013-11-30","Áno","Áno","ERDF","Nie","24 meiacov zadarmo, potom 6 rokov podľa zmluvy",null,null,null,"Zmluva 11_MS",null,null,null,null,null,{"$f":"VLOOKUP(M221,Adresy!$A$4:$C$156,2,FALSE)","v":"Liberec"},{"$f":"VLOOKUP(M221,Adresy!$A$4:$C$156,3,FALSE)","v":"Husova 357/10"},"M","2014M06",null,null,null,null,null,{"$f":"VLOOKUP(M221,Adresy!$A$3:$C$122,2,FALSE)","v":"Liberec"},{"$f":"VLOOKUP(M221,Adresy!$A$3:$C$122,3,FALSE)","v":"Husova 357/10"},0,0,0,0]
["SPECT/CT",null,"Volumetrix 3D XFL",null,null,null,"GE Discovery NM/CT670",null,null,"","bez položkovej identifikácie ceny (v rámci sumárnej ceny)","SW","Krajská nemocnice Liberec, a.s.","ČR","GE Medical Systems  s.r.o.",null,1,null,null,{"$f":"IF(N222=\"SR\",1,IF(AC222=\"\",VLOOKUP(AW222,'CZKEUR Xchange rate'!$D$13:$E$234,2,FALSE),VLOOKUP(AW222,'CZKEUR Xchange rate'!$A$13:$B$234,2,FALSE)))","v":27.452999999999999},0,0,null,null,{"$f":"VLOOKUP(AW222,'Cenové indexy '!$D$7:$E$200,2,FALSE)","v":99.5},{"$f":"W222/Y222*'Cenové indexy '!$E$149","v":0},0,2014,null,null,"2013-11-30","Áno","Áno","ERDF","Nie","24 meiacov zadarmo, potom 6 rokov podľa zmluvy",null,null,null,"Zmluva 11_MS",null,null,null,null,null,{"$f":"VLOOKUP(M222,Adresy!$A$4:$C$156,2,FALSE)","v":"Liberec"},{"$f":"VLOOKUP(M222,Adresy!$A$4:$C$156,3,FALSE)","v":"Husova 357/10"},"M","2014M06",null,null,null,null,null,{"$f":"VLOOKUP(M222,Adresy!$A$3:$C$122,2,FALSE)","v":"Liberec"},{"$f":"VLOOKUP(M222,Adresy!$A$3:$C$122,3,FALSE)","v":"Husova 357/10"},0,0,0,0]
["SPECT/CT",null,"EKG monitor",null,null,null,"GE Discovery NM/CT670",null,null,"","bez položkovej identifikácie ceny (v rámci sumárnej ceny)","HW","Krajská nemocnice Liberec, a.s.","ČR","GE Medical Systems  s.r.o.",null,1,null,null,{"$f":"IF(N223=\"SR\",1,IF(AC223=\"\",VLOOKUP(AW223,'CZKEUR Xchange rate'!$D$13:$E$234,2,FALSE),VLOOKUP(AW223,'CZKEUR Xchange rate'!$A$13:$B$234,2,FALSE)))","v":27.452999999999999},0,0,null,null,{"$f":"VLOOKUP(AW223,'Cenové indexy '!$D$7:$E$200,2,FALSE)","v":99.5},{"$f":"W223/Y223*'Cenové indexy '!$E$149","v":0},0,2014,null,null,"2013-11-30","Áno","Áno","ERDF","Nie","24 meiacov zadarmo, potom 6 rokov podľa zmluvy",null,null,null,"Zmluva 11_MS",null,null,null,null,null,{"$f":"VLOOKUP(M223,Adresy!$A$4:$C$156,2,FALSE)","v":"Liberec"},{"$f":"VLOOKUP(M223,Adresy!$A$4:$C$156,3,FALSE)","v":"Husova 357/10"},"M","2014M06",null,null,null,null,null,{"$f":"VLOOKUP(M223,Adresy!$A$3:$C$122,2,FALSE)","v":"Liberec"},{"$f":"VLOOKUP(M223,Adresy!$A$3:$C$122,3,FALSE)","v":"Husova 357/10"},0,0,0,0]
["SPECT/CT",null,"Bar phantom",null,null,null,"GE Discovery NM/CT670",null,null,"","bez položkovej identifikácie ceny (v rámci sumárnej ceny)","HW","Krajská nemocnice Liberec, a.s.","ČR","GE Medical Systems  s.r.o.",null,1,null,null,{"$f":"IF(N224=\"SR\",1,IF(AC224=\"\",VLOOKUP(AW224,'CZKEUR Xchange rate'!$D$13:$E$234,2,FALSE),VLOOKUP(AW224,'CZKEUR Xchange rate'!$A$13:$B$234,2,FALSE)))","v":27.452999999999999},0,0,null,null,{"$f":"VLOOKUP(AW224,'Cenové indexy '!$D$7:$E$200,2,FALSE)","v":99.5},{"$f":"W224/Y224*'Cenové indexy '!$E$149","v":0},0,2014,null,null,"2013-11-30","Áno","Áno","ERDF","Nie","24 meiacov zadarmo, potom 6 rokov podľa zmluvy",null,null,null,"Zmluva 11_MS",null,null,null,null,null,{"$f":"VLOOKUP(M224,Adresy!$A$4:$C$156,2,FALSE)","v":"Liberec"},{"$f":"VLOOKUP(M224,Adresy!$A$4:$C$156,3,FALSE)","v":"Husova 357/10"},"M","2014M06",null,null,null,null,null,{"$f":"VLOOKUP(M224,Adresy!$A$3:$C$122,2,FALSE)","v":"Liberec"},{"$f":"VLOOKUP(M224,Adresy!$A$3:$C$122,3,FALSE)","v":"Husova 357/10"},0,0,0,0]
["SPECT/CT",null,"Monitor 23, LCD",null,null,null,"GE Discovery NM/CT670",null,null,"","bez položkovej identifikácie ceny (v rámci sumárnej ceny)","HW","Krajská nemocnice Liberec, a.s.","ČR","GE Medical Systems  s.r.o.",null,1,null,null,{"$f":"IF(N225=\"SR\",1,IF(AC225=\"\",VLOOKUP(AW225,'CZKEUR Xchange rate'!$D$13:$E$234,2,FALSE),VLOOKUP(AW225,'CZKEUR Xchange rate'!$A$13:$B$234,2,FALSE)))","v":27.452999999999999},0,0,null,null,{"$f":"VLOOKUP(AW225,'Cenové indexy '!$D$7:$E$200,2,FALSE)","v":99.5},{"$f":"W225/Y225*'Cenové indexy '!$E$149","v":0},0,2014,null,null,"2013-11-30","Áno","Áno","ERDF","Nie","24 meiacov zadarmo, potom 6 rokov podľa zmluvy",null,null,null,"Zmluva 11_MS",null,null,null,null,null,{"$f":"VLOOKUP(M225,Adresy!$A$4:$C$156,2,FALSE)","v":"Liberec"},{"$f":"VLOOKUP(M225,Adresy!$A$4:$C$156,3,FALSE)","v":"Husova 357/10"},"M","2014M06",null,null,null,null,null,{"$f":"VLOOKUP(M225,Adresy!$A$3:$C$122,2,FALSE)","v":"Liberec"},{"$f":"VLOOKUP(M225,Adresy!$A$3:$C$122,3,FALSE)","v":"Husova 357/10"},0,0,0,0]
["SPECT/CT",null,"PC pracovná stanica pre nukleárnu medicínu",null,null,null,"GE Discovery NM/CT670",null,null,"","bez položkovej identifikácie ceny (v rámci sumárnej ceny)","HW","Krajská nemocnice Liberec, a.s.","ČR","GE Medical Systems  s.r.o.",null,2,null,null,{"$f":"IF(N226=\"SR\",1,IF(AC226=\"\",VLOOKUP(AW226,'CZKEUR Xchange rate'!$D$13:$E$234,2,FALSE),VLOOKUP(AW226,'CZKEUR Xchange rate'!$A$13:$B$234,2,FALSE)))","v":27.452999999999999},0,0,null,null,{"$f":"VLOOKUP(AW226,'Cenové indexy '!$D$7:$E$200,2,FALSE)","v":99.5},{"$f":"W226/Y226*'Cenové indexy '!$E$149","v":0},0,2014,null,null,"2013-11-30","Áno","Áno","ERDF","Nie","24 meiacov zadarmo, potom 6 rokov podľa zmluvy",null,null,null,"Zmluva 11_MS",null,null,null,null,null,{"$f":"VLOOKUP(M226,Adresy!$A$4:$C$156,2,FALSE)","v":"Liberec"},{"$f":"VLOOKUP(M226,Adresy!$A$4:$C$156,3,FALSE)","v":"Husova 357/10"},"M","2014M06",null,null,null,null,null,{"$f":"VLOOKUP(M226,Adresy!$A$3:$C$122,2,FALSE)","v":"Liberec"},{"$f":"VLOOKUP(M226,Adresy!$A$3:$C$122,3,FALSE)","v":"Husova 357/10"},0,0,0,0]
["SPECT/CT",null,"UPS pracovná stanica",null,null,null,"GE Discovery NM/CT670",null,null,"","bez položkovej identifikácie ceny (v rámci sumárnej ceny)","HW","Krajská nemocnice Liberec, a.s.","ČR","GE Medical Systems  s.r.o.",null,1,null,null,{"$f":"IF(N227=\"SR\",1,IF(AC227=\"\",VLOOKUP(AW227,'CZKEUR Xchange rate'!$D$13:$E$234,2,FALSE),VLOOKUP(AW227,'CZKEUR Xchange rate'!$A$13:$B$234,2,FALSE)))","v":27.452999999999999},0,0,null,null,{"$f":"VLOOKUP(AW227,'Cenové indexy '!$D$7:$E$200,2,FALSE)","v":99.5},{"$f":"W227/Y227*'Cenové indexy '!$E$149","v":0},0,2014,null,null,"2013-11-30","Áno","Áno","ERDF","Nie","24 meiacov zadarmo, potom 6 rokov podľa zmluvy",null,null,null,"Zmluva 11_MS",null,null,null,null,null,{"$f":"VLOOKUP(M227,Adresy!$A$4:$C$156,2,FALSE)","v":"Liberec"},{"$f":"VLOOKUP(M227,Adresy!$A$4:$C$156,3,FALSE)","v":"Husova 357/10"},"M","2014M06",null,null,null,null,null,{"$f":"VLOOKUP(M227,Adresy!$A$3:$C$122,2,FALSE)","v":"Liberec"},{"$f":"VLOOKUP(M227,Adresy!$A$3:$C$122,3,FALSE)","v":"Husova 357/10"},0,0,0,0]
["SPECT/CT",null,"Farebná laserová talčiareň",null,null,null,"GE Discovery NM/CT670",null,null,"","bez položkovej identifikácie ceny (v rámci sumárnej ceny)","HW","Krajská nemocnice Liberec, a.s.","ČR","GE Medical Systems  s.r.o.",null,1,null,null,{"$f":"IF(N228=\"SR\",1,IF(AC228=\"\",VLOOKUP(AW228,'CZKEUR Xchange rate'!$D$13:$E$234,2,FALSE),VLOOKUP(AW228,'CZKEUR Xchange rate'!$A$13:$B$234,2,FALSE)))","v":27.452999999999999},0,0,null,null,{"$f":"VLOOKUP(AW228,'Cenové indexy '!$D$7:$E$200,2,FALSE)","v":99.5},{"$f":"W228/Y228*'Cenové indexy '!$E$149","v":0},0,2014,null,null,"2013-11-30","Áno","Áno","ERDF","Nie","24 meiacov zadarmo, potom 6 rokov podľa zmluvy",null,null,null,"Zmluva 11_MS",null,null,null,null,null,{"$f":"VLOOKUP(M228,Adresy!$A$4:$C$156,2,FALSE)","v":"Liberec"},{"$f":"VLOOKUP(M228,Adresy!$A$4:$C$156,3,FALSE)","v":"Husova 357/10"},"M","2014M06",null,null,null,null,null,{"$f":"VLOOKUP(M228,Adresy!$A$3:$C$122,2,FALSE)","v":"Liberec"},{"$f":"VLOOKUP(M228,Adresy!$A$3:$C$122,3,FALSE)","v":"Husova 357/10"},0,0,0,0]
["SPECT/CT",null,"MATLAB",null,null,null,"GE Discovery NM/CT670",null,null,"","bez položkovej identifikácie ceny (v rámci sumárnej ceny)","SW","Krajská nemocnice Liberec, a.s.","ČR","GE Medical Systems  s.r.o.",null,1,null,null,{"$f":"IF(N229=\"SR\",1,IF(AC229=\"\",VLOOKUP(AW229,'CZKEUR Xchange rate'!$D$13:$E$234,2,FALSE),VLOOKUP(AW229,'CZKEUR Xchange rate'!$A$13:$B$234,2,FALSE)))","v":27.452999999999999},0,0,null,null,{"$f":"VLOOKUP(AW229,'Cenové indexy '!$D$7:$E$200,2,FALSE)","v":99.5},{"$f":"W229/Y229*'Cenové indexy '!$E$149","v":0},0,2014,null,null,"2013-11-30","Áno","Áno","ERDF","Nie","24 meiacov zadarmo, potom 6 rokov podľa zmluvy",null,null,null,"Zmluva 11_MS",null,null,null,null,null,{"$f":"VLOOKUP(M229,Adresy!$A$4:$C$156,2,FALSE)","v":"Liberec"},{"$f":"VLOOKUP(M229,Adresy!$A$4:$C$156,3,FALSE)","v":"Husova 357/10"},"M","2014M06",null,null,null,null,null,{"$f":"VLOOKUP(M229,Adresy!$A$3:$C$122,2,FALSE)","v":"Liberec"},{"$f":"VLOOKUP(M229,Adresy!$A$3:$C$122,3,FALSE)","v":"Husova 357/10"},0,0,0,0]
["SPECT/CT",null,"PL laptom pre MATLAB",null,null,null,"GE Discovery NM/CT670",null,null,"","bez položkovej identifikácie ceny (v rámci sumárnej ceny)","HW","Krajská nemocnice Liberec, a.s.","ČR","GE Medical Systems  s.r.o.",null,1,null,null,{"$f":"IF(N230=\"SR\",1,IF(AC230=\"\",VLOOKUP(AW230,'CZKEUR Xchange rate'!$D$13:$E$234,2,FALSE),VLOOKUP(AW230,'CZKEUR Xchange rate'!$A$13:$B$234,2,FALSE)))","v":27.452999999999999},0,0,null,null,{"$f":"VLOOKUP(AW230,'Cenové indexy '!$D$7:$E$200,2,FALSE)","v":99.5},{"$f":"W230/Y230*'Cenové indexy '!$E$149","v":0},0,2014,null,null,"2013-11-30","Áno","Áno","ERDF","Nie","24 meiacov zadarmo, potom 6 rokov podľa zmluvy",null,null,null,"Zmluva 11_MS",null,null,null,null,null,{"$f":"VLOOKUP(M230,Adresy!$A$4:$C$156,2,FALSE)","v":"Liberec"},{"$f":"VLOOKUP(M230,Adresy!$A$4:$C$156,3,FALSE)","v":"Husova 357/10"},"M","2014M06",null,null,null,null,null,{"$f":"VLOOKUP(M230,Adresy!$A$3:$C$122,2,FALSE)","v":"Liberec"},{"$f":"VLOOKUP(M230,Adresy!$A$3:$C$122,3,FALSE)","v":"Husova 357/10"},0,0,0,0]
["SPECT/CT",null,"Prepojenie systému so systémom Nucline",null,null,null,"GE Discovery NM/CT670",null,null,"","bez položkovej identifikácie ceny (v rámci sumárnej ceny)","SW","Krajská nemocnice Liberec, a.s.","ČR","GE Medical Systems  s.r.o.",null,1,null,null,{"$f":"IF(N231=\"SR\",1,IF(AC231=\"\",VLOOKUP(AW231,'CZKEUR Xchange rate'!$D$13:$E$234,2,FALSE),VLOOKUP(AW231,'CZKEUR Xchange rate'!$A$13:$B$234,2,FALSE)))","v":27.452999999999999},0,0,null,null,{"$f":"VLOOKUP(AW231,'Cenové indexy '!$D$7:$E$200,2,FALSE)","v":99.5},{"$f":"W231/Y231*'Cenové indexy '!$E$149","v":0},0,2014,null,null,"2013-11-30","Áno","Áno","ERDF","Nie","24 meiacov zadarmo, potom 6 rokov podľa zmluvy",null,null,null,"Zmluva 11_MS",null,null,null,null,null,{"$f":"VLOOKUP(M231,Adresy!$A$4:$C$156,2,FALSE)","v":"Liberec"},{"$f":"VLOOKUP(M231,Adresy!$A$4:$C$156,3,FALSE)","v":"Husova 357/10"},"M","2014M06",null,null,null,null,null,{"$f":"VLOOKUP(M231,Adresy!$A$3:$C$122,2,FALSE)","v":"Liberec"},{"$f":"VLOOKUP(M231,Adresy!$A$3:$C$122,3,FALSE)","v":"Husova 357/10"},0,0,0,0]
["SPECT/CT",null,"UPS pre gamakameru",null,null,null,"GE Discovery NM/CT670",null,null,"","bez položkovej identifikácie ceny (v rámci sumárnej ceny)","HW","Krajská nemocnice Liberec, a.s.","ČR","GE Medical Systems  s.r.o.",null,1,null,null,{"$f":"IF(N232=\"SR\",1,IF(AC232=\"\",VLOOKUP(AW232,'CZKEUR Xchange rate'!$D$13:$E$234,2,FALSE),VLOOKUP(AW232,'CZKEUR Xchange rate'!$A$13:$B$234,2,FALSE)))","v":27.452999999999999},0,0,null,null,{"$f":"VLOOKUP(AW232,'Cenové indexy '!$D$7:$E$200,2,FALSE)","v":99.5},{"$f":"W232/Y232*'Cenové indexy '!$E$149","v":0},0,2014,null,null,"2013-11-30","Áno","Áno","ERDF","Nie","24 meiacov zadarmo, potom 6 rokov podľa zmluvy",null,null,null,"Zmluva 11_MS",null,null,null,null,null,{"$f":"VLOOKUP(M232,Adresy!$A$4:$C$156,2,FALSE)","v":"Liberec"},{"$f":"VLOOKUP(M232,Adresy!$A$4:$C$156,3,FALSE)","v":"Husova 357/10"},"M","2014M06",null,null,null,null,null,{"$f":"VLOOKUP(M232,Adresy!$A$3:$C$122,2,FALSE)","v":"Liberec"},{"$f":"VLOOKUP(M232,Adresy!$A$3:$C$122,3,FALSE)","v":"Husova 357/10"},0,0,0,0]
["SPECT/CT",null,"Ostatné stacionárne vybavenie",null,null,null,"GE Discovery NM/CT670",null,null,"","bez položkovej identifikácie ceny (v rámci sumárnej ceny)","HW","Krajská nemocnice Liberec, a.s.","ČR","GE Medical Systems  s.r.o.",null,1,null,null,{"$f":"IF(N233=\"SR\",1,IF(AC233=\"\",VLOOKUP(AW233,'CZKEUR Xchange rate'!$D$13:$E$234,2,FALSE),VLOOKUP(AW233,'CZKEUR Xchange rate'!$A$13:$B$234,2,FALSE)))","v":27.452999999999999},{"$f":"R233/T233","v":0},{"$f":"S233/T233","v":0},null,null,{"$f":"VLOOKUP(AW233,'Cenové indexy '!$D$7:$E$200,2,FALSE)","v":99.5},{"$f":"W233/Y233*'Cenové indexy '!$E$149","v":0},0,2014,null,null,"2013-11-30","Áno","Áno","ERDF","Nie","24 meiacov zadarmo, potom 6 rokov podľa zmluvy",null,null,null,"Zmluva 11_MS",null,null,null,null,null,{"$f":"VLOOKUP(M233,Adresy!$A$4:$C$156,2,FALSE)","v":"Liberec"},{"$f":"VLOOKUP(M233,Adresy!$A$4:$C$156,3,FALSE)","v":"Husova 357/10"},"M","2014M06",null,null,null,null,null,{"$f":"VLOOKUP(M233,Adresy!$A$3:$C$122,2,FALSE)","v":"Liberec"},{"$f":"VLOOKUP(M233,Adresy!$A$3:$C$122,3,FALSE)","v":"Husova 357/10"},0,0,0,0]
["SPECT/CT",null,"Pozáručný servis  (6 rokov po záruke)",null,null,null,"GE Discovery NM/CT670",null,null,"","bez položkovej identifikácie ceny (v rámci sumárnej ceny)","služby","Krajská nemocnice Liberec, a.s.","ČR","GE Medical Systems  s.r.o.",null,1,5400000,6534000,{"$f":"IF(N234=\"SR\",1,IF(AC234=\"\",VLOOKUP(AW234,'CZKEUR Xchange rate'!$D$13:$E$234,2,FALSE),VLOOKUP(AW234,'CZKEUR Xchange rate'!$A$13:$B$234,2,FALSE)))","v":27.452999999999999},196699.81422795323,238006.77521582341,{"$f":"U234/Q234","v":196699.81422795323},{"$f":"V234/Q234","v":238006.77521582341},{"$f":"VLOOKUP(AW234,'Cenové indexy '!$D$7:$E$200,2,FALSE)","v":99.5},{"$f":"W234/Y234*'Cenové indexy '!$E$149","v":203875.89790280216},244651.07748336258,2014,null,null,"2013-11-30","Áno","Áno","ERDF","Nie","24 meiacov zadarmo, potom 6 rokov podľa zmluvy",null,null,null,"Zmluva 11_MS",null,null,null,null,null,{"$f":"VLOOKUP(M234,Adresy!$A$4:$C$156,2,FALSE)","v":"Liberec"},{"$f":"VLOOKUP(M234,Adresy!$A$4:$C$156,3,FALSE)","v":"Husova 357/10"},"M","2014M06",null,null,null,null,null,{"$f":"VLOOKUP(M234,Adresy!$A$3:$C$122,2,FALSE)","v":"Liberec"},{"$f":"VLOOKUP(M234,Adresy!$A$3:$C$122,3,FALSE)","v":"Husova 357/10"},0,0,0,0]
["SPECT/CT",null,"Celá zostava",null,null,null,"PHILIPS BrightView XCT",null,null,"","sumárna cena","HW/SW","Nemocnice Znojmo","ČR","EDOMED a.s.",null,1,14970000,18113700,{"$f":"IF(N235=\"SR\",1,IF(AC235=\"\",VLOOKUP(AW235,'CZKEUR Xchange rate'!$D$13:$E$234,2,FALSE),VLOOKUP(AW235,'CZKEUR Xchange rate'!$A$13:$B$234,2,FALSE)))","v":27.452999999999999},545295.59610971482,659807.67129275494,{"$f":"U235/Q235","v":545295.59610971482},{"$f":"V235/Q235","v":659807.67129275494},{"$f":"VLOOKUP(AW235,'Cenové indexy '!$D$7:$E$200,2,FALSE)","v":99.5},{"$f":"W235/Y235*'Cenové indexy '!$E$149","v":565189.2947416571},678227.15368998854,2014,null,null,"2013-11-30","Áno","Áno","Neurčené","Nie","24 meiacov zadarmo, potom 8 rokov podľa zmluvy",null,null,null,"Zmluva 12_MS",null,null,null,null,null,{"$f":"VLOOKUP(M235,Adresy!$A$4:$C$156,2,FALSE)","v":" Znojmo"},{"$f":"VLOOKUP(M235,Adresy!$A$4:$C$156,3,FALSE)","v":"MUDr. Jana Janského 2675/11"},"M","2014M06",null,null,null,null,null,{"$f":"VLOOKUP(M235,Adresy!$A$3:$C$122,2,FALSE)","v":" Znojmo"},{"$f":"VLOOKUP(M235,Adresy!$A$3:$C$122,3,FALSE)","v":"MUDr. Jana Janského 2675/11"},0,0,0,0]
["SPECT/CT",null,"Detektory 3/8 s nízkym profilom",null,null,null,"PHILIPS BrightView XCT",null,null,"","bez položkovej identifikácie ceny (v rámci sumárnej ceny)","HW/SW","Nemocnice Znojmo","ČR","EDOMED a.s.",null,1,null,null,{"$f":"IF(N236=\"SR\",1,IF(AC236=\"\",VLOOKUP(AW236,'CZKEUR Xchange rate'!$D$13:$E$234,2,FALSE),VLOOKUP(AW236,'CZKEUR Xchange rate'!$A$13:$B$234,2,FALSE)))","v":27.452999999999999},0,0,null,null,{"$f":"VLOOKUP(AW236,'Cenové indexy '!$D$7:$E$200,2,FALSE)","v":99.5},{"$f":"W236/Y236*'Cenové indexy '!$E$149","v":0},0,2014,null,null,"2013-11-30","Áno","Áno","Neurčené","Nie","24 meiacov zadarmo, potom 8 rokov podľa zmluvy",null,null,null,"Zmluva 12_MS",null,null,null,null,null,{"$f":"VLOOKUP(M236,Adresy!$A$4:$C$156,2,FALSE)","v":" Znojmo"},{"$f":"VLOOKUP(M236,Adresy!$A$4:$C$156,3,FALSE)","v":"MUDr. Jana Janského 2675/11"},"M","2014M06",null,null,null,null,null,{"$f":"VLOOKUP(M236,Adresy!$A$3:$C$122,2,FALSE)","v":" Znojmo"},{"$f":"VLOOKUP(M236,Adresy!$A$3:$C$122,3,FALSE)","v":"MUDr. Jana Janského 2675/11"},0,0,0,0]
["SPECT/CT",null,"Pacientský stôl",null,null,null,"PHILIPS BrightView XCT",null,null,"","bez položkovej identifikácie ceny (v rámci sumárnej ceny)","HW","Nemocnice Znojmo","ČR","EDOMED a.s.",null,1,null,null,{"$f":"IF(N237=\"SR\",1,IF(AC237=\"\",VLOOKUP(AW237,'CZKEUR Xchange rate'!$D$13:$E$234,2,FALSE),VLOOKUP(AW237,'CZKEUR Xchange rate'!$A$13:$B$234,2,FALSE)))","v":27.452999999999999},0,0,null,null,{"$f":"VLOOKUP(AW237,'Cenové indexy '!$D$7:$E$200,2,FALSE)","v":99.5},{"$f":"W237/Y237*'Cenové indexy '!$E$149","v":0},0,2014,null,null,"2013-11-30","Áno","Áno","Neurčené","Nie","24 meiacov zadarmo, potom 8 rokov podľa zmluvy",null,null,null,"Zmluva 12_MS",null,null,null,null,null,{"$f":"VLOOKUP(M237,Adresy!$A$4:$C$156,2,FALSE)","v":" Znojmo"},{"$f":"VLOOKUP(M237,Adresy!$A$4:$C$156,3,FALSE)","v":"MUDr. Jana Janského 2675/11"},"M","2014M06",null,null,null,null,null,{"$f":"VLOOKUP(M237,Adresy!$A$3:$C$122,2,FALSE)","v":" Znojmo"},{"$f":"VLOOKUP(M237,Adresy!$A$3:$C$122,3,FALSE)","v":"MUDr. Jana Janského 2675/11"},0,0,0,0]
["SPECT/CT",null,"Akvizičná konzola",null,null,null,"PHILIPS BrightView XCT",null,null,"","bez položkovej identifikácie ceny (v rámci sumárnej ceny)","HW","Nemocnice Znojmo","ČR","EDOMED a.s.",null,1,null,null,{"$f":"IF(N238=\"SR\",1,IF(AC238=\"\",VLOOKUP(AW238,'CZKEUR Xchange rate'!$D$13:$E$234,2,FALSE),VLOOKUP(AW238,'CZKEUR Xchange rate'!$A$13:$B$234,2,FALSE)))","v":27.452999999999999},0,0,null,null,{"$f":"VLOOKUP(AW238,'Cenové indexy '!$D$7:$E$200,2,FALSE)","v":99.5},{"$f":"W238/Y238*'Cenové indexy '!$E$149","v":0},0,2014,null,null,"2013-11-30","Áno","Áno","Neurčené","Nie","24 meiacov zadarmo, potom 8 rokov podľa zmluvy",null,null,null,"Zmluva 12_MS",null,null,null,null,null,{"$f":"VLOOKUP(M238,Adresy!$A$4:$C$156,2,FALSE)","v":" Znojmo"},{"$f":"VLOOKUP(M238,Adresy!$A$4:$C$156,3,FALSE)","v":"MUDr. Jana Janského 2675/11"},"M","2014M06",null,null,null,null,null,{"$f":"VLOOKUP(M238,Adresy!$A$3:$C$122,2,FALSE)","v":" Znojmo"},{"$f":"VLOOKUP(M238,Adresy!$A$3:$C$122,3,FALSE)","v":"MUDr. Jana Janského 2675/11"},0,0,0,0]
["SPECT/CT",null,"Podložka vyšetrovacieho stola",null,"BV XCT carbo",null,"PHILIPS BrightView XCT",null,null,"","bez položkovej identifikácie ceny (v rámci sumárnej ceny)","HW","Nemocnice Znojmo","ČR","EDOMED a.s.",null,1,null,null,{"$f":"IF(N239=\"SR\",1,IF(AC239=\"\",VLOOKUP(AW239,'CZKEUR Xchange rate'!$D$13:$E$234,2,FALSE),VLOOKUP(AW239,'CZKEUR Xchange rate'!$A$13:$B$234,2,FALSE)))","v":27.452999999999999},0,0,null,null,{"$f":"VLOOKUP(AW239,'Cenové indexy '!$D$7:$E$200,2,FALSE)","v":99.5},{"$f":"W239/Y239*'Cenové indexy '!$E$149","v":0},0,2014,null,null,"2013-11-30","Áno","Áno","Neurčené","Nie","24 meiacov zadarmo, potom 8 rokov podľa zmluvy",null,null,null,"Zmluva 12_MS",null,null,null,null,null,{"$f":"VLOOKUP(M239,Adresy!$A$4:$C$156,2,FALSE)","v":" Znojmo"},{"$f":"VLOOKUP(M239,Adresy!$A$4:$C$156,3,FALSE)","v":"MUDr. Jana Janského 2675/11"},"M","2014M06",null,null,null,null,null,{"$f":"VLOOKUP(M239,Adresy!$A$3:$C$122,2,FALSE)","v":" Znojmo"},{"$f":"VLOOKUP(M239,Adresy!$A$3:$C$122,3,FALSE)","v":"MUDr. Jana Janského 2675/11"},0,0,0,0]
["SPECT/CT",null,"Kit pre pohodlie pacienta",null,"BV XCT Premium comfort kit",null,"PHILIPS BrightView XCT",null,null,"","bez položkovej identifikácie ceny (v rámci sumárnej ceny)","HW","Nemocnice Znojmo","ČR","EDOMED a.s.",null,1,null,null,{"$f":"IF(N240=\"SR\",1,IF(AC240=\"\",VLOOKUP(AW240,'CZKEUR Xchange rate'!$D$13:$E$234,2,FALSE),VLOOKUP(AW240,'CZKEUR Xchange rate'!$A$13:$B$234,2,FALSE)))","v":27.452999999999999},0,0,null,null,{"$f":"VLOOKUP(AW240,'Cenové indexy '!$D$7:$E$200,2,FALSE)","v":99.5},{"$f":"W240/Y240*'Cenové indexy '!$E$149","v":0},0,2014,null,null,"2013-11-30","Áno","Áno","Neurčené","Nie","24 meiacov zadarmo, potom 8 rokov podľa zmluvy",null,null,null,"Zmluva 12_MS",null,null,null,null,null,{"$f":"VLOOKUP(M240,Adresy!$A$4:$C$156,2,FALSE)","v":" Znojmo"},{"$f":"VLOOKUP(M240,Adresy!$A$4:$C$156,3,FALSE)","v":"MUDr. Jana Janského 2675/11"},"M","2014M06",null,null,null,null,null,{"$f":"VLOOKUP(M240,Adresy!$A$3:$C$122,2,FALSE)","v":" Znojmo"},{"$f":"VLOOKUP(M240,Adresy!$A$3:$C$122,3,FALSE)","v":"MUDr. Jana Janského 2675/11"},0,0,0,0]
["SPECT/CT",null,"Kolimátor pre nízke energie, vysoké rozlíšenie",null,null,null,"PHILIPS BrightView XCT",null,null,"","bez položkovej identifikácie ceny (v rámci sumárnej ceny)","HW","Nemocnice Znojmo","ČR","EDOMED a.s.",null,1,null,null,{"$f":"IF(N241=\"SR\",1,IF(AC241=\"\",VLOOKUP(AW241,'CZKEUR Xchange rate'!$D$13:$E$234,2,FALSE),VLOOKUP(AW241,'CZKEUR Xchange rate'!$A$13:$B$234,2,FALSE)))","v":27.452999999999999},0,0,null,null,{"$f":"VLOOKUP(AW241,'Cenové indexy '!$D$7:$E$200,2,FALSE)","v":99.5},{"$f":"W241/Y241*'Cenové indexy '!$E$149","v":0},0,2014,null,null,"2013-11-30","Áno","Áno","Neurčené","Nie","24 meiacov zadarmo, potom 8 rokov podľa zmluvy",null,null,null,"Zmluva 12_MS",null,null,null,null,null,{"$f":"VLOOKUP(M241,Adresy!$A$4:$C$156,2,FALSE)","v":" Znojmo"},{"$f":"VLOOKUP(M241,Adresy!$A$4:$C$156,3,FALSE)","v":"MUDr. Jana Janského 2675/11"},"M","2014M06",null,null,null,null,null,{"$f":"VLOOKUP(M241,Adresy!$A$3:$C$122,2,FALSE)","v":" Znojmo"},{"$f":"VLOOKUP(M241,Adresy!$A$3:$C$122,3,FALSE)","v":"MUDr. Jana Janského 2675/11"},0,0,0,0]
["SPECT/CT",null,"Kolimátor pre stredné energie",null,null,null,"PHILIPS BrightView XCT",null,null,"","bez položkovej identifikácie ceny (v rámci sumárnej ceny)","HW","Nemocnice Znojmo","ČR","EDOMED a.s.",null,1,null,null,{"$f":"IF(N242=\"SR\",1,IF(AC242=\"\",VLOOKUP(AW242,'CZKEUR Xchange rate'!$D$13:$E$234,2,FALSE),VLOOKUP(AW242,'CZKEUR Xchange rate'!$A$13:$B$234,2,FALSE)))","v":27.452999999999999},0,0,null,null,{"$f":"VLOOKUP(AW242,'Cenové indexy '!$D$7:$E$200,2,FALSE)","v":99.5},{"$f":"W242/Y242*'Cenové indexy '!$E$149","v":0},0,2014,null,null,"2013-11-30","Áno","Áno","Neurčené","Nie","24 meiacov zadarmo, potom 8 rokov podľa zmluvy",null,null,null,"Zmluva 12_MS",null,null,null,null,null,{"$f":"VLOOKUP(M242,Adresy!$A$4:$C$156,2,FALSE)","v":" Znojmo"},{"$f":"VLOOKUP(M242,Adresy!$A$4:$C$156,3,FALSE)","v":"MUDr. Jana Janského 2675/11"},"M","2014M06",null,null,null,null,null,{"$f":"VLOOKUP(M242,Adresy!$A$3:$C$122,2,FALSE)","v":" Znojmo"},{"$f":"VLOOKUP(M242,Adresy!$A$3:$C$122,3,FALSE)","v":"MUDr. Jana Janského 2675/11"},0,0,0,0]
["SPECT/CT",null,"Hodnotiaca stanica",null,"Space protal IX",null,"PHILIPS BrightView XCT",null,null,"","bez položkovej identifikácie ceny (v rámci sumárnej ceny)","HW","Nemocnice Znojmo","ČR","EDOMED a.s.",null,2,null,null,{"$f":"IF(N243=\"SR\",1,IF(AC243=\"\",VLOOKUP(AW243,'CZKEUR Xchange rate'!$D$13:$E$234,2,FALSE),VLOOKUP(AW243,'CZKEUR Xchange rate'!$A$13:$B$234,2,FALSE)))","v":27.452999999999999},0,0,null,null,{"$f":"VLOOKUP(AW243,'Cenové indexy '!$D$7:$E$200,2,FALSE)","v":99.5},{"$f":"W243/Y243*'Cenové indexy '!$E$149","v":0},0,2014,null,null,"2013-11-30","Áno","Áno","Neurčené","Nie","24 meiacov zadarmo, potom 8 rokov podľa zmluvy",null,null,null,"Zmluva 12_MS",null,null,null,null,null,{"$f":"VLOOKUP(M243,Adresy!$A$4:$C$156,2,FALSE)","v":" Znojmo"},{"$f":"VLOOKUP(M243,Adresy!$A$4:$C$156,3,FALSE)","v":"MUDr. Jana Janského 2675/11"},"M","2014M06",null,null,null,null,null,{"$f":"VLOOKUP(M243,Adresy!$A$3:$C$122,2,FALSE)","v":" Znojmo"},{"$f":"VLOOKUP(M243,Adresy!$A$3:$C$122,3,FALSE)","v":"MUDr. Jana Janského 2675/11"},0,0,0,0]
["SPECT/CT",null,"Sofware: balík vybavenia NM",null,"NM processing app suite IX",null,"PHILIPS BrightView XCT",null,null,"","bez položkovej identifikácie ceny (v rámci sumárnej ceny)","SW","Nemocnice Znojmo","ČR","EDOMED a.s.",null,1,null,null,{"$f":"IF(N244=\"SR\",1,IF(AC244=\"\",VLOOKUP(AW244,'CZKEUR Xchange rate'!$D$13:$E$234,2,FALSE),VLOOKUP(AW244,'CZKEUR Xchange rate'!$A$13:$B$234,2,FALSE)))","v":27.452999999999999},0,0,null,null,{"$f":"VLOOKUP(AW244,'Cenové indexy '!$D$7:$E$200,2,FALSE)","v":99.5},{"$f":"W244/Y244*'Cenové indexy '!$E$149","v":0},0,2014,null,null,"2013-11-30","Áno","Áno","Neurčené","Nie","24 meiacov zadarmo, potom 8 rokov podľa zmluvy",null,null,null,"Zmluva 12_MS",null,null,null,null,null,{"$f":"VLOOKUP(M244,Adresy!$A$4:$C$156,2,FALSE)","v":" Znojmo"},{"$f":"VLOOKUP(M244,Adresy!$A$4:$C$156,3,FALSE)","v":"MUDr. Jana Janského 2675/11"},"M","2014M06",null,null,null,null,null,{"$f":"VLOOKUP(M244,Adresy!$A$3:$C$122,2,FALSE)","v":" Znojmo"},{"$f":"VLOOKUP(M244,Adresy!$A$3:$C$122,3,FALSE)","v":"MUDr. Jana Janského 2675/11"},0,0,0,0]
["SPECT/CT",null,"Software: porovnávanie a analýza štúdií",null,"NEW review IX",null,"PHILIPS BrightView XCT",null,null,"","bez položkovej identifikácie ceny (v rámci sumárnej ceny)","SW","Nemocnice Znojmo","ČR","EDOMED a.s.",null,1,null,null,{"$f":"IF(N245=\"SR\",1,IF(AC245=\"\",VLOOKUP(AW245,'CZKEUR Xchange rate'!$D$13:$E$234,2,FALSE),VLOOKUP(AW245,'CZKEUR Xchange rate'!$A$13:$B$234,2,FALSE)))","v":27.452999999999999},0,0,null,null,{"$f":"VLOOKUP(AW245,'Cenové indexy '!$D$7:$E$200,2,FALSE)","v":99.5},{"$f":"W245/Y245*'Cenové indexy '!$E$149","v":0},0,2014,null,null,"2013-11-30","Áno","Áno","Neurčené","Nie","24 meiacov zadarmo, potom 8 rokov podľa zmluvy",null,null,null,"Zmluva 12_MS",null,null,null,null,null,{"$f":"VLOOKUP(M245,Adresy!$A$4:$C$156,2,FALSE)","v":" Znojmo"},{"$f":"VLOOKUP(M245,Adresy!$A$4:$C$156,3,FALSE)","v":"MUDr. Jana Janského 2675/11"},"M","2014M06",null,null,null,null,null,{"$f":"VLOOKUP(M245,Adresy!$A$3:$C$122,2,FALSE)","v":" Znojmo"},{"$f":"VLOOKUP(M245,Adresy!$A$3:$C$122,3,FALSE)","v":"MUDr. Jana Janského 2675/11"},0,0,0,0]
["SPECT/CT",null,"Rozšírenie pracovnej stanice použitím dvoch monitorov",null,null,null,"PHILIPS BrightView XCT",null,null,"","bez položkovej identifikácie ceny (v rámci sumárnej ceny)","HW","Nemocnice Znojmo","ČR","EDOMED a.s.",null,1,null,null,{"$f":"IF(N246=\"SR\",1,IF(AC246=\"\",VLOOKUP(AW246,'CZKEUR Xchange rate'!$D$13:$E$234,2,FALSE),VLOOKUP(AW246,'CZKEUR Xchange rate'!$A$13:$B$234,2,FALSE)))","v":27.452999999999999},0,0,null,null,{"$f":"VLOOKUP(AW246,'Cenové indexy '!$D$7:$E$200,2,FALSE)","v":99.5},{"$f":"W246/Y246*'Cenové indexy '!$E$149","v":0},0,2014,null,null,"2013-11-30","Áno","Áno","Neurčené","Nie","24 meiacov zadarmo, potom 8 rokov podľa zmluvy",null,null,null,"Zmluva 12_MS",null,null,null,null,null,{"$f":"VLOOKUP(M246,Adresy!$A$4:$C$156,2,FALSE)","v":" Znojmo"},{"$f":"VLOOKUP(M246,Adresy!$A$4:$C$156,3,FALSE)","v":"MUDr. Jana Janského 2675/11"},"M","2014M06",null,null,null,null,null,{"$f":"VLOOKUP(M246,Adresy!$A$3:$C$122,2,FALSE)","v":" Znojmo"},{"$f":"VLOOKUP(M246,Adresy!$A$3:$C$122,3,FALSE)","v":"MUDr. Jana Janského 2675/11"},0,0,0,0]
["SPECT/CT",null,"Software: rekonštrukcčný",null,"Autospect PRO",null,"PHILIPS BrightView XCT",null,null,"","bez položkovej identifikácie ceny (v rámci sumárnej ceny)","SW","Nemocnice Znojmo","ČR","EDOMED a.s.",null,1,null,null,{"$f":"IF(N247=\"SR\",1,IF(AC247=\"\",VLOOKUP(AW247,'CZKEUR Xchange rate'!$D$13:$E$234,2,FALSE),VLOOKUP(AW247,'CZKEUR Xchange rate'!$A$13:$B$234,2,FALSE)))","v":27.452999999999999},0,0,null,null,{"$f":"VLOOKUP(AW247,'Cenové indexy '!$D$7:$E$200,2,FALSE)","v":99.5},{"$f":"W247/Y247*'Cenové indexy '!$E$149","v":0},0,2014,null,null,"2013-11-30","Áno","Áno","Neurčené","Nie","24 meiacov zadarmo, potom 8 rokov podľa zmluvy",null,null,null,"Zmluva 12_MS",null,null,null,null,null,{"$f":"VLOOKUP(M247,Adresy!$A$4:$C$156,2,FALSE)","v":" Znojmo"},{"$f":"VLOOKUP(M247,Adresy!$A$4:$C$156,3,FALSE)","v":"MUDr. Jana Janského 2675/11"},"M","2014M06",null,null,null,null,null,{"$f":"VLOOKUP(M247,Adresy!$A$3:$C$122,2,FALSE)","v":" Znojmo"},{"$f":"VLOOKUP(M247,Adresy!$A$3:$C$122,3,FALSE)","v":"MUDr. Jana Janského 2675/11"},0,0,0,0]
["SPECT/CT",null,"Software: kardiológia",null,"NM/CTA cedars fusion WS",null,"PHILIPS BrightView XCT",null,null,"","bez položkovej identifikácie ceny (v rámci sumárnej ceny)","SW","Nemocnice Znojmo","ČR","EDOMED a.s.",null,1,null,null,{"$f":"IF(N248=\"SR\",1,IF(AC248=\"\",VLOOKUP(AW248,'CZKEUR Xchange rate'!$D$13:$E$234,2,FALSE),VLOOKUP(AW248,'CZKEUR Xchange rate'!$A$13:$B$234,2,FALSE)))","v":27.452999999999999},0,0,null,null,{"$f":"VLOOKUP(AW248,'Cenové indexy '!$D$7:$E$200,2,FALSE)","v":99.5},{"$f":"W248/Y248*'Cenové indexy '!$E$149","v":0},0,2014,null,null,"2013-11-30","Áno","Áno","Neurčené","Nie","24 meiacov zadarmo, potom 8 rokov podľa zmluvy",null,null,null,"Zmluva 12_MS",null,null,null,null,null,{"$f":"VLOOKUP(M248,Adresy!$A$4:$C$156,2,FALSE)","v":" Znojmo"},{"$f":"VLOOKUP(M248,Adresy!$A$4:$C$156,3,FALSE)","v":"MUDr. Jana Janského 2675/11"},"M","2014M06",null,null,null,null,null,{"$f":"VLOOKUP(M248,Adresy!$A$3:$C$122,2,FALSE)","v":" Znojmo"},{"$f":"VLOOKUP(M248,Adresy!$A$3:$C$122,3,FALSE)","v":"MUDr. Jana Janského 2675/11"},0,0,0,0]
["SPECT/CT",null,"Software: pokročilé rekonštrukcie",null,"Astonish NM",null,"PHILIPS BrightView XCT",null,null,"","bez položkovej identifikácie ceny (v rámci sumárnej ceny)","SW","Nemocnice Znojmo","ČR","EDOMED a.s.",null,1,null,null,{"$f":"IF(N249=\"SR\",1,IF(AC249=\"\",VLOOKUP(AW249,'CZKEUR Xchange rate'!$D$13:$E$234,2,FALSE),VLOOKUP(AW249,'CZKEUR Xchange rate'!$A$13:$B$234,2,FALSE)))","v":27.452999999999999},0,0,null,null,{"$f":"VLOOKUP(AW249,'Cenové indexy '!$D$7:$E$200,2,FALSE)","v":99.5},{"$f":"W249/Y249*'Cenové indexy '!$E$149","v":0},0,2014,null,null,"2013-11-30","Áno","Áno","Neurčené","Nie","24 meiacov zadarmo, potom 8 rokov podľa zmluvy",null,null,null,"Zmluva 12_MS",null,null,null,null,null,{"$f":"VLOOKUP(M249,Adresy!$A$4:$C$156,2,FALSE)","v":" Znojmo"},{"$f":"VLOOKUP(M249,Adresy!$A$4:$C$156,3,FALSE)","v":"MUDr. Jana Janského 2675/11"},"M","2014M06",null,null,null,null,null,{"$f":"VLOOKUP(M249,Adresy!$A$3:$C$122,2,FALSE)","v":" Znojmo"},{"$f":"VLOOKUP(M249,Adresy!$A$3:$C$122,3,FALSE)","v":"MUDr. Jana Janského 2675/11"},0,0,0,0]
["SPECT/CT",null,"Software: automatizovanú analýzu",null,"Autoquant for WS",null,"PHILIPS BrightView XCT",null,null,"","bez položkovej identifikácie ceny (v rámci sumárnej ceny)","SW","Nemocnice Znojmo","ČR","EDOMED a.s.",null,1,null,null,{"$f":"IF(N250=\"SR\",1,IF(AC250=\"\",VLOOKUP(AW250,'CZKEUR Xchange rate'!$D$13:$E$234,2,FALSE),VLOOKUP(AW250,'CZKEUR Xchange rate'!$A$13:$B$234,2,FALSE)))","v":27.452999999999999},0,0,null,null,{"$f":"VLOOKUP(AW250,'Cenové indexy '!$D$7:$E$200,2,FALSE)","v":99.5},{"$f":"W250/Y250*'Cenové indexy '!$E$149","v":0},0,2014,null,null,"2013-11-30","Áno","Áno","Neurčené","Nie","24 meiacov zadarmo, potom 8 rokov podľa zmluvy",null,null,null,"Zmluva 12_MS",null,null,null,null,null,{"$f":"VLOOKUP(M250,Adresy!$A$4:$C$156,2,FALSE)","v":" Znojmo"},{"$f":"VLOOKUP(M250,Adresy!$A$4:$C$156,3,FALSE)","v":"MUDr. Jana Janského 2675/11"},"M","2014M06",null,null,null,null,null,{"$f":"VLOOKUP(M250,Adresy!$A$3:$C$122,2,FALSE)","v":" Znojmo"},{"$f":"VLOOKUP(M250,Adresy!$A$3:$C$122,3,FALSE)","v":"MUDr. Jana Janského 2675/11"},0,0,0,0]
["SPECT/CT",null,"Software pre fúziu CT a SPECT štúdií",null,null,null,"PHILIPS BrightView XCT",null,null,"","bez položkovej identifikácie ceny (v rámci sumárnej ceny)","SW","Nemocnice Znojmo","ČR","EDOMED a.s.",null,1,null,null,{"$f":"IF(N251=\"SR\",1,IF(AC251=\"\",VLOOKUP(AW251,'CZKEUR Xchange rate'!$D$13:$E$234,2,FALSE),VLOOKUP(AW251,'CZKEUR Xchange rate'!$A$13:$B$234,2,FALSE)))","v":27.452999999999999},0,0,null,null,{"$f":"VLOOKUP(AW251,'Cenové indexy '!$D$7:$E$200,2,FALSE)","v":99.5},{"$f":"W251/Y251*'Cenové indexy '!$E$149","v":0},0,2014,null,null,"2013-11-30","Áno","Áno","Neurčené","Nie","24 meiacov zadarmo, potom 8 rokov podľa zmluvy",null,null,null,"Zmluva 12_MS",null,null,null,null,null,{"$f":"VLOOKUP(M251,Adresy!$A$4:$C$156,2,FALSE)","v":" Znojmo"},{"$f":"VLOOKUP(M251,Adresy!$A$4:$C$156,3,FALSE)","v":"MUDr. Jana Janského 2675/11"},"M","2014M06",null,null,null,null,null,{"$f":"VLOOKUP(M251,Adresy!$A$3:$C$122,2,FALSE)","v":" Znojmo"},{"$f":"VLOOKUP(M251,Adresy!$A$3:$C$122,3,FALSE)","v":"MUDr. Jana Janského 2675/11"},0,0,0,0]
["SPECT/CT",null,"Sofware: fúzia s DICOM",null,null,null,"PHILIPS BrightView XCT",null,null,"","bez položkovej identifikácie ceny (v rámci sumárnej ceny)","SW","Nemocnice Znojmo","ČR","EDOMED a.s.",null,1,null,null,{"$f":"IF(N252=\"SR\",1,IF(AC252=\"\",VLOOKUP(AW252,'CZKEUR Xchange rate'!$D$13:$E$234,2,FALSE),VLOOKUP(AW252,'CZKEUR Xchange rate'!$A$13:$B$234,2,FALSE)))","v":27.452999999999999},0,0,null,null,{"$f":"VLOOKUP(AW252,'Cenové indexy '!$D$7:$E$200,2,FALSE)","v":99.5},{"$f":"W252/Y252*'Cenové indexy '!$E$149","v":0},0,2014,null,null,"2013-11-30","Áno","Áno","Neurčené","Nie","24 meiacov zadarmo, potom 8 rokov podľa zmluvy",null,null,null,"Zmluva 12_MS",null,null,null,null,null,{"$f":"VLOOKUP(M252,Adresy!$A$4:$C$156,2,FALSE)","v":" Znojmo"},{"$f":"VLOOKUP(M252,Adresy!$A$4:$C$156,3,FALSE)","v":"MUDr. Jana Janského 2675/11"},"M","2014M06",null,null,null,null,null,{"$f":"VLOOKUP(M252,Adresy!$A$3:$C$122,2,FALSE)","v":" Znojmo"},{"$f":"VLOOKUP(M252,Adresy!$A$3:$C$122,3,FALSE)","v":"MUDr. Jana Janského 2675/11"},0,0,0,0]
["SPECT/CT",null,"Káble",null,null,null,"PHILIPS BrightView XCT",null,null,"","bez položkovej identifikácie ceny (v rámci sumárnej ceny)","HW","Nemocnice Znojmo","ČR","EDOMED a.s.",null,1,null,null,{"$f":"IF(N253=\"SR\",1,IF(AC253=\"\",VLOOKUP(AW253,'CZKEUR Xchange rate'!$D$13:$E$234,2,FALSE),VLOOKUP(AW253,'CZKEUR Xchange rate'!$A$13:$B$234,2,FALSE)))","v":27.452999999999999},0,0,null,null,{"$f":"VLOOKUP(AW253,'Cenové indexy '!$D$7:$E$200,2,FALSE)","v":99.5},{"$f":"W253/Y253*'Cenové indexy '!$E$149","v":0},0,2014,null,null,"2013-11-30","Áno","Áno","Neurčené","Nie","24 meiacov zadarmo, potom 8 rokov podľa zmluvy",null,null,null,"Zmluva 12_MS",null,null,null,null,null,{"$f":"VLOOKUP(M253,Adresy!$A$4:$C$156,2,FALSE)","v":" Znojmo"},{"$f":"VLOOKUP(M253,Adresy!$A$4:$C$156,3,FALSE)","v":"MUDr. Jana Janského 2675/11"},"M","2014M06",null,null,null,null,null,{"$f":"VLOOKUP(M253,Adresy!$A$3:$C$122,2,FALSE)","v":" Znojmo"},{"$f":"VLOOKUP(M253,Adresy!$A$3:$C$122,3,FALSE)","v":"MUDr. Jana Janského 2675/11"},0,0,0,0]
["SPECT/CT",null,"Zdroj",null,null,null,"PHILIPS BrightView XCT",null,null,"","bez položkovej identifikácie ceny (v rámci sumárnej ceny)","HW","Nemocnice Znojmo","ČR","EDOMED a.s.",null,1,null,null,{"$f":"IF(N254=\"SR\",1,IF(AC254=\"\",VLOOKUP(AW254,'CZKEUR Xchange rate'!$D$13:$E$234,2,FALSE),VLOOKUP(AW254,'CZKEUR Xchange rate'!$A$13:$B$234,2,FALSE)))","v":27.452999999999999},0,0,null,null,{"$f":"VLOOKUP(AW254,'Cenové indexy '!$D$7:$E$200,2,FALSE)","v":99.5},{"$f":"W254/Y254*'Cenové indexy '!$E$149","v":0},0,2014,null,null,"2013-11-30","Áno","Áno","Neurčené","Nie","24 meiacov zadarmo, potom 8 rokov podľa zmluvy",null,null,null,"Zmluva 12_MS",null,null,null,null,null,{"$f":"VLOOKUP(M254,Adresy!$A$4:$C$156,2,FALSE)","v":" Znojmo"},{"$f":"VLOOKUP(M254,Adresy!$A$4:$C$156,3,FALSE)","v":"MUDr. Jana Janského 2675/11"},"M","2014M06",null,null,null,null,null,{"$f":"VLOOKUP(M254,Adresy!$A$3:$C$122,2,FALSE)","v":" Znojmo"},{"$f":"VLOOKUP(M254,Adresy!$A$3:$C$122,3,FALSE)","v":"MUDr. Jana Janského 2675/11"},0,0,0,0]
["SPECT/CT",null,"EKG zariadenie pre synchronizáciu",null,"IVY biomedical cariac gate",null,"PHILIPS BrightView XCT",null,null,"","bez položkovej identifikácie ceny (v rámci sumárnej ceny)","HW","Nemocnice Znojmo","ČR","EDOMED a.s.",null,1,null,null,{"$f":"IF(N255=\"SR\",1,IF(AC255=\"\",VLOOKUP(AW255,'CZKEUR Xchange rate'!$D$13:$E$234,2,FALSE),VLOOKUP(AW255,'CZKEUR Xchange rate'!$A$13:$B$234,2,FALSE)))","v":27.452999999999999},0,0,null,null,{"$f":"VLOOKUP(AW255,'Cenové indexy '!$D$7:$E$200,2,FALSE)","v":99.5},{"$f":"W255/Y255*'Cenové indexy '!$E$149","v":0},0,2014,null,null,"2013-11-30","Áno","Áno","Neurčené","Nie","24 meiacov zadarmo, potom 8 rokov podľa zmluvy",null,null,null,"Zmluva 12_MS",null,null,null,null,null,{"$f":"VLOOKUP(M255,Adresy!$A$4:$C$156,2,FALSE)","v":" Znojmo"},{"$f":"VLOOKUP(M255,Adresy!$A$4:$C$156,3,FALSE)","v":"MUDr. Jana Janského 2675/11"},"M","2014M06",null,null,null,null,null,{"$f":"VLOOKUP(M255,Adresy!$A$3:$C$122,2,FALSE)","v":" Znojmo"},{"$f":"VLOOKUP(M255,Adresy!$A$3:$C$122,3,FALSE)","v":"MUDr. Jana Janského 2675/11"},0,0,0,0]
["SPECT/CT",null,"SPECT sada",null,null,null,"PHILIPS BrightView XCT",null,null,"","bez položkovej identifikácie ceny (v rámci sumárnej ceny)","HW","Nemocnice Znojmo","ČR","EDOMED a.s.",null,1,null,null,{"$f":"IF(N256=\"SR\",1,IF(AC256=\"\",VLOOKUP(AW256,'CZKEUR Xchange rate'!$D$13:$E$234,2,FALSE),VLOOKUP(AW256,'CZKEUR Xchange rate'!$A$13:$B$234,2,FALSE)))","v":27.452999999999999},0,0,null,null,{"$f":"VLOOKUP(AW256,'Cenové indexy '!$D$7:$E$200,2,FALSE)","v":99.5},{"$f":"W256/Y256*'Cenové indexy '!$E$149","v":0},0,2014,null,null,"2013-11-30","Áno","Áno","Neurčené","Nie","24 meiacov zadarmo, potom 8 rokov podľa zmluvy",null,null,null,"Zmluva 12_MS",null,null,null,null,null,{"$f":"VLOOKUP(M256,Adresy!$A$4:$C$156,2,FALSE)","v":" Znojmo"},{"$f":"VLOOKUP(M256,Adresy!$A$4:$C$156,3,FALSE)","v":"MUDr. Jana Janského 2675/11"},"M","2014M06",null,null,null,null,null,{"$f":"VLOOKUP(M256,Adresy!$A$3:$C$122,2,FALSE)","v":" Znojmo"},{"$f":"VLOOKUP(M256,Adresy!$A$3:$C$122,3,FALSE)","v":"MUDr. Jana Janského 2675/11"},0,0,0,0]
["SPECT/CT",null,"Ostatné stacionárne vybavenie",null,null,null,"PHILIPS BrightView XCT",null,null,"","bez položkovej identifikácie ceny (v rámci sumárnej ceny)","HW","Nemocnice Znojmo","ČR","EDOMED a.s.",null,1,null,null,{"$f":"IF(N257=\"SR\",1,IF(AC257=\"\",VLOOKUP(AW257,'CZKEUR Xchange rate'!$D$13:$E$234,2,FALSE),VLOOKUP(AW257,'CZKEUR Xchange rate'!$A$13:$B$234,2,FALSE)))","v":27.452999999999999},0,0,null,null,{"$f":"VLOOKUP(AW257,'Cenové indexy '!$D$7:$E$200,2,FALSE)","v":99.5},{"$f":"W257/Y257*'Cenové indexy '!$E$149","v":0},0,2014,null,null,"2013-11-30","Áno","Áno","Neurčené","Nie","24 meiacov zadarmo, potom 8 rokov podľa zmluvy",null,null,null,"Zmluva 12_MS",null,null,null,null,null,{"$f":"VLOOKUP(M257,Adresy!$A$4:$C$156,2,FALSE)","v":" Znojmo"},{"$f":"VLOOKUP(M257,Adresy!$A$4:$C$156,3,FALSE)","v":"MUDr. Jana Janského 2675/11"},"M","2014M06",null,null,null,null,null,{"$f":"VLOOKUP(M257,Adresy!$A$3:$C$122,2,FALSE)","v":" Znojmo"},{"$f":"VLOOKUP(M257,Adresy!$A$3:$C$122,3,FALSE)","v":"MUDr. Jana Janského 2675/11"},0,0,0,0]
["SPECT/CT",null,"Demontáž a likvidácia",null,null,null,"PHILIPS BrightView XCT",null,null,"","položková cena (súčasť sumárnej ceny)","služby","Nemocnice Znojmo","ČR","EDOMED a.s.",null,1,100000,{"$f":"R258*1.21","v":121000},{"$f":"IF(N258=\"SR\",1,IF(AC258=\"\",VLOOKUP(AW258,'CZKEUR Xchange rate'!$D$13:$E$234,2,FALSE),VLOOKUP(AW258,'CZKEUR Xchange rate'!$A$13:$B$234,2,FALSE)))","v":27.452999999999999},3642.5891523695045,4407.5328743670998,{"$f":"U258/Q258","v":3642.5891523695045},{"$f":"V258/Q258","v":4407.5328743670998},{"$f":"VLOOKUP(AW258,'Cenové indexy '!$D$7:$E$200,2,FALSE)","v":99.5},{"$f":"W258/Y258*'Cenové indexy '!$E$149","v":3775.4795907926332},{"$f":"Z258*1.2","v":4530.5755089511595},2014,null,null,{"$f":"DATE(AB258,AC258,AD258)","v":"2013-11-30"},"Áno","Áno","Neurčené","Nie","24 meiacov zadarmo, potom 8 rokov podľa zmluvy",null,null,null,"Zmluva 12_MS",null,null,null,null,null,{"$f":"VLOOKUP(M258,Adresy!$A$4:$C$156,2,FALSE)","v":" Znojmo"},{"$f":"VLOOKUP(M258,Adresy!$A$4:$C$156,3,FALSE)","v":"MUDr. Jana Janského 2675/11"},"M","2014M06",null,null,null,null,null,{"$f":"VLOOKUP(M258,Adresy!$A$3:$C$122,2,FALSE)","v":" Znojmo"},{"$f":"VLOOKUP(M258,Adresy!$A$3:$C$122,3,FALSE)","v":"MUDr. Jana Janského 2675/11"},{"$f":"IF(BC258<>AT258,1,0)","v":0},0,0,0]
["SPECT/CT",null,"Predinštalačná príprava",null,null,null,"PHILIPS BrightView XCT",null,null,"","položková cena (súčasť sumárnej ceny)","služby","Nemocnice Znojmo","ČR","EDOMED a.s.",null,1,150000,{"$f":"R259*1.21","v":181500},{"$f":"IF(N259=\"SR\",1,IF(AC259=\"\",VLOOKUP(AW259,'CZKEUR Xchange rate'!$D$13:$E$234,2,FALSE),VLOOKUP(AW259,'CZKEUR Xchange rate'!$A$13:$B$234,2,FALSE)))","v":27.452999999999999},5463.8837285542568,6611.2993115506506,{"$f":"U259/Q259","v":5463.8837285542568},{"$f":"V259/Q259","v":6611.2993115506506},{"$f":"VLOOKUP(AW259,'Cenové indexy '!$D$7:$E$200,2,FALSE)","v":99.5},{"$f":"W259/Y259*'Cenové indexy '!$E$149","v":5663.2193861889491},6795.8632634267387,2014,null,null,"2013-11-30","Áno","Áno","Neurčené","Nie","24 meiacov zadarmo, potom 8 rokov podľa zmluvy",null,null,null,"Zmluva 12_MS",null,null,null,null,null,{"$f":"VLOOKUP(M259,Adresy!$A$4:$C$156,2,FALSE)","v":" Znojmo"},{"$f":"VLOOKUP(M259,Adresy!$A$4:$C$156,3,FALSE)","v":"MUDr. Jana Janského 2675/11"},"M",{"$f":"IF(AC259=\"\",CONCATENATE(AB259,AV259,\"06\"),IF(LEN(AC259)=1,CONCATENATE(AB259,AV259,\"0\"&AC259),CONCATENATE(AB259,AV259,AC259)))","v":"2014M06"},null,null,null,null,null,{"$f":"VLOOKUP(M259,Adresy!$A$3:$C$122,2,FALSE)","v":" Znojmo"},{"$f":"VLOOKUP(M259,Adresy!$A$3:$C$122,3,FALSE)","v":"MUDr. Jana Janského 2675/11"},0,0,0,0]
["SPECT/CT",null,"Skúška dlhodobej stability",null,null,null,"PHILIPS BrightView XCT",null,null,"","položková cena (súčasť sumárnej ceny)","služby","Nemocnice Znojmo","ČR","EDOMED a.s.",null,1,10000,{"$f":"R260*1.21","v":12100},{"$f":"IF(N260=\"SR\",1,IF(AC260=\"\",VLOOKUP(AW260,'CZKEUR Xchange rate'!$D$13:$E$234,2,FALSE),VLOOKUP(AW260,'CZKEUR Xchange rate'!$A$13:$B$234,2,FALSE)))","v":27.452999999999999},364.25891523695043,440.75328743671002,{"$f":"U260/Q260","v":364.25891523695043},{"$f":"V260/Q260","v":440.75328743671002},{"$f":"VLOOKUP(AW260,'Cenové indexy '!$D$7:$E$200,2,FALSE)","v":99.5},{"$f":"W260/Y260*'Cenové indexy '!$E$149","v":377.54795907926325},453.05755089511587,2014,null,null,"2013-11-30","Áno","Áno","Neurčené","Nie","24 meiacov zadarmo, potom 8 rokov podľa zmluvy",null,null,null,"Zmluva 12_MS",null,null,null,null,null,{"$f":"VLOOKUP(M260,Adresy!$A$4:$C$156,2,FALSE)","v":" Znojmo"},{"$f":"VLOOKUP(M260,Adresy!$A$4:$C$156,3,FALSE)","v":"MUDr. Jana Janského 2675/11"},"M","2014M06",null,null,null,null,null,{"$f":"VLOOKUP(M260,Adresy!$A$3:$C$122,2,FALSE)","v":" Znojmo"},{"$f":"VLOOKUP(M260,Adresy!$A$3:$C$122,3,FALSE)","v":"MUDr. Jana Janského 2675/11"},0,0,0,0]
["SPECT/CT",null,"Pozáručný servis  (8 rokov po záruke)",null,"8 rokov po záručnej dobe",null,"PHILIPS BrightView XCT",null,null,"","sumárna cena","služby","Nemocnice Znojmo","ČR","EDOMED a.s.",null,1,7360500,8900000,{"$f":"IF(N261=\"SR\",1,IF(AC261=\"\",VLOOKUP(AW261,'CZKEUR Xchange rate'!$D$13:$E$234,2,FALSE),VLOOKUP(AW261,'CZKEUR Xchange rate'!$A$13:$B$234,2,FALSE)))","v":27.452999999999999},268112.77456015738,324190.43456088589,{"$f":"U261/Q261","v":268112.77456015738},{"$f":"V261/Q261","v":324190.43456088589},{"$f":"VLOOKUP(AW261,'Cenové indexy '!$D$7:$E$200,2,FALSE)","v":99.5},{"$f":"W261/Y261*'Cenové indexy '!$E$149","v":277894.17528029176},333473.01033635013,2014,null,null,"2013-11-30",null,null,null,null,null,null,null,null,"Zmluva 13_MS",null,null,null,null,null,{"$f":"VLOOKUP(M261,Adresy!$A$4:$C$156,2,FALSE)","v":" Znojmo"},{"$f":"VLOOKUP(M261,Adresy!$A$4:$C$156,3,FALSE)","v":"MUDr. Jana Janského 2675/11"},"M","2014M06",null,null,null,null,null,{"$f":"VLOOKUP(M261,Adresy!$A$3:$C$122,2,FALSE)","v":" Znojmo"},{"$f":"VLOOKUP(M261,Adresy!$A$3:$C$122,3,FALSE)","v":"MUDr. Jana Janského 2675/11"},0,0,0,0]
["SPECT/CT",null,"Bez ďalšich info",null,null,null,"PHILIPS BrightView XCT",null,null,"","sumárna cena","HW/SW","Nemocnica Poprad, a. s.","SR","",null,1,null,null,{"$f":"IF(N262=\"SR\",1,IF(AC262=\"\",VLOOKUP(AW262,'CZKEUR Xchange rate'!$D$13:$E$234,2,FALSE),VLOOKUP(AW262,'CZKEUR Xchange rate'!$A$13:$B$234,2,FALSE)))","v":1},0,0,null,null,{"$f":"VLOOKUP(AW262,'Cenové indexy '!$D$7:$E$200,2,FALSE)","v":87.95},{"$f":"W262/Y262*'Cenové indexy '!$E$149","v":0},0,2010,null,null,"2009-11-30",null,null,null,null,null,null,null,null,null,null,null,null,null,null,{"$f":"VLOOKUP(M262,Adresy!$A$4:$C$156,2,FALSE)","v":"Poprad"},{"$f":"VLOOKUP(M262,Adresy!$A$4:$C$156,3,FALSE)","v":"Banícka"},"M","2010M06",null,null,null,null,null,{"$f":"VLOOKUP(M262,Adresy!$A$3:$C$122,2,FALSE)","v":"Poprad"},{"$f":"VLOOKUP(M262,Adresy!$A$3:$C$122,3,FALSE)","v":"Banícka"},0,0,0,0]
["SPECT/CT",null,"Bez ďalšich info",null,null,null,"Mediso AnyScan SC",null,null,"","sumárna cena","HW/SW","Nemocnice Pelhřimov","ČR","BANK.SYS s.r.o.",null,1,null,null,{"$f":"IF(N263=\"SR\",1,IF(AC263=\"\",VLOOKUP(AW263,'CZKEUR Xchange rate'!$D$13:$E$234,2,FALSE),VLOOKUP(AW263,'CZKEUR Xchange rate'!$A$13:$B$234,2,FALSE)))","v":25.949000000000002},0,0,null,null,{"$f":"VLOOKUP(AW263,'Cenové indexy '!$D$7:$E$200,2,FALSE)","v":98.57},{"$f":"W263/Y263*'Cenové indexy '!$E$149","v":0},0,2013,null,null,"2012-11-30",null,null,null,null,null,null,null,null,null,null,null,null,null,null,{"$f":"VLOOKUP(M263,Adresy!$A$4:$C$156,2,FALSE)","v":" Pelhřimov"},{"$f":"VLOOKUP(M263,Adresy!$A$4:$C$156,3,FALSE)","v":"Slovanského bratrství 710"},"M","2013M06",null,null,null,null,null,{"$f":"VLOOKUP(M263,Adresy!$A$3:$C$122,2,FALSE)","v":" Pelhřimov"},{"$f":"VLOOKUP(M263,Adresy!$A$3:$C$122,3,FALSE)","v":"Slovanského bratrství 710"},0,0,0,0]
["SPECT/CT",null,"Celá zostava",null,null,null,"PHILIPS BrightView XCT",null,null,"","bez položkovej identifikácie ceny (v rámci sumárnej ceny)","HW/SW","Oblastní nemocnice Trutnov, a.s.","ČR","EDOMED a.s.",null,1,13980000,15937200,{"$f":"IF(N264=\"SR\",1,IF(AC264=\"\",VLOOKUP(AW264,'CZKEUR Xchange rate'!$D$13:$E$234,2,FALSE),VLOOKUP(AW264,'CZKEUR Xchange rate'!$A$13:$B$234,2,FALSE)))","v":25.64},545241.80967238685,621575.6630265211,{"$f":"U264/Q264","v":545241.80967238685},{"$f":"V264/Q264","v":621575.6630265211},{"$f":"VLOOKUP(AW264,'Cenové indexy '!$D$7:$E$200,2,FALSE)","v":96.04},{"$f":"W264/Y264*'Cenové indexy '!$E$149","v":585493.41765424039},702592.1011850884,2012,null,null,"2011-11-30","Áno","Áno","Neurčené","Nie","24 meiacov zadarmo, potom (?)",null,null,null,"Zmluva 14_Msab",null,null,null,null,null,{"$f":"VLOOKUP(M264,Adresy!$A$4:$C$156,2,FALSE)","v":"Trutnov"},{"$f":"VLOOKUP(M264,Adresy!$A$4:$C$156,3,FALSE)","v":"Maxima Gorkého 77"},"M","2012M06",null,null,null,null,null,{"$f":"VLOOKUP(M264,Adresy!$A$3:$C$122,2,FALSE)","v":"Trutnov"},{"$f":"VLOOKUP(M264,Adresy!$A$3:$C$122,3,FALSE)","v":"Maxima Gorkého 77"},0,0,0,0]
["SPECT/CT",null,"Detektory 3/8 s nízkym profilom",null,null,null,"PHILIPS BrightView XCT",null,null,"","bez položkovej identifikácie ceny (v rámci sumárnej ceny)","HW","Oblastní nemocnice Trutnov, a.s.","ČR","EDOMED a.s.",null,1,null,null,{"$f":"IF(N265=\"SR\",1,IF(AC265=\"\",VLOOKUP(AW265,'CZKEUR Xchange rate'!$D$13:$E$234,2,FALSE),VLOOKUP(AW265,'CZKEUR Xchange rate'!$A$13:$B$234,2,FALSE)))","v":25.64},0,0,null,null,{"$f":"VLOOKUP(AW265,'Cenové indexy '!$D$7:$E$200,2,FALSE)","v":96.04},{"$f":"W265/Y265*'Cenové indexy '!$E$149","v":0},0,2012,null,null,"2011-11-30","Áno","Áno","Neurčené","Nie","24 meiacov zadarmo, potom (?)",null,null,null,"Zmluva 14_Msab",null,null,null,null,null,{"$f":"VLOOKUP(M265,Adresy!$A$4:$C$156,2,FALSE)","v":"Trutnov"},{"$f":"VLOOKUP(M265,Adresy!$A$4:$C$156,3,FALSE)","v":"Maxima Gorkého 77"},"M","2012M06",null,null,null,null,null,{"$f":"VLOOKUP(M265,Adresy!$A$3:$C$122,2,FALSE)","v":"Trutnov"},{"$f":"VLOOKUP(M265,Adresy!$A$3:$C$122,3,FALSE)","v":"Maxima Gorkého 77"},0,0,0,0]
["SPECT/CT",null,"Pojazdný stôl pre LCD monitor akvizičnej stanice",null,null,null,"PHILIPS BrightView XCT",null,null,"","bez položkovej identifikácie ceny (v rámci sumárnej ceny)","HW","Oblastní nemocnice Trutnov, a.s.","ČR","EDOMED a.s.",null,1,null,null,{"$f":"IF(N266=\"SR\",1,IF(AC266=\"\",VLOOKUP(AW266,'CZKEUR Xchange rate'!$D$13:$E$234,2,FALSE),VLOOKUP(AW266,'CZKEUR Xchange rate'!$A$13:$B$234,2,FALSE)))","v":25.64},0,0,null,null,{"$f":"VLOOKUP(AW266,'Cenové indexy '!$D$7:$E$200,2,FALSE)","v":96.04},{"$f":"W266/Y266*'Cenové indexy '!$E$149","v":0},0,2012,null,null,"2011-11-30","Áno","Áno","Neurčené","Nie","24 meiacov zadarmo, potom (?)",null,null,null,"Zmluva 14_Msab",null,null,null,null,null,{"$f":"VLOOKUP(M266,Adresy!$A$4:$C$156,2,FALSE)","v":"Trutnov"},{"$f":"VLOOKUP(M266,Adresy!$A$4:$C$156,3,FALSE)","v":"Maxima Gorkého 77"},"M","2012M06",null,null,null,null,null,{"$f":"VLOOKUP(M266,Adresy!$A$3:$C$122,2,FALSE)","v":"Trutnov"},{"$f":"VLOOKUP(M266,Adresy!$A$3:$C$122,3,FALSE)","v":"Maxima Gorkého 77"},0,0,0,0]
["SPECT/CT",null,"Dvojitý farebný  LCD monitor",null,null,null,"PHILIPS BrightView XCT",null,null,"","bez položkovej identifikácie ceny (v rámci sumárnej ceny)","HW","Oblastní nemocnice Trutnov, a.s.","ČR","EDOMED a.s.",null,1,null,null,{"$f":"IF(N267=\"SR\",1,IF(AC267=\"\",VLOOKUP(AW267,'CZKEUR Xchange rate'!$D$13:$E$234,2,FALSE),VLOOKUP(AW267,'CZKEUR Xchange rate'!$A$13:$B$234,2,FALSE)))","v":25.64},0,0,null,null,{"$f":"VLOOKUP(AW267,'Cenové indexy '!$D$7:$E$200,2,FALSE)","v":96.04},{"$f":"W267/Y267*'Cenové indexy '!$E$149","v":0},0,2012,null,null,"2011-11-30","Áno","Áno","Neurčené","Nie","24 meiacov zadarmo, potom (?)",null,null,null,"Zmluva 14_Msab",null,null,null,null,null,{"$f":"VLOOKUP(M267,Adresy!$A$4:$C$156,2,FALSE)","v":"Trutnov"},{"$f":"VLOOKUP(M267,Adresy!$A$4:$C$156,3,FALSE)","v":"Maxima Gorkého 77"},"M","2012M06",null,null,null,null,null,{"$f":"VLOOKUP(M267,Adresy!$A$3:$C$122,2,FALSE)","v":"Trutnov"},{"$f":"VLOOKUP(M267,Adresy!$A$3:$C$122,3,FALSE)","v":"Maxima Gorkého 77"},0,0,0,0]
["SPECT/CT",null,"Kolimátor pre nízke energie, vysoké rozlíšenie",null,null,null,"PHILIPS BrightView XCT",null,null,"","bez položkovej identifikácie ceny (v rámci sumárnej ceny)","HW","Oblastní nemocnice Trutnov, a.s.","ČR","EDOMED a.s.",null,1,null,null,{"$f":"IF(N268=\"SR\",1,IF(AC268=\"\",VLOOKUP(AW268,'CZKEUR Xchange rate'!$D$13:$E$234,2,FALSE),VLOOKUP(AW268,'CZKEUR Xchange rate'!$A$13:$B$234,2,FALSE)))","v":25.64},0,0,null,null,{"$f":"VLOOKUP(AW268,'Cenové indexy '!$D$7:$E$200,2,FALSE)","v":96.04},{"$f":"W268/Y268*'Cenové indexy '!$E$149","v":0},0,2012,null,null,"2011-11-30","Áno","Áno","Neurčené","Nie","24 meiacov zadarmo, potom (?)",null,null,null,"Zmluva 14_Msab",null,null,null,null,null,{"$f":"VLOOKUP(M268,Adresy!$A$4:$C$156,2,FALSE)","v":"Trutnov"},{"$f":"VLOOKUP(M268,Adresy!$A$4:$C$156,3,FALSE)","v":"Maxima Gorkého 77"},"M","2012M06",null,null,null,null,null,{"$f":"VLOOKUP(M268,Adresy!$A$3:$C$122,2,FALSE)","v":"Trutnov"},{"$f":"VLOOKUP(M268,Adresy!$A$3:$C$122,3,FALSE)","v":"Maxima Gorkého 77"},0,0,0,0]
["SPECT/CT",null,"Kolimátor pre stredné energie",null,null,null,"PHILIPS BrightView XCT",null,null,"","bez položkovej identifikácie ceny (v rámci sumárnej ceny)","HW","Oblastní nemocnice Trutnov, a.s.","ČR","EDOMED a.s.",null,1,null,null,{"$f":"IF(N269=\"SR\",1,IF(AC269=\"\",VLOOKUP(AW269,'CZKEUR Xchange rate'!$D$13:$E$234,2,FALSE),VLOOKUP(AW269,'CZKEUR Xchange rate'!$A$13:$B$234,2,FALSE)))","v":25.64},0,0,null,null,{"$f":"VLOOKUP(AW269,'Cenové indexy '!$D$7:$E$200,2,FALSE)","v":96.04},{"$f":"W269/Y269*'Cenové indexy '!$E$149","v":0},0,2012,null,null,"2011-11-30","Áno","Áno","Neurčené","Nie","24 meiacov zadarmo, potom (?)",null,null,null,"Zmluva 14_Msab",null,null,null,null,null,{"$f":"VLOOKUP(M269,Adresy!$A$4:$C$156,2,FALSE)","v":"Trutnov"},{"$f":"VLOOKUP(M269,Adresy!$A$4:$C$156,3,FALSE)","v":"Maxima Gorkého 77"},"M","2012M06",null,null,null,null,null,{"$f":"VLOOKUP(M269,Adresy!$A$3:$C$122,2,FALSE)","v":"Trutnov"},{"$f":"VLOOKUP(M269,Adresy!$A$3:$C$122,3,FALSE)","v":"Maxima Gorkého 77"},0,0,0,0]
["SPECT/CT",null,"Pracovná stanica",null,"EBW for NM",null,"PHILIPS BrightView XCT",null,null,"","bez položkovej identifikácie ceny (v rámci sumárnej ceny)","HW","Oblastní nemocnice Trutnov, a.s.","ČR","EDOMED a.s.",null,1,null,null,{"$f":"IF(N270=\"SR\",1,IF(AC270=\"\",VLOOKUP(AW270,'CZKEUR Xchange rate'!$D$13:$E$234,2,FALSE),VLOOKUP(AW270,'CZKEUR Xchange rate'!$A$13:$B$234,2,FALSE)))","v":25.64},0,0,null,null,{"$f":"VLOOKUP(AW270,'Cenové indexy '!$D$7:$E$200,2,FALSE)","v":96.04},{"$f":"W270/Y270*'Cenové indexy '!$E$149","v":0},0,2012,null,null,"2011-11-30","Áno","Áno","Neurčené","Nie","24 meiacov zadarmo, potom (?)",null,null,null,"Zmluva 14_Msab",null,null,null,null,null,{"$f":"VLOOKUP(M270,Adresy!$A$4:$C$156,2,FALSE)","v":"Trutnov"},{"$f":"VLOOKUP(M270,Adresy!$A$4:$C$156,3,FALSE)","v":"Maxima Gorkého 77"},"M","2012M06",null,null,null,null,null,{"$f":"VLOOKUP(M270,Adresy!$A$3:$C$122,2,FALSE)","v":"Trutnov"},{"$f":"VLOOKUP(M270,Adresy!$A$3:$C$122,3,FALSE)","v":"Maxima Gorkého 77"},0,0,0,0]
["SPECT/CT",null,"Software: pokročilé rekonštrukcie",null,"Astonish NM",null,"PHILIPS BrightView XCT",null,null,"","bez položkovej identifikácie ceny (v rámci sumárnej ceny)","SW","Oblastní nemocnice Trutnov, a.s.","ČR","EDOMED a.s.",null,1,null,null,{"$f":"IF(N271=\"SR\",1,IF(AC271=\"\",VLOOKUP(AW271,'CZKEUR Xchange rate'!$D$13:$E$234,2,FALSE),VLOOKUP(AW271,'CZKEUR Xchange rate'!$A$13:$B$234,2,FALSE)))","v":25.64},0,0,null,null,{"$f":"VLOOKUP(AW271,'Cenové indexy '!$D$7:$E$200,2,FALSE)","v":96.04},{"$f":"W271/Y271*'Cenové indexy '!$E$149","v":0},0,2012,null,null,"2011-11-30","Áno","Áno","Neurčené","Nie","24 meiacov zadarmo, potom (?)",null,null,null,"Zmluva 14_Msab",null,null,null,null,null,{"$f":"VLOOKUP(M271,Adresy!$A$4:$C$156,2,FALSE)","v":"Trutnov"},{"$f":"VLOOKUP(M271,Adresy!$A$4:$C$156,3,FALSE)","v":"Maxima Gorkého 77"},"M","2012M06",null,null,null,null,null,{"$f":"VLOOKUP(M271,Adresy!$A$3:$C$122,2,FALSE)","v":"Trutnov"},{"$f":"VLOOKUP(M271,Adresy!$A$3:$C$122,3,FALSE)","v":"Maxima Gorkého 77"},0,0,0,0]
["SPECT/CT",null,"Software: automatizovanú analýzu",null,"Autoquant for WS",null,"PHILIPS BrightView XCT",null,null,"","bez položkovej identifikácie ceny (v rámci sumárnej ceny)","SW","Oblastní nemocnice Trutnov, a.s.","ČR","EDOMED a.s.",null,1,null,null,{"$f":"IF(N272=\"SR\",1,IF(AC272=\"\",VLOOKUP(AW272,'CZKEUR Xchange rate'!$D$13:$E$234,2,FALSE),VLOOKUP(AW272,'CZKEUR Xchange rate'!$A$13:$B$234,2,FALSE)))","v":25.64},0,0,null,null,{"$f":"VLOOKUP(AW272,'Cenové indexy '!$D$7:$E$200,2,FALSE)","v":96.04},{"$f":"W272/Y272*'Cenové indexy '!$E$149","v":0},0,2012,null,null,"2011-11-30","Áno","Áno","Neurčené","Nie","24 meiacov zadarmo, potom (?)",null,null,null,"Zmluva 14_Msab",null,null,null,null,null,{"$f":"VLOOKUP(M272,Adresy!$A$4:$C$156,2,FALSE)","v":"Trutnov"},{"$f":"VLOOKUP(M272,Adresy!$A$4:$C$156,3,FALSE)","v":"Maxima Gorkého 77"},"M","2012M06",null,null,null,null,null,{"$f":"VLOOKUP(M272,Adresy!$A$3:$C$122,2,FALSE)","v":"Trutnov"},{"$f":"VLOOKUP(M272,Adresy!$A$3:$C$122,3,FALSE)","v":"Maxima Gorkého 77"},0,0,0,0]
["SPECT/CT",null,"DICOM worklist",null,null,null,"PHILIPS BrightView XCT",null,null,"","bez položkovej identifikácie ceny (v rámci sumárnej ceny)","SW","Oblastní nemocnice Trutnov, a.s.","ČR","EDOMED a.s.",null,1,null,null,{"$f":"IF(N273=\"SR\",1,IF(AC273=\"\",VLOOKUP(AW273,'CZKEUR Xchange rate'!$D$13:$E$234,2,FALSE),VLOOKUP(AW273,'CZKEUR Xchange rate'!$A$13:$B$234,2,FALSE)))","v":25.64},0,0,null,null,{"$f":"VLOOKUP(AW273,'Cenové indexy '!$D$7:$E$200,2,FALSE)","v":96.04},{"$f":"W273/Y273*'Cenové indexy '!$E$149","v":0},0,2012,null,null,"2011-11-30","Áno","Áno","Neurčené","Nie","24 meiacov zadarmo, potom (?)",null,null,null,"Zmluva 14_Msab",null,null,null,null,null,{"$f":"VLOOKUP(M273,Adresy!$A$4:$C$156,2,FALSE)","v":"Trutnov"},{"$f":"VLOOKUP(M273,Adresy!$A$4:$C$156,3,FALSE)","v":"Maxima Gorkého 77"},"M","2012M06",null,null,null,null,null,{"$f":"VLOOKUP(M273,Adresy!$A$3:$C$122,2,FALSE)","v":"Trutnov"},{"$f":"VLOOKUP(M273,Adresy!$A$3:$C$122,3,FALSE)","v":"Maxima Gorkého 77"},0,0,0,0]
["SPECT/CT",null,"Rozšírenie pracovnej stanice použitím dvoch monitorov",null,null,null,"PHILIPS BrightView XCT",null,null,"","bez položkovej identifikácie ceny (v rámci sumárnej ceny)","HW","Oblastní nemocnice Trutnov, a.s.","ČR","EDOMED a.s.",null,1,null,null,{"$f":"IF(N274=\"SR\",1,IF(AC274=\"\",VLOOKUP(AW274,'CZKEUR Xchange rate'!$D$13:$E$234,2,FALSE),VLOOKUP(AW274,'CZKEUR Xchange rate'!$A$13:$B$234,2,FALSE)))","v":25.64},0,0,null,null,{"$f":"VLOOKUP(AW274,'Cenové indexy '!$D$7:$E$200,2,FALSE)","v":96.04},{"$f":"W274/Y274*'Cenové indexy '!$E$149","v":0},0,2012,null,null,"2011-11-30","Áno","Áno","Neurčené","Nie","24 meiacov zadarmo, potom (?)",null,null,null,"Zmluva 14_Msab",null,null,null,null,null,{"$f":"VLOOKUP(M274,Adresy!$A$4:$C$156,2,FALSE)","v":"Trutnov"},{"$f":"VLOOKUP(M274,Adresy!$A$4:$C$156,3,FALSE)","v":"Maxima Gorkého 77"},"M","2012M06",null,null,null,null,null,{"$f":"VLOOKUP(M274,Adresy!$A$3:$C$122,2,FALSE)","v":"Trutnov"},{"$f":"VLOOKUP(M274,Adresy!$A$3:$C$122,3,FALSE)","v":"Maxima Gorkého 77"},0,0,0,0]
["SPECT/CT",null,"Ostatné stacionárne vybavenie",null,null,null,"PHILIPS BrightView XCT",null,null,"","bez položkovej identifikácie ceny (v rámci sumárnej ceny)","HW","Oblastní nemocnice Trutnov, a.s.","ČR","EDOMED a.s.",null,1,null,null,{"$f":"IF(N275=\"SR\",1,IF(AC275=\"\",VLOOKUP(AW275,'CZKEUR Xchange rate'!$D$13:$E$234,2,FALSE),VLOOKUP(AW275,'CZKEUR Xchange rate'!$A$13:$B$234,2,FALSE)))","v":25.64},0,0,null,null,{"$f":"VLOOKUP(AW275,'Cenové indexy '!$D$7:$E$200,2,FALSE)","v":96.04},{"$f":"W275/Y275*'Cenové indexy '!$E$149","v":0},0,2012,null,null,"2011-11-30","Áno","Áno","Neurčené","Nie","24 meiacov zadarmo, potom (?)",null,null,null,"Zmluva 14_Msab",null,null,null,null,null,{"$f":"VLOOKUP(M275,Adresy!$A$4:$C$156,2,FALSE)","v":"Trutnov"},{"$f":"VLOOKUP(M275,Adresy!$A$4:$C$156,3,FALSE)","v":"Maxima Gorkého 77"},"M","2012M06",null,null,null,null,null,{"$f":"VLOOKUP(M275,Adresy!$A$3:$C$122,2,FALSE)","v":"Trutnov"},{"$f":"VLOOKUP(M275,Adresy!$A$3:$C$122,3,FALSE)","v":"Maxima Gorkého 77"},0,0,0,0]
["SPECT/CT",null,"EKG zariadenie pre synchronizáciu",null,null,null,"PHILIPS BrightView XCT",null,null,"","bez položkovej identifikácie ceny (v rámci sumárnej ceny)","HW","Oblastní nemocnice Trutnov, a.s.","ČR","EDOMED a.s.",null,1,null,null,{"$f":"IF(N276=\"SR\",1,IF(AC276=\"\",VLOOKUP(AW276,'CZKEUR Xchange rate'!$D$13:$E$234,2,FALSE),VLOOKUP(AW276,'CZKEUR Xchange rate'!$A$13:$B$234,2,FALSE)))","v":25.64},0,0,null,null,{"$f":"VLOOKUP(AW276,'Cenové indexy '!$D$7:$E$200,2,FALSE)","v":96.04},{"$f":"W276/Y276*'Cenové indexy '!$E$149","v":0},0,2012,null,null,"2011-11-30","Áno","Áno","Neurčené","Nie","24 meiacov zadarmo, potom (?)",null,null,null,"Zmluva 14_Msab",null,null,null,null,null,{"$f":"VLOOKUP(M276,Adresy!$A$4:$C$156,2,FALSE)","v":"Trutnov"},{"$f":"VLOOKUP(M276,Adresy!$A$4:$C$156,3,FALSE)","v":"Maxima Gorkého 77"},"M","2012M06",null,null,null,null,null,{"$f":"VLOOKUP(M276,Adresy!$A$3:$C$122,2,FALSE)","v":"Trutnov"},{"$f":"VLOOKUP(M276,Adresy!$A$3:$C$122,3,FALSE)","v":"Maxima Gorkého 77"},0,0,0,0]
["SPECT/CT",null,"Bez ďalšich info",null,null,null,"Siemens Symbia T",null,null,"","sumárna cena","HW/SW","Onkologický ústav sv. Alžbety s.r.o.","SR","",null,1,null,null,{"$f":"IF(N277=\"SR\",1,IF(AC277=\"\",VLOOKUP(AW277,'CZKEUR Xchange rate'!$D$13:$E$234,2,FALSE),VLOOKUP(AW277,'CZKEUR Xchange rate'!$A$13:$B$234,2,FALSE)))","v":1},0,0,null,null,{"$f":"VLOOKUP(AW277,'Cenové indexy '!$D$7:$E$200,2,FALSE)","v":89.51},{"$f":"W277/Y277*'Cenové indexy '!$E$149","v":0},0,2011,null,null,"2010-11-30",null,null,null,null,null,null,null,null,null,null,null,null,null,null,{"$f":"VLOOKUP(M277,Adresy!$A$4:$C$156,2,FALSE)","v":"Bratislava"},{"$f":"VLOOKUP(M277,Adresy!$A$4:$C$156,3,FALSE)","v":"Heydukova 2157/1"},"M","2011M06",null,null,null,null,null,{"$f":"VLOOKUP(M277,Adresy!$A$3:$C$122,2,FALSE)","v":"Bratislava"},{"$f":"VLOOKUP(M277,Adresy!$A$3:$C$122,3,FALSE)","v":"Heydukova 2157/1"},0,0,0,0]
["pľúcny ventilátor",null,"Celá zostava",null,null,null,"Draeger EVITA V300","Draeger EVITA V300",null,"Dräger","sumárna cena","HW","Fakultní nemocnica Olomouc","ČR","Dräger Medical s.r.o.",null,2,933400,1129414,{"$f":"IF(N278=\"SR\",1,IF(AC278=\"\",VLOOKUP(AW278,'CZKEUR Xchange rate'!$D$13:$E$234,2,FALSE),VLOOKUP(AW278,'CZKEUR Xchange rate'!$A$13:$B$234,2,FALSE)))","v":27.253},34249.440428576672,41441.822918577775,{"$f":"U278/Q278","v":17124.720214288336},{"$f":"V278/Q278","v":20720.911459288887},{"$f":"VLOOKUP(AW278,'Cenové indexy '!$D$7:$E$200,2,FALSE)","v":99.88},{"$f":"W278/Y278*'Cenové indexy '!$E$149","v":17681.942287740851},21218.330745289019,2015,null,null,"2014-11-30","Áno","Áno","Neurčené","Nie","24 mesiacov zadarmo",null,null,null,"Zmluva 1_MB",null,null,null,null,null,{"$f":"VLOOKUP(M278,Adresy!$A$4:$C$156,2,FALSE)","v":"Olomouc"},{"$f":"VLOOKUP(M278,Adresy!$A$4:$C$156,3,FALSE)","v":"I.P. Pavolva 185/6"},"M","2015M06",null,null,null,null,null,{"$f":"VLOOKUP(M278,Adresy!$A$3:$C$122,2,FALSE)","v":"Olomouc"},{"$f":"VLOOKUP(M278,Adresy!$A$3:$C$122,3,FALSE)","v":"I.P. Pavolva 185/6"},0,0,0,0]
["pľúcny ventilátor","transportný pľúcny ventilátor","Celá zostava",null,null,null,"Oxylog 3000 Plus","Oxylog 3000 Plus",null,"Dräger","sumárna cena","HW","Fakultní nemocnica Olomouc","ČR","Dräger Medical s.r.o.",null,1,429200,519332,{"$f":"IF(N279=\"SR\",1,IF(AC279=\"\",VLOOKUP(AW279,'CZKEUR Xchange rate'!$D$13:$E$234,2,FALSE),VLOOKUP(AW279,'CZKEUR Xchange rate'!$A$13:$B$234,2,FALSE)))","v":27.253},15748.72491101897,19055.957142332954,15748.72491101897,19055.957142332954,{"$f":"VLOOKUP(AW279,'Cenové indexy '!$D$7:$E$200,2,FALSE)","v":99.88},{"$f":"W279/Y279*'Cenové indexy '!$E$149","v":16261.173408824452},19513.408090589342,2015,null,null,"2014-11-30","Áno","Áno","Neurčené","Nie","24 mesiacov zadarmo",null,null,null,"Zmluva 1_MB",null,null,null,null,null,{"$f":"VLOOKUP(M279,Adresy!$A$4:$C$156,2,FALSE)","v":"Olomouc"},{"$f":"VLOOKUP(M279,Adresy!$A$4:$C$156,3,FALSE)","v":"I.P. Pavolva 185/6"},"M","2015M06",null,null,null,null,null,{"$f":"VLOOKUP(M279,Adresy!$A$3:$C$122,2,FALSE)","v":"Olomouc"},{"$f":"VLOOKUP(M279,Adresy!$A$3:$C$122,3,FALSE)","v":"I.P. Pavolva 185/6"},0,0,0,0]
["pľúcny ventilátor",null,"Celá zostava",null,null,null,"Draeger Savina 300","Draeger Savina 300",null,"Dräger","sumárna cena","HW","Fakultní nemocnice Plzeň","ČR","Dräger Medical s.r.o.",null,4,1194800,1445708,{"$f":"IF(N280=\"SR\",1,IF(AC280=\"\",VLOOKUP(AW280,'CZKEUR Xchange rate'!$D$13:$E$234,2,FALSE),VLOOKUP(AW280,'CZKEUR Xchange rate'!$A$13:$B$234,2,FALSE)))","v":27.253},43841.045022566323,53047.664477305254,10960.261255641581,13261.916119326313,{"$f":"VLOOKUP(AW280,'Cenové indexy '!$D$7:$E$200,2,FALSE)","v":99.88},{"$f":"W280/Y280*'Cenové indexy '!$E$149","v":11316.897710195397},13580.277252234477,2015,null,null,"2014-11-30","Áno","Áno","Neurčené","Áno","24 mesiacov zadarmo",null,null,null,"Zmluva 3_MB",null,null,null,null,null,{"$f":"VLOOKUP(M280,Adresy!$A$4:$C$156,2,FALSE)","v":"Plzeň"},{"$f":"VLOOKUP(M280,Adresy!$A$4:$C$156,3,FALSE)","v":"Dr. E. Beneše 1128/13"},"M","2015M06",null,null,null,null,null,{"$f":"VLOOKUP(M280,Adresy!$A$3:$C$122,2,FALSE)","v":"Plzeň"},{"$f":"VLOOKUP(M280,Adresy!$A$3:$C$122,3,FALSE)","v":"Dr. E. Beneše 1128/13"},0,0,0,0]
["pľúcny ventilátor",null,"Celá zostava",null,null,null,"Draeger EVITA XL","Draeger EVITA XL",null,"Dräger","sumárna cena","HW","Fakultní nemocnice Plzeň","ČR","Dräger Medical s.r.o.",null,2,778000,941380,{"$f":"IF(N281=\"SR\",1,IF(AC281=\"\",VLOOKUP(AW281,'CZKEUR Xchange rate'!$D$13:$E$234,2,FALSE),VLOOKUP(AW281,'CZKEUR Xchange rate'!$A$13:$B$234,2,FALSE)))","v":27.253},28547.315891828421,34542.25222911239,14273.65794591421,17271.126114556195,{"$f":"VLOOKUP(AW281,'Cenové indexy '!$D$7:$E$200,2,FALSE)","v":99.88},{"$f":"W281/Y281*'Cenové indexy '!$E$149","v":14738.109170626078},17685.731004751291,2015,null,null,"2014-11-30","Áno","Áno","Neurčené","Áno","24 mesiacov zadarmo",null,null,null,"Zmluva 3_MB",null,null,null,null,null,{"$f":"VLOOKUP(M281,Adresy!$A$4:$C$156,2,FALSE)","v":"Plzeň"},{"$f":"VLOOKUP(M281,Adresy!$A$4:$C$156,3,FALSE)","v":"Dr. E. Beneše 1128/13"},"M","2015M06",null,null,null,null,null,{"$f":"VLOOKUP(M281,Adresy!$A$3:$C$122,2,FALSE)","v":"Plzeň"},{"$f":"VLOOKUP(M281,Adresy!$A$3:$C$122,3,FALSE)","v":"Dr. E. Beneše 1128/13"},0,0,0,0]
["pľúcny ventilátor",null,"Celá zostava",null,null,null,"Hamilton C1","Hamilton C1",null,"Hamilton medical","sumárna cena","HW","Fakultní nemocnice Brno","ČR","A.M.I. Analytical medical instruments s.r.o.",null,4,{"$f":"1602320+116200+66960+15200+15200","v":1815880},{"$f":"R282*1.21","v":2197214.7999999998},{"$f":"IF(N282=\"SR\",1,IF(AC282=\"\",VLOOKUP(AW282,'CZKEUR Xchange rate'!$D$13:$E$234,2,FALSE),VLOOKUP(AW282,'CZKEUR Xchange rate'!$A$13:$B$234,2,FALSE)))","v":27.452999999999999},66145.047900047357,80035.507959057286,16536.261975011839,20008.876989764321,{"$f":"VLOOKUP(AW282,'Cenové indexy '!$D$7:$E$200,2,FALSE)","v":99.5},{"$f":"W282/Y282*'Cenové indexy '!$E$149","v":17139.544698321315},20567.453637985578,2014,null,null,"2013-11-30","Áno","Áno","Neurčené","Áno","24 mesiacov zadarmo",null,null,null,"Zmluva 4_MB",null,null,null,null,null,{"$f":"VLOOKUP(M282,Adresy!$A$4:$C$156,2,FALSE)","v":"Brno"},{"$f":"VLOOKUP(M282,Adresy!$A$4:$C$156,3,FALSE)","v":"Jihlavská 340/20"},"M","2014M06",null,null,null,null,null,{"$f":"VLOOKUP(M282,Adresy!$A$3:$C$122,2,FALSE)","v":"Brno"},{"$f":"VLOOKUP(M282,Adresy!$A$3:$C$122,3,FALSE)","v":"Jihlavská 340/20"},0,0,0,0]
["pľúcny ventilátor",null,"Celá zostava",null,null,"aj s príslušenstvom","Hamilton S1 ","Hamilton S1 ",null,"Hamilton medical","sumárna cena","HW","Fakultní nemocnice Ostrava","ČR","A.M.I. Analytical medical instruments s.r.o.",null,1,1278415,1546882,{"$f":"IF(N283=\"SR\",1,IF(AC283=\"\",VLOOKUP(AW283,'CZKEUR Xchange rate'!$D$13:$E$234,2,FALSE),VLOOKUP(AW283,'CZKEUR Xchange rate'!$A$13:$B$234,2,FALSE)))","v":27.452999999999999},46567.406112264602,56346.555931956435,46567.406112264602,56346.555931956435,{"$f":"VLOOKUP(AW283,'Cenové indexy '!$D$7:$E$200,2,FALSE)","v":99.5},{"$f":"W283/Y283*'Cenové indexy '!$E$149","v":48266.29741063164},57919.556892757966,2014,null,null,"2013-11-30","Áno","Áno","Neurčené","Áno","24 mesiacov zadarmo, potom podľa zmluvy",null,null,null,"Zmluva 5_MB",null,null,null,null,null,{"$f":"VLOOKUP(M283,Adresy!$A$4:$C$156,2,FALSE)","v":"Ostrava"},{"$f":"VLOOKUP(M283,Adresy!$A$4:$C$156,3,FALSE)","v":"17. listopadu"},"M","2014M06",null,null,null,null,null,{"$f":"VLOOKUP(M283,Adresy!$A$3:$C$122,2,FALSE)","v":"Ostrava"},{"$f":"VLOOKUP(M283,Adresy!$A$3:$C$122,3,FALSE)","v":"17. listopadu"},0,0,0,0]
["pľúcny ventilátor",null,"Celá zostava",null,null,"aj s príslušenstvom","Hamilton C2","Hamilton C2",null,"Hamilton medical","sumárna cena","HW","Fakultní nemocnice Ostrava","ČR","A.M.I. Analytical medical instruments s.r.o.",null,1,548214,663338.93999999994,{"$f":"IF(N284=\"SR\",1,IF(AC284=\"\",VLOOKUP(AW284,'CZKEUR Xchange rate'!$D$13:$E$234,2,FALSE),VLOOKUP(AW284,'CZKEUR Xchange rate'!$A$13:$B$234,2,FALSE)))","v":27.64},19834.081041968162,23999.238060781474,19834.081041968162,23999.238060781474,{"$f":"VLOOKUP(AW284,'Cenové indexy '!$D$7:$E$200,2,FALSE)","v":99.92},{"$f":"W284/Y284*'Cenové indexy '!$E$149","v":20471.264790414098},24565.517748496917,2014,"12",null,"2014-11-30","Áno","Áno","Neurčené","Áno","24 mesiacov zadarmo, potom podľa zmluvy",null,null,null,"Zmluva 6_MB",null,null,null,null,null,{"$f":"VLOOKUP(M284,Adresy!$A$4:$C$156,2,FALSE)","v":"Ostrava"},{"$f":"VLOOKUP(M284,Adresy!$A$4:$C$156,3,FALSE)","v":"17. listopadu"},"M","2014M12",null,null,null,null,null,{"$f":"VLOOKUP(M284,Adresy!$A$3:$C$122,2,FALSE)","v":"Ostrava"},{"$f":"VLOOKUP(M284,Adresy!$A$3:$C$122,3,FALSE)","v":"17. listopadu"},0,0,0,0]
["pľúcny ventilátor",null,"Celá zostava",null,null,null,"Hamilton G5","Hamilton G5",null,"Hamilton medical","sumárna cena","HW","Fakultní nemocnice v Motole","ČR","A.M.I. Analytical medical instruments s.r.o.",null,2,1432766,1733646,{"$f":"IF(N285=\"SR\",1,IF(AC285=\"\",VLOOKUP(AW285,'CZKEUR Xchange rate'!$D$13:$E$234,2,FALSE),VLOOKUP(AW285,'CZKEUR Xchange rate'!$A$13:$B$234,2,FALSE)))","v":27.64},51836.685962373369,62722.358900144718,25918.342981186684,31361.179450072359,{"$f":"VLOOKUP(AW285,'Cenové indexy '!$D$7:$E$200,2,FALSE)","v":99.92},{"$f":"W285/Y285*'Cenové indexy '!$E$149","v":26750.987906823288},32101.185488187944,2014,"12",null,"2014-11-30","Áno","Áno","Neurčené","Nie","24 mesiacov zadarmo, potom podľa zmluvy",null,null,null,"Zmluva 6_MB",null,null,null,null,null,{"$f":"VLOOKUP(M285,Adresy!$A$4:$C$156,2,FALSE)","v":"Praha"},{"$f":"VLOOKUP(M285,Adresy!$A$4:$C$156,3,FALSE)","v":"V úvalu 84"},"M","2014M12",null,null,null,null,null,{"$f":"VLOOKUP(M285,Adresy!$A$3:$C$122,2,FALSE)","v":"Praha"},{"$f":"VLOOKUP(M285,Adresy!$A$3:$C$122,3,FALSE)","v":"V úvalu 84"},0,0,0,0]
["pľúcny ventilátor",null,"Celá zostava",null,null,"aj s príslušenstvom","Hamilton S1 ","Hamilton S1 ",null,"Hamilton medical","sumárna cena","HW","Fakultní nemocnice v Motole","ČR","A.M.I. Analytical medical instruments s.r.o.",null,2,2353234,2847413,{"$f":"IF(N286=\"SR\",1,IF(AC286=\"\",VLOOKUP(AW286,'CZKEUR Xchange rate'!$D$13:$E$234,2,FALSE),VLOOKUP(AW286,'CZKEUR Xchange rate'!$A$13:$B$234,2,FALSE)))","v":{"$error":"#N/A"}},{"$error":"#N/A"},{"$error":"#N/A"},{"$error":"#N/A"},{"$error":"#N/A"},{"$f":"VLOOKUP(AW286,'Cenové indexy '!$D$7:$E$200,2,FALSE)","v":{"$error":"#N/A"}},{"$f":"W286/Y286*'Cenové indexy '!$E$149","v":{"$error":"#N/A"}},{"$error":"#N/A"},null,null,null,{"$error":"#NUM!"},null,null,null,null,null,null,null,null,null,null,null,null,null,null,{"$f":"VLOOKUP(M286,Adresy!$A$4:$C$156,2,FALSE)","v":"Praha"},{"$f":"VLOOKUP(M286,Adresy!$A$4:$C$156,3,FALSE)","v":"V úvalu 84"},"M","M06",null,null,null,null,null,{"$f":"VLOOKUP(M286,Adresy!$A$3:$C$122,2,FALSE)","v":"Praha"},{"$f":"VLOOKUP(M286,Adresy!$A$3:$C$122,3,FALSE)","v":"V úvalu 84"},0,0,0,0]
["pľúcny ventilátor",null,"Celá zostava",null,null,"aj s príslušenstvom","nešpecifikované",null,null,"","položková cena (súčasť sumárnej ceny)","HW","Hornooravská NsP Trstená","SR","Med Partners a.s.",null,1,163250,195900,{"$f":"IF(N287=\"SR\",1,IF(AC287=\"\",VLOOKUP(AW287,'CZKEUR Xchange rate'!$D$13:$E$234,2,FALSE),VLOOKUP(AW287,'CZKEUR Xchange rate'!$A$13:$B$234,2,FALSE)))","v":1},163250,195900,163250,195900,{"$f":"VLOOKUP(AW287,'Cenové indexy '!$D$7:$E$200,2,FALSE)","v":99.88},{"$f":"W287/Y287*'Cenové indexy '!$E$149","v":168561.99939927916},202274.39927913499,2015,null,null,"2014-11-30","Áno","Áno","Neurčené","Áno","24 mesiacov zadarmo",null,null,null,"Zmluva 11_DG","x",null,null,null,null,{"$f":"VLOOKUP(M287,Adresy!$A$4:$C$156,2,FALSE)","v":"Trstená"},{"$f":"VLOOKUP(M287,Adresy!$A$4:$C$156,3,FALSE)","v":"Nábrežie Ľudovíta Štúra"},"M","2015M06",null,null,null,null,null,{"$f":"VLOOKUP(M287,Adresy!$A$3:$C$122,2,FALSE)","v":"Trstená"},{"$f":"VLOOKUP(M287,Adresy!$A$3:$C$122,3,FALSE)","v":"Nábrežie Ľudovíta Štúra"},0,0,0,0]
["pľúcny ventilátor",null,"Celá zostava",null,null,null,"Hamilton MR1",null,null,"Hamilton medical","sumárna cena","HW","Fakultná nemocnica s poliklinkou Žilina","SR","Medis Nitra",null,1,69785,83742,{"$f":"IF(N288=\"SR\",1,IF(AC288=\"\",VLOOKUP(AW288,'CZKEUR Xchange rate'!$D$13:$E$234,2,FALSE),VLOOKUP(AW288,'CZKEUR Xchange rate'!$A$13:$B$234,2,FALSE)))","v":1},69785,83742,69785,83742,{"$f":"VLOOKUP(AW288,'Cenové indexy '!$D$7:$E$200,2,FALSE)","v":100.11},{"$f":"W288/Y288*'Cenové indexy '!$E$149","v":71890.19128958146},86268.229547497744,2015,"08",null,"2015-07-31","Áno","Áno","Neurčené","Nie","24 mesiacov zadarmo",null,null,null,"Zmluva 16_DG",null,null,null,null,null,{"$f":"VLOOKUP(M288,Adresy!$A$4:$C$156,2,FALSE)","v":"Žilina"},{"$f":"VLOOKUP(M288,Adresy!$A$4:$C$156,3,FALSE)","v":"Vojtecha Spanyola 43"},"M","2015M08",null,null,null,null,null,{"$f":"VLOOKUP(M288,Adresy!$A$3:$C$122,2,FALSE)","v":"Žilina"},{"$f":"VLOOKUP(M288,Adresy!$A$3:$C$122,3,FALSE)","v":"Vojtecha Spanyola 43"},0,0,0,0]
["pľúcny ventilátor",null,"ventilátor",null,null,null,"Hamilton MR1","Hamilton MR1",null,"Hamilton medical","položková cena (súčasť sumárnej ceny)","HW","Fakultná nemocnica s poliklinkou Žilina","SR","Medis Nitra",null,1,null,null,{"$f":"IF(N289=\"SR\",1,IF(AC289=\"\",VLOOKUP(AW289,'CZKEUR Xchange rate'!$D$13:$E$234,2,FALSE),VLOOKUP(AW289,'CZKEUR Xchange rate'!$A$13:$B$234,2,FALSE)))","v":1},0,0,null,null,{"$f":"VLOOKUP(AW289,'Cenové indexy '!$D$7:$E$200,2,FALSE)","v":100.11},{"$f":"W289/Y289*'Cenové indexy '!$E$149","v":0},0,2015,"08",null,"2015-07-31","Áno","Áno","Neurčené","Nie","24 mesiacov zadarmo",null,null,null,"Zmluva 16_DG",null,null,null,null,null,{"$f":"VLOOKUP(M289,Adresy!$A$4:$C$156,2,FALSE)","v":"Žilina"},{"$f":"VLOOKUP(M289,Adresy!$A$4:$C$156,3,FALSE)","v":"Vojtecha Spanyola 43"},"M","2015M08",null,null,null,null,null,{"$f":"VLOOKUP(M289,Adresy!$A$3:$C$122,2,FALSE)","v":"Žilina"},{"$f":"VLOOKUP(M289,Adresy!$A$3:$C$122,3,FALSE)","v":"Vojtecha Spanyola 43"},0,0,0,0]
["pľúcny ventilátor",null,"Opcia APRV/DuoPAP",null,null,null,"Hamilton MR1",null,null,"Hamilton medical","položková cena (súčasť sumárnej ceny)","HW","Fakultná nemocnica s poliklinkou Žilina","SR","Medis Nitra",null,1,null,null,{"$f":"IF(N290=\"SR\",1,IF(AC290=\"\",VLOOKUP(AW290,'CZKEUR Xchange rate'!$D$13:$E$234,2,FALSE),VLOOKUP(AW290,'CZKEUR Xchange rate'!$A$13:$B$234,2,FALSE)))","v":1},0,0,null,null,{"$f":"VLOOKUP(AW290,'Cenové indexy '!$D$7:$E$200,2,FALSE)","v":100.11},{"$f":"W290/Y290*'Cenové indexy '!$E$149","v":0},0,2015,"08",null,"2015-07-31","Áno","Áno","Neurčené","Nie","24 mesiacov zadarmo",null,null,null,"Zmluva 16_DG",null,null,null,null,null,{"$f":"VLOOKUP(M290,Adresy!$A$4:$C$156,2,FALSE)","v":"Žilina"},{"$f":"VLOOKUP(M290,Adresy!$A$4:$C$156,3,FALSE)","v":"Vojtecha Spanyola 43"},"M","2015M08",null,null,null,null,null,{"$f":"VLOOKUP(M290,Adresy!$A$3:$C$122,2,FALSE)","v":"Žilina"},{"$f":"VLOOKUP(M290,Adresy!$A$3:$C$122,3,FALSE)","v":"Vojtecha Spanyola 43"},0,0,0,0]
["pľúcny ventilátor",null,"Opcia NIV/NIV-ST",null,null,null,"Hamilton MR1",null,null,"Hamilton medical","položková cena (súčasť sumárnej ceny)","HW","Fakultná nemocnica s poliklinkou Žilina","SR","Medis Nitra",null,1,null,null,{"$f":"IF(N291=\"SR\",1,IF(AC291=\"\",VLOOKUP(AW291,'CZKEUR Xchange rate'!$D$13:$E$234,2,FALSE),VLOOKUP(AW291,'CZKEUR Xchange rate'!$A$13:$B$234,2,FALSE)))","v":1},0,0,null,null,{"$f":"VLOOKUP(AW291,'Cenové indexy '!$D$7:$E$200,2,FALSE)","v":100.11},{"$f":"W291/Y291*'Cenové indexy '!$E$149","v":0},0,2015,"08",null,"2015-07-31","Áno","Áno","Neurčené","Nie","24 mesiacov zadarmo",null,null,null,"Zmluva 16_DG",null,null,null,null,null,{"$f":"VLOOKUP(M291,Adresy!$A$4:$C$156,2,FALSE)","v":"Žilina"},{"$f":"VLOOKUP(M291,Adresy!$A$4:$C$156,3,FALSE)","v":"Vojtecha Spanyola 43"},"M","2015M08",null,null,null,null,null,{"$f":"VLOOKUP(M291,Adresy!$A$3:$C$122,2,FALSE)","v":"Žilina"},{"$f":"VLOOKUP(M291,Adresy!$A$3:$C$122,3,FALSE)","v":"Vojtecha Spanyola 43"},0,0,0,0]
["pľúcny ventilátor",null,"Opcia trendy a slučky",null,null,null,"Hamilton MR1",null,null,"Hamilton medical","položková cena (súčasť sumárnej ceny)","HW","Fakultná nemocnica s poliklinkou Žilina","SR","Medis Nitra",null,1,null,null,{"$f":"IF(N292=\"SR\",1,IF(AC292=\"\",VLOOKUP(AW292,'CZKEUR Xchange rate'!$D$13:$E$234,2,FALSE),VLOOKUP(AW292,'CZKEUR Xchange rate'!$A$13:$B$234,2,FALSE)))","v":1},0,0,null,null,{"$f":"VLOOKUP(AW292,'Cenové indexy '!$D$7:$E$200,2,FALSE)","v":100.11},{"$f":"W292/Y292*'Cenové indexy '!$E$149","v":0},0,2015,"08",null,"2015-07-31","Áno","Áno","Neurčené","Nie","24 mesiacov zadarmo",null,null,null,"Zmluva 16_DG",null,null,null,null,null,{"$f":"VLOOKUP(M292,Adresy!$A$4:$C$156,2,FALSE)","v":"Žilina"},{"$f":"VLOOKUP(M292,Adresy!$A$4:$C$156,3,FALSE)","v":"Vojtecha Spanyola 43"},"M","2015M08",null,null,null,null,null,{"$f":"VLOOKUP(M292,Adresy!$A$3:$C$122,2,FALSE)","v":"Žilina"},{"$f":"VLOOKUP(M292,Adresy!$A$3:$C$122,3,FALSE)","v":"Vojtecha Spanyola 43"},0,0,0,0]
["pľúcny ventilátor",null,"Sieťový kábel",null,null,null,"Hamilton MR1",null,null,"Hamilton medical","položková cena (súčasť sumárnej ceny)","HW","Fakultná nemocnica s poliklinkou Žilina","SR","Medis Nitra",null,1,null,null,{"$f":"IF(N293=\"SR\",1,IF(AC293=\"\",VLOOKUP(AW293,'CZKEUR Xchange rate'!$D$13:$E$234,2,FALSE),VLOOKUP(AW293,'CZKEUR Xchange rate'!$A$13:$B$234,2,FALSE)))","v":1},0,0,null,null,{"$f":"VLOOKUP(AW293,'Cenové indexy '!$D$7:$E$200,2,FALSE)","v":100.11},{"$f":"W293/Y293*'Cenové indexy '!$E$149","v":0},0,2015,"08",null,"2015-07-31","Áno","Áno","Neurčené","Nie","24 mesiacov zadarmo",null,null,null,"Zmluva 16_DG",null,null,null,null,null,{"$f":"VLOOKUP(M293,Adresy!$A$4:$C$156,2,FALSE)","v":"Žilina"},{"$f":"VLOOKUP(M293,Adresy!$A$4:$C$156,3,FALSE)","v":"Vojtecha Spanyola 43"},"M","2015M08",null,null,null,null,null,{"$f":"VLOOKUP(M293,Adresy!$A$3:$C$122,2,FALSE)","v":"Žilina"},{"$f":"VLOOKUP(M293,Adresy!$A$3:$C$122,3,FALSE)","v":"Vojtecha Spanyola 43"},0,0,0,0]
["pľúcny ventilátor",null,"DISS  konektor 02",null,null,null,"Hamilton MR1",null,null,"Hamilton medical","položková cena (súčasť sumárnej ceny)","HW","Fakultná nemocnica s poliklinkou Žilina","SR","Medis Nitra",null,1,null,null,{"$f":"IF(N294=\"SR\",1,IF(AC294=\"\",VLOOKUP(AW294,'CZKEUR Xchange rate'!$D$13:$E$234,2,FALSE),VLOOKUP(AW294,'CZKEUR Xchange rate'!$A$13:$B$234,2,FALSE)))","v":1},0,0,null,null,{"$f":"VLOOKUP(AW294,'Cenové indexy '!$D$7:$E$200,2,FALSE)","v":100.11},{"$f":"W294/Y294*'Cenové indexy '!$E$149","v":0},0,2015,"08",null,"2015-07-31","Áno","Áno","Neurčené","Nie","24 mesiacov zadarmo",null,null,null,"Zmluva 16_DG",null,null,null,null,null,{"$f":"VLOOKUP(M294,Adresy!$A$4:$C$156,2,FALSE)","v":"Žilina"},{"$f":"VLOOKUP(M294,Adresy!$A$4:$C$156,3,FALSE)","v":"Vojtecha Spanyola 43"},"M","2015M08",null,null,null,null,null,{"$f":"VLOOKUP(M294,Adresy!$A$3:$C$122,2,FALSE)","v":"Žilina"},{"$f":"VLOOKUP(M294,Adresy!$A$3:$C$122,3,FALSE)","v":"Vojtecha Spanyola 43"},0,0,0,0]
["pľúcny ventilátor",null,"DISS  konektor 90",null,null,null,"Hamilton MR1",null,null,"Hamilton medical","položková cena (súčasť sumárnej ceny)","HW","Fakultná nemocnica s poliklinkou Žilina","SR","Medis Nitra",null,1,null,null,{"$f":"IF(N295=\"SR\",1,IF(AC295=\"\",VLOOKUP(AW295,'CZKEUR Xchange rate'!$D$13:$E$234,2,FALSE),VLOOKUP(AW295,'CZKEUR Xchange rate'!$A$13:$B$234,2,FALSE)))","v":1},0,0,null,null,{"$f":"VLOOKUP(AW295,'Cenové indexy '!$D$7:$E$200,2,FALSE)","v":100.11},{"$f":"W295/Y295*'Cenové indexy '!$E$149","v":0},0,2015,"08",null,"2015-07-31","Áno","Áno","Neurčené","Nie","24 mesiacov zadarmo",null,null,null,"Zmluva 16_DG",null,null,null,null,null,{"$f":"VLOOKUP(M295,Adresy!$A$4:$C$156,2,FALSE)","v":"Žilina"},{"$f":"VLOOKUP(M295,Adresy!$A$4:$C$156,3,FALSE)","v":"Vojtecha Spanyola 43"},"M","2015M08",null,null,null,null,null,{"$f":"VLOOKUP(M295,Adresy!$A$3:$C$122,2,FALSE)","v":"Žilina"},{"$f":"VLOOKUP(M295,Adresy!$A$3:$C$122,3,FALSE)","v":"Vojtecha Spanyola 43"},0,0,0,0]
["pľúcny ventilátor",null,"Vozík",null,null,null,"Hamilton MR1",null,null,"Hamilton medical","položková cena (súčasť sumárnej ceny)","HW","Fakultná nemocnica s poliklinkou Žilina","SR","Medis Nitra",null,1,null,null,{"$f":"IF(N296=\"SR\",1,IF(AC296=\"\",VLOOKUP(AW296,'CZKEUR Xchange rate'!$D$13:$E$234,2,FALSE),VLOOKUP(AW296,'CZKEUR Xchange rate'!$A$13:$B$234,2,FALSE)))","v":1},0,0,null,null,{"$f":"VLOOKUP(AW296,'Cenové indexy '!$D$7:$E$200,2,FALSE)","v":100.11},{"$f":"W296/Y296*'Cenové indexy '!$E$149","v":0},0,2015,"08",null,"2015-07-31","Áno","Áno","Neurčené","Nie","24 mesiacov zadarmo",null,null,null,"Zmluva 16_DG",null,null,null,null,null,{"$f":"VLOOKUP(M296,Adresy!$A$4:$C$156,2,FALSE)","v":"Žilina"},{"$f":"VLOOKUP(M296,Adresy!$A$4:$C$156,3,FALSE)","v":"Vojtecha Spanyola 43"},"M","2015M08",null,null,null,null,null,{"$f":"VLOOKUP(M296,Adresy!$A$3:$C$122,2,FALSE)","v":"Žilina"},{"$f":"VLOOKUP(M296,Adresy!$A$3:$C$122,3,FALSE)","v":"Vojtecha Spanyola 43"},0,0,0,0]
["pľúcny ventilátor",null,"Expiračný ventil",null,null,null,"Hamilton MR1",null,null,"Hamilton medical","položková cena (súčasť sumárnej ceny)","HW","Fakultná nemocnica s poliklinkou Žilina","SR","Medis Nitra",null,1,null,null,{"$f":"IF(N297=\"SR\",1,IF(AC297=\"\",VLOOKUP(AW297,'CZKEUR Xchange rate'!$D$13:$E$234,2,FALSE),VLOOKUP(AW297,'CZKEUR Xchange rate'!$A$13:$B$234,2,FALSE)))","v":1},{"$f":"R297/T297","v":0},{"$f":"S297/T297","v":0},null,null,{"$f":"VLOOKUP(AW297,'Cenové indexy '!$D$7:$E$200,2,FALSE)","v":100.11},{"$f":"W297/Y297*'Cenové indexy '!$E$149","v":0},0,2015,"08",null,"2015-07-31","Áno","Áno","Neurčené","Nie","24 mesiacov zadarmo",null,null,null,"Zmluva 16_DG",null,null,null,null,null,{"$f":"VLOOKUP(M297,Adresy!$A$4:$C$156,2,FALSE)","v":"Žilina"},{"$f":"VLOOKUP(M297,Adresy!$A$4:$C$156,3,FALSE)","v":"Vojtecha Spanyola 43"},"M","2015M08",null,null,null,null,null,{"$f":"VLOOKUP(M297,Adresy!$A$3:$C$122,2,FALSE)","v":"Žilina"},{"$f":"VLOOKUP(M297,Adresy!$A$3:$C$122,3,FALSE)","v":"Vojtecha Spanyola 43"},0,0,0,0]
["pľúcny ventilátor",null,"Dýchací set koaxiálny 300 cm",null,null,null,"Hamilton MR1",null,null,"Hamilton medical","položková cena (súčasť sumárnej ceny)","HW","Fakultná nemocnica s poliklinkou Žilina","SR","Medis Nitra",null,3,null,null,{"$f":"IF(N298=\"SR\",1,IF(AC298=\"\",VLOOKUP(AW298,'CZKEUR Xchange rate'!$D$13:$E$234,2,FALSE),VLOOKUP(AW298,'CZKEUR Xchange rate'!$A$13:$B$234,2,FALSE)))","v":1},0,0,null,null,{"$f":"VLOOKUP(AW298,'Cenové indexy '!$D$7:$E$200,2,FALSE)","v":100.11},{"$f":"W298/Y298*'Cenové indexy '!$E$149","v":0},0,2015,"08",null,"2015-07-31","Áno","Áno","Neurčené","Nie","24 mesiacov zadarmo",null,null,null,"Zmluva 16_DG",null,null,null,null,null,{"$f":"VLOOKUP(M298,Adresy!$A$4:$C$156,2,FALSE)","v":"Žilina"},{"$f":"VLOOKUP(M298,Adresy!$A$4:$C$156,3,FALSE)","v":"Vojtecha Spanyola 43"},"M","2015M08",null,null,null,null,null,{"$f":"VLOOKUP(M298,Adresy!$A$3:$C$122,2,FALSE)","v":"Žilina"},{"$f":"VLOOKUP(M298,Adresy!$A$3:$C$122,3,FALSE)","v":"Vojtecha Spanyola 43"},0,0,0,0]
["pľúcny ventilátor",null,"Nebulizačný set resterilizovateľný",null,null,null,"Hamilton MR1",null,null,"Hamilton medical","položková cena (súčasť sumárnej ceny)","HW","Fakultná nemocnica s poliklinkou Žilina","SR","Medis Nitra",null,1,null,null,{"$f":"IF(N299=\"SR\",1,IF(AC299=\"\",VLOOKUP(AW299,'CZKEUR Xchange rate'!$D$13:$E$234,2,FALSE),VLOOKUP(AW299,'CZKEUR Xchange rate'!$A$13:$B$234,2,FALSE)))","v":1},0,0,null,null,{"$f":"VLOOKUP(AW299,'Cenové indexy '!$D$7:$E$200,2,FALSE)","v":100.11},{"$f":"W299/Y299*'Cenové indexy '!$E$149","v":0},0,2015,"08",null,"2015-07-31","Áno","Áno","Neurčené","Nie","24 mesiacov zadarmo",null,null,null,"Zmluva 16_DG",null,null,null,null,null,{"$f":"VLOOKUP(M299,Adresy!$A$4:$C$156,2,FALSE)","v":"Žilina"},{"$f":"VLOOKUP(M299,Adresy!$A$4:$C$156,3,FALSE)","v":"Vojtecha Spanyola 43"},"M","2015M08",null,null,null,null,null,{"$f":"VLOOKUP(M299,Adresy!$A$3:$C$122,2,FALSE)","v":"Žilina"},{"$f":"VLOOKUP(M299,Adresy!$A$3:$C$122,3,FALSE)","v":"Vojtecha Spanyola 43"},0,0,0,0]
["pľúcny ventilátor",null,"HME filter",null,null,null,"Hamilton MR1",null,null,"Hamilton medical","položková cena (súčasť sumárnej ceny)","HW","Fakultná nemocnica s poliklinkou Žilina","SR","Medis Nitra",null,10,null,null,{"$f":"IF(N300=\"SR\",1,IF(AC300=\"\",VLOOKUP(AW300,'CZKEUR Xchange rate'!$D$13:$E$234,2,FALSE),VLOOKUP(AW300,'CZKEUR Xchange rate'!$A$13:$B$234,2,FALSE)))","v":1},0,0,null,null,{"$f":"VLOOKUP(AW300,'Cenové indexy '!$D$7:$E$200,2,FALSE)","v":100.11},{"$f":"W300/Y300*'Cenové indexy '!$E$149","v":0},0,2015,"08",null,"2015-07-31","Áno","Áno","Neurčené","Nie","24 mesiacov zadarmo",null,null,null,"Zmluva 16_DG",null,null,null,null,null,{"$f":"VLOOKUP(M300,Adresy!$A$4:$C$156,2,FALSE)","v":"Žilina"},{"$f":"VLOOKUP(M300,Adresy!$A$4:$C$156,3,FALSE)","v":"Vojtecha Spanyola 43"},"M","2015M08",null,null,null,null,null,{"$f":"VLOOKUP(M300,Adresy!$A$3:$C$122,2,FALSE)","v":"Žilina"},{"$f":"VLOOKUP(M300,Adresy!$A$3:$C$122,3,FALSE)","v":"Vojtecha Spanyola 43"},0,0,0,0]
["pľúcny ventilátor",null,"Pacientska  spojka – husí krk",null,null,null,"Hamilton MR1",null,null,"Hamilton medical","položková cena (súčasť sumárnej ceny)","HW","Fakultná nemocnica s poliklinkou Žilina","SR","Medis Nitra",null,9,null,null,{"$f":"IF(N301=\"SR\",1,IF(AC301=\"\",VLOOKUP(AW301,'CZKEUR Xchange rate'!$D$13:$E$234,2,FALSE),VLOOKUP(AW301,'CZKEUR Xchange rate'!$A$13:$B$234,2,FALSE)))","v":1},0,0,null,null,{"$f":"VLOOKUP(AW301,'Cenové indexy '!$D$7:$E$200,2,FALSE)","v":100.11},{"$f":"W301/Y301*'Cenové indexy '!$E$149","v":0},0,2015,"08",null,"2015-07-31","Áno","Áno","Neurčené","Nie","24 mesiacov zadarmo",null,null,null,"Zmluva 16_DG",null,null,null,null,null,{"$f":"VLOOKUP(M301,Adresy!$A$4:$C$156,2,FALSE)","v":"Žilina"},{"$f":"VLOOKUP(M301,Adresy!$A$4:$C$156,3,FALSE)","v":"Vojtecha Spanyola 43"},"M","2015M08",null,null,null,null,null,{"$f":"VLOOKUP(M301,Adresy!$A$3:$C$122,2,FALSE)","v":"Žilina"},{"$f":"VLOOKUP(M301,Adresy!$A$3:$C$122,3,FALSE)","v":"Vojtecha Spanyola 43"},0,0,0,0]
["pľúcny ventilátor",null,"Pacientska  spojka – husí krk",null,null,null,"Hamilton MR1",null,null,"Hamilton medical","položková cena (súčasť sumárnej ceny)","HW","Fakultná nemocnica s poliklinkou Žilina","SR","Medis Nitra",null,1,null,null,{"$f":"IF(N302=\"SR\",1,IF(AC302=\"\",VLOOKUP(AW302,'CZKEUR Xchange rate'!$D$13:$E$234,2,FALSE),VLOOKUP(AW302,'CZKEUR Xchange rate'!$A$13:$B$234,2,FALSE)))","v":1},0,0,null,null,{"$f":"VLOOKUP(AW302,'Cenové indexy '!$D$7:$E$200,2,FALSE)","v":100.11},{"$f":"W302/Y302*'Cenové indexy '!$E$149","v":0},0,2015,"08",null,"2015-07-31","Áno","Áno","Neurčené","Nie","24 mesiacov zadarmo",null,null,null,"Zmluva 16_DG",null,null,null,null,null,{"$f":"VLOOKUP(M302,Adresy!$A$4:$C$156,2,FALSE)","v":"Žilina"},{"$f":"VLOOKUP(M302,Adresy!$A$4:$C$156,3,FALSE)","v":"Vojtecha Spanyola 43"},"M","2015M08",null,null,null,null,null,{"$f":"VLOOKUP(M302,Adresy!$A$3:$C$122,2,FALSE)","v":"Žilina"},{"$f":"VLOOKUP(M302,Adresy!$A$3:$C$122,3,FALSE)","v":"Vojtecha Spanyola 43"},0,0,0,0]
["pľúcny ventilátor",null,"Dýchacia hadica  4 m",null,null,null,"Hamilton MR1",null,null,"Hamilton medical","položková cena (súčasť sumárnej ceny)","HW","Fakultná nemocnica s poliklinkou Žilina","SR","Medis Nitra",null,1,null,null,{"$f":"IF(N303=\"SR\",1,IF(AC303=\"\",VLOOKUP(AW303,'CZKEUR Xchange rate'!$D$13:$E$234,2,FALSE),VLOOKUP(AW303,'CZKEUR Xchange rate'!$A$13:$B$234,2,FALSE)))","v":1},0,0,null,null,{"$f":"VLOOKUP(AW303,'Cenové indexy '!$D$7:$E$200,2,FALSE)","v":100.11},{"$f":"W303/Y303*'Cenové indexy '!$E$149","v":0},0,2015,"08",null,"2015-07-31","Áno","Áno","Neurčené","Nie","24 mesiacov zadarmo",null,null,null,"Zmluva 16_DG",null,null,null,null,null,{"$f":"VLOOKUP(M303,Adresy!$A$4:$C$156,2,FALSE)","v":"Žilina"},{"$f":"VLOOKUP(M303,Adresy!$A$4:$C$156,3,FALSE)","v":"Vojtecha Spanyola 43"},"M","2015M08",null,null,null,null,null,{"$f":"VLOOKUP(M303,Adresy!$A$3:$C$122,2,FALSE)","v":"Žilina"},{"$f":"VLOOKUP(M303,Adresy!$A$3:$C$122,3,FALSE)","v":"Vojtecha Spanyola 43"},0,0,0,0]
["pľúcny ventilátor",null,"Celá zostava",null,null,null,"Draeger Evita V500",null,"resuscitačné lôžko","Dräger","sumárna cena","HW","Fakultní nemocnice Hradec Králové","ČR","Dräger Medical s.r.o.",null,6,3660600,4429326,{"$f":"IF(N304=\"SR\",1,IF(AC304=\"\",VLOOKUP(AW304,'CZKEUR Xchange rate'!$D$13:$E$234,2,FALSE),VLOOKUP(AW304,'CZKEUR Xchange rate'!$A$13:$B$234,2,FALSE)))","v":27.306999999999999},134053.53938550554,162204.78265646173,{"$f":"U304/Q304","v":22342.256564250925},{"$f":"V304/Q304","v":27034.130442743623},{"$f":"VLOOKUP(AW304,'Cenové indexy '!$D$7:$E$200,2,FALSE)","v":99.88},{"$f":"W304/Y304*'Cenové indexy '!$E$149","v":23069.252297468942},27683.102756962729,2015,"06",null,"2015-05-31","Áno","Áno","ERDF","Áno","36 mesiacov zadarmo",null,null,null,"Zmluva 17_DG",null,null,null,null,null,{"$f":"VLOOKUP(M304,Adresy!$A$4:$C$156,2,FALSE)","v":"Hradec Králové"},{"$f":"VLOOKUP(M304,Adresy!$A$4:$C$156,3,FALSE)","v":"Sokolská 581"},"M","2015M06",null,null,null,null,null,{"$f":"VLOOKUP(M304,Adresy!$A$3:$C$122,2,FALSE)","v":"Hradec Králové"},{"$f":"VLOOKUP(M304,Adresy!$A$3:$C$122,3,FALSE)","v":"Sokolská 581"},0,0,0,0]
["pľúcny ventilátor",null,"ventilátor",null,null,null,"Draeger Evita V500","Draeger Evita V500","resuscitačné lôžko","Dräger","položková cena (súčasť sumárnej ceny)","HW","Fakultní nemocnice Hradec Králové","ČR","Dräger Medical s.r.o.",null,6,null,null,{"$f":"IF(N305=\"SR\",1,IF(AC305=\"\",VLOOKUP(AW305,'CZKEUR Xchange rate'!$D$13:$E$234,2,FALSE),VLOOKUP(AW305,'CZKEUR Xchange rate'!$A$13:$B$234,2,FALSE)))","v":27.306999999999999},0,0,null,null,{"$f":"VLOOKUP(AW305,'Cenové indexy '!$D$7:$E$200,2,FALSE)","v":99.88},{"$f":"W305/Y305*'Cenové indexy '!$E$149","v":0},0,2015,"06",null,"2015-05-31","Áno","Áno","ERDF","Áno","36 mesiacov zadarmo",null,null,null,"Zmluva 17_DG",null,null,null,null,null,{"$f":"VLOOKUP(M305,Adresy!$A$4:$C$156,2,FALSE)","v":"Hradec Králové"},{"$f":"VLOOKUP(M305,Adresy!$A$4:$C$156,3,FALSE)","v":"Sokolská 581"},"M","2015M06",null,null,null,null,null,{"$f":"VLOOKUP(M305,Adresy!$A$3:$C$122,2,FALSE)","v":"Hradec Králové"},{"$f":"VLOOKUP(M305,Adresy!$A$3:$C$122,3,FALSE)","v":"Sokolská 581"},0,0,0,0]
["pľúcny ventilátor",null,"option smartcare capno",null,null,null,"Draeger Evita V500",null,"resuscitačné lôžko","Dräger","položková cena (súčasť sumárnej ceny)","HW","Fakultní nemocnice Hradec Králové","ČR","Dräger Medical s.r.o.",null,6,null,null,{"$f":"IF(N306=\"SR\",1,IF(AC306=\"\",VLOOKUP(AW306,'CZKEUR Xchange rate'!$D$13:$E$234,2,FALSE),VLOOKUP(AW306,'CZKEUR Xchange rate'!$A$13:$B$234,2,FALSE)))","v":27.306999999999999},0,0,null,null,{"$f":"VLOOKUP(AW306,'Cenové indexy '!$D$7:$E$200,2,FALSE)","v":99.88},{"$f":"W306/Y306*'Cenové indexy '!$E$149","v":0},0,2015,"06",null,"2015-05-31","Áno","Áno","ERDF","Áno","36 mesiacov zadarmo",null,null,null,"Zmluva 17_DG",null,null,null,null,null,{"$f":"VLOOKUP(M306,Adresy!$A$4:$C$156,2,FALSE)","v":"Hradec Králové"},{"$f":"VLOOKUP(M306,Adresy!$A$4:$C$156,3,FALSE)","v":"Sokolská 581"},"M","2015M06",null,null,null,null,null,{"$f":"VLOOKUP(M306,Adresy!$A$3:$C$122,2,FALSE)","v":"Hradec Králové"},{"$f":"VLOOKUP(M306,Adresy!$A$3:$C$122,3,FALSE)","v":"Sokolská 581"},0,0,0,0]
["pľúcny ventilátor",null,"option capno",null,null,null,"Draeger Evita V500",null,"resuscitačné lôžko","Dräger","položková cena (súčasť sumárnej ceny)","HW","Fakultní nemocnice Hradec Králové","ČR","Dräger Medical s.r.o.",null,6,null,null,{"$f":"IF(N307=\"SR\",1,IF(AC307=\"\",VLOOKUP(AW307,'CZKEUR Xchange rate'!$D$13:$E$234,2,FALSE),VLOOKUP(AW307,'CZKEUR Xchange rate'!$A$13:$B$234,2,FALSE)))","v":27.306999999999999},0,0,null,null,{"$f":"VLOOKUP(AW307,'Cenové indexy '!$D$7:$E$200,2,FALSE)","v":99.88},{"$f":"W307/Y307*'Cenové indexy '!$E$149","v":0},0,2015,"06",null,"2015-05-31","Áno","Áno","ERDF","Áno","36 mesiacov zadarmo",null,null,null,"Zmluva 17_DG",null,null,null,null,null,{"$f":"VLOOKUP(M307,Adresy!$A$4:$C$156,2,FALSE)","v":"Hradec Králové"},{"$f":"VLOOKUP(M307,Adresy!$A$4:$C$156,3,FALSE)","v":"Sokolská 581"},"M","2015M06",null,null,null,null,null,{"$f":"VLOOKUP(M307,Adresy!$A$3:$C$122,2,FALSE)","v":"Hradec Králové"},{"$f":"VLOOKUP(M307,Adresy!$A$3:$C$122,3,FALSE)","v":"Sokolská 581"},0,0,0,0]
["pľúcny ventilátor",null,"option mask ventilation",null,null,null,"Draeger Evita V500",null,"resuscitačné lôžko","Dräger","položková cena (súčasť sumárnej ceny)","HW","Fakultní nemocnice Hradec Králové","ČR","Dräger Medical s.r.o.",null,6,null,null,{"$f":"IF(N308=\"SR\",1,IF(AC308=\"\",VLOOKUP(AW308,'CZKEUR Xchange rate'!$D$13:$E$234,2,FALSE),VLOOKUP(AW308,'CZKEUR Xchange rate'!$A$13:$B$234,2,FALSE)))","v":27.306999999999999},0,0,null,null,{"$f":"VLOOKUP(AW308,'Cenové indexy '!$D$7:$E$200,2,FALSE)","v":99.88},{"$f":"W308/Y308*'Cenové indexy '!$E$149","v":0},0,2015,"06",null,"2015-05-31","Áno","Áno","ERDF","Áno","36 mesiacov zadarmo",null,null,null,"Zmluva 17_DG",null,null,null,null,null,{"$f":"VLOOKUP(M308,Adresy!$A$4:$C$156,2,FALSE)","v":"Hradec Králové"},{"$f":"VLOOKUP(M308,Adresy!$A$4:$C$156,3,FALSE)","v":"Sokolská 581"},"M","2015M06",null,null,null,null,null,{"$f":"VLOOKUP(M308,Adresy!$A$3:$C$122,2,FALSE)","v":"Hradec Králové"},{"$f":"VLOOKUP(M308,Adresy!$A$3:$C$122,3,FALSE)","v":"Sokolská 581"},0,0,0,0]
["pľúcny ventilátor",null,"option nebulizácia",null,null,null,"Draeger Evita V500",null,"resuscitačné lôžko","Dräger","položková cena (súčasť sumárnej ceny)","HW","Fakultní nemocnice Hradec Králové","ČR","Dräger Medical s.r.o.",null,6,null,null,{"$f":"IF(N309=\"SR\",1,IF(AC309=\"\",VLOOKUP(AW309,'CZKEUR Xchange rate'!$D$13:$E$234,2,FALSE),VLOOKUP(AW309,'CZKEUR Xchange rate'!$A$13:$B$234,2,FALSE)))","v":27.306999999999999},0,0,null,null,{"$f":"VLOOKUP(AW309,'Cenové indexy '!$D$7:$E$200,2,FALSE)","v":99.88},{"$f":"W309/Y309*'Cenové indexy '!$E$149","v":0},0,2015,"06",null,"2015-05-31","Áno","Áno","ERDF","Áno","36 mesiacov zadarmo",null,null,null,"Zmluva 17_DG",null,null,null,null,null,{"$f":"VLOOKUP(M309,Adresy!$A$4:$C$156,2,FALSE)","v":"Hradec Králové"},{"$f":"VLOOKUP(M309,Adresy!$A$4:$C$156,3,FALSE)","v":"Sokolská 581"},"M","2015M06",null,null,null,null,null,{"$f":"VLOOKUP(M309,Adresy!$A$3:$C$122,2,FALSE)","v":"Hradec Králové"},{"$f":"VLOOKUP(M309,Adresy!$A$3:$C$122,3,FALSE)","v":"Sokolská 581"},0,0,0,0]
["pľúcny ventilátor",null,"option lof-flow PV loop",null,null,null,"Draeger Evita V500",null,"resuscitačné lôžko","Dräger","položková cena (súčasť sumárnej ceny)","HW","Fakultní nemocnice Hradec Králové","ČR","Dräger Medical s.r.o.",null,6,null,null,{"$f":"IF(N310=\"SR\",1,IF(AC310=\"\",VLOOKUP(AW310,'CZKEUR Xchange rate'!$D$13:$E$234,2,FALSE),VLOOKUP(AW310,'CZKEUR Xchange rate'!$A$13:$B$234,2,FALSE)))","v":27.306999999999999},0,0,null,null,{"$f":"VLOOKUP(AW310,'Cenové indexy '!$D$7:$E$200,2,FALSE)","v":99.88},{"$f":"W310/Y310*'Cenové indexy '!$E$149","v":0},0,2015,"06",null,"2015-05-31","Áno","Áno","ERDF","Áno","36 mesiacov zadarmo",null,null,null,"Zmluva 17_DG",null,null,null,null,null,{"$f":"VLOOKUP(M310,Adresy!$A$4:$C$156,2,FALSE)","v":"Hradec Králové"},{"$f":"VLOOKUP(M310,Adresy!$A$4:$C$156,3,FALSE)","v":"Sokolská 581"},"M","2015M06",null,null,null,null,null,{"$f":"VLOOKUP(M310,Adresy!$A$3:$C$122,2,FALSE)","v":"Hradec Králové"},{"$f":"VLOOKUP(M310,Adresy!$A$3:$C$122,3,FALSE)","v":"Sokolská 581"},0,0,0,0]
["pľúcny ventilátor",null,"option SPV - smart pulmonary view",null,null,null,"Draeger Evita V500",null,"resuscitačné lôžko","Dräger","položková cena (súčasť sumárnej ceny)","HW","Fakultní nemocnice Hradec Králové","ČR","Dräger Medical s.r.o.",null,6,null,null,{"$f":"IF(N311=\"SR\",1,IF(AC311=\"\",VLOOKUP(AW311,'CZKEUR Xchange rate'!$D$13:$E$234,2,FALSE),VLOOKUP(AW311,'CZKEUR Xchange rate'!$A$13:$B$234,2,FALSE)))","v":27.306999999999999},0,0,null,null,{"$f":"VLOOKUP(AW311,'Cenové indexy '!$D$7:$E$200,2,FALSE)","v":99.88},{"$f":"W311/Y311*'Cenové indexy '!$E$149","v":0},0,2015,"06",null,"2015-05-31","Áno","Áno","ERDF","Áno","36 mesiacov zadarmo",null,null,null,"Zmluva 17_DG",null,null,null,null,null,{"$f":"VLOOKUP(M311,Adresy!$A$4:$C$156,2,FALSE)","v":"Hradec Králové"},{"$f":"VLOOKUP(M311,Adresy!$A$4:$C$156,3,FALSE)","v":"Sokolská 581"},"M","2015M06",null,null,null,null,null,{"$f":"VLOOKUP(M311,Adresy!$A$3:$C$122,2,FALSE)","v":"Hradec Králové"},{"$f":"VLOOKUP(M311,Adresy!$A$3:$C$122,3,FALSE)","v":"Sokolská 581"},0,0,0,0]
["pľúcny ventilátor",null,"rameno IACS",null,null,null,"Draeger Evita V500",null,"resuscitačné lôžko","Dräger","položková cena (súčasť sumárnej ceny)","HW","Fakultní nemocnice Hradec Králové","ČR","Dräger Medical s.r.o.",null,6,null,null,{"$f":"IF(N312=\"SR\",1,IF(AC312=\"\",VLOOKUP(AW312,'CZKEUR Xchange rate'!$D$13:$E$234,2,FALSE),VLOOKUP(AW312,'CZKEUR Xchange rate'!$A$13:$B$234,2,FALSE)))","v":27.306999999999999},0,0,null,null,{"$f":"VLOOKUP(AW312,'Cenové indexy '!$D$7:$E$200,2,FALSE)","v":99.88},{"$f":"W312/Y312*'Cenové indexy '!$E$149","v":0},0,2015,"06",null,"2015-05-31","Áno","Áno","ERDF","Áno","36 mesiacov zadarmo",null,null,null,"Zmluva 17_DG",null,null,null,null,null,{"$f":"VLOOKUP(M312,Adresy!$A$4:$C$156,2,FALSE)","v":"Hradec Králové"},{"$f":"VLOOKUP(M312,Adresy!$A$4:$C$156,3,FALSE)","v":"Sokolská 581"},"M","2015M06",null,null,null,null,null,{"$f":"VLOOKUP(M312,Adresy!$A$3:$C$122,2,FALSE)","v":"Hradec Králové"},{"$f":"VLOOKUP(M312,Adresy!$A$3:$C$122,3,FALSE)","v":"Sokolská 581"},0,0,0,0]
["pľúcny ventilátor",null,"podvozok",null,null,null,"Draeger Evita V500",null,"resuscitačné lôžko","Dräger","položková cena (súčasť sumárnej ceny)","HW","Fakultní nemocnice Hradec Králové","ČR","Dräger Medical s.r.o.",null,6,null,null,{"$f":"IF(N313=\"SR\",1,IF(AC313=\"\",VLOOKUP(AW313,'CZKEUR Xchange rate'!$D$13:$E$234,2,FALSE),VLOOKUP(AW313,'CZKEUR Xchange rate'!$A$13:$B$234,2,FALSE)))","v":27.306999999999999},0,0,null,null,{"$f":"VLOOKUP(AW313,'Cenové indexy '!$D$7:$E$200,2,FALSE)","v":99.88},{"$f":"W313/Y313*'Cenové indexy '!$E$149","v":0},0,2015,"06",null,"2015-05-31","Áno","Áno","ERDF","Áno","36 mesiacov zadarmo",null,null,null,"Zmluva 17_DG",null,null,null,null,null,{"$f":"VLOOKUP(M313,Adresy!$A$4:$C$156,2,FALSE)","v":"Hradec Králové"},{"$f":"VLOOKUP(M313,Adresy!$A$4:$C$156,3,FALSE)","v":"Sokolská 581"},"M","2015M06",null,null,null,null,null,{"$f":"VLOOKUP(M313,Adresy!$A$3:$C$122,2,FALSE)","v":"Hradec Králové"},{"$f":"VLOOKUP(M313,Adresy!$A$3:$C$122,3,FALSE)","v":"Sokolská 581"},0,0,0,0]
["pľúcny ventilátor",null,"02 - hadica 3m",null,null,null,"Draeger Evita V500",null,"resuscitačné lôžko","Dräger","položková cena (súčasť sumárnej ceny)","HW","Fakultní nemocnice Hradec Králové","ČR","Dräger Medical s.r.o.",null,6,null,null,{"$f":"IF(N314=\"SR\",1,IF(AC314=\"\",VLOOKUP(AW314,'CZKEUR Xchange rate'!$D$13:$E$234,2,FALSE),VLOOKUP(AW314,'CZKEUR Xchange rate'!$A$13:$B$234,2,FALSE)))","v":27.306999999999999},0,0,null,null,{"$f":"VLOOKUP(AW314,'Cenové indexy '!$D$7:$E$200,2,FALSE)","v":99.88},{"$f":"W314/Y314*'Cenové indexy '!$E$149","v":0},0,2015,"06",null,"2015-05-31","Áno","Áno","ERDF","Áno","36 mesiacov zadarmo",null,null,null,"Zmluva 17_DG",null,null,null,null,null,{"$f":"VLOOKUP(M314,Adresy!$A$4:$C$156,2,FALSE)","v":"Hradec Králové"},{"$f":"VLOOKUP(M314,Adresy!$A$4:$C$156,3,FALSE)","v":"Sokolská 581"},"M","2015M06",null,null,null,null,null,{"$f":"VLOOKUP(M314,Adresy!$A$3:$C$122,2,FALSE)","v":"Hradec Králové"},{"$f":"VLOOKUP(M314,Adresy!$A$3:$C$122,3,FALSE)","v":"Sokolská 581"},0,0,0,0]
["pľúcny ventilátor",null,"AIR - hadica 3m",null,null,null,"Draeger Evita V500",null,"resuscitačné lôžko","Dräger","položková cena (súčasť sumárnej ceny)","HW","Fakultní nemocnice Hradec Králové","ČR","Dräger Medical s.r.o.",null,6,null,null,{"$f":"IF(N315=\"SR\",1,IF(AC315=\"\",VLOOKUP(AW315,'CZKEUR Xchange rate'!$D$13:$E$234,2,FALSE),VLOOKUP(AW315,'CZKEUR Xchange rate'!$A$13:$B$234,2,FALSE)))","v":27.306999999999999},0,0,null,null,{"$f":"VLOOKUP(AW315,'Cenové indexy '!$D$7:$E$200,2,FALSE)","v":99.88},{"$f":"W315/Y315*'Cenové indexy '!$E$149","v":0},0,2015,"06",null,"2015-05-31","Áno","Áno","ERDF","Áno","36 mesiacov zadarmo",null,null,null,"Zmluva 17_DG",null,null,null,null,null,{"$f":"VLOOKUP(M315,Adresy!$A$4:$C$156,2,FALSE)","v":"Hradec Králové"},{"$f":"VLOOKUP(M315,Adresy!$A$4:$C$156,3,FALSE)","v":"Sokolská 581"},"M","2015M06",null,null,null,null,null,{"$f":"VLOOKUP(M315,Adresy!$A$3:$C$122,2,FALSE)","v":"Hradec Králové"},{"$f":"VLOOKUP(M315,Adresy!$A$3:$C$122,3,FALSE)","v":"Sokolská 581"},0,0,0,0]
["pľúcny ventilátor",null,"Mask Novastar M",null,null,null,"Draeger Evita V500",null,"resuscitačné lôžko","Dräger","položková cena (súčasť sumárnej ceny)","HW","Fakultní nemocnice Hradec Králové","ČR","Dräger Medical s.r.o.",null,6,null,null,{"$f":"IF(N316=\"SR\",1,IF(AC316=\"\",VLOOKUP(AW316,'CZKEUR Xchange rate'!$D$13:$E$234,2,FALSE),VLOOKUP(AW316,'CZKEUR Xchange rate'!$A$13:$B$234,2,FALSE)))","v":27.306999999999999},0,0,null,null,{"$f":"VLOOKUP(AW316,'Cenové indexy '!$D$7:$E$200,2,FALSE)","v":99.88},{"$f":"W316/Y316*'Cenové indexy '!$E$149","v":0},0,2015,"06",null,"2015-05-31","Áno","Áno","ERDF","Áno","36 mesiacov zadarmo",null,null,null,"Zmluva 17_DG",null,null,null,null,null,{"$f":"VLOOKUP(M316,Adresy!$A$4:$C$156,2,FALSE)","v":"Hradec Králové"},{"$f":"VLOOKUP(M316,Adresy!$A$4:$C$156,3,FALSE)","v":"Sokolská 581"},"M","2015M06",null,null,null,null,null,{"$f":"VLOOKUP(M316,Adresy!$A$3:$C$122,2,FALSE)","v":"Hradec Králové"},{"$f":"VLOOKUP(M316,Adresy!$A$3:$C$122,3,FALSE)","v":"Sokolská 581"},0,0,0,0]
["pľúcny ventilátor",null,"Celá zostava",null,null,null,"Draeger Evita V500",null,"intenzívne lôžko","Dräger","sumárna cena","HW","Fakultní nemocnice Hradec Králové","ČR","Dräger Medical s.r.o.",null,6,3689400,4464174,{"$f":"IF(N317=\"SR\",1,IF(AC317=\"\",VLOOKUP(AW317,'CZKEUR Xchange rate'!$D$13:$E$234,2,FALSE),VLOOKUP(AW317,'CZKEUR Xchange rate'!$A$13:$B$234,2,FALSE)))","v":27.306999999999999},135108.21401105943,163480.93895338193,{"$f":"U317/Q317","v":22518.035668509907},{"$f":"V317/Q317","v":27246.82315889699},{"$f":"VLOOKUP(AW317,'Cenové indexy '!$D$7:$E$200,2,FALSE)","v":99.88},{"$f":"W317/Y317*'Cenové indexy '!$E$149","v":23250.751086237753},27900.901303485301,2015,"06",null,"2015-05-31","Áno","Áno","ERDF","Áno","36 mesiacov zadarmo",null,null,null,"Zmluva 17_DG",null,null,null,null,null,{"$f":"VLOOKUP(M317,Adresy!$A$4:$C$156,2,FALSE)","v":"Hradec Králové"},{"$f":"VLOOKUP(M317,Adresy!$A$4:$C$156,3,FALSE)","v":"Sokolská 581"},"M","2015M06",null,null,null,null,null,{"$f":"VLOOKUP(M317,Adresy!$A$3:$C$122,2,FALSE)","v":"Hradec Králové"},{"$f":"VLOOKUP(M317,Adresy!$A$3:$C$122,3,FALSE)","v":"Sokolská 581"},0,0,0,0]
["pľúcny ventilátor",null,"ventilátor",null,null,null,"Draeger Evita V500","Draeger Evita V500","intenzívne lôžko","Dräger","položková cena (súčasť sumárnej ceny)","HW","Fakultní nemocnice Hradec Králové","ČR","Dräger Medical s.r.o.",null,6,null,null,{"$f":"IF(N318=\"SR\",1,IF(AC318=\"\",VLOOKUP(AW318,'CZKEUR Xchange rate'!$D$13:$E$234,2,FALSE),VLOOKUP(AW318,'CZKEUR Xchange rate'!$A$13:$B$234,2,FALSE)))","v":27.306999999999999},0,0,null,null,{"$f":"VLOOKUP(AW318,'Cenové indexy '!$D$7:$E$200,2,FALSE)","v":99.88},{"$f":"W318/Y318*'Cenové indexy '!$E$149","v":0},0,2015,"06",null,"2015-05-31","Áno","Áno","ERDF","Áno","36 mesiacov zadarmo",null,null,null,"Zmluva 17_DG",null,null,null,null,null,{"$f":"VLOOKUP(M318,Adresy!$A$4:$C$156,2,FALSE)","v":"Hradec Králové"},{"$f":"VLOOKUP(M318,Adresy!$A$4:$C$156,3,FALSE)","v":"Sokolská 581"},"M","2015M06",null,null,null,null,null,{"$f":"VLOOKUP(M318,Adresy!$A$3:$C$122,2,FALSE)","v":"Hradec Králové"},{"$f":"VLOOKUP(M318,Adresy!$A$3:$C$122,3,FALSE)","v":"Sokolská 581"},0,0,0,0]
["pľúcny ventilátor",null,"option mask ventilation",null,null,null,"Draeger Evita V500",null,"intenzívne lôžko","Dräger","položková cena (súčasť sumárnej ceny)","HW","Fakultní nemocnice Hradec Králové","ČR","Dräger Medical s.r.o.",null,6,null,null,{"$f":"IF(N319=\"SR\",1,IF(AC319=\"\",VLOOKUP(AW319,'CZKEUR Xchange rate'!$D$13:$E$234,2,FALSE),VLOOKUP(AW319,'CZKEUR Xchange rate'!$A$13:$B$234,2,FALSE)))","v":27.306999999999999},0,0,null,null,{"$f":"VLOOKUP(AW319,'Cenové indexy '!$D$7:$E$200,2,FALSE)","v":99.88},{"$f":"W319/Y319*'Cenové indexy '!$E$149","v":0},0,2015,"06",null,"2015-05-31","Áno","Áno","ERDF","Áno","36 mesiacov zadarmo",null,null,null,"Zmluva 17_DG",null,null,null,null,null,{"$f":"VLOOKUP(M319,Adresy!$A$4:$C$156,2,FALSE)","v":"Hradec Králové"},{"$f":"VLOOKUP(M319,Adresy!$A$4:$C$156,3,FALSE)","v":"Sokolská 581"},"M","2015M06",null,null,null,null,null,{"$f":"VLOOKUP(M319,Adresy!$A$3:$C$122,2,FALSE)","v":"Hradec Králové"},{"$f":"VLOOKUP(M319,Adresy!$A$3:$C$122,3,FALSE)","v":"Sokolská 581"},0,0,0,0]
["pľúcny ventilátor",null,"option capno",null,null,null,"Draeger Evita V500",null,"intenzívne lôžko","Dräger","položková cena (súčasť sumárnej ceny)","HW","Fakultní nemocnice Hradec Králové","ČR","Dräger Medical s.r.o.",null,6,null,null,{"$f":"IF(N320=\"SR\",1,IF(AC320=\"\",VLOOKUP(AW320,'CZKEUR Xchange rate'!$D$13:$E$234,2,FALSE),VLOOKUP(AW320,'CZKEUR Xchange rate'!$A$13:$B$234,2,FALSE)))","v":27.306999999999999},0,0,null,null,{"$f":"VLOOKUP(AW320,'Cenové indexy '!$D$7:$E$200,2,FALSE)","v":99.88},{"$f":"W320/Y320*'Cenové indexy '!$E$149","v":0},0,2015,"06",null,"2015-05-31","Áno","Áno","ERDF","Áno","36 mesiacov zadarmo",null,null,null,"Zmluva 17_DG",null,null,null,null,null,{"$f":"VLOOKUP(M320,Adresy!$A$4:$C$156,2,FALSE)","v":"Hradec Králové"},{"$f":"VLOOKUP(M320,Adresy!$A$4:$C$156,3,FALSE)","v":"Sokolská 581"},"M","2015M06",null,null,null,null,null,{"$f":"VLOOKUP(M320,Adresy!$A$3:$C$122,2,FALSE)","v":"Hradec Králové"},{"$f":"VLOOKUP(M320,Adresy!$A$3:$C$122,3,FALSE)","v":"Sokolská 581"},0,0,0,0]
["pľúcny ventilátor",null,"option nebulizace",null,null,null,"Draeger Evita V500",null,"intenzívne lôžko","Dräger","položková cena (súčasť sumárnej ceny)","HW","Fakultní nemocnice Hradec Králové","ČR","Dräger Medical s.r.o.",null,6,null,null,{"$f":"IF(N321=\"SR\",1,IF(AC321=\"\",VLOOKUP(AW321,'CZKEUR Xchange rate'!$D$13:$E$234,2,FALSE),VLOOKUP(AW321,'CZKEUR Xchange rate'!$A$13:$B$234,2,FALSE)))","v":27.306999999999999},0,0,null,null,{"$f":"VLOOKUP(AW321,'Cenové indexy '!$D$7:$E$200,2,FALSE)","v":99.88},{"$f":"W321/Y321*'Cenové indexy '!$E$149","v":0},0,2015,"06",null,"2015-05-31","Áno","Áno","ERDF","Áno","36 mesiacov zadarmo",null,null,null,"Zmluva 17_DG",null,null,null,null,null,{"$f":"VLOOKUP(M321,Adresy!$A$4:$C$156,2,FALSE)","v":"Hradec Králové"},{"$f":"VLOOKUP(M321,Adresy!$A$4:$C$156,3,FALSE)","v":"Sokolská 581"},"M","2015M06",null,null,null,null,null,{"$f":"VLOOKUP(M321,Adresy!$A$3:$C$122,2,FALSE)","v":"Hradec Králové"},{"$f":"VLOOKUP(M321,Adresy!$A$3:$C$122,3,FALSE)","v":"Sokolská 581"},0,0,0,0]
["pľúcny ventilátor",null,"option SPV - smart pulmonary view",null,null,null,"Draeger Evita V500",null,"intenzívne lôžko","Dräger","položková cena (súčasť sumárnej ceny)","HW","Fakultní nemocnice Hradec Králové","ČR","Dräger Medical s.r.o.",null,6,null,null,{"$f":"IF(N322=\"SR\",1,IF(AC322=\"\",VLOOKUP(AW322,'CZKEUR Xchange rate'!$D$13:$E$234,2,FALSE),VLOOKUP(AW322,'CZKEUR Xchange rate'!$A$13:$B$234,2,FALSE)))","v":27.306999999999999},0,0,null,null,{"$f":"VLOOKUP(AW322,'Cenové indexy '!$D$7:$E$200,2,FALSE)","v":99.88},{"$f":"W322/Y322*'Cenové indexy '!$E$149","v":0},{"$f":"Z322*1.2","v":0},2015,"06",null,{"$f":"DATE(AB322,AC322,AD322)","v":"2015-05-31"},"Áno","Áno","ERDF","Áno","36 mesiacov zadarmo",null,null,null,"Zmluva 17_DG",null,null,null,null,null,{"$f":"VLOOKUP(M322,Adresy!$A$4:$C$156,2,FALSE)","v":"Hradec Králové"},{"$f":"VLOOKUP(M322,Adresy!$A$4:$C$156,3,FALSE)","v":"Sokolská 581"},"M","2015M06",null,null,null,null,null,{"$f":"VLOOKUP(M322,Adresy!$A$3:$C$122,2,FALSE)","v":"Hradec Králové"},{"$f":"VLOOKUP(M322,Adresy!$A$3:$C$122,3,FALSE)","v":"Sokolská 581"},{"$f":"IF(BC322<>AT322,1,0)","v":0},0,0,0]
["pľúcny ventilátor",null,"rameno IACS",null,null,null,"Draeger Evita V500",null,"intenzívne lôžko","Dräger","položková cena (súčasť sumárnej ceny)","HW","Fakultní nemocnice Hradec Králové","ČR","Dräger Medical s.r.o.",null,6,null,null,{"$f":"IF(N323=\"SR\",1,IF(AC323=\"\",VLOOKUP(AW323,'CZKEUR Xchange rate'!$D$13:$E$234,2,FALSE),VLOOKUP(AW323,'CZKEUR Xchange rate'!$A$13:$B$234,2,FALSE)))","v":27.306999999999999},0,0,null,null,{"$f":"VLOOKUP(AW323,'Cenové indexy '!$D$7:$E$200,2,FALSE)","v":99.88},{"$f":"W323/Y323*'Cenové indexy '!$E$149","v":0},0,2015,"06",null,"2015-05-31","Áno","Áno","ERDF","Áno","36 mesiacov zadarmo",null,null,null,"Zmluva 17_DG",null,null,null,null,null,{"$f":"VLOOKUP(M323,Adresy!$A$4:$C$156,2,FALSE)","v":"Hradec Králové"},{"$f":"VLOOKUP(M323,Adresy!$A$4:$C$156,3,FALSE)","v":"Sokolská 581"},"M",{"$f":"IF(AC323=\"\",CONCATENATE(AB323,AV323,\"06\"),IF(LEN(AC323)=1,CONCATENATE(AB323,AV323,\"0\"&AC323),CONCATENATE(AB323,AV323,AC323)))","v":"2015M06"},null,null,null,null,null,{"$f":"VLOOKUP(M323,Adresy!$A$3:$C$122,2,FALSE)","v":"Hradec Králové"},{"$f":"VLOOKUP(M323,Adresy!$A$3:$C$122,3,FALSE)","v":"Sokolská 581"},0,0,0,0]
["pľúcny ventilátor",null,"podvozok",null,null,null,"Draeger Evita V500",null,"intenzívne lôžko","Dräger","položková cena (súčasť sumárnej ceny)","HW","Fakultní nemocnice Hradec Králové","ČR","Dräger Medical s.r.o.",null,6,null,null,{"$f":"IF(N324=\"SR\",1,IF(AC324=\"\",VLOOKUP(AW324,'CZKEUR Xchange rate'!$D$13:$E$234,2,FALSE),VLOOKUP(AW324,'CZKEUR Xchange rate'!$A$13:$B$234,2,FALSE)))","v":27.306999999999999},0,0,null,null,{"$f":"VLOOKUP(AW324,'Cenové indexy '!$D$7:$E$200,2,FALSE)","v":99.88},{"$f":"W324/Y324*'Cenové indexy '!$E$149","v":0},0,2015,"06",null,"2015-05-31","Áno","Áno","ERDF","Áno","36 mesiacov zadarmo",null,null,null,"Zmluva 17_DG",null,null,null,null,null,{"$f":"VLOOKUP(M324,Adresy!$A$4:$C$156,2,FALSE)","v":"Hradec Králové"},{"$f":"VLOOKUP(M324,Adresy!$A$4:$C$156,3,FALSE)","v":"Sokolská 581"},"M","2015M06",null,null,null,null,null,{"$f":"VLOOKUP(M324,Adresy!$A$3:$C$122,2,FALSE)","v":"Hradec Králové"},{"$f":"VLOOKUP(M324,Adresy!$A$3:$C$122,3,FALSE)","v":"Sokolská 581"},0,0,0,0]
["pľúcny ventilátor",null,"O2 - hadica 3m",null,null,null,"Draeger Evita V500",null,"intenzívne lôžko","Dräger","položková cena (súčasť sumárnej ceny)","HW","Fakultní nemocnice Hradec Králové","ČR","Dräger Medical s.r.o.",null,6,null,null,{"$f":"IF(N325=\"SR\",1,IF(AC325=\"\",VLOOKUP(AW325,'CZKEUR Xchange rate'!$D$13:$E$234,2,FALSE),VLOOKUP(AW325,'CZKEUR Xchange rate'!$A$13:$B$234,2,FALSE)))","v":27.306999999999999},0,0,null,null,{"$f":"VLOOKUP(AW325,'Cenové indexy '!$D$7:$E$200,2,FALSE)","v":99.88},{"$f":"W325/Y325*'Cenové indexy '!$E$149","v":0},0,2015,"06",null,"2015-05-31","Áno","Áno","ERDF","Áno","36 mesiacov zadarmo",null,null,null,"Zmluva 17_DG",null,null,null,null,null,{"$f":"VLOOKUP(M325,Adresy!$A$4:$C$156,2,FALSE)","v":"Hradec Králové"},{"$f":"VLOOKUP(M325,Adresy!$A$4:$C$156,3,FALSE)","v":"Sokolská 581"},"M","2015M06",null,null,null,null,null,{"$f":"VLOOKUP(M325,Adresy!$A$3:$C$122,2,FALSE)","v":"Hradec Králové"},{"$f":"VLOOKUP(M325,Adresy!$A$3:$C$122,3,FALSE)","v":"Sokolská 581"},0,0,0,0]
["pľúcny ventilátor",null,"AIR - hadica 3m",null,null,null,"Draeger Evita V500",null,"intenzívne lôžko","Dräger","položková cena (súčasť sumárnej ceny)","HW","Fakultní nemocnice Hradec Králové","ČR","Dräger Medical s.r.o.",null,6,null,null,{"$f":"IF(N326=\"SR\",1,IF(AC326=\"\",VLOOKUP(AW326,'CZKEUR Xchange rate'!$D$13:$E$234,2,FALSE),VLOOKUP(AW326,'CZKEUR Xchange rate'!$A$13:$B$234,2,FALSE)))","v":27.306999999999999},0,0,null,null,{"$f":"VLOOKUP(AW326,'Cenové indexy '!$D$7:$E$200,2,FALSE)","v":99.88},{"$f":"W326/Y326*'Cenové indexy '!$E$149","v":0},0,2015,"06",null,"2015-05-31","Áno","Áno","ERDF","Áno","36 mesiacov zadarmo",null,null,null,"Zmluva 17_DG",null,null,null,null,null,{"$f":"VLOOKUP(M326,Adresy!$A$4:$C$156,2,FALSE)","v":"Hradec Králové"},{"$f":"VLOOKUP(M326,Adresy!$A$4:$C$156,3,FALSE)","v":"Sokolská 581"},"M","2015M06",null,null,null,null,null,{"$f":"VLOOKUP(M326,Adresy!$A$3:$C$122,2,FALSE)","v":"Hradec Králové"},{"$f":"VLOOKUP(M326,Adresy!$A$3:$C$122,3,FALSE)","v":"Sokolská 581"},0,0,0,0]
["pľúcny ventilátor",null,"Mask Novastar M",null,null,null,"Draeger Evita V500",null,"intenzívne lôžko","Dräger","položková cena (súčasť sumárnej ceny)","HW","Fakultní nemocnice Hradec Králové","ČR","Dräger Medical s.r.o.",null,6,null,null,{"$f":"IF(N327=\"SR\",1,IF(AC327=\"\",VLOOKUP(AW327,'CZKEUR Xchange rate'!$D$13:$E$234,2,FALSE),VLOOKUP(AW327,'CZKEUR Xchange rate'!$A$13:$B$234,2,FALSE)))","v":27.306999999999999},0,0,null,null,{"$f":"VLOOKUP(AW327,'Cenové indexy '!$D$7:$E$200,2,FALSE)","v":99.88},{"$f":"W327/Y327*'Cenové indexy '!$E$149","v":0},0,2015,"06",null,"2015-05-31","Áno","Áno","ERDF","Áno","36 mesiacov zadarmo",null,null,null,"Zmluva 17_DG",null,null,null,null,null,{"$f":"VLOOKUP(M327,Adresy!$A$4:$C$156,2,FALSE)","v":"Hradec Králové"},{"$f":"VLOOKUP(M327,Adresy!$A$4:$C$156,3,FALSE)","v":"Sokolská 581"},"M","2015M06",null,null,null,null,null,{"$f":"VLOOKUP(M327,Adresy!$A$3:$C$122,2,FALSE)","v":"Hradec Králové"},{"$f":"VLOOKUP(M327,Adresy!$A$3:$C$122,3,FALSE)","v":"Sokolská 581"},0,0,0,0]
["pľúcny ventilátor",null,"Celá zostava",null,null,null,"Draeger Oxylog 3000 Plus",null,"pre transportné urgentné detské lôžko","Dräger","sumárna cena","HW","Fakultní nemocnice Hradec Králové","ČR","Dräger Medical s.r.o.",null,1,314900,381029,{"$f":"IF(N328=\"SR\",1,IF(AC328=\"\",VLOOKUP(AW328,'CZKEUR Xchange rate'!$D$13:$E$234,2,FALSE),VLOOKUP(AW328,'CZKEUR Xchange rate'!$A$13:$B$234,2,FALSE)))","v":27.306999999999999},11531.841652323581,13953.528399311532,{"$f":"U328/Q328","v":11531.841652323581},{"$f":"V328/Q328","v":13953.528399311532},{"$f":"VLOOKUP(AW328,'Cenové indexy '!$D$7:$E$200,2,FALSE)","v":99.88},{"$f":"W328/Y328*'Cenové indexy '!$E$149","v":11907.076788187134},14288.492145824561,2015,"06",null,"2015-05-31","Áno","Áno","ERDF","Áno","36 mesiacov zadarmo",null,null,null,"Zmluva 17_DG",null,null,null,null,null,{"$f":"VLOOKUP(M328,Adresy!$A$4:$C$156,2,FALSE)","v":"Hradec Králové"},{"$f":"VLOOKUP(M328,Adresy!$A$4:$C$156,3,FALSE)","v":"Sokolská 581"},"M","2015M06",null,null,null,null,null,{"$f":"VLOOKUP(M328,Adresy!$A$3:$C$122,2,FALSE)","v":"Hradec Králové"},{"$f":"VLOOKUP(M328,Adresy!$A$3:$C$122,3,FALSE)","v":"Sokolská 581"},0,0,0,0]
["pľúcny ventilátor",null,"ventilátor",null,null,null,"Draeger Oxylog 3000 Plus","Draeger Oxylog 3000 Plus","pre transportné urgentné detské lôžko","Dräger","položková cena (súčasť sumárnej ceny)","HW","Fakultní nemocnice Hradec Králové","ČR","Dräger Medical s.r.o.",null,1,null,null,{"$f":"IF(N329=\"SR\",1,IF(AC329=\"\",VLOOKUP(AW329,'CZKEUR Xchange rate'!$D$13:$E$234,2,FALSE),VLOOKUP(AW329,'CZKEUR Xchange rate'!$A$13:$B$234,2,FALSE)))","v":27.306999999999999},0,0,null,null,{"$f":"VLOOKUP(AW329,'Cenové indexy '!$D$7:$E$200,2,FALSE)","v":99.88},{"$f":"W329/Y329*'Cenové indexy '!$E$149","v":0},0,2015,"06",null,"2015-05-31","Áno","Áno","ERDF","Áno","36 mesiacov zadarmo",null,null,null,"Zmluva 17_DG",null,null,null,null,null,{"$f":"VLOOKUP(M329,Adresy!$A$4:$C$156,2,FALSE)","v":"Hradec Králové"},{"$f":"VLOOKUP(M329,Adresy!$A$4:$C$156,3,FALSE)","v":"Sokolská 581"},"M","2015M06",null,null,null,null,null,{"$f":"VLOOKUP(M329,Adresy!$A$3:$C$122,2,FALSE)","v":"Hradec Králové"},{"$f":"VLOOKUP(M329,Adresy!$A$3:$C$122,3,FALSE)","v":"Sokolská 581"},0,0,0,0]
["pľúcny ventilátor",null,"O2 inhalation",null,null,null,"Draeger Oxylog 3000 Plus",null,"pre transportné urgentné detské lôžko","Dräger","položková cena (súčasť sumárnej ceny)","HW","Fakultní nemocnice Hradec Králové","ČR","Dräger Medical s.r.o.",null,1,null,null,{"$f":"IF(N330=\"SR\",1,IF(AC330=\"\",VLOOKUP(AW330,'CZKEUR Xchange rate'!$D$13:$E$234,2,FALSE),VLOOKUP(AW330,'CZKEUR Xchange rate'!$A$13:$B$234,2,FALSE)))","v":27.306999999999999},0,0,null,null,{"$f":"VLOOKUP(AW330,'Cenové indexy '!$D$7:$E$200,2,FALSE)","v":99.88},{"$f":"W330/Y330*'Cenové indexy '!$E$149","v":0},0,2015,"06",null,"2015-05-31","Áno","Áno","ERDF","Áno","36 mesiacov zadarmo",null,null,null,"Zmluva 17_DG",null,null,null,null,null,{"$f":"VLOOKUP(M330,Adresy!$A$4:$C$156,2,FALSE)","v":"Hradec Králové"},{"$f":"VLOOKUP(M330,Adresy!$A$4:$C$156,3,FALSE)","v":"Sokolská 581"},"M","2015M06",null,null,null,null,null,{"$f":"VLOOKUP(M330,Adresy!$A$3:$C$122,2,FALSE)","v":"Hradec Králové"},{"$f":"VLOOKUP(M330,Adresy!$A$3:$C$122,3,FALSE)","v":"Sokolská 581"},0,0,0,0]
["pľúcny ventilátor",null,"C02 monitoring vr. Čidla pre mainstream",null,null,null,"Draeger Oxylog 3000 Plus",null,"pre transportné urgentné detské lôžko","Dräger","položková cena (súčasť sumárnej ceny)","HW","Fakultní nemocnice Hradec Králové","ČR","Dräger Medical s.r.o.",null,1,null,null,{"$f":"IF(N331=\"SR\",1,IF(AC331=\"\",VLOOKUP(AW331,'CZKEUR Xchange rate'!$D$13:$E$234,2,FALSE),VLOOKUP(AW331,'CZKEUR Xchange rate'!$A$13:$B$234,2,FALSE)))","v":27.306999999999999},0,0,null,null,{"$f":"VLOOKUP(AW331,'Cenové indexy '!$D$7:$E$200,2,FALSE)","v":99.88},{"$f":"W331/Y331*'Cenové indexy '!$E$149","v":0},0,2015,"06",null,"2015-05-31","Áno","Áno","ERDF","Áno","36 mesiacov zadarmo",null,null,null,"Zmluva 17_DG",null,null,null,null,null,{"$f":"VLOOKUP(M331,Adresy!$A$4:$C$156,2,FALSE)","v":"Hradec Králové"},{"$f":"VLOOKUP(M331,Adresy!$A$4:$C$156,3,FALSE)","v":"Sokolská 581"},"M","2015M06",null,null,null,null,null,{"$f":"VLOOKUP(M331,Adresy!$A$3:$C$122,2,FALSE)","v":"Hradec Králové"},{"$f":"VLOOKUP(M331,Adresy!$A$3:$C$122,3,FALSE)","v":"Sokolská 581"},0,0,0,0]
["pľúcny ventilátor",null,"O2 - hadica 3m",null,null,null,"Draeger Oxylog 3000 Plus",null,"pre transportné urgentné detské lôžko","Dräger","položková cena (súčasť sumárnej ceny)","HW","Fakultní nemocnice Hradec Králové","ČR","Dräger Medical s.r.o.",null,1,null,null,{"$f":"IF(N332=\"SR\",1,IF(AC332=\"\",VLOOKUP(AW332,'CZKEUR Xchange rate'!$D$13:$E$234,2,FALSE),VLOOKUP(AW332,'CZKEUR Xchange rate'!$A$13:$B$234,2,FALSE)))","v":27.306999999999999},0,0,null,null,{"$f":"VLOOKUP(AW332,'Cenové indexy '!$D$7:$E$200,2,FALSE)","v":99.88},{"$f":"W332/Y332*'Cenové indexy '!$E$149","v":0},0,2015,"06",null,"2015-05-31","Áno","Áno","ERDF","Áno","36 mesiacov zadarmo",null,null,null,"Zmluva 17_DG",null,null,null,null,null,{"$f":"VLOOKUP(M332,Adresy!$A$4:$C$156,2,FALSE)","v":"Hradec Králové"},{"$f":"VLOOKUP(M332,Adresy!$A$4:$C$156,3,FALSE)","v":"Sokolská 581"},"M","2015M06",null,null,null,null,null,{"$f":"VLOOKUP(M332,Adresy!$A$3:$C$122,2,FALSE)","v":"Hradec Králové"},{"$f":"VLOOKUP(M332,Adresy!$A$3:$C$122,3,FALSE)","v":"Sokolská 581"},0,0,0,0]
["pľúcny ventilátor",null,"nabíjačka AC/DC",null,null,null,"Draeger Oxylog 3000 Plus",null,"pre transportné urgentné detské lôžko","Dräger","položková cena (súčasť sumárnej ceny)","HW","Fakultní nemocnice Hradec Králové","ČR","Dräger Medical s.r.o.",null,1,null,null,{"$f":"IF(N333=\"SR\",1,IF(AC333=\"\",VLOOKUP(AW333,'CZKEUR Xchange rate'!$D$13:$E$234,2,FALSE),VLOOKUP(AW333,'CZKEUR Xchange rate'!$A$13:$B$234,2,FALSE)))","v":27.306999999999999},0,0,null,null,{"$f":"VLOOKUP(AW333,'Cenové indexy '!$D$7:$E$200,2,FALSE)","v":99.88},{"$f":"W333/Y333*'Cenové indexy '!$E$149","v":0},0,2015,"06",null,"2015-05-31","Áno","Áno","ERDF","Áno","36 mesiacov zadarmo",null,null,null,"Zmluva 17_DG",null,null,null,null,null,{"$f":"VLOOKUP(M333,Adresy!$A$4:$C$156,2,FALSE)","v":"Hradec Králové"},{"$f":"VLOOKUP(M333,Adresy!$A$4:$C$156,3,FALSE)","v":"Sokolská 581"},"M","2015M06",null,null,null,null,null,{"$f":"VLOOKUP(M333,Adresy!$A$3:$C$122,2,FALSE)","v":"Hradec Králové"},{"$f":"VLOOKUP(M333,Adresy!$A$3:$C$122,3,FALSE)","v":"Sokolská 581"},0,0,0,0]
["pľúcny ventilátor",null,"testovacie pľúca",null,null,null,"Draeger Oxylog 3000 Plus",null,"pre transportné urgentné detské lôžko","Dräger","položková cena (súčasť sumárnej ceny)","HW","Fakultní nemocnice Hradec Králové","ČR","Dräger Medical s.r.o.",null,1,null,null,{"$f":"IF(N334=\"SR\",1,IF(AC334=\"\",VLOOKUP(AW334,'CZKEUR Xchange rate'!$D$13:$E$234,2,FALSE),VLOOKUP(AW334,'CZKEUR Xchange rate'!$A$13:$B$234,2,FALSE)))","v":27.306999999999999},0,0,null,null,{"$f":"VLOOKUP(AW334,'Cenové indexy '!$D$7:$E$200,2,FALSE)","v":99.88},{"$f":"W334/Y334*'Cenové indexy '!$E$149","v":0},0,2015,"06",null,"2015-05-31","Áno","Áno","ERDF","Áno","36 mesiacov zadarmo",null,null,null,"Zmluva 17_DG",null,null,null,null,null,{"$f":"VLOOKUP(M334,Adresy!$A$4:$C$156,2,FALSE)","v":"Hradec Králové"},{"$f":"VLOOKUP(M334,Adresy!$A$4:$C$156,3,FALSE)","v":"Sokolská 581"},"M","2015M06",null,null,null,null,null,{"$f":"VLOOKUP(M334,Adresy!$A$3:$C$122,2,FALSE)","v":"Hradec Králové"},{"$f":"VLOOKUP(M334,Adresy!$A$3:$C$122,3,FALSE)","v":"Sokolská 581"},0,0,0,0]
["pľúcny ventilátor",null,"Celá zostava",null,null,null,"Draeger Evita V500",null,"detské resuscitačné lôžko","Dräger","sumárna cena","HW","Fakultní nemocnice Hradec Králové","ČR","Dräger Medical s.r.o.",null,2,1239500,1499795,{"$f":"IF(N335=\"SR\",1,IF(AC335=\"\",VLOOKUP(AW335,'CZKEUR Xchange rate'!$D$13:$E$234,2,FALSE),VLOOKUP(AW335,'CZKEUR Xchange rate'!$A$13:$B$234,2,FALSE)))","v":27.306999999999999},45391.291610209839,54923.462848353905,{"$f":"U335/Q335","v":22695.645805104919},{"$f":"V335/Q335","v":27461.731424176953},{"$f":"VLOOKUP(AW335,'Cenové indexy '!$D$7:$E$200,2,FALSE)","v":99.88},{"$f":"W335/Y335*'Cenové indexy '!$E$149","v":23434.14048738957},28120.968584867482,2015,"06",null,"2015-05-31","Áno","Áno","ERDF","Áno","36 mesiacov zadarmo",null,null,null,"Zmluva 17_DG",null,null,null,null,null,{"$f":"VLOOKUP(M335,Adresy!$A$4:$C$156,2,FALSE)","v":"Hradec Králové"},{"$f":"VLOOKUP(M335,Adresy!$A$4:$C$156,3,FALSE)","v":"Sokolská 581"},"M","2015M06",null,null,null,null,null,{"$f":"VLOOKUP(M335,Adresy!$A$3:$C$122,2,FALSE)","v":"Hradec Králové"},{"$f":"VLOOKUP(M335,Adresy!$A$3:$C$122,3,FALSE)","v":"Sokolská 581"},0,0,0,0]
["pľúcny ventilátor",null,"ventilátor",null,null,null,"Draeger Evita V500","Draeger Evita V500","detské resuscitačné lôžko","Dräger","položková cena (súčasť sumárnej ceny)","HW","Fakultní nemocnice Hradec Králové","ČR","Dräger Medical s.r.o.",null,2,null,null,{"$f":"IF(N336=\"SR\",1,IF(AC336=\"\",VLOOKUP(AW336,'CZKEUR Xchange rate'!$D$13:$E$234,2,FALSE),VLOOKUP(AW336,'CZKEUR Xchange rate'!$A$13:$B$234,2,FALSE)))","v":27.306999999999999},0,0,null,null,{"$f":"VLOOKUP(AW336,'Cenové indexy '!$D$7:$E$200,2,FALSE)","v":99.88},{"$f":"W336/Y336*'Cenové indexy '!$E$149","v":0},0,2015,"06",null,"2015-05-31","Áno","Áno","ERDF","Áno","36 mesiacov zadarmo",null,null,null,"Zmluva 17_DG",null,null,null,null,null,{"$f":"VLOOKUP(M336,Adresy!$A$4:$C$156,2,FALSE)","v":"Hradec Králové"},{"$f":"VLOOKUP(M336,Adresy!$A$4:$C$156,3,FALSE)","v":"Sokolská 581"},"M","2015M06",null,null,null,null,null,{"$f":"VLOOKUP(M336,Adresy!$A$3:$C$122,2,FALSE)","v":"Hradec Králové"},{"$f":"VLOOKUP(M336,Adresy!$A$3:$C$122,3,FALSE)","v":"Sokolská 581"},0,0,0,0]
["pľúcny ventilátor",null,"option smartcare capno",null,null,null,"Draeger Evita V500",null,"detské resuscitačné lôžko","Dräger","položková cena (súčasť sumárnej ceny)","HW","Fakultní nemocnice Hradec Králové","ČR","Dräger Medical s.r.o.",null,2,null,null,{"$f":"IF(N337=\"SR\",1,IF(AC337=\"\",VLOOKUP(AW337,'CZKEUR Xchange rate'!$D$13:$E$234,2,FALSE),VLOOKUP(AW337,'CZKEUR Xchange rate'!$A$13:$B$234,2,FALSE)))","v":27.306999999999999},0,0,null,null,{"$f":"VLOOKUP(AW337,'Cenové indexy '!$D$7:$E$200,2,FALSE)","v":99.88},{"$f":"W337/Y337*'Cenové indexy '!$E$149","v":0},0,2015,"06",null,"2015-05-31","Áno","Áno","ERDF","Áno","36 mesiacov zadarmo",null,null,null,"Zmluva 17_DG",null,null,null,null,null,{"$f":"VLOOKUP(M337,Adresy!$A$4:$C$156,2,FALSE)","v":"Hradec Králové"},{"$f":"VLOOKUP(M337,Adresy!$A$4:$C$156,3,FALSE)","v":"Sokolská 581"},"M","2015M06",null,null,null,null,null,{"$f":"VLOOKUP(M337,Adresy!$A$3:$C$122,2,FALSE)","v":"Hradec Králové"},{"$f":"VLOOKUP(M337,Adresy!$A$3:$C$122,3,FALSE)","v":"Sokolská 581"},0,0,0,0]
["pľúcny ventilátor",null,"option capno",null,null,null,"Draeger Evita V500",null,"detské resuscitačné lôžko","Dräger","položková cena (súčasť sumárnej ceny)","HW","Fakultní nemocnice Hradec Králové","ČR","Dräger Medical s.r.o.",null,2,null,null,{"$f":"IF(N338=\"SR\",1,IF(AC338=\"\",VLOOKUP(AW338,'CZKEUR Xchange rate'!$D$13:$E$234,2,FALSE),VLOOKUP(AW338,'CZKEUR Xchange rate'!$A$13:$B$234,2,FALSE)))","v":27.306999999999999},0,0,null,null,{"$f":"VLOOKUP(AW338,'Cenové indexy '!$D$7:$E$200,2,FALSE)","v":99.88},{"$f":"W338/Y338*'Cenové indexy '!$E$149","v":0},0,2015,"06",null,"2015-05-31","Áno","Áno","ERDF","Áno","36 mesiacov zadarmo",null,null,null,"Zmluva 17_DG",null,null,null,null,null,{"$f":"VLOOKUP(M338,Adresy!$A$4:$C$156,2,FALSE)","v":"Hradec Králové"},{"$f":"VLOOKUP(M338,Adresy!$A$4:$C$156,3,FALSE)","v":"Sokolská 581"},"M","2015M06",null,null,null,null,null,{"$f":"VLOOKUP(M338,Adresy!$A$3:$C$122,2,FALSE)","v":"Hradec Králové"},{"$f":"VLOOKUP(M338,Adresy!$A$3:$C$122,3,FALSE)","v":"Sokolská 581"},0,0,0,0]
["pľúcny ventilátor",null,"option mask ventilation",null,null,null,"Draeger Evita V500",null,"detské resuscitačné lôžko","Dräger","položková cena (súčasť sumárnej ceny)","HW","Fakultní nemocnice Hradec Králové","ČR","Dräger Medical s.r.o.",null,2,null,null,{"$f":"IF(N339=\"SR\",1,IF(AC339=\"\",VLOOKUP(AW339,'CZKEUR Xchange rate'!$D$13:$E$234,2,FALSE),VLOOKUP(AW339,'CZKEUR Xchange rate'!$A$13:$B$234,2,FALSE)))","v":27.306999999999999},0,0,null,null,{"$f":"VLOOKUP(AW339,'Cenové indexy '!$D$7:$E$200,2,FALSE)","v":99.88},{"$f":"W339/Y339*'Cenové indexy '!$E$149","v":0},0,2015,"06",null,"2015-05-31","Áno","Áno","ERDF","Áno","36 mesiacov zadarmo",null,null,null,"Zmluva 17_DG",null,null,null,null,null,{"$f":"VLOOKUP(M339,Adresy!$A$4:$C$156,2,FALSE)","v":"Hradec Králové"},{"$f":"VLOOKUP(M339,Adresy!$A$4:$C$156,3,FALSE)","v":"Sokolská 581"},"M","2015M06",null,null,null,null,null,{"$f":"VLOOKUP(M339,Adresy!$A$3:$C$122,2,FALSE)","v":"Hradec Králové"},{"$f":"VLOOKUP(M339,Adresy!$A$3:$C$122,3,FALSE)","v":"Sokolská 581"},0,0,0,0]
["pľúcny ventilátor",null,"option nebulizace",null,null,null,"Draeger Evita V500",null,"detské resuscitačné lôžko","Dräger","položková cena (súčasť sumárnej ceny)","HW","Fakultní nemocnice Hradec Králové","ČR","Dräger Medical s.r.o.",null,2,null,null,{"$f":"IF(N340=\"SR\",1,IF(AC340=\"\",VLOOKUP(AW340,'CZKEUR Xchange rate'!$D$13:$E$234,2,FALSE),VLOOKUP(AW340,'CZKEUR Xchange rate'!$A$13:$B$234,2,FALSE)))","v":27.306999999999999},0,0,null,null,{"$f":"VLOOKUP(AW340,'Cenové indexy '!$D$7:$E$200,2,FALSE)","v":99.88},{"$f":"W340/Y340*'Cenové indexy '!$E$149","v":0},0,2015,"06",null,"2015-05-31","Áno","Áno","ERDF","Áno","36 mesiacov zadarmo",null,null,null,"Zmluva 17_DG",null,null,null,null,null,{"$f":"VLOOKUP(M340,Adresy!$A$4:$C$156,2,FALSE)","v":"Hradec Králové"},{"$f":"VLOOKUP(M340,Adresy!$A$4:$C$156,3,FALSE)","v":"Sokolská 581"},"M","2015M06",null,null,null,null,null,{"$f":"VLOOKUP(M340,Adresy!$A$3:$C$122,2,FALSE)","v":"Hradec Králové"},{"$f":"VLOOKUP(M340,Adresy!$A$3:$C$122,3,FALSE)","v":"Sokolská 581"},0,0,0,0]
["pľúcny ventilátor",null,"option lof-flow PV loop",null,null,null,"Draeger Evita V500",null,"detské resuscitačné lôžko","Dräger","položková cena (súčasť sumárnej ceny)","HW","Fakultní nemocnice Hradec Králové","ČR","Dräger Medical s.r.o.",null,2,null,null,{"$f":"IF(N341=\"SR\",1,IF(AC341=\"\",VLOOKUP(AW341,'CZKEUR Xchange rate'!$D$13:$E$234,2,FALSE),VLOOKUP(AW341,'CZKEUR Xchange rate'!$A$13:$B$234,2,FALSE)))","v":27.306999999999999},0,0,null,null,{"$f":"VLOOKUP(AW341,'Cenové indexy '!$D$7:$E$200,2,FALSE)","v":99.88},{"$f":"W341/Y341*'Cenové indexy '!$E$149","v":0},0,2015,"06",null,"2015-05-31","Áno","Áno","ERDF","Áno","36 mesiacov zadarmo",null,null,null,"Zmluva 17_DG",null,null,null,null,null,{"$f":"VLOOKUP(M341,Adresy!$A$4:$C$156,2,FALSE)","v":"Hradec Králové"},{"$f":"VLOOKUP(M341,Adresy!$A$4:$C$156,3,FALSE)","v":"Sokolská 581"},"M","2015M06",null,null,null,null,null,{"$f":"VLOOKUP(M341,Adresy!$A$3:$C$122,2,FALSE)","v":"Hradec Králové"},{"$f":"VLOOKUP(M341,Adresy!$A$3:$C$122,3,FALSE)","v":"Sokolská 581"},0,0,0,0]
["pľúcny ventilátor",null,"option neonatálná ventilácia",null,null,null,"Draeger Evita V500",null,"detské resuscitačné lôžko","Dräger","položková cena (súčasť sumárnej ceny)","HW","Fakultní nemocnice Hradec Králové","ČR","Dräger Medical s.r.o.",null,2,null,null,{"$f":"IF(N342=\"SR\",1,IF(AC342=\"\",VLOOKUP(AW342,'CZKEUR Xchange rate'!$D$13:$E$234,2,FALSE),VLOOKUP(AW342,'CZKEUR Xchange rate'!$A$13:$B$234,2,FALSE)))","v":27.306999999999999},0,0,null,null,{"$f":"VLOOKUP(AW342,'Cenové indexy '!$D$7:$E$200,2,FALSE)","v":99.88},{"$f":"W342/Y342*'Cenové indexy '!$E$149","v":0},0,2015,"06",null,"2015-05-31","Áno","Áno","ERDF","Áno","36 mesiacov zadarmo",null,null,null,"Zmluva 17_DG",null,null,null,null,null,{"$f":"VLOOKUP(M342,Adresy!$A$4:$C$156,2,FALSE)","v":"Hradec Králové"},{"$f":"VLOOKUP(M342,Adresy!$A$4:$C$156,3,FALSE)","v":"Sokolská 581"},"M","2015M06",null,null,null,null,null,{"$f":"VLOOKUP(M342,Adresy!$A$3:$C$122,2,FALSE)","v":"Hradec Králové"},{"$f":"VLOOKUP(M342,Adresy!$A$3:$C$122,3,FALSE)","v":"Sokolská 581"},0,0,0,0]
["pľúcny ventilátor",null,"rameno IACS",null,null,null,"Draeger Evita V500",null,"detské resuscitačné lôžko","Dräger","položková cena (súčasť sumárnej ceny)","HW","Fakultní nemocnice Hradec Králové","ČR","Dräger Medical s.r.o.",null,2,null,null,{"$f":"IF(N343=\"SR\",1,IF(AC343=\"\",VLOOKUP(AW343,'CZKEUR Xchange rate'!$D$13:$E$234,2,FALSE),VLOOKUP(AW343,'CZKEUR Xchange rate'!$A$13:$B$234,2,FALSE)))","v":27.306999999999999},0,0,null,null,{"$f":"VLOOKUP(AW343,'Cenové indexy '!$D$7:$E$200,2,FALSE)","v":99.88},{"$f":"W343/Y343*'Cenové indexy '!$E$149","v":0},0,2015,"06",null,"2015-05-31","Áno","Áno","ERDF","Áno","36 mesiacov zadarmo",null,null,null,"Zmluva 17_DG",null,null,null,null,null,{"$f":"VLOOKUP(M343,Adresy!$A$4:$C$156,2,FALSE)","v":"Hradec Králové"},{"$f":"VLOOKUP(M343,Adresy!$A$4:$C$156,3,FALSE)","v":"Sokolská 581"},"M","2015M06",null,null,null,null,null,{"$f":"VLOOKUP(M343,Adresy!$A$3:$C$122,2,FALSE)","v":"Hradec Králové"},{"$f":"VLOOKUP(M343,Adresy!$A$3:$C$122,3,FALSE)","v":"Sokolská 581"},0,0,0,0]
["pľúcny ventilátor",null,"podvozok",null,null,null,"Draeger Evita V500",null,"detské resuscitačné lôžko","Dräger","položková cena (súčasť sumárnej ceny)","HW","Fakultní nemocnice Hradec Králové","ČR","Dräger Medical s.r.o.",null,2,null,null,{"$f":"IF(N344=\"SR\",1,IF(AC344=\"\",VLOOKUP(AW344,'CZKEUR Xchange rate'!$D$13:$E$234,2,FALSE),VLOOKUP(AW344,'CZKEUR Xchange rate'!$A$13:$B$234,2,FALSE)))","v":27.306999999999999},0,0,null,null,{"$f":"VLOOKUP(AW344,'Cenové indexy '!$D$7:$E$200,2,FALSE)","v":99.88},{"$f":"W344/Y344*'Cenové indexy '!$E$149","v":0},0,2015,"06",null,"2015-05-31","Áno","Áno","ERDF","Áno","36 mesiacov zadarmo",null,null,null,"Zmluva 17_DG",null,null,null,null,null,{"$f":"VLOOKUP(M344,Adresy!$A$4:$C$156,2,FALSE)","v":"Hradec Králové"},{"$f":"VLOOKUP(M344,Adresy!$A$4:$C$156,3,FALSE)","v":"Sokolská 581"},"M","2015M06",null,null,null,null,null,{"$f":"VLOOKUP(M344,Adresy!$A$3:$C$122,2,FALSE)","v":"Hradec Králové"},{"$f":"VLOOKUP(M344,Adresy!$A$3:$C$122,3,FALSE)","v":"Sokolská 581"},0,0,0,0]
["pľúcny ventilátor",null,"02 - hadica 3m",null,null,null,"Draeger Evita V500",null,"detské resuscitačné lôžko","Dräger","položková cena (súčasť sumárnej ceny)","HW","Fakultní nemocnice Hradec Králové","ČR","Dräger Medical s.r.o.",null,2,null,null,{"$f":"IF(N345=\"SR\",1,IF(AC345=\"\",VLOOKUP(AW345,'CZKEUR Xchange rate'!$D$13:$E$234,2,FALSE),VLOOKUP(AW345,'CZKEUR Xchange rate'!$A$13:$B$234,2,FALSE)))","v":27.306999999999999},0,0,null,null,{"$f":"VLOOKUP(AW345,'Cenové indexy '!$D$7:$E$200,2,FALSE)","v":99.88},{"$f":"W345/Y345*'Cenové indexy '!$E$149","v":0},0,2015,"06",null,"2015-05-31","Áno","Áno","ERDF","Áno","36 mesiacov zadarmo",null,null,null,"Zmluva 17_DG",null,null,null,null,null,{"$f":"VLOOKUP(M345,Adresy!$A$4:$C$156,2,FALSE)","v":"Hradec Králové"},{"$f":"VLOOKUP(M345,Adresy!$A$4:$C$156,3,FALSE)","v":"Sokolská 581"},"M","2015M06",null,null,null,null,null,{"$f":"VLOOKUP(M345,Adresy!$A$3:$C$122,2,FALSE)","v":"Hradec Králové"},{"$f":"VLOOKUP(M345,Adresy!$A$3:$C$122,3,FALSE)","v":"Sokolská 581"},0,0,0,0]
["pľúcny ventilátor",null,"AIR - hadica 3m",null,null,null,"Draeger Evita V500",null,"detské resuscitačné lôžko","Dräger","položková cena (súčasť sumárnej ceny)","HW","Fakultní nemocnice Hradec Králové","ČR","Dräger Medical s.r.o.",null,2,null,null,{"$f":"IF(N346=\"SR\",1,IF(AC346=\"\",VLOOKUP(AW346,'CZKEUR Xchange rate'!$D$13:$E$234,2,FALSE),VLOOKUP(AW346,'CZKEUR Xchange rate'!$A$13:$B$234,2,FALSE)))","v":27.306999999999999},0,0,null,null,{"$f":"VLOOKUP(AW346,'Cenové indexy '!$D$7:$E$200,2,FALSE)","v":99.88},{"$f":"W346/Y346*'Cenové indexy '!$E$149","v":0},0,2015,"06",null,"2015-05-31","Áno","Áno","ERDF","Áno","36 mesiacov zadarmo",null,null,null,"Zmluva 17_DG",null,null,null,null,null,{"$f":"VLOOKUP(M346,Adresy!$A$4:$C$156,2,FALSE)","v":"Hradec Králové"},{"$f":"VLOOKUP(M346,Adresy!$A$4:$C$156,3,FALSE)","v":"Sokolská 581"},"M","2015M06",null,null,null,null,null,{"$f":"VLOOKUP(M346,Adresy!$A$3:$C$122,2,FALSE)","v":"Hradec Králové"},{"$f":"VLOOKUP(M346,Adresy!$A$3:$C$122,3,FALSE)","v":"Sokolská 581"},0,0,0,0]
["pľúcny ventilátor",null,"ventilátor s defibrilátorom",null,null,"aj s príslušenstvom",null,"nešpecifikované",null,"","sumárna cena","HW","Záchranná služba Košice","SR","Medis Nitra",null,1,174082.5,208899,{"$f":"IF(N347=\"SR\",1,IF(AC347=\"\",VLOOKUP(AW347,'CZKEUR Xchange rate'!$D$13:$E$234,2,FALSE),VLOOKUP(AW347,'CZKEUR Xchange rate'!$A$13:$B$234,2,FALSE)))","v":1},174082.5,208899,{"$f":"U347/Q347","v":174082.5},{"$f":"V347/Q347","v":208899},{"$f":"VLOOKUP(AW347,'Cenové indexy '!$D$7:$E$200,2,FALSE)","v":99.88},{"$f":"W347/Y347*'Cenové indexy '!$E$149","v":179746.97862434923},215696.37434921906,2015,null,null,"2014-11-30","Áno","Áno","Neurčené","Áno","Neuvedené ",null,null,null,"Zmluva 18_DG","x",null,null,null,null,{"$f":"VLOOKUP(M347,Adresy!$A$4:$C$156,2,FALSE)","v":"Košice"},{"$f":"VLOOKUP(M347,Adresy!$A$4:$C$156,3,FALSE)","v":"Rastislavova 785/43"},"M","2015M06",null,null,null,null,null,{"$f":"VLOOKUP(M347,Adresy!$A$3:$C$129,2,FALSE)","v":{"$error":"#N/A"}},{"$f":"VLOOKUP(M347,Adresy!$A$3:$C$129,3,FALSE)","v":{"$error":"#N/A"}},{"$error":"#N/A"},{"$error":"#N/A"},{"$error":"#N/A"},{"$error":"#N/A"}]
["pľúcny ventilátor",null,"ventilátor pre novorodencov vyššej triedy",null,null,"aj s príslušenstvom",null,"nešpecifikované",null,"","sumárna cena","HW","Detská fakultná nemocnica Košice","SR","DARTIN SLOVENSKO spol. s r. o.",null,1,34166,40999.199999999997,{"$f":"IF(N348=\"SR\",1,IF(AC348=\"\",VLOOKUP(AW348,'CZKEUR Xchange rate'!$D$13:$E$234,2,FALSE),VLOOKUP(AW348,'CZKEUR Xchange rate'!$A$13:$B$234,2,FALSE)))","v":1},34166,40999.199999999997,34166,40999.199999999997,{"$f":"VLOOKUP(AW348,'Cenové indexy '!$D$7:$E$200,2,FALSE)","v":99.88},{"$f":"W348/Y348*'Cenové indexy '!$E$149","v":35277.729074889867},42333.27488986784,2015,null,null,"2014-11-30","Áno","Áno","Neurčené","Nie","Neuvedené ",null,null,null,"Zmluva 19_DG","x",null,null,null,null,{"$f":"VLOOKUP(M348,Adresy!$A$4:$C$156,2,FALSE)","v":"Košice"},{"$f":"VLOOKUP(M348,Adresy!$A$4:$C$156,3,FALSE)","v":"Trieda SNP 457/1"},"M","2015M06",null,null,null,null,null,{"$f":"VLOOKUP(M348,Adresy!$A$3:$C$122,2,FALSE)","v":"Košice"},{"$f":"VLOOKUP(M348,Adresy!$A$3:$C$122,3,FALSE)","v":"Trieda SNP 457/1"},0,0,0,0]
["pľúcny ventilátor","pľúcny ventilátor pre novorodencov","ventilátor pre novorodencov počas transportu",null,"aj s príslušenstvom",null,null,"nešpecifikované",null,"","sumárna cena","HW","Nemocnica Poprad, a. s.","SR","SELVIT spol. s r.o.",null,1,9980,11976,{"$f":"IF(N349=\"SR\",1,IF(AC349=\"\",VLOOKUP(AW349,'CZKEUR Xchange rate'!$D$13:$E$234,2,FALSE),VLOOKUP(AW349,'CZKEUR Xchange rate'!$A$13:$B$234,2,FALSE)))","v":1},9980,11976,9980,11976,{"$f":"VLOOKUP(AW349,'Cenové indexy '!$D$7:$E$200,2,FALSE)","v":99.88},{"$f":"W349/Y349*'Cenové indexy '!$E$149","v":10304.73968762515},12365.68762515018,2015,null,null,"2014-11-30","Neuvedené","Áno","Neurčené","Nie","24 mesiacov zadarmo",null,null,null,"Zmluva 20_DG","x",null,null,null,null,{"$f":"VLOOKUP(M349,Adresy!$A$4:$C$156,2,FALSE)","v":"Poprad"},{"$f":"VLOOKUP(M349,Adresy!$A$4:$C$156,3,FALSE)","v":"Banícka"},"M","2015M06",null,null,null,null,null,{"$f":"VLOOKUP(M349,Adresy!$A$3:$C$122,2,FALSE)","v":"Poprad"},{"$f":"VLOOKUP(M349,Adresy!$A$3:$C$122,3,FALSE)","v":"Banícka"},0,0,0,0]
["pľúcny ventilátor",null,"ventilátor pre všetky vekové kategórie",null,null,"aj s príslušenstvom",null,"nešpecifikované",null,"","sumárna cena","HW","Dolnooravská nemocnica s poliklinikou MUDr. L. Nádaši Jégého Dolný Kubín","SR","Medis Nitra",null,1,19130,22956,{"$f":"IF(N350=\"SR\",1,IF(AC350=\"\",VLOOKUP(AW350,'CZKEUR Xchange rate'!$D$13:$E$234,2,FALSE),VLOOKUP(AW350,'CZKEUR Xchange rate'!$A$13:$B$234,2,FALSE)))","v":1},19130,22956,19130,22956,{"$f":"VLOOKUP(AW350,'Cenové indexy '!$D$7:$E$200,2,FALSE)","v":99.88},{"$f":"W350/Y350*'Cenové indexy '!$E$149","v":19752.47196635963},23702.966359631555,2015,null,null,"2014-11-30","Áno","Áno","Neurčené","Nie","Neuvedené ",null,null,null,"Zmluva 21_DG","x",null,null,null,null,{"$f":"VLOOKUP(M350,Adresy!$A$4:$C$156,2,FALSE)","v":"Dolný Kubín"},{"$f":"VLOOKUP(M350,Adresy!$A$4:$C$156,3,FALSE)","v":"Nemocničná 1944"},"M","2015M06",null,null,null,null,null,{"$f":"VLOOKUP(M350,Adresy!$A$3:$C$122,2,FALSE)","v":"Dolný Kubín"},{"$f":"VLOOKUP(M350,Adresy!$A$3:$C$122,3,FALSE)","v":"Nemocničná 1944"},0,0,0,0]
["pľúcny ventilátor","pľúcny ventilátor pre novorodencov","ventilátor pre novorodencov počas transportu",null,"aj s príslušenstvom",null,null,"nešpecifikované",null,"","sumárna cena","HW","Nemocnica Poprad, a. s.","SR","DARTIN SLOVENSKO spol. s r. o.",null,1,10190,12228,{"$f":"IF(N351=\"SR\",1,IF(AC351=\"\",VLOOKUP(AW351,'CZKEUR Xchange rate'!$D$13:$E$234,2,FALSE),VLOOKUP(AW351,'CZKEUR Xchange rate'!$A$13:$B$234,2,FALSE)))","v":1},10190,12228,10190,12228,{"$f":"VLOOKUP(AW351,'Cenové indexy '!$D$7:$E$200,2,FALSE)","v":99.88},{"$f":"W351/Y351*'Cenové indexy '!$E$149","v":10521.572887464958},12625.887464957948,2015,null,null,"2014-11-30","Áno","Áno","Neurčené","Nie","24 mesiacov zadarmo",null,null,null,"Zmluva 22_DG","x",null,null,null,null,{"$f":"VLOOKUP(M351,Adresy!$A$4:$C$156,2,FALSE)","v":"Poprad"},{"$f":"VLOOKUP(M351,Adresy!$A$4:$C$156,3,FALSE)","v":"Banícka"},"M","2015M06",null,null,null,null,null,{"$f":"VLOOKUP(M351,Adresy!$A$3:$C$122,2,FALSE)","v":"Poprad"},{"$f":"VLOOKUP(M351,Adresy!$A$3:$C$122,3,FALSE)","v":"Banícka"},0,0,0,0]
["pľúcny ventilátor",null,"Celá zostava",null,null,"aj s príslušenstvom","Servo-i","nešpecifikované",null,"Maquet","sumárna cena","HW","Národný ústav tuberkulózy, pl'úcnych chorôb a hrudníkovej chirurgie Vyšné Hágy","SR","Med Partners a.s.",null,2,74900,89880,{"$f":"IF(N352=\"SR\",1,IF(AC352=\"\",VLOOKUP(AW352,'CZKEUR Xchange rate'!$D$13:$E$234,2,FALSE),VLOOKUP(AW352,'CZKEUR Xchange rate'!$A$13:$B$234,2,FALSE)))","v":1},74900,89880,37450,44940,{"$f":"VLOOKUP(AW352,'Cenové indexy '!$D$7:$E$200,2,FALSE)","v":99.88},{"$f":"W352/Y352*'Cenové indexy '!$E$149","v":38668.587304765722},46402.304765718865,2015,null,null,"2014-11-30","Áno","Áno","Neurčené","Nie","24 mesiacov zadarmo",null,null,null,"Zmluva 23_DG","x",null,null,null,null,{"$f":"VLOOKUP(M352,Adresy!$A$4:$C$156,2,FALSE)","v":"Vysoké Tatry"},{"$f":"VLOOKUP(M352,Adresy!$A$4:$C$156,3,FALSE)","v":"Vysoké Tatry 1"},"M","2015M06",null,null,null,null,null,{"$f":"VLOOKUP(M352,Adresy!$A$3:$C$122,2,FALSE)","v":"Vysoké Tatry"},{"$f":"VLOOKUP(M352,Adresy!$A$3:$C$122,3,FALSE)","v":"Vysoké Tatry 1"},0,0,0,0]
["pľúcny ventilátor",null,"Celá zostava",null,null,"aj s príslušenstvom","Servo-i","nešpecifikované",null,"Maquet","sumárna cena","HW","Fakultná nemocnica Trenčín","SR","Med Partners a.s.",null,2,116180,139416,{"$f":"IF(N353=\"SR\",1,IF(AC353=\"\",VLOOKUP(AW353,'CZKEUR Xchange rate'!$D$13:$E$234,2,FALSE),VLOOKUP(AW353,'CZKEUR Xchange rate'!$A$13:$B$234,2,FALSE)))","v":1},116180,139416,58090,69708,{"$f":"VLOOKUP(AW353,'Cenové indexy '!$D$7:$E$200,2,FALSE)","v":99.88},{"$f":"W353/Y353*'Cenové indexy '!$E$149","v":59980.193231878256},71976.231878253908,2015,"06",null,"2015-05-31","Áno","Áno","ERDF","Nie","24 mesiacov zadarmo",null,null,null,"Zmluva 24_DG",null,null,null,null,null,{"$f":"VLOOKUP(M353,Adresy!$A$4:$C$156,2,FALSE)","v":"Trenčín"},{"$f":"VLOOKUP(M353,Adresy!$A$4:$C$156,3,FALSE)","v":"Legionárska 594/2"},"M","2015M06",null,null,null,null,null,{"$f":"VLOOKUP(M353,Adresy!$A$3:$C$122,2,FALSE)","v":"Trenčín"},{"$f":"VLOOKUP(M353,Adresy!$A$3:$C$122,3,FALSE)","v":"Legionárska 594/2"},0,0,0,0]
["pľúcny ventilátor",null,"ventilátor",null,null,null,"Servo-i","Servo-i",null,"Maquet","položková cena (súčasť sumárnej ceny)","HW","Fakultná nemocnica Trenčín","SR","Med Partners a.s.",null,2,67537.42,{"$f":"R354*1.2","v":81044.903999999995},{"$f":"IF(N354=\"SR\",1,IF(AC354=\"\",VLOOKUP(AW354,'CZKEUR Xchange rate'!$D$13:$E$234,2,FALSE),VLOOKUP(AW354,'CZKEUR Xchange rate'!$A$13:$B$234,2,FALSE)))","v":1},67537.42,81044.903999999995,33768.71,40522.451999999997,{"$f":"VLOOKUP(AW354,'Cenové indexy '!$D$7:$E$200,2,FALSE)","v":99.88},{"$f":"W354/Y354*'Cenové indexy '!$E$149","v":34867.511636964358},41841.013964357226,2015,"06",null,"2015-05-31","Áno","Áno","ERDF","Nie","24 mesiacov zadarmo",null,null,null,"Zmluva 24_DG",null,null,null,null,null,{"$f":"VLOOKUP(M354,Adresy!$A$4:$C$156,2,FALSE)","v":"Trenčín"},{"$f":"VLOOKUP(M354,Adresy!$A$4:$C$156,3,FALSE)","v":"Legionárska 594/2"},"M","2015M06",null,null,null,null,null,{"$f":"VLOOKUP(M354,Adresy!$A$3:$C$122,2,FALSE)","v":"Trenčín"},{"$f":"VLOOKUP(M354,Adresy!$A$3:$C$122,3,FALSE)","v":"Legionárska 594/2"},0,0,0,0]
["pľúcny ventilátor",null,"Servo-i napájací kábel",null,null,null,"Servo-i",null,null,"Maquet","položková cena (súčasť sumárnej ceny)","HW","Fakultná nemocnica Trenčín","SR","Med Partners a.s.",null,2,0.04,4.8000000000000001E-2,{"$f":"IF(N355=\"SR\",1,IF(AC355=\"\",VLOOKUP(AW355,'CZKEUR Xchange rate'!$D$13:$E$234,2,FALSE),VLOOKUP(AW355,'CZKEUR Xchange rate'!$A$13:$B$234,2,FALSE)))","v":1},0.04,4.8000000000000001E-2,0.02,2.4E-2,{"$f":"VLOOKUP(AW355,'Cenové indexy '!$D$7:$E$200,2,FALSE)","v":99.88},{"$f":"W355/Y355*'Cenové indexy '!$E$149","v":2.0650780937124552E-2},2.478093712454946E-2,2015,"06",null,"2015-05-31","Áno","Áno","ERDF","Nie","24 mesiacov zadarmo",null,null,null,"Zmluva 24_DG",null,null,null,null,null,{"$f":"VLOOKUP(M355,Adresy!$A$4:$C$156,2,FALSE)","v":"Trenčín"},{"$f":"VLOOKUP(M355,Adresy!$A$4:$C$156,3,FALSE)","v":"Legionárska 594/2"},"M","2015M06",null,null,null,null,null,{"$f":"VLOOKUP(M355,Adresy!$A$3:$C$122,2,FALSE)","v":"Trenčín"},{"$f":"VLOOKUP(M355,Adresy!$A$3:$C$122,3,FALSE)","v":"Legionárska 594/2"},0,0,0,0]
["pľúcny ventilátor",null,"O2 senzor",null,null,null,"Servo-i",null,null,"Maquet","položková cena (súčasť sumárnej ceny)","HW","Fakultná nemocnica Trenčín","SR","Med Partners a.s.",null,2,1577.44,1892.9279999999999,{"$f":"IF(N356=\"SR\",1,IF(AC356=\"\",VLOOKUP(AW356,'CZKEUR Xchange rate'!$D$13:$E$234,2,FALSE),VLOOKUP(AW356,'CZKEUR Xchange rate'!$A$13:$B$234,2,FALSE)))","v":1},1577.44,1892.9279999999999,788.72,946.46399999999994,{"$f":"VLOOKUP(AW356,'Cenové indexy '!$D$7:$E$200,2,FALSE)","v":99.88},{"$f":"W356/Y356*'Cenové indexy '!$E$149","v":814.38419703644377},977.26103644373245,2015,"06",null,"2015-05-31","Áno","Áno","ERDF","Nie","24 mesiacov zadarmo",null,null,null,"Zmluva 24_DG",null,null,null,null,null,{"$f":"VLOOKUP(M356,Adresy!$A$4:$C$156,2,FALSE)","v":"Trenčín"},{"$f":"VLOOKUP(M356,Adresy!$A$4:$C$156,3,FALSE)","v":"Legionárska 594/2"},"M","2015M06",null,null,null,null,null,{"$f":"VLOOKUP(M356,Adresy!$A$3:$C$122,2,FALSE)","v":"Trenčín"},{"$f":"VLOOKUP(M356,Adresy!$A$3:$C$122,3,FALSE)","v":"Legionárska 594/2"},0,0,0,0]
["pľúcny ventilátor",null,"SW Servo / ADULT",null,null,null,"Servo-i",null,null,"Maquet","položková cena (súčasť sumárnej ceny)","HW","Fakultná nemocnica Trenčín","SR","Med Partners a.s.",null,2,0.04,4.8000000000000001E-2,{"$f":"IF(N357=\"SR\",1,IF(AC357=\"\",VLOOKUP(AW357,'CZKEUR Xchange rate'!$D$13:$E$234,2,FALSE),VLOOKUP(AW357,'CZKEUR Xchange rate'!$A$13:$B$234,2,FALSE)))","v":1},0.04,4.8000000000000001E-2,0.02,2.4E-2,{"$f":"VLOOKUP(AW357,'Cenové indexy '!$D$7:$E$200,2,FALSE)","v":99.88},{"$f":"W357/Y357*'Cenové indexy '!$E$149","v":2.0650780937124552E-2},2.478093712454946E-2,2015,"06",null,"2015-05-31","Áno","Áno","ERDF","Nie","24 mesiacov zadarmo",null,null,null,"Zmluva 24_DG",null,null,null,null,null,{"$f":"VLOOKUP(M357,Adresy!$A$4:$C$156,2,FALSE)","v":"Trenčín"},{"$f":"VLOOKUP(M357,Adresy!$A$4:$C$156,3,FALSE)","v":"Legionárska 594/2"},"M","2015M06",null,null,null,null,null,{"$f":"VLOOKUP(M357,Adresy!$A$3:$C$122,2,FALSE)","v":"Trenčín"},{"$f":"VLOOKUP(M357,Adresy!$A$3:$C$122,3,FALSE)","v":"Legionárska 594/2"},0,0,0,0]
["pľúcny ventilátor",null,"Software Bi vent",null,null,null,"Servo-i",null,null,"Maquet","položková cena (súčasť sumárnej ceny)","HW","Fakultná nemocnica Trenčín","SR","Med Partners a.s.",null,2,5456.84,6548.2079999999996,{"$f":"IF(N358=\"SR\",1,IF(AC358=\"\",VLOOKUP(AW358,'CZKEUR Xchange rate'!$D$13:$E$234,2,FALSE),VLOOKUP(AW358,'CZKEUR Xchange rate'!$A$13:$B$234,2,FALSE)))","v":1},5456.84,6548.2079999999996,2728.42,3274.1039999999998,{"$f":"VLOOKUP(AW358,'Cenové indexy '!$D$7:$E$200,2,FALSE)","v":99.88},{"$f":"W358/Y358*'Cenové indexy '!$E$149","v":2817.2001862234683},3380.6402234681618,2015,"06",null,"2015-05-31","Áno","Áno","ERDF","Nie","24 mesiacov zadarmo",null,null,null,"Zmluva 24_DG",null,null,null,null,null,{"$f":"VLOOKUP(M358,Adresy!$A$4:$C$156,2,FALSE)","v":"Trenčín"},{"$f":"VLOOKUP(M358,Adresy!$A$4:$C$156,3,FALSE)","v":"Legionárska 594/2"},"M","2015M06",null,null,null,null,null,{"$f":"VLOOKUP(M358,Adresy!$A$3:$C$122,2,FALSE)","v":"Trenčín"},{"$f":"VLOOKUP(M358,Adresy!$A$3:$C$122,3,FALSE)","v":"Legionárska 594/2"},0,0,0,0]
["pľúcny ventilátor",null,"Software Automode",null,null,null,"Servo-i",null,null,"Maquet","položková cena (súčasť sumárnej ceny)","HW","Fakultná nemocnica Trenčín","SR","Med Partners a.s.",null,2,8854.98,10625.975999999999,{"$f":"IF(N359=\"SR\",1,IF(AC359=\"\",VLOOKUP(AW359,'CZKEUR Xchange rate'!$D$13:$E$234,2,FALSE),VLOOKUP(AW359,'CZKEUR Xchange rate'!$A$13:$B$234,2,FALSE)))","v":1},8854.98,10625.975999999999,4427.49,5312.9879999999994,{"$f":"VLOOKUP(AW359,'Cenové indexy '!$D$7:$E$200,2,FALSE)","v":99.88},{"$f":"W359/Y359*'Cenové indexy '!$E$149","v":4571.5563045654781},5485.8675654785739,2015,"06",null,"2015-05-31","Áno","Áno","ERDF","Nie","24 mesiacov zadarmo",null,null,null,"Zmluva 24_DG",null,null,null,null,null,{"$f":"VLOOKUP(M359,Adresy!$A$4:$C$156,2,FALSE)","v":"Trenčín"},{"$f":"VLOOKUP(M359,Adresy!$A$4:$C$156,3,FALSE)","v":"Legionárska 594/2"},"M","2015M06",null,null,null,null,null,{"$f":"VLOOKUP(M359,Adresy!$A$3:$C$122,2,FALSE)","v":"Trenčín"},{"$f":"VLOOKUP(M359,Adresy!$A$3:$C$122,3,FALSE)","v":"Legionárska 594/2"},0,0,0,0]
["pľúcny ventilátor",null,"Software pre neinvazívnu ventiláciu NIV",null,null,null,"Servo-i",null,null,"Maquet","položková cena (súčasť sumárnej ceny)","HW","Fakultná nemocnica Trenčín","SR","Med Partners a.s.",null,2,4585.24,5502.2879999999996,{"$f":"IF(N360=\"SR\",1,IF(AC360=\"\",VLOOKUP(AW360,'CZKEUR Xchange rate'!$D$13:$E$234,2,FALSE),VLOOKUP(AW360,'CZKEUR Xchange rate'!$A$13:$B$234,2,FALSE)))","v":1},4585.24,5502.2879999999996,2292.62,2751.1439999999998,{"$f":"VLOOKUP(AW360,'Cenové indexy '!$D$7:$E$200,2,FALSE)","v":99.88},{"$f":"W360/Y360*'Cenové indexy '!$E$149","v":2367.2196696035239},2840.6636035242286,2015,"06",null,"2015-05-31","Áno","Áno","ERDF","Nie","24 mesiacov zadarmo",null,null,null,"Zmluva 24_DG",null,null,null,null,null,{"$f":"VLOOKUP(M360,Adresy!$A$4:$C$156,2,FALSE)","v":"Trenčín"},{"$f":"VLOOKUP(M360,Adresy!$A$4:$C$156,3,FALSE)","v":"Legionárska 594/2"},"M","2015M06",null,null,null,null,null,{"$f":"VLOOKUP(M360,Adresy!$A$3:$C$122,2,FALSE)","v":"Trenčín"},{"$f":"VLOOKUP(M360,Adresy!$A$3:$C$122,3,FALSE)","v":"Legionárska 594/2"},0,0,0,0]
["pľúcny ventilátor",null,"SW Nebulizer",null,null,null,"Servo-i",null,null,"Maquet","položková cena (súčasť sumárnej ceny)","HW","Fakultná nemocnica Trenčín","SR","Med Partners a.s.",null,2,863.58,1036.296,{"$f":"IF(N361=\"SR\",1,IF(AC361=\"\",VLOOKUP(AW361,'CZKEUR Xchange rate'!$D$13:$E$234,2,FALSE),VLOOKUP(AW361,'CZKEUR Xchange rate'!$A$13:$B$234,2,FALSE)))","v":1},{"$f":"R361/T361","v":863.58},{"$f":"S361/T361","v":1036.296},431.79,518.14800000000002,{"$f":"VLOOKUP(AW361,'Cenové indexy '!$D$7:$E$200,2,FALSE)","v":99.88},{"$f":"W361/Y361*'Cenové indexy '!$E$149","v":445.84003504205049},535.00804205046052,2015,"06",null,"2015-05-31","Áno","Áno","ERDF","Nie","24 mesiacov zadarmo",null,null,null,"Zmluva 24_DG",null,null,null,null,null,{"$f":"VLOOKUP(M361,Adresy!$A$4:$C$156,2,FALSE)","v":"Trenčín"},{"$f":"VLOOKUP(M361,Adresy!$A$4:$C$156,3,FALSE)","v":"Legionárska 594/2"},"M","2015M06",null,null,null,null,null,{"$f":"VLOOKUP(M361,Adresy!$A$3:$C$122,2,FALSE)","v":"Trenčín"},{"$f":"VLOOKUP(M361,Adresy!$A$3:$C$122,3,FALSE)","v":"Legionárska 594/2"},0,0,0,0]
["pľúcny ventilátor",null,"Cart Servo i, w/Drawers, flatpack",null,null,null,"Servo-i",null,null,"Maquet","položková cena (súčasť sumárnej ceny)","HW","Fakultná nemocnica Trenčín","SR","Med Partners a.s.",null,2,3208.32,3849.9839999999999,{"$f":"IF(N362=\"SR\",1,IF(AC362=\"\",VLOOKUP(AW362,'CZKEUR Xchange rate'!$D$13:$E$234,2,FALSE),VLOOKUP(AW362,'CZKEUR Xchange rate'!$A$13:$B$234,2,FALSE)))","v":1},3208.32,3849.9839999999999,1604.16,1924.992,{"$f":"VLOOKUP(AW362,'Cenové indexy '!$D$7:$E$200,2,FALSE)","v":99.88},{"$f":"W362/Y362*'Cenové indexy '!$E$149","v":1656.3578374048859},1987.6294048858631,2015,"06",null,"2015-05-31","Áno","Áno","ERDF","Nie","24 mesiacov zadarmo",null,null,null,"Zmluva 24_DG",null,null,null,null,null,{"$f":"VLOOKUP(M362,Adresy!$A$4:$C$156,2,FALSE)","v":"Trenčín"},{"$f":"VLOOKUP(M362,Adresy!$A$4:$C$156,3,FALSE)","v":"Legionárska 594/2"},"M","2015M06",null,null,null,null,null,{"$f":"VLOOKUP(M362,Adresy!$A$3:$C$122,2,FALSE)","v":"Trenčín"},{"$f":"VLOOKUP(M362,Adresy!$A$3:$C$122,3,FALSE)","v":"Legionárska 594/2"},0,0,0,0]
["pľúcny ventilátor",null,"Oporné rameno 177",null,null,null,"Servo-i",null,null,"Maquet","položková cena (súčasť sumárnej ceny)","HW","Fakultná nemocnica Trenčín","SR","Med Partners a.s.",null,2,1761.9,2114.2800000000002,{"$f":"IF(N363=\"SR\",1,IF(AC363=\"\",VLOOKUP(AW363,'CZKEUR Xchange rate'!$D$13:$E$234,2,FALSE),VLOOKUP(AW363,'CZKEUR Xchange rate'!$A$13:$B$234,2,FALSE)))","v":1},1761.9,2114.2800000000002,880.95,1057.1400000000001,{"$f":"VLOOKUP(AW363,'Cenové indexy '!$D$7:$E$200,2,FALSE)","v":99.88},{"$f":"W363/Y363*'Cenové indexy '!$E$149","v":909.61527332799358},1091.5383279935922,2015,"06",null,"2015-05-31","Áno","Áno","ERDF","Nie","24 mesiacov zadarmo",null,null,null,"Zmluva 24_DG",null,null,null,null,null,{"$f":"VLOOKUP(M363,Adresy!$A$4:$C$156,2,FALSE)","v":"Trenčín"},{"$f":"VLOOKUP(M363,Adresy!$A$4:$C$156,3,FALSE)","v":"Legionárska 594/2"},"M","2015M06",null,null,null,null,null,{"$f":"VLOOKUP(M363,Adresy!$A$3:$C$122,2,FALSE)","v":"Trenčín"},{"$f":"VLOOKUP(M363,Adresy!$A$3:$C$122,3,FALSE)","v":"Legionárska 594/2"},0,0,0,0]
["pľúcny ventilátor",null,"Držiak zvhčovača, Servo-i",null,null,null,"Servo-i",null,null,"Maquet","položková cena (súčasť sumárnej ceny)","HW","Fakultná nemocnica Trenčín","SR","Med Partners a.s.",null,2,844.88,1013.856,{"$f":"IF(N364=\"SR\",1,IF(AC364=\"\",VLOOKUP(AW364,'CZKEUR Xchange rate'!$D$13:$E$234,2,FALSE),VLOOKUP(AW364,'CZKEUR Xchange rate'!$A$13:$B$234,2,FALSE)))","v":1},844.88,1013.856,422.44,506.928,{"$f":"VLOOKUP(AW364,'Cenové indexy '!$D$7:$E$200,2,FALSE)","v":99.88},{"$f":"W364/Y364*'Cenové indexy '!$E$149","v":436.18579495394471},523.42295394473365,2015,"06",null,"2015-05-31","Áno","Áno","ERDF","Nie","24 mesiacov zadarmo",null,null,null,"Zmluva 24_DG",null,null,null,null,null,{"$f":"VLOOKUP(M364,Adresy!$A$4:$C$156,2,FALSE)","v":"Trenčín"},{"$f":"VLOOKUP(M364,Adresy!$A$4:$C$156,3,FALSE)","v":"Legionárska 594/2"},"M","2015M06",null,null,null,null,null,{"$f":"VLOOKUP(M364,Adresy!$A$3:$C$122,2,FALSE)","v":"Trenčín"},{"$f":"VLOOKUP(M364,Adresy!$A$3:$C$122,3,FALSE)","v":"Legionárska 594/2"},0,0,0,0]
["pľúcny ventilátor",null,"Zvhčovač Fisher&Paykel MR850",null,null,null,"Servo-i",null,null,"Maquet","položková cena (súčasť sumárnej ceny)","HW","Fakultná nemocnica Trenčín","SR","Med Partners a.s.",null,2,5013.0200000000004,6015.6240000000007,{"$f":"IF(N365=\"SR\",1,IF(AC365=\"\",VLOOKUP(AW365,'CZKEUR Xchange rate'!$D$13:$E$234,2,FALSE),VLOOKUP(AW365,'CZKEUR Xchange rate'!$A$13:$B$234,2,FALSE)))","v":1},5013.0200000000004,6015.6240000000007,2506.5100000000002,3007.8120000000004,{"$f":"VLOOKUP(AW365,'Cenové indexy '!$D$7:$E$200,2,FALSE)","v":99.88},{"$f":"W365/Y365*'Cenové indexy '!$E$149","v":2588.0694463356031},3105.6833356027237,2015,"06",null,"2015-05-31","Áno","Áno","ERDF","Nie","24 mesiacov zadarmo",null,null,null,"Zmluva 24_DG",null,null,null,null,null,{"$f":"VLOOKUP(M365,Adresy!$A$4:$C$156,2,FALSE)","v":"Trenčín"},{"$f":"VLOOKUP(M365,Adresy!$A$4:$C$156,3,FALSE)","v":"Legionárska 594/2"},"M","2015M06",null,null,null,null,null,{"$f":"VLOOKUP(M365,Adresy!$A$3:$C$122,2,FALSE)","v":"Trenčín"},{"$f":"VLOOKUP(M365,Adresy!$A$3:$C$122,3,FALSE)","v":"Legionárska 594/2"},0,0,0,0]
["pľúcny ventilátor",null,"Snímač prietoku a teploty",null,null,null,"Servo-i",null,null,"Maquet","položková cena (súčasť sumárnej ceny)","HW","Fakultná nemocnica Trenčín","SR","Med Partners a.s.",null,2,406.4,487.67999999999995,{"$f":"IF(N366=\"SR\",1,IF(AC366=\"\",VLOOKUP(AW366,'CZKEUR Xchange rate'!$D$13:$E$234,2,FALSE),VLOOKUP(AW366,'CZKEUR Xchange rate'!$A$13:$B$234,2,FALSE)))","v":1},406.4,487.67999999999995,203.2,243.83999999999997,{"$f":"VLOOKUP(AW366,'Cenové indexy '!$D$7:$E$200,2,FALSE)","v":99.88},{"$f":"W366/Y366*'Cenové indexy '!$E$149","v":209.81193432118542},251.77432118542248,2015,"06",null,"2015-05-31","Áno","Áno","ERDF","Nie","24 mesiacov zadarmo",null,null,null,"Zmluva 24_DG",null,null,null,null,null,{"$f":"VLOOKUP(M366,Adresy!$A$4:$C$156,2,FALSE)","v":"Trenčín"},{"$f":"VLOOKUP(M366,Adresy!$A$4:$C$156,3,FALSE)","v":"Legionárska 594/2"},"M","2015M06",null,null,null,null,null,{"$f":"VLOOKUP(M366,Adresy!$A$3:$C$122,2,FALSE)","v":"Trenčín"},{"$f":"VLOOKUP(M366,Adresy!$A$3:$C$122,3,FALSE)","v":"Legionárska 594/2"},0,0,0,0]
["pľúcny ventilátor",null,"Ohrievací kábel na jednorazove použitie",null,null,null,"Servo-i",null,null,"Maquet","položková cena (súčasť sumárnej ceny)","HW","Fakultná nemocnica Trenčín","SR","Med Partners a.s.",null,2,248.12,297.74399999999997,{"$f":"IF(N367=\"SR\",1,IF(AC367=\"\",VLOOKUP(AW367,'CZKEUR Xchange rate'!$D$13:$E$234,2,FALSE),VLOOKUP(AW367,'CZKEUR Xchange rate'!$A$13:$B$234,2,FALSE)))","v":1},248.12,297.74399999999997,124.06,148.87199999999999,{"$f":"VLOOKUP(AW367,'Cenové indexy '!$D$7:$E$200,2,FALSE)","v":99.88},{"$f":"W367/Y367*'Cenové indexy '!$E$149","v":128.09679415298359},153.71615298358032,2015,"06",null,"2015-05-31","Áno","Áno","ERDF","Nie","24 mesiacov zadarmo",null,null,null,"Zmluva 24_DG",null,null,null,null,null,{"$f":"VLOOKUP(M367,Adresy!$A$4:$C$156,2,FALSE)","v":"Trenčín"},{"$f":"VLOOKUP(M367,Adresy!$A$4:$C$156,3,FALSE)","v":"Legionárska 594/2"},"M","2015M06",null,null,null,null,null,{"$f":"VLOOKUP(M367,Adresy!$A$3:$C$122,2,FALSE)","v":"Trenčín"},{"$f":"VLOOKUP(M367,Adresy!$A$3:$C$122,3,FALSE)","v":"Legionárska 594/2"},0,0,0,0]
["pľúcny ventilátor",null,"Clamp 1 slot",null,null,null,"Servo-i",null,null,"Maquet","položková cena (súčasť sumárnej ceny)","HW","Fakultná nemocnica Trenčín","SR","Med Partners a.s.",null,2,180.58,216.696,{"$f":"IF(N368=\"SR\",1,IF(AC368=\"\",VLOOKUP(AW368,'CZKEUR Xchange rate'!$D$13:$E$234,2,FALSE),VLOOKUP(AW368,'CZKEUR Xchange rate'!$A$13:$B$234,2,FALSE)))","v":1},180.58,216.696,90.29,108.348,{"$f":"VLOOKUP(AW368,'Cenové indexy '!$D$7:$E$200,2,FALSE)","v":99.88},{"$f":"W368/Y368*'Cenové indexy '!$E$149","v":93.227950540648791},111.87354064877854,2015,"06",null,"2015-05-31","Áno","Áno","ERDF","Nie","24 mesiacov zadarmo",null,null,null,"Zmluva 24_DG",null,null,null,null,null,{"$f":"VLOOKUP(M368,Adresy!$A$4:$C$156,2,FALSE)","v":"Trenčín"},{"$f":"VLOOKUP(M368,Adresy!$A$4:$C$156,3,FALSE)","v":"Legionárska 594/2"},"M","2015M06",null,null,null,null,null,{"$f":"VLOOKUP(M368,Adresy!$A$3:$C$122,2,FALSE)","v":"Trenčín"},{"$f":"VLOOKUP(M368,Adresy!$A$3:$C$122,3,FALSE)","v":"Legionárska 594/2"},0,0,0,0]
["pľúcny ventilátor",null,"Breath syst 22 mm Act Disp. 2.1 m, 10 ks",null,null,null,"Servo-i",null,null,"Maquet","položková cena (súčasť sumárnej ceny)","HW","Fakultná nemocnica Trenčín","SR","Med Partners a.s.",null,2,933.1,1119.72,{"$f":"IF(N369=\"SR\",1,IF(AC369=\"\",VLOOKUP(AW369,'CZKEUR Xchange rate'!$D$13:$E$234,2,FALSE),VLOOKUP(AW369,'CZKEUR Xchange rate'!$A$13:$B$234,2,FALSE)))","v":1},933.1,1119.72,466.55,559.86,{"$f":"VLOOKUP(AW369,'Cenové indexy '!$D$7:$E$200,2,FALSE)","v":99.88},{"$f":"W369/Y369*'Cenové indexy '!$E$149","v":481.73109231077291},578.07731077292749,2015,"06",null,"2015-05-31","Áno","Áno","ERDF","Nie","24 mesiacov zadarmo",null,null,null,"Zmluva 24_DG",null,null,null,null,null,{"$f":"VLOOKUP(M369,Adresy!$A$4:$C$156,2,FALSE)","v":"Trenčín"},{"$f":"VLOOKUP(M369,Adresy!$A$4:$C$156,3,FALSE)","v":"Legionárska 594/2"},"M","2015M06",null,null,null,null,null,{"$f":"VLOOKUP(M369,Adresy!$A$3:$C$122,2,FALSE)","v":"Trenčín"},{"$f":"VLOOKUP(M369,Adresy!$A$3:$C$122,3,FALSE)","v":"Legionárska 594/2"},0,0,0,0]
["pľúcny ventilátor",null,"Vysokotlaková hadica O2",null,null,null,"Servo-i",null,null,"Maquet","položková cena (súčasť sumárnej ceny)","HW","Fakultná nemocnica Trenčín","SR","Med Partners a.s.",null,2,494.64,593.56799999999998,{"$f":"IF(N370=\"SR\",1,IF(AC370=\"\",VLOOKUP(AW370,'CZKEUR Xchange rate'!$D$13:$E$234,2,FALSE),VLOOKUP(AW370,'CZKEUR Xchange rate'!$A$13:$B$234,2,FALSE)))","v":1},494.64,593.56799999999998,247.32,296.78399999999999,{"$f":"VLOOKUP(AW370,'Cenové indexy '!$D$7:$E$200,2,FALSE)","v":99.88},{"$f":"W370/Y370*'Cenové indexy '!$E$149","v":255.36755706848214},306.44106848217854,2015,"06",null,"2015-05-31","Áno","Áno","ERDF","Nie","24 mesiacov zadarmo",null,null,null,"Zmluva 24_DG",null,null,null,null,null,{"$f":"VLOOKUP(M370,Adresy!$A$4:$C$156,2,FALSE)","v":"Trenčín"},{"$f":"VLOOKUP(M370,Adresy!$A$4:$C$156,3,FALSE)","v":"Legionárska 594/2"},"M","2015M06",null,null,null,null,null,{"$f":"VLOOKUP(M370,Adresy!$A$3:$C$122,2,FALSE)","v":"Trenčín"},{"$f":"VLOOKUP(M370,Adresy!$A$3:$C$122,3,FALSE)","v":"Legionárska 594/2"},0,0,0,0]
["pľúcny ventilátor",null,"Vysokotlaková hadica prívodu vzduchu",null,null,null,"Servo-i",null,null,"Maquet","položková cena (súčasť sumárnej ceny)","HW","Fakultná nemocnica Trenčín","SR","Med Partners a.s.",null,2,494.64,593.56799999999998,{"$f":"IF(N371=\"SR\",1,IF(AC371=\"\",VLOOKUP(AW371,'CZKEUR Xchange rate'!$D$13:$E$234,2,FALSE),VLOOKUP(AW371,'CZKEUR Xchange rate'!$A$13:$B$234,2,FALSE)))","v":1},494.64,593.56799999999998,247.32,296.78399999999999,{"$f":"VLOOKUP(AW371,'Cenové indexy '!$D$7:$E$200,2,FALSE)","v":99.88},{"$f":"W371/Y371*'Cenové indexy '!$E$149","v":255.36755706848214},306.44106848217854,2015,"06",null,"2015-05-31","Áno","Áno","ERDF","Nie","24 mesiacov zadarmo",null,null,null,"Zmluva 24_DG",null,null,null,null,null,{"$f":"VLOOKUP(M371,Adresy!$A$4:$C$156,2,FALSE)","v":"Trenčín"},{"$f":"VLOOKUP(M371,Adresy!$A$4:$C$156,3,FALSE)","v":"Legionárska 594/2"},"M","2015M06",null,null,null,null,null,{"$f":"VLOOKUP(M371,Adresy!$A$3:$C$122,2,FALSE)","v":"Trenčín"},{"$f":"VLOOKUP(M371,Adresy!$A$3:$C$122,3,FALSE)","v":"Legionárska 594/2"},0,0,0,0]
["pľúcny ventilátor",null,"Testovacie pľúcka",null,null,null,"Servo-i",null,null,"Maquet","položková cena (súčasť sumárnej ceny)","HW","Fakultná nemocnica Trenčín","SR","Med Partners a.s.",null,2,203.22,243.86399999999998,{"$f":"IF(N372=\"SR\",1,IF(AC372=\"\",VLOOKUP(AW372,'CZKEUR Xchange rate'!$D$13:$E$234,2,FALSE),VLOOKUP(AW372,'CZKEUR Xchange rate'!$A$13:$B$234,2,FALSE)))","v":1},203.22,243.86399999999998,101.61,121.93199999999999,{"$f":"VLOOKUP(AW372,'Cenové indexy '!$D$7:$E$200,2,FALSE)","v":99.88},{"$f":"W372/Y372*'Cenové indexy '!$E$149","v":104.91629255106128},125.89955106127353,2015,"06",null,"2015-05-31","Áno","Áno","ERDF","Nie","24 mesiacov zadarmo",null,null,null,"Zmluva 24_DG",null,null,null,null,null,{"$f":"VLOOKUP(M372,Adresy!$A$4:$C$156,2,FALSE)","v":"Trenčín"},{"$f":"VLOOKUP(M372,Adresy!$A$4:$C$156,3,FALSE)","v":"Legionárska 594/2"},"M","2015M06",null,null,null,null,null,{"$f":"VLOOKUP(M372,Adresy!$A$3:$C$122,2,FALSE)","v":"Trenčín"},{"$f":"VLOOKUP(M372,Adresy!$A$3:$C$122,3,FALSE)","v":"Legionárska 594/2"},0,0,0,0]
["pľúcny ventilátor",null,"Aeroneb Module SOLO Kit",null,null,null,"Servo-i",null,null,"Maquet","položková cena (súčasť sumárnej ceny)","HW","Fakultná nemocnica Trenčín","SR","Med Partners a.s.",null,2,1705.78,2046.9359999999999,{"$f":"IF(N373=\"SR\",1,IF(AC373=\"\",VLOOKUP(AW373,'CZKEUR Xchange rate'!$D$13:$E$234,2,FALSE),VLOOKUP(AW373,'CZKEUR Xchange rate'!$A$13:$B$234,2,FALSE)))","v":1},1705.78,2046.9359999999999,852.89,1023.468,{"$f":"VLOOKUP(AW373,'Cenové indexy '!$D$7:$E$200,2,FALSE)","v":99.88},{"$f":"W373/Y373*'Cenové indexy '!$E$149","v":880.6422276732078},1056.7706732078493,2015,"06",null,"2015-05-31","Áno","Áno","ERDF","Nie","24 mesiacov zadarmo",null,null,null,"Zmluva 24_DG",null,null,null,null,null,{"$f":"VLOOKUP(M373,Adresy!$A$4:$C$156,2,FALSE)","v":"Trenčín"},{"$f":"VLOOKUP(M373,Adresy!$A$4:$C$156,3,FALSE)","v":"Legionárska 594/2"},"M","2015M06",null,null,null,null,null,{"$f":"VLOOKUP(M373,Adresy!$A$3:$C$122,2,FALSE)","v":"Trenčín"},{"$f":"VLOOKUP(M373,Adresy!$A$3:$C$122,3,FALSE)","v":"Legionárska 594/2"},0,0,0,0]
["pľúcny ventilátor",null,"Aeroneb  Solo Conv. Pack (5ks)",null,null,null,"Servo-i",null,null,"Maquet","položková cena (súčasť sumárnej ceny)","HW","Fakultná nemocnica Trenčín","SR","Med Partners a.s.",null,2,708.52,850.22399999999993,{"$f":"IF(N374=\"SR\",1,IF(AC374=\"\",VLOOKUP(AW374,'CZKEUR Xchange rate'!$D$13:$E$234,2,FALSE),VLOOKUP(AW374,'CZKEUR Xchange rate'!$A$13:$B$234,2,FALSE)))","v":1},708.52,850.22399999999993,354.26,425.11199999999997,{"$f":"VLOOKUP(AW374,'Cenové indexy '!$D$7:$E$200,2,FALSE)","v":99.88},{"$f":"W374/Y374*'Cenové indexy '!$E$149","v":365.78728273928715},438.94473928714456,2015,"06",null,"2015-05-31","Áno","Áno","ERDF","Nie","24 mesiacov zadarmo",null,null,null,"Zmluva 24_DG",null,null,null,null,null,{"$f":"VLOOKUP(M374,Adresy!$A$4:$C$156,2,FALSE)","v":"Trenčín"},{"$f":"VLOOKUP(M374,Adresy!$A$4:$C$156,3,FALSE)","v":"Legionárska 594/2"},"M","2015M06",null,null,null,null,null,{"$f":"VLOOKUP(M374,Adresy!$A$3:$C$122,2,FALSE)","v":"Trenčín"},{"$f":"VLOOKUP(M374,Adresy!$A$3:$C$122,3,FALSE)","v":"Legionárska 594/2"},0,0,0,0]
["pľúcny ventilátor",null,"Servo Duo Guard filtre",null,null,null,"Servo-i",null,null,"Maquet","položková cena (súčasť sumárnej ceny)","HW","Fakultná nemocnica Trenčín","SR","Med Partners a.s.",null,2,1018.62,1222.3440000000001,{"$f":"IF(N375=\"SR\",1,IF(AC375=\"\",VLOOKUP(AW375,'CZKEUR Xchange rate'!$D$13:$E$234,2,FALSE),VLOOKUP(AW375,'CZKEUR Xchange rate'!$A$13:$B$234,2,FALSE)))","v":1},1018.62,1222.3440000000001,509.31,611.17200000000003,{"$f":"VLOOKUP(AW375,'Cenové indexy '!$D$7:$E$200,2,FALSE)","v":99.88},{"$f":"W375/Y375*'Cenové indexy '!$E$149","v":525.88246195434522},631.05895434521426,2015,"06",null,"2015-05-31","Áno","Áno","ERDF","Nie","24 mesiacov zadarmo",null,null,null,"Zmluva 24_DG",null,null,null,null,null,{"$f":"VLOOKUP(M375,Adresy!$A$4:$C$156,2,FALSE)","v":"Trenčín"},{"$f":"VLOOKUP(M375,Adresy!$A$4:$C$156,3,FALSE)","v":"Legionárska 594/2"},"M","2015M06",null,null,null,null,null,{"$f":"VLOOKUP(M375,Adresy!$A$3:$C$122,2,FALSE)","v":"Trenčín"},{"$f":"VLOOKUP(M375,Adresy!$A$3:$C$122,3,FALSE)","v":"Legionárska 594/2"},0,0,0,0]
["pľúcny ventilátor",null,"Modul analyzátora CO2",null,null,null,"Servo-i",null,null,"Maquet","položková cena (súčasť sumárnej ceny)","HW","Fakultná nemocnica Trenčín","SR","Med Partners a.s.",null,2,3407.96,4089.5519999999997,{"$f":"IF(N376=\"SR\",1,IF(AC376=\"\",VLOOKUP(AW376,'CZKEUR Xchange rate'!$D$13:$E$234,2,FALSE),VLOOKUP(AW376,'CZKEUR Xchange rate'!$A$13:$B$234,2,FALSE)))","v":1},3407.96,4089.5519999999997,1703.98,2044.7759999999998,{"$f":"VLOOKUP(AW376,'Cenové indexy '!$D$7:$E$200,2,FALSE)","v":99.88},{"$f":"W376/Y376*'Cenové indexy '!$E$149","v":1759.4258850620745},2111.3110620744892,2015,"06",null,"2015-05-31","Áno","Áno","ERDF","Nie","24 mesiacov zadarmo",null,null,null,"Zmluva 24_DG",null,null,null,null,null,{"$f":"VLOOKUP(M376,Adresy!$A$4:$C$156,2,FALSE)","v":"Trenčín"},{"$f":"VLOOKUP(M376,Adresy!$A$4:$C$156,3,FALSE)","v":"Legionárska 594/2"},"M","2015M06",null,null,null,null,null,{"$f":"VLOOKUP(M376,Adresy!$A$3:$C$122,2,FALSE)","v":"Trenčín"},{"$f":"VLOOKUP(M376,Adresy!$A$3:$C$122,3,FALSE)","v":"Legionárska 594/2"},0,0,0,0]
["pľúcny ventilátor",null,"Capnostat II senzor",null,null,null,"Servo-i",null,null,"Maquet","položková cena (súčasť sumárnej ceny)","HW","Fakultná nemocnica Trenčín","SR","Med Partners a.s.",null,2,5182.8999999999996,6219.48,{"$f":"IF(N377=\"SR\",1,IF(AC377=\"\",VLOOKUP(AW377,'CZKEUR Xchange rate'!$D$13:$E$234,2,FALSE),VLOOKUP(AW377,'CZKEUR Xchange rate'!$A$13:$B$234,2,FALSE)))","v":1},5182.8999999999996,6219.48,2591.4499999999998,3109.74,{"$f":"VLOOKUP(AW377,'Cenové indexy '!$D$7:$E$200,2,FALSE)","v":99.88},{"$f":"W377/Y377*'Cenové indexy '!$E$149","v":2675.7733129755707},3210.9279755706848,2015,"06",null,"2015-05-31","Áno","Áno","ERDF","Nie","24 mesiacov zadarmo",null,null,null,"Zmluva 24_DG",null,null,null,null,null,{"$f":"VLOOKUP(M377,Adresy!$A$4:$C$156,2,FALSE)","v":"Trenčín"},{"$f":"VLOOKUP(M377,Adresy!$A$4:$C$156,3,FALSE)","v":"Legionárska 594/2"},"M","2015M06",null,null,null,null,null,{"$f":"VLOOKUP(M377,Adresy!$A$3:$C$122,2,FALSE)","v":"Trenčín"},{"$f":"VLOOKUP(M377,Adresy!$A$3:$C$122,3,FALSE)","v":"Legionárska 594/2"},0,0,0,0]
["pľúcny ventilátor",null,"SW CO2 Analyzer Servo-i",null,null,null,"Servo-i",null,null,"Maquet","položková cena (súčasť sumárnej ceny)","HW","Fakultná nemocnica Trenčín","SR","Med Partners a.s.",null,2,1491.82,1790.184,{"$f":"IF(N378=\"SR\",1,IF(AC378=\"\",VLOOKUP(AW378,'CZKEUR Xchange rate'!$D$13:$E$234,2,FALSE),VLOOKUP(AW378,'CZKEUR Xchange rate'!$A$13:$B$234,2,FALSE)))","v":1},1491.82,1790.184,745.91,895.09199999999998,{"$f":"VLOOKUP(AW378,'Cenové indexy '!$D$7:$E$200,2,FALSE)","v":99.88},{"$f":"W378/Y378*'Cenové indexy '!$E$149","v":770.18120044052853},924.21744052863414,2015,"06",null,"2015-05-31","Áno","Áno","ERDF","Nie","24 mesiacov zadarmo",null,null,null,"Zmluva 24_DG",null,null,null,null,null,{"$f":"VLOOKUP(M378,Adresy!$A$4:$C$156,2,FALSE)","v":"Trenčín"},{"$f":"VLOOKUP(M378,Adresy!$A$4:$C$156,3,FALSE)","v":"Legionárska 594/2"},"M","2015M06",null,null,null,null,null,{"$f":"VLOOKUP(M378,Adresy!$A$3:$C$122,2,FALSE)","v":"Trenčín"},{"$f":"VLOOKUP(M378,Adresy!$A$3:$C$122,3,FALSE)","v":"Legionárska 594/2"},0,0,0,0]
["pľúcny ventilátor",null,"ventilátor vyššej rady pre všetky vekové kategórie",null,null,"aj s príslušenstvom",null,"nešpecifikované",null,"","sumárna cena","HW","Detská fakultná nemocnica Košice","SR","VITALITE s.r.o.",null,2,129916.67,155900,{"$f":"IF(N379=\"SR\",1,IF(AC379=\"\",VLOOKUP(AW379,'CZKEUR Xchange rate'!$D$13:$E$234,2,FALSE),VLOOKUP(AW379,'CZKEUR Xchange rate'!$A$13:$B$234,2,FALSE)))","v":1},129916.67,155900,64958.334999999999,77950,{"$f":"VLOOKUP(AW379,'Cenové indexy '!$D$7:$E$200,2,FALSE)","v":99.88},{"$f":"W379/Y379*'Cenové indexy '!$E$149","v":67072.017306267517},80486.42076752102,2015,null,null,"2014-11-30","Áno","Áno","Neurčené","Nie","Neuvedené ",null,null,null,"Zmluva 25_DG","x",null,null,null,null,{"$f":"VLOOKUP(M379,Adresy!$A$4:$C$156,2,FALSE)","v":"Košice"},{"$f":"VLOOKUP(M379,Adresy!$A$4:$C$156,3,FALSE)","v":"Trieda SNP 457/1"},"M","2015M06",null,null,null,null,null,{"$f":"VLOOKUP(M379,Adresy!$A$3:$C$122,2,FALSE)","v":"Košice"},{"$f":"VLOOKUP(M379,Adresy!$A$3:$C$122,3,FALSE)","v":"Trieda SNP 457/1"},0,0,0,0]
["pľúcny ventilátor",null,"ventilátor univerzálny vyššej triedy",null,null,null,"Servo-i","nešpecifikované",null,"Maquet","sumárna cena","HW","Špecializovaná nemocnica sv. Svorada Zobor, n.o.","SR","Med Partners a.s.",null,2,119799,143758.79999999999,{"$f":"IF(N380=\"SR\",1,IF(AC380=\"\",VLOOKUP(AW380,'CZKEUR Xchange rate'!$D$13:$E$234,2,FALSE),VLOOKUP(AW380,'CZKEUR Xchange rate'!$A$13:$B$234,2,FALSE)))","v":1},119799,143758.79999999999,59899.5,71879.399999999994,{"$f":"VLOOKUP(AW380,'Cenové indexy '!$D$7:$E$200,2,FALSE)","v":99.88},{"$f":"W380/Y380*'Cenové indexy '!$E$149","v":61848.572637164601},74218.287164597525,2015,null,null,"2014-11-30","Áno","Áno","ERDF","Nie","24 mesiacov zadarmo",null,null,null,"Zmluva 26_DG","x",null,null,null,null,{"$f":"VLOOKUP(M380,Adresy!$A$4:$C$156,2,FALSE)","v":"Nitra"},{"$f":"VLOOKUP(M380,Adresy!$A$4:$C$156,3,FALSE)","v":"Kláštorská 134"},"M","2015M06",null,null,null,null,null,{"$f":"VLOOKUP(M380,Adresy!$A$3:$C$122,2,FALSE)","v":{"$error":"#N/A"}},{"$f":"VLOOKUP(M380,Adresy!$A$3:$C$122,3,FALSE)","v":{"$error":"#N/A"}},{"$error":"#N/A"},{"$error":"#N/A"},{"$error":"#N/A"},{"$error":"#N/A"}]
["pľúcny ventilátor",null,"Celá zostava",null,null,null,"Avea Comprehensive","Avea Comprehensive",null,"Viasys","sumárna cena","HW","Všeobecná fakultní nemocnice Praha","ČR","Cheirón a.s.",null,1,487000,589270,{"$f":"IF(N381=\"SR\",1,IF(AC381=\"\",VLOOKUP(AW381,'CZKEUR Xchange rate'!$D$13:$E$234,2,FALSE),VLOOKUP(AW381,'CZKEUR Xchange rate'!$A$13:$B$234,2,FALSE)))","v":25.949000000000002},18767.582565802149,22708.774904620601,18767.582565802149,22708.774904620601,{"$f":"VLOOKUP(AW381,'Cenové indexy '!$D$7:$E$200,2,FALSE)","v":98.57},{"$f":"W381/Y381*'Cenové indexy '!$E$149","v":19635.799837792183},23562.95980535062,2013,null,null,"2012-11-30","Áno","Áno","Neurčené","Nie","24 mesiacov zadarmo",null,null,null,"Zmluva 27_DG",null,null,null,null,null,{"$f":"VLOOKUP(M381,Adresy!$A$4:$C$156,2,FALSE)","v":"Praha "},{"$f":"VLOOKUP(M381,Adresy!$A$4:$C$156,3,FALSE)","v":"U Nemocnice 2"},"M","2013M06",null,null,null,null,null,{"$f":"VLOOKUP(M381,Adresy!$A$3:$C$122,2,FALSE)","v":{"$error":"#N/A"}},{"$f":"VLOOKUP(M381,Adresy!$A$3:$C$122,3,FALSE)","v":{"$error":"#N/A"}},{"$error":"#N/A"},{"$error":"#N/A"},{"$error":"#N/A"},{"$error":"#N/A"}]
["pľúcny ventilátor",null,"ventilátor",null,null,null,"Avea Comprehensive",null,null,"Viasys","položková cena (súčasť sumárnej ceny)","HW","Všeobecná fakultní nemocnice Praha","ČR","Cheirón a.s.",null,1,346000,418660,{"$f":"IF(N382=\"SR\",1,IF(AC382=\"\",VLOOKUP(AW382,'CZKEUR Xchange rate'!$D$13:$E$234,2,FALSE),VLOOKUP(AW382,'CZKEUR Xchange rate'!$A$13:$B$234,2,FALSE)))","v":25.949000000000002},13333.847161740336,16133.955065705806,13333.847161740336,16133.955065705806,{"$f":"VLOOKUP(AW382,'Cenové indexy '!$D$7:$E$200,2,FALSE)","v":98.57},{"$f":"W382/Y382*'Cenové indexy '!$E$149","v":13950.691465864675},16740.82975903761,2013,null,null,"2012-11-30","Áno","Áno","Neurčené","Nie","24 mesiacov zadarmo",null,null,null,"Zmluva 27_DG",null,null,null,null,null,{"$f":"VLOOKUP(M382,Adresy!$A$4:$C$156,2,FALSE)","v":"Praha "},{"$f":"VLOOKUP(M382,Adresy!$A$4:$C$156,3,FALSE)","v":"U Nemocnice 2"},"M","2013M06",null,null,null,null,null,{"$f":"VLOOKUP(M382,Adresy!$A$3:$C$122,2,FALSE)","v":{"$error":"#N/A"}},{"$f":"VLOOKUP(M382,Adresy!$A$3:$C$122,3,FALSE)","v":{"$error":"#N/A"}},{"$error":"#N/A"},{"$error":"#N/A"},{"$error":"#N/A"},{"$error":"#N/A"}]
["pľúcny ventilátor",null,"sw kód","Avea volumetrická kapnografia ",null,null,"Avea Comprehensive",null,null,"Viasys","položková cena (súčasť sumárnej ceny)","SW","Všeobecná fakultní nemocnice Praha","ČR","Cheirón a.s.",null,1,48000,58080,{"$f":"IF(N383=\"SR\",1,IF(AC383=\"\",VLOOKUP(AW383,'CZKEUR Xchange rate'!$D$13:$E$234,2,FALSE),VLOOKUP(AW383,'CZKEUR Xchange rate'!$A$13:$B$234,2,FALSE)))","v":25.949000000000002},1849.7822652125321,2238.236540907164,1849.7822652125321,2238.236540907164,{"$f":"VLOOKUP(AW383,'Cenové indexy '!$D$7:$E$200,2,FALSE)","v":98.57},{"$f":"W383/Y383*'Cenové indexy '!$E$149","v":1935.3560415072382},2322.4272498086857,2013,null,null,"2012-11-30","Áno","Áno","Neurčené","Nie","24 mesiacov zadarmo",null,null,null,"Zmluva 27_DG",null,null,null,null,null,{"$f":"VLOOKUP(M383,Adresy!$A$4:$C$156,2,FALSE)","v":"Praha "},{"$f":"VLOOKUP(M383,Adresy!$A$4:$C$156,3,FALSE)","v":"U Nemocnice 2"},"M","2013M06",null,null,null,null,null,{"$f":"VLOOKUP(M383,Adresy!$A$3:$C$122,2,FALSE)","v":{"$error":"#N/A"}},{"$f":"VLOOKUP(M383,Adresy!$A$3:$C$122,3,FALSE)","v":{"$error":"#N/A"}},{"$error":"#N/A"},{"$error":"#N/A"},{"$error":"#N/A"},{"$error":"#N/A"}]
["pľúcny ventilátor",null,"kábel","Sensor CO2 vrátane káblu Avea",null,null,"Avea Comprehensive",null,null,"Viasys","položková cena (súčasť sumárnej ceny)","HW","Všeobecná fakultní nemocnice Praha","ČR","Cheirón a.s.",null,1,74000,89540,{"$f":"IF(N384=\"SR\",1,IF(AC384=\"\",VLOOKUP(AW384,'CZKEUR Xchange rate'!$D$13:$E$234,2,FALSE),VLOOKUP(AW384,'CZKEUR Xchange rate'!$A$13:$B$234,2,FALSE)))","v":25.949000000000002},2851.7476588693203,3450.6146672318778,2851.7476588693203,3450.6146672318778,{"$f":"VLOOKUP(AW384,'Cenové indexy '!$D$7:$E$200,2,FALSE)","v":98.57},{"$f":"W384/Y384*'Cenové indexy '!$E$149","v":2983.6738973236584},3580.40867678839,2013,null,null,"2012-11-30","Áno","Áno","Neurčené","Nie","24 mesiacov zadarmo",null,null,null,"Zmluva 27_DG",null,null,null,null,null,{"$f":"VLOOKUP(M384,Adresy!$A$4:$C$156,2,FALSE)","v":"Praha "},{"$f":"VLOOKUP(M384,Adresy!$A$4:$C$156,3,FALSE)","v":"U Nemocnice 2"},"M","2013M06",null,null,null,null,null,{"$f":"VLOOKUP(M384,Adresy!$A$3:$C$122,2,FALSE)","v":{"$error":"#N/A"}},{"$f":"VLOOKUP(M384,Adresy!$A$3:$C$122,3,FALSE)","v":{"$error":"#N/A"}},{"$error":"#N/A"},{"$error":"#N/A"},{"$error":"#N/A"},{"$error":"#N/A"}]
["pľúcny ventilátor",null,"stojan",null,null,null,"Avea Comprehensive",null,null,"Viasys","položková cena (súčasť sumárnej ceny)","HW","Všeobecná fakultní nemocnice Praha","ČR","Cheirón a.s.",null,1,19000,22990,{"$f":"IF(N385=\"SR\",1,IF(AC385=\"\",VLOOKUP(AW385,'CZKEUR Xchange rate'!$D$13:$E$234,2,FALSE),VLOOKUP(AW385,'CZKEUR Xchange rate'!$A$13:$B$234,2,FALSE)))","v":25.949000000000002},732.20547997996061,885.96863077575233,732.20547997996061,885.96863077575233,{"$f":"VLOOKUP(AW385,'Cenové indexy '!$D$7:$E$200,2,FALSE)","v":98.57},{"$f":"W385/Y385*'Cenové indexy '!$E$149","v":766.07843309661507},919.29411971593811,2013,null,null,"2012-11-30","Áno","Áno","Neurčené","Nie","24 mesiacov zadarmo",null,null,null,"Zmluva 27_DG",null,null,null,null,null,{"$f":"VLOOKUP(M385,Adresy!$A$4:$C$156,2,FALSE)","v":"Praha "},{"$f":"VLOOKUP(M385,Adresy!$A$4:$C$156,3,FALSE)","v":"U Nemocnice 2"},"M","2013M06",null,null,null,null,null,{"$f":"VLOOKUP(M385,Adresy!$A$3:$C$122,2,FALSE)","v":{"$error":"#N/A"}},{"$f":"VLOOKUP(M385,Adresy!$A$3:$C$122,3,FALSE)","v":{"$error":"#N/A"}},{"$error":"#N/A"},{"$error":"#N/A"},{"$error":"#N/A"},{"$error":"#N/A"}]
["pľúcny ventilátor",null,"Celá zostava",null,null,null,"Hamilton S1 ",null,null,"Hamilton medical","sumárna cena","HW","Všeobecná fakultní nemocnice Praha","ČR","A.M.I. Analytical medical instruments s.r.o.",null,7,6872180,8315337,{"$f":"IF(N386=\"SR\",1,IF(AC386=\"\",VLOOKUP(AW386,'CZKEUR Xchange rate'!$D$13:$E$234,2,FALSE),VLOOKUP(AW386,'CZKEUR Xchange rate'!$A$13:$B$234,2,FALSE)))","v":27.253},252162.33075257769,305116.39085605252,36023.190107511102,43588.055836578933,{"$f":"VLOOKUP(AW386,'Cenové indexy '!$D$7:$E$200,2,FALSE)","v":99.88},{"$f":"W386/Y386*'Cenové indexy '!$E$149","v":37195.350378330193},{"$f":"Z386*1.2","v":44634.42045399623},2015,null,null,{"$f":"DATE(AB386,AC386,AD386)","v":"2014-11-30"},"Áno","Áno","Neurčené","Áno","24 mesiacov zadarmo",null,null,null,"Zmluva 28_DG",null,null,null,null,null,{"$f":"VLOOKUP(M386,Adresy!$A$4:$C$156,2,FALSE)","v":"Praha "},{"$f":"VLOOKUP(M386,Adresy!$A$4:$C$156,3,FALSE)","v":"U Nemocnice 2"},"M","2015M06",null,null,null,null,null,{"$f":"VLOOKUP(M386,Adresy!$A$3:$C$122,2,FALSE)","v":{"$error":"#N/A"}},{"$f":"VLOOKUP(M386,Adresy!$A$3:$C$122,3,FALSE)","v":{"$error":"#N/A"}},{"$f":"IF(BC386<>AT386,1,0)","v":{"$error":"#N/A"}},{"$error":"#N/A"},{"$error":"#N/A"},{"$error":"#N/A"}]
["pľúcny ventilátor",null,"ventilátor",null,null,"aj s príslušenstvom","Hamilton S1 ","Hamilton S1 ",null,"Hamilton medical","položková cena (súčasť sumárnej ceny)","HW","Všeobecná fakultní nemocnice Praha","ČR","A.M.I. Analytical medical instruments s.r.o.",null,7,6464780,7822383.7999999998,{"$f":"IF(N387=\"SR\",1,IF(AC387=\"\",VLOOKUP(AW387,'CZKEUR Xchange rate'!$D$13:$E$234,2,FALSE),VLOOKUP(AW387,'CZKEUR Xchange rate'!$A$13:$B$234,2,FALSE)))","v":27.253},237213.51777785932,287028.35651120974,33887.645396837048,41004.050930172823,{"$f":"VLOOKUP(AW387,'Cenové indexy '!$D$7:$E$200,2,FALSE)","v":99.88},{"$f":"W387/Y387*'Cenové indexy '!$E$149","v":34990.317078251952},41988.380493902339,2015,null,null,"2014-11-30","Áno","Áno","Neurčené","Áno","24 mesiacov zadarmo",null,null,null,"Zmluva 28_DG",null,null,null,null,null,{"$f":"VLOOKUP(M387,Adresy!$A$4:$C$156,2,FALSE)","v":"Praha "},{"$f":"VLOOKUP(M387,Adresy!$A$4:$C$156,3,FALSE)","v":"U Nemocnice 2"},"M",{"$f":"IF(AC387=\"\",CONCATENATE(AB387,AV387,\"06\"),IF(LEN(AC387)=1,CONCATENATE(AB387,AV387,\"0\"&AC387),CONCATENATE(AB387,AV387,AC387)))","v":"2015M06"},null,null,null,null,null,{"$f":"VLOOKUP(M387,Adresy!$A$3:$C$122,2,FALSE)","v":{"$error":"#N/A"}},{"$f":"VLOOKUP(M387,Adresy!$A$3:$C$122,3,FALSE)","v":{"$error":"#N/A"}},{"$error":"#N/A"},{"$error":"#N/A"},{"$error":"#N/A"},{"$error":"#N/A"}]
["pľúcny ventilátor",null,"vozík vrátane príslušenstva",null,null,null,"Hamilton S1 ",null,null,"Hamilton medical","položková cena (súčasť sumárnej ceny)","HW","Všeobecná fakultní nemocnice Praha","ČR","A.M.I. Analytical medical instruments s.r.o.",null,7,407400,492954,{"$f":"IF(N388=\"SR\",1,IF(AC388=\"\",VLOOKUP(AW388,'CZKEUR Xchange rate'!$D$13:$E$234,2,FALSE),VLOOKUP(AW388,'CZKEUR Xchange rate'!$A$13:$B$234,2,FALSE)))","v":27.253},14948.812974718379,18088.063699409238,2135.5447106740544,2584.0090999156055,{"$f":"VLOOKUP(AW388,'Cenové indexy '!$D$7:$E$200,2,FALSE)","v":99.88},{"$f":"W388/Y388*'Cenové indexy '!$E$149","v":2205.0333000782462},2646.0399600938954,2015,null,null,"2014-11-30","Áno","Áno","Neurčené","Áno","24 mesiacov zadarmo",null,null,null,"Zmluva 28_DG",null,null,null,null,null,{"$f":"VLOOKUP(M388,Adresy!$A$4:$C$156,2,FALSE)","v":"Praha "},{"$f":"VLOOKUP(M388,Adresy!$A$4:$C$156,3,FALSE)","v":"U Nemocnice 2"},"M","2015M06",null,null,null,null,null,{"$f":"VLOOKUP(M388,Adresy!$A$3:$C$122,2,FALSE)","v":{"$error":"#N/A"}},{"$f":"VLOOKUP(M388,Adresy!$A$3:$C$122,3,FALSE)","v":{"$error":"#N/A"}},{"$error":"#N/A"},{"$error":"#N/A"},{"$error":"#N/A"},{"$error":"#N/A"}]
["pľúcny ventilátor",null,"Celá zostava",null,null,null,"Philips Respironics V60","Philips Respironics V60",null,"Philips","sumárna cena","HW","Fakultní nemocnice Plzeň","ČR","Linde Gas a.s.",null,2,434586,495428,{"$f":"IF(N389=\"SR\",1,IF(AC389=\"\",VLOOKUP(AW389,'CZKEUR Xchange rate'!$D$13:$E$234,2,FALSE),VLOOKUP(AW389,'CZKEUR Xchange rate'!$A$13:$B$234,2,FALSE)))","v":25.64},16949.531981279251,19322.464898595943,8474.7659906396257,9661.2324492979715,{"$f":"VLOOKUP(AW389,'Cenové indexy '!$D$7:$E$200,2,FALSE)","v":96.04},{"$f":"W389/Y389*'Cenové indexy '!$E$149","v":9100.4020888657287},10920.482506638875,2012,null,null,"2011-11-30","Áno","Áno","Neurčené","Nie","24 mesiacov zadarmo",null,null,null,"Zmluva 29_DG",null,null,null,null,null,{"$f":"VLOOKUP(M389,Adresy!$A$4:$C$156,2,FALSE)","v":"Plzeň"},{"$f":"VLOOKUP(M389,Adresy!$A$4:$C$156,3,FALSE)","v":"Dr. E. Beneše 1128/13"},"M","2012M06",null,null,null,null,null,{"$f":"VLOOKUP(M389,Adresy!$A$3:$C$122,2,FALSE)","v":"Plzeň"},{"$f":"VLOOKUP(M389,Adresy!$A$3:$C$122,3,FALSE)","v":"Dr. E. Beneše 1128/13"},0,0,0,0]
["pľúcny ventilátor",null,"Celá zostava",null,null,"aj s príslušenstvom","Hamilton G5","Hamilton G5",null,"Hamilton medical","sumárna cena","HW","Fakultní nemocnice v Motole","ČR","A.M.I. Analytical medical instruments s.r.o.",null,2,1432766,1733646.8,{"$f":"IF(N390=\"SR\",1,IF(AC390=\"\",VLOOKUP(AW390,'CZKEUR Xchange rate'!$D$13:$E$234,2,FALSE),VLOOKUP(AW390,'CZKEUR Xchange rate'!$A$13:$B$234,2,FALSE)))","v":25.949000000000002},55214.690354156228,66809.773016301202,27607.345177078114,33404.886508150601,{"$f":"VLOOKUP(AW390,'Cenové indexy '!$D$7:$E$200,2,FALSE)","v":98.57},{"$f":"W390/Y390*'Cenové indexy '!$E$149","v":28884.503480897496},34661.404177076991,2013,null,null,"2012-11-30","Áno","Áno","Neurčené","Nie","24 mesiacov zadarmo",null,null,null,"Zmluva 30_DG",null,null,null,null,null,{"$f":"VLOOKUP(M390,Adresy!$A$4:$C$156,2,FALSE)","v":"Praha"},{"$f":"VLOOKUP(M390,Adresy!$A$4:$C$156,3,FALSE)","v":"V úvalu 84"},"M","2013M06",null,null,null,null,null,{"$f":"VLOOKUP(M390,Adresy!$A$3:$C$122,2,FALSE)","v":"Praha"},{"$f":"VLOOKUP(M390,Adresy!$A$3:$C$122,3,FALSE)","v":"V úvalu 84"},0,0,0,0]
["pľúcny ventilátor",null,"Celá zostava",null,null,"aj s príslušenstvom","Hamilton S1 ","Hamilton S1 ",null,"Hamilton medical","sumárna cena","HW","Fakultní nemocnice v Motole","ČR","A.M.I. Analytical medical instruments s.r.o.",null,2,2353234,2847413.1,{"$f":"IF(N391=\"SR\",1,IF(AC391=\"\",VLOOKUP(AW391,'CZKEUR Xchange rate'!$D$13:$E$234,2,FALSE),VLOOKUP(AW391,'CZKEUR Xchange rate'!$A$13:$B$234,2,FALSE)))","v":25.949000000000002},90686.885814482244,109731.1302940383,45343.442907241122,54865.565147019151,{"$f":"VLOOKUP(AW391,'Cenové indexy '!$D$7:$E$200,2,FALSE)","v":98.57},{"$f":"W391/Y391*'Cenové indexy '!$E$149","v":47441.100406044206},56929.320487253048,2013,null,null,"2012-11-30","Áno","Áno","Neurčené","Nie","24 mesiacov zadarmo",null,null,null,"Zmluva 30_DG",null,null,null,null,null,{"$f":"VLOOKUP(M391,Adresy!$A$4:$C$156,2,FALSE)","v":"Praha"},{"$f":"VLOOKUP(M391,Adresy!$A$4:$C$156,3,FALSE)","v":"V úvalu 84"},"M","2013M06",null,null,null,null,null,{"$f":"VLOOKUP(M391,Adresy!$A$3:$C$122,2,FALSE)","v":"Praha"},{"$f":"VLOOKUP(M391,Adresy!$A$3:$C$122,3,FALSE)","v":"V úvalu 84"},0,0,0,0]
["pľúcny ventilátor",null,"Celá zostava",null,null,"aj s príslušenstvom","Hamilton S1 ","Hamilton S1 ",null,"Hamilton medical","sumárna cena","HW","Fakultná nemocnica s poliklinikou F. D. Roosevelta Banská Bystrica","SR","Medis Nitra",null,3,249630,299556,{"$f":"IF(N392=\"SR\",1,IF(AC392=\"\",VLOOKUP(AW392,'CZKEUR Xchange rate'!$D$13:$E$234,2,FALSE),VLOOKUP(AW392,'CZKEUR Xchange rate'!$A$13:$B$234,2,FALSE)))","v":1},249630,299556,83210,99852,{"$f":"VLOOKUP(AW392,'Cenové indexy '!$D$7:$E$200,2,FALSE)","v":96.04},{"$f":"W392/Y392*'Cenové indexy '!$E$149","v":89352.845689296126},107223.41482715534,2012,null,null,"2011-11-30","Áno","Áno","Neurčené","Nie","24 mesiacov zadarmo",null,null,null,"Zmluva 31_DG",null,null,null,null,null,{"$f":"VLOOKUP(M392,Adresy!$A$4:$C$156,2,FALSE)","v":"Banská Bystrica"},{"$f":"VLOOKUP(M392,Adresy!$A$4:$C$156,3,FALSE)","v":"Námestie Ludvíka Svobodu 6818/4"},"M","2012M06",null,null,null,null,null,{"$f":"VLOOKUP(M392,Adresy!$A$3:$C$122,2,FALSE)","v":"Banská Bystrica"},{"$f":"VLOOKUP(M392,Adresy!$A$3:$C$122,3,FALSE)","v":"Námestie Ludvíka Svobodu 6818/4"},0,0,0,0]
["pľúcny ventilátor",null,"Celá zostava",null,null,null,"Hamilton G5","Hamilton G5",null,"Hamilton medical","sumárna cena","HW","Institut klinické a experimentální medicíny","ČR","A.M.I. Analytical medical instruments s.r.o.",null,6,4178700,5056227,{"$f":"IF(N393=\"SR\",1,IF(AC393=\"\",VLOOKUP(AW393,'CZKEUR Xchange rate'!$D$13:$E$234,2,FALSE),VLOOKUP(AW393,'CZKEUR Xchange rate'!$A$13:$B$234,2,FALSE)))","v":25.949000000000002},161035.1073259085,194852.4798643493,26839.184554318083,32475.413310724882,{"$f":"VLOOKUP(AW393,'Cenové indexy '!$D$7:$E$200,2,FALSE)","v":98.57},{"$f":"W393/Y393*'Cenové indexy '!$E$149","v":28080.806564744078},33696.967877692892,2013,null,null,"2012-11-30","Áno","Áno","Neurčené","Nie","24 mesiacov zadarmo",null,null,null,"Zmluva 23_AT",null,null,null,null,null,{"$f":"VLOOKUP(M393,Adresy!$A$4:$C$156,2,FALSE)","v":"Praha"},{"$f":"VLOOKUP(M393,Adresy!$A$4:$C$156,3,FALSE)","v":"Vídeňská 1959/9"},"M","2013M06",null,null,null,null,null,{"$f":"VLOOKUP(M393,Adresy!$A$3:$C$122,2,FALSE)","v":"Praha"},{"$f":"VLOOKUP(M393,Adresy!$A$3:$C$122,3,FALSE)","v":"Vídeňská 1959/9"},0,0,0,0]
["pľúcny ventilátor",null,"Celá zostava",null,null,"aj s príslušenstvom","Draeger Savina 300","Draeger Savina 300",null,"Dräger","sumárna cena","HW","Fakultní nemocnice Plzeň","ČR","Dräger Medical s.r.o.",null,2,628000,715920,{"$f":"IF(N394=\"SR\",1,IF(AC394=\"\",VLOOKUP(AW394,'CZKEUR Xchange rate'!$D$13:$E$234,2,FALSE),VLOOKUP(AW394,'CZKEUR Xchange rate'!$A$13:$B$234,2,FALSE)))","v":25.64},24492.979719188766,27921.996879875194,12246.489859594383,13960.998439937597,{"$f":"VLOOKUP(AW394,'Cenové indexy '!$D$7:$E$200,2,FALSE)","v":96.04},{"$f":"W394/Y394*'Cenové indexy '!$E$149","v":13150.56746376477},15780.680956517723,2012,null,null,"2011-11-30","Áno","Áno","Neurčené","Nie","24 mesiacov zadarmo",null,null,null,"Zmluva 25_AT",null,null,null,null,null,{"$f":"VLOOKUP(M394,Adresy!$A$4:$C$156,2,FALSE)","v":"Plzeň"},{"$f":"VLOOKUP(M394,Adresy!$A$4:$C$156,3,FALSE)","v":"Dr. E. Beneše 1128/13"},"M","2012M06",null,null,null,null,null,{"$f":"VLOOKUP(M394,Adresy!$A$3:$C$122,2,FALSE)","v":"Plzeň"},{"$f":"VLOOKUP(M394,Adresy!$A$3:$C$122,3,FALSE)","v":"Dr. E. Beneše 1128/13"},0,0,0,0]
["pľúcny ventilátor",null,"Celá zostava",null,null,"aj s príslušenstvom","Draeger Evita XL","Draeger Evita XL",null,"Dräger","sumárna cena","HW","Fakultní nemocnice Plzeň","ČR","Dräger Medical s.r.o.",null,2,874000,996360,{"$f":"IF(N395=\"SR\",1,IF(AC395=\"\",VLOOKUP(AW395,'CZKEUR Xchange rate'!$D$13:$E$234,2,FALSE),VLOOKUP(AW395,'CZKEUR Xchange rate'!$A$13:$B$234,2,FALSE)))","v":25.64},34087.363494539779,38859.594383775351,17043.681747269889,19429.797191887676,{"$f":"VLOOKUP(AW395,'Cenové indexy '!$D$7:$E$200,2,FALSE)","v":96.04},{"$f":"W395/Y395*'Cenové indexy '!$E$149","v":18301.904400207659},21962.285280249191,2012,null,null,"2011-11-30","Áno","Áno","Neurčené","Nie","24 mesiacov zadarmo",null,null,null,"Zmluva 25_AT",null,null,null,null,null,{"$f":"VLOOKUP(M395,Adresy!$A$4:$C$156,2,FALSE)","v":"Plzeň"},{"$f":"VLOOKUP(M395,Adresy!$A$4:$C$156,3,FALSE)","v":"Dr. E. Beneše 1128/13"},"M","2012M06",null,null,null,null,null,{"$f":"VLOOKUP(M395,Adresy!$A$3:$C$122,2,FALSE)","v":"Plzeň"},{"$f":"VLOOKUP(M395,Adresy!$A$3:$C$122,3,FALSE)","v":"Dr. E. Beneše 1128/13"},0,0,0,0]
["pľúcny ventilátor","pľúcny ventilátor pre novorodencov","ventilátor pre novorodencov najvyššej triedy",null,"aj s príslušenstvom",null,"Draeger Babylog VN500","Draeger Babylog VN500",null,"Dräger","sumárna cena","HW","Fakultní nemocnice Plzeň","ČR","Dräger Medical s.r.o.",null,1,1048700,1195518,{"$f":"IF(N396=\"SR\",1,IF(AC396=\"\",VLOOKUP(AW396,'CZKEUR Xchange rate'!$D$13:$E$234,2,FALSE),VLOOKUP(AW396,'CZKEUR Xchange rate'!$A$13:$B$234,2,FALSE)))","v":25.64},40900.936037441497,46627.067082683308,40900.936037441497,46627.067082683308,{"$f":"VLOOKUP(AW396,'Cenové indexy '!$D$7:$E$200,2,FALSE)","v":96.04},{"$f":"W396/Y396*'Cenové indexy '!$E$149","v":43920.38248168827},52704.458978025919,2012,null,null,"2011-11-30","Áno","Áno","Neurčené","Nie","24 mesiacov zadarmo",null,null,null,"Zmluva 26_AT",null,null,null,null,null,{"$f":"VLOOKUP(M396,Adresy!$A$4:$C$156,2,FALSE)","v":"Plzeň"},{"$f":"VLOOKUP(M396,Adresy!$A$4:$C$156,3,FALSE)","v":"Dr. E. Beneše 1128/13"},"M","2012M06",null,null,null,null,null,{"$f":"VLOOKUP(M396,Adresy!$A$3:$C$122,2,FALSE)","v":"Plzeň"},{"$f":"VLOOKUP(M396,Adresy!$A$3:$C$122,3,FALSE)","v":"Dr. E. Beneše 1128/13"},0,0,0,0]
["monitorovací prístroj",null,"celá zostava",null,null,null,null,"Samsung medison ugeo PT60A","prístroj k podávaniu regionálnej anestézie a zvádzaniu cievnych katétrov","Samsung","sumárna cena","HW","Kysucká nemocnica s poliklinikou Čadca","SR","Nimag spol. s r.o.",null,1,19145,22794,{"$f":"IF(N397=\"SR\",1,IF(AC397=\"\",VLOOKUP(AW397,'CZKEUR Xchange rate'!$D$13:$E$234,2,FALSE),VLOOKUP(AW397,'CZKEUR Xchange rate'!$A$13:$B$234,2,FALSE)))","v":1},19145,22794,19145,22794,{"$f":"VLOOKUP(AW397,'Cenové indexy '!$D$7:$E$200,2,FALSE)","v":99.88},{"$f":"W397/Y397*'Cenové indexy '!$E$149","v":19767.960052062474},23721.552062474966,2015,null,null,"2014-11-30","Áno","Áno","Neurčené","Nie","24 mesiacov zadarmo",null,null,null,"Zmluva 38_DG",null,null,null,null,null,{"$f":"VLOOKUP(M397,Adresy!$A$4:$C$156,2,FALSE)","v":"Čadca"},{"$f":"VLOOKUP(M397,Adresy!$A$4:$C$156,3,FALSE)","v":"Športovcov"},"M","2015M06",null,null,null,null,null,{"$f":"VLOOKUP(M397,Adresy!$A$3:$C$122,2,FALSE)","v":"Čadca"},{"$f":"VLOOKUP(M397,Adresy!$A$3:$C$122,3,FALSE)","v":"Športovcov"},0,0,0,0]
["lôžko","lôžka resiscutačné","Celá zostava",null,null,null,null,"Eleganza 3xc",null,"Linet","sumárna cena","HW","Fakultní nemocnice Ostrava","ČR","Linet spol. s.r.o.",null,4,504960,574954,{"$f":"IF(N398=\"SR\",1,IF(AC398=\"\",VLOOKUP(AW398,'CZKEUR Xchange rate'!$D$13:$E$234,2,FALSE),VLOOKUP(AW398,'CZKEUR Xchange rate'!$A$13:$B$234,2,FALSE)))","v":27.588000000000001},18303.610265332754,20840.727852689575,4575.9025663331886,5210.1819631723938,{"$f":"VLOOKUP(AW398,'Cenové indexy '!$D$7:$E$200,2,FALSE)","v":99.94},{"$f":"W398/Y398*'Cenové indexy '!$E$149","v":4721.9614935555501},5666.3537922666601,2014,"10","24","2014-10-24","Áno","Áno","Neurčené","Nie","24 mesiacov zadarmo",null,null,null,"Zmluva 1_BS",null,null,null,null,null,{"$f":"VLOOKUP(M398,Adresy!$A$4:$C$156,2,FALSE)","v":"Ostrava"},{"$f":"VLOOKUP(M398,Adresy!$A$4:$C$156,3,FALSE)","v":"17. listopadu"},"M","2014M10",null,null,null,null,null,{"$f":"VLOOKUP(M398,Adresy!$A$3:$C$122,2,FALSE)","v":"Ostrava"},{"$f":"VLOOKUP(M398,Adresy!$A$3:$C$122,3,FALSE)","v":"17. listopadu"},0,0,0,0]
["lôžko","lôžka resiscutačné","elektrické resuscitačné lôžko s váhou",null,null,null,null,"Eleganza 3xc",null,"Linet","položková cena (súčasť sumárnej ceny)","HW","Fakultní nemocnice Ostrava","ČR","Linet spol. s.r.o.",null,4,461920,531208,{"$f":"IF(N399=\"SR\",1,IF(AC399=\"\",VLOOKUP(AW399,'CZKEUR Xchange rate'!$D$13:$E$234,2,FALSE),VLOOKUP(AW399,'CZKEUR Xchange rate'!$A$13:$B$234,2,FALSE)))","v":27.588000000000001},16743.511671741337,19255.038422502537,4185.8779179353342,4813.7596056256343,{"$f":"VLOOKUP(AW399,'Cenové indexy '!$D$7:$E$200,2,FALSE)","v":99.94},{"$f":"W399/Y399*'Cenové indexy '!$E$149","v":4319.4875893203025},5183.3851071843628,2014,"10","24","2014-10-24","Áno","Áno","Neurčené","Nie","24 mesiacov zadarmo",null,null,null,"Zmluva 1_BS",null,null,null,null,null,{"$f":"VLOOKUP(M399,Adresy!$A$4:$C$156,2,FALSE)","v":"Ostrava"},{"$f":"VLOOKUP(M399,Adresy!$A$4:$C$156,3,FALSE)","v":"17. listopadu"},"M","2014M10",null,null,null,null,null,{"$f":"VLOOKUP(M399,Adresy!$A$3:$C$122,2,FALSE)","v":"Ostrava"},{"$f":"VLOOKUP(M399,Adresy!$A$3:$C$122,3,FALSE)","v":"17. listopadu"},0,0,0,0]
["lôžko","lôžka resiscutačné","pasívny antidekubitný matrac",null,null,null,null,"Ergomatt",null,"Linet","položková cena (súčasť sumárnej ceny)","HW","Fakultní nemocnice Ostrava","ČR","Linet spol. s.r.o.",null,4,30000,34500,{"$f":"IF(N400=\"SR\",1,IF(AC400=\"\",VLOOKUP(AW400,'CZKEUR Xchange rate'!$D$13:$E$234,2,FALSE),VLOOKUP(AW400,'CZKEUR Xchange rate'!$A$13:$B$234,2,FALSE)))","v":27.588000000000001},1087.4293170943888,1250.5437146585471,271.8573292735972,312.63592866463677,{"$f":"VLOOKUP(AW400,'Cenové indexy '!$D$7:$E$200,2,FALSE)","v":99.94},{"$f":"W400/Y400*'Cenové indexy '!$E$149","v":280.53478455059116},336.6417414607094,2014,"10","24","2014-10-24","Áno","Áno","Neurčené","Nie","24 mesiacov zadarmo",null,null,null,"Zmluva 1_BS",null,null,null,null,null,{"$f":"VLOOKUP(M400,Adresy!$A$4:$C$156,2,FALSE)","v":"Ostrava"},{"$f":"VLOOKUP(M400,Adresy!$A$4:$C$156,3,FALSE)","v":"17. listopadu"},"M","2014M10",null,null,null,null,null,{"$f":"VLOOKUP(M400,Adresy!$A$3:$C$122,2,FALSE)","v":"Ostrava"},{"$f":"VLOOKUP(M400,Adresy!$A$3:$C$122,3,FALSE)","v":"17. listopadu"},0,0,0,0]
["lôžko","lôžka resiscutačné","hrazda",null,null,null,null,null,null,"Linet","položková cena (súčasť sumárnej ceny)","HW","Fakultní nemocnice Ostrava","ČR","Linet spol. s.r.o.",null,4,9920,4508,{"$f":"IF(N401=\"SR\",1,IF(AC401=\"\",VLOOKUP(AW401,'CZKEUR Xchange rate'!$D$13:$E$234,2,FALSE),VLOOKUP(AW401,'CZKEUR Xchange rate'!$A$13:$B$234,2,FALSE)))","v":27.588000000000001},359.57662751921123,163.4043787153835,89.894156879802807,40.851094678845875,{"$f":"VLOOKUP(AW401,'Cenové indexy '!$D$7:$E$200,2,FALSE)","v":99.94},{"$f":"W401/Y401*'Cenové indexy '!$E$149","v":92.763502091395466},111.31620250967455,2014,"10","24","2014-10-24","Áno","Áno","Neurčené","Nie","24 mesiacov zadarmo",null,null,null,"Zmluva 1_BS",null,null,null,null,null,{"$f":"VLOOKUP(M401,Adresy!$A$4:$C$156,2,FALSE)","v":"Ostrava"},{"$f":"VLOOKUP(M401,Adresy!$A$4:$C$156,3,FALSE)","v":"17. listopadu"},"M","2014M10",null,null,null,null,null,{"$f":"VLOOKUP(M401,Adresy!$A$3:$C$122,2,FALSE)","v":"Ostrava"},{"$f":"VLOOKUP(M401,Adresy!$A$3:$C$122,3,FALSE)","v":"17. listopadu"},0,0,0,0]
["lôžko","lôžka resiscutačné","rukoveť",null,null,null,null,null,null,"Linet","položková cena (súčasť sumárnej ceny)","HW","Fakultní nemocnice Ostrava","ČR","Linet spol. s.r.o.",null,4,560,644,{"$f":"IF(N402=\"SR\",1,IF(AC402=\"\",VLOOKUP(AW402,'CZKEUR Xchange rate'!$D$13:$E$234,2,FALSE),VLOOKUP(AW402,'CZKEUR Xchange rate'!$A$13:$B$234,2,FALSE)))","v":27.588000000000001},20.298680585761925,23.343482673626212,5.0746701464404813,5.8358706684065531,{"$f":"VLOOKUP(AW402,'Cenové indexy '!$D$7:$E$200,2,FALSE)","v":99.94},{"$f":"W402/Y402*'Cenové indexy '!$E$149","v":5.2366493116110346},6.2839791739332416,2014,"10","24","2014-10-24","Áno","Áno","Neurčené","Nie","24 mesiacov zadarmo",null,null,null,"Zmluva 1_BS",null,null,null,null,null,{"$f":"VLOOKUP(M402,Adresy!$A$4:$C$156,2,FALSE)","v":"Ostrava"},{"$f":"VLOOKUP(M402,Adresy!$A$4:$C$156,3,FALSE)","v":"17. listopadu"},"M","2014M10",null,null,null,null,null,{"$f":"VLOOKUP(M402,Adresy!$A$3:$C$122,2,FALSE)","v":"Ostrava"},{"$f":"VLOOKUP(M402,Adresy!$A$3:$C$122,3,FALSE)","v":"17. listopadu"},0,0,0,0]
["lôžko","lôžka resiscutačné","infúzný stojan",null,null,null,null,null,null,"Linet","položková cena (súčasť sumárnej ceny)","HW","Fakultní nemocnice Ostrava","ČR","Linet spol. s.r.o.",null,4,2560,4094,{"$f":"IF(N403=\"SR\",1,IF(AC403=\"\",VLOOKUP(AW403,'CZKEUR Xchange rate'!$D$13:$E$234,2,FALSE),VLOOKUP(AW403,'CZKEUR Xchange rate'!$A$13:$B$234,2,FALSE)))","v":27.588000000000001},92.793968392054509,148.39785413948093,23.198492098013627,37.099463534870232,{"$f":"VLOOKUP(AW403,'Cenové indexy '!$D$7:$E$200,2,FALSE)","v":99.94},{"$f":"W403/Y403*'Cenové indexy '!$E$149","v":23.938968281650443},28.72676193798053,2014,"10","24","2014-10-24","Áno","Áno","Neurčené","Nie","24 mesiacov zadarmo",null,null,null,"Zmluva 1_BS",null,null,null,null,null,{"$f":"VLOOKUP(M403,Adresy!$A$4:$C$156,2,FALSE)","v":"Ostrava"},{"$f":"VLOOKUP(M403,Adresy!$A$4:$C$156,3,FALSE)","v":"17. listopadu"},"M","2014M10",null,null,null,null,null,{"$f":"VLOOKUP(M403,Adresy!$A$3:$C$122,2,FALSE)","v":"Ostrava"},{"$f":"VLOOKUP(M403,Adresy!$A$3:$C$122,3,FALSE)","v":"17. listopadu"},0,0,0,0]
["lôžko","lôžka JIS","Celá zostava",null,null,null,null,"Eleganza 3xc",null,"Linet","sumárna cena","HW","Fakultní nemocnice Ostrava","ČR","Linet spol. s.r.o.",null,6,849942,977433.3,{"$f":"IF(N404=\"SR\",1,IF(AC404=\"\",VLOOKUP(AW404,'CZKEUR Xchange rate'!$D$13:$E$234,2,FALSE),VLOOKUP(AW404,'CZKEUR Xchange rate'!$A$13:$B$234,2,FALSE)))","v":27.588000000000001},30808.394954327967,35429.654197477168,5134.7324923879942,5904.942366246195,{"$f":"VLOOKUP(AW404,'Cenové indexy '!$D$7:$E$200,2,FALSE)","v":99.94},{"$f":"W404/Y404*'Cenové indexy '!$E$149","v":5298.6287966777445},6358.3545560132934,2014,"10","24","2014-10-24","Áno","Áno","Neurčené","Nie","24 mesiacov zadarmo",null,null,null,"Zmluva 1_BS",null,null,null,null,null,{"$f":"VLOOKUP(M404,Adresy!$A$4:$C$156,2,FALSE)","v":"Ostrava"},{"$f":"VLOOKUP(M404,Adresy!$A$4:$C$156,3,FALSE)","v":"17. listopadu"},"M","2014M10",null,null,null,null,null,{"$f":"VLOOKUP(M404,Adresy!$A$3:$C$122,2,FALSE)","v":"Ostrava"},{"$f":"VLOOKUP(M404,Adresy!$A$3:$C$122,3,FALSE)","v":"17. listopadu"},0,0,0,0]
["lôžko","lôžka JIS","elektrické JIS lôžko",null,null,null,null,"Eleganza 3xc",null,"Linet","položková cena (súčasť sumárnej ceny)","HW","Fakultní nemocnice Ostrava","ČR","Linet spol. s.r.o.",null,6,792882,911814.3,{"$f":"IF(N405=\"SR\",1,IF(AC405=\"\",VLOOKUP(AW405,'CZKEUR Xchange rate'!$D$13:$E$234,2,FALSE),VLOOKUP(AW405,'CZKEUR Xchange rate'!$A$13:$B$234,2,FALSE)))","v":27.588000000000001},28740.104393214438,33051.120052196609,4790.0173988690731,5508.5200086994346,{"$f":"VLOOKUP(AW405,'Cenové indexy '!$D$7:$E$200,2,FALSE)","v":99.94},{"$f":"W405/Y405*'Cenové indexy '!$E$149","v":4942.9106898675955},5931.4928278411144,2014,"10","24","2014-10-24","Áno","Áno","Neurčené","Nie","24 mesiacov zadarmo",null,null,null,"Zmluva 1_BS",null,null,null,null,null,{"$f":"VLOOKUP(M405,Adresy!$A$4:$C$156,2,FALSE)","v":"Ostrava"},{"$f":"VLOOKUP(M405,Adresy!$A$4:$C$156,3,FALSE)","v":"17. listopadu"},"M","2014M10",null,null,null,null,null,{"$f":"VLOOKUP(M405,Adresy!$A$3:$C$122,2,FALSE)","v":"Ostrava"},{"$f":"VLOOKUP(M405,Adresy!$A$3:$C$122,3,FALSE)","v":"17. listopadu"},0,0,0,0]
["lôžko","lôžka JIS","pasívny antidekubitný matrac",null,null,null,null,"Ergomatt",null,"Linet","položková cena (súčasť sumárnej ceny)","HW","Fakultní nemocnice Ostrava","ČR","Linet spol. s.r.o.",null,6,45000,51750,{"$f":"IF(N406=\"SR\",1,IF(AC406=\"\",VLOOKUP(AW406,'CZKEUR Xchange rate'!$D$13:$E$234,2,FALSE),VLOOKUP(AW406,'CZKEUR Xchange rate'!$A$13:$B$234,2,FALSE)))","v":27.588000000000001},1631.1439756415832,1875.8155719878207,271.8573292735972,312.63592866463677,{"$f":"VLOOKUP(AW406,'Cenové indexy '!$D$7:$E$200,2,FALSE)","v":99.94},{"$f":"W406/Y406*'Cenové indexy '!$E$149","v":280.53478455059116},336.6417414607094,2014,"10","24","2014-10-24","Áno","Áno","Neurčené","Nie","24 mesiacov zadarmo",null,null,null,"Zmluva 1_BS",null,null,null,null,null,{"$f":"VLOOKUP(M406,Adresy!$A$4:$C$156,2,FALSE)","v":"Ostrava"},{"$f":"VLOOKUP(M406,Adresy!$A$4:$C$156,3,FALSE)","v":"17. listopadu"},"M","2014M10",null,null,null,null,null,{"$f":"VLOOKUP(M406,Adresy!$A$3:$C$122,2,FALSE)","v":"Ostrava"},{"$f":"VLOOKUP(M406,Adresy!$A$3:$C$122,3,FALSE)","v":"17. listopadu"},0,0,0,0]
["lôžko","lôžka JIS","hrazda",null,null,null,null,null,null,"Linet","položková cena (súčasť sumárnej ceny)","HW","Fakultní nemocnice Ostrava","ČR","Linet spol. s.r.o.",null,6,5880,6762,{"$f":"IF(N407=\"SR\",1,IF(AC407=\"\",VLOOKUP(AW407,'CZKEUR Xchange rate'!$D$13:$E$234,2,FALSE),VLOOKUP(AW407,'CZKEUR Xchange rate'!$A$13:$B$234,2,FALSE)))","v":27.588000000000001},213.13614615050022,245.10656807307524,35.522691025083368,40.851094678845875,{"$f":"VLOOKUP(AW407,'Cenové indexy '!$D$7:$E$200,2,FALSE)","v":99.94},{"$f":"W407/Y407*'Cenové indexy '!$E$149","v":36.656545181277245},43.987854217532693,2014,"10","24","2014-10-24","Áno","Áno","Neurčené","Nie","24 mesiacov zadarmo",null,null,null,"Zmluva 1_BS",null,null,null,null,null,{"$f":"VLOOKUP(M407,Adresy!$A$4:$C$156,2,FALSE)","v":"Ostrava"},{"$f":"VLOOKUP(M407,Adresy!$A$4:$C$156,3,FALSE)","v":"17. listopadu"},"M","2014M10",null,null,null,null,null,{"$f":"VLOOKUP(M407,Adresy!$A$3:$C$122,2,FALSE)","v":"Ostrava"},{"$f":"VLOOKUP(M407,Adresy!$A$3:$C$122,3,FALSE)","v":"17. listopadu"},0,0,0,0]
["lôžko","lôžka JIS","rukoveť",null,null,null,null,null,null,"Linet","položková cena (súčasť sumárnej ceny)","HW","Fakultní nemocnice Ostrava","ČR","Linet spol. s.r.o.",null,6,840,966,{"$f":"IF(N408=\"SR\",1,IF(AC408=\"\",VLOOKUP(AW408,'CZKEUR Xchange rate'!$D$13:$E$234,2,FALSE),VLOOKUP(AW408,'CZKEUR Xchange rate'!$A$13:$B$234,2,FALSE)))","v":27.588000000000001},30.448020878642886,35.015224010439319,5.0746701464404813,5.8358706684065531,{"$f":"VLOOKUP(AW408,'Cenové indexy '!$D$7:$E$200,2,FALSE)","v":99.94},{"$f":"W408/Y408*'Cenové indexy '!$E$149","v":5.2366493116110346},6.2839791739332416,2014,"10","24","2014-10-24","Áno","Áno","Neurčené","Nie","24 mesiacov zadarmo",null,null,null,"Zmluva 1_BS",null,null,null,null,null,{"$f":"VLOOKUP(M408,Adresy!$A$4:$C$156,2,FALSE)","v":"Ostrava"},{"$f":"VLOOKUP(M408,Adresy!$A$4:$C$156,3,FALSE)","v":"17. listopadu"},"M","2014M10",null,null,null,null,null,{"$f":"VLOOKUP(M408,Adresy!$A$3:$C$122,2,FALSE)","v":"Ostrava"},{"$f":"VLOOKUP(M408,Adresy!$A$3:$C$122,3,FALSE)","v":"17. listopadu"},0,0,0,0]
["lôžko","lôžka JIS","infúzný stojan",null,null,null,null,null,null,"Linet","položková cena (súčasť sumárnej ceny)","HW","Fakultní nemocnice Ostrava","ČR","Linet spol. s.r.o.",null,6,5340,6141,{"$f":"IF(N409=\"SR\",1,IF(AC409=\"\",VLOOKUP(AW409,'CZKEUR Xchange rate'!$D$13:$E$234,2,FALSE),VLOOKUP(AW409,'CZKEUR Xchange rate'!$A$13:$B$234,2,FALSE)))","v":27.588000000000001},193.5624184428012,222.5967812092214,32.260403073800198,37.099463534870232,{"$f":"VLOOKUP(AW409,'Cenové indexy '!$D$7:$E$200,2,FALSE)","v":99.94},{"$f":"W409/Y409*'Cenové indexy '!$E$149","v":33.290127766670146},39.948153320004174,2014,"10","24","2014-10-24","Áno","Áno","Neurčené","Nie","24 mesiacov zadarmo",null,null,null,"Zmluva 1_BS",null,null,null,null,null,{"$f":"VLOOKUP(M409,Adresy!$A$4:$C$156,2,FALSE)","v":"Ostrava"},{"$f":"VLOOKUP(M409,Adresy!$A$4:$C$156,3,FALSE)","v":"17. listopadu"},"M","2014M10",null,null,null,null,null,{"$f":"VLOOKUP(M409,Adresy!$A$3:$C$122,2,FALSE)","v":"Ostrava"},{"$f":"VLOOKUP(M409,Adresy!$A$3:$C$122,3,FALSE)","v":"17. listopadu"},0,0,0,0]
["lôžko","lôžko štandardné","elektrické štandardné lôžko",null,null,null,null,"Movita",null,"Linet","položková cena (súčasť sumárnej ceny)","HW","Klatovská nemocnice","ČR","Linet spol. s.r.o.",null,12,210000,241500,{"$f":"IF(N410=\"SR\",1,IF(AC410=\"\",VLOOKUP(AW410,'CZKEUR Xchange rate'!$D$13:$E$234,2,FALSE),VLOOKUP(AW410,'CZKEUR Xchange rate'!$A$13:$B$234,2,FALSE)))","v":27.088999999999999},7752.2241500239952,8915.0577725275944,646.01867916866627,742.9214810439662,{"$f":"VLOOKUP(AW410,'Cenové indexy '!$D$7:$E$200,2,FALSE)","v":100.14},{"$f":"W410/Y410*'Cenové indexy '!$E$149","v":665.30763314024921},798.36915976829903,2015,"09","18","2015-09-18","Áno","Áno","Neurčené","Nie","24 mesiacov zadarmo",null,null,null,"Zmluva 2_BS",null,null,null,null,null,{"$f":"VLOOKUP(M410,Adresy!$A$4:$C$156,2,FALSE)","v":"Klatov"},{"$f":"VLOOKUP(M410,Adresy!$A$4:$C$156,3,FALSE)","v":"Plzeňská 929"},"M","2015M09",null,null,null,null,null,{"$f":"VLOOKUP(M410,Adresy!$A$3:$C$129,2,FALSE)","v":"Klatov"},{"$f":"VLOOKUP(M410,Adresy!$A$3:$C$122,3,FALSE)","v":"Plzeňská 929"},0,0,0,0]
["lôžko","lôžko štandardné","pasívny antidekubitný matrac",null,null,null,null,"Prema",null,"Linet","položková cena (súčasť sumárnej ceny)","HW","Klatovská nemocnice","ČR","Linet spol. s.r.o.",null,12,34800,40020,{"$f":"IF(N411=\"SR\",1,IF(AC411=\"\",VLOOKUP(AW411,'CZKEUR Xchange rate'!$D$13:$E$234,2,FALSE),VLOOKUP(AW411,'CZKEUR Xchange rate'!$A$13:$B$234,2,FALSE)))","v":27.088999999999999},1284.6542877182621,1477.3524308760013,{"$f":"U411/Q411","v":107.05452397652185},{"$f":"V411/Q411","v":123.11270257300011},{"$f":"VLOOKUP(AW411,'Cenové indexy '!$D$7:$E$200,2,FALSE)","v":100.14},{"$f":"W411/Y411*'Cenové indexy '!$E$149","v":110.25097920609844},132.30117504731811,2015,"09","18","2015-09-18","Áno","Áno","Neurčené","Nie","24 mesiacov zadarmo",null,null,null,"Zmluva 2_BS",null,null,null,null,null,{"$f":"VLOOKUP(M411,Adresy!$A$4:$C$156,2,FALSE)","v":"Klatov"},{"$f":"VLOOKUP(M411,Adresy!$A$4:$C$156,3,FALSE)","v":"Plzeňská 929"},"M","2015M09",null,null,null,null,null,{"$f":"VLOOKUP(M411,Adresy!$A$3:$C$122,2,FALSE)","v":"Klatov"},{"$f":"VLOOKUP(M411,Adresy!$A$3:$C$122,3,FALSE)","v":"Plzeňská 929"},0,0,0,0]
["lôžko","lôžka JIS","elektrické JIS lôžko",null,null,null,null,"Eleganza 3",null,"Linet","položková cena (súčasť sumárnej ceny)","HW","Klatovská nemocnice","ČR","Linet spol. s.r.o.",null,10,546000,627900,{"$f":"IF(N412=\"SR\",1,IF(AC412=\"\",VLOOKUP(AW412,'CZKEUR Xchange rate'!$D$13:$E$234,2,FALSE),VLOOKUP(AW412,'CZKEUR Xchange rate'!$A$13:$B$234,2,FALSE)))","v":27.088999999999999},20155.782790062389,23179.150208571747,2015.578279006239,2317.9150208571746,{"$f":"VLOOKUP(AW412,'Cenové indexy '!$D$7:$E$200,2,FALSE)","v":100.14},{"$f":"W412/Y412*'Cenové indexy '!$E$149","v":2075.7598153975773},2490.9117784770929,2015,"09","18","2015-09-18","Áno","Áno","Neurčené","Nie","24 mesiacov zadarmo",null,null,null,"Zmluva 2_BS",null,null,null,null,null,{"$f":"VLOOKUP(M412,Adresy!$A$4:$C$156,2,FALSE)","v":"Klatov"},{"$f":"VLOOKUP(M412,Adresy!$A$4:$C$156,3,FALSE)","v":"Plzeňská 929"},"M","2015M09",null,null,null,null,null,{"$f":"VLOOKUP(M412,Adresy!$A$3:$C$122,2,FALSE)","v":"Klatov"},{"$f":"VLOOKUP(M412,Adresy!$A$3:$C$122,3,FALSE)","v":"Plzeňská 929"},0,0,0,0]
["lôžko","lôžka JIS","aktívny antidekubitný matrac",null,null,null,null,"Precioso",null,"Linet","položková cena (súčasť sumárnej ceny)","HW","Klatovská nemocnice","ČR","Linet spol. s.r.o.",null,5,208500,239775,{"$f":"IF(N413=\"SR\",1,IF(AC413=\"\",VLOOKUP(AW413,'CZKEUR Xchange rate'!$D$13:$E$234,2,FALSE),VLOOKUP(AW413,'CZKEUR Xchange rate'!$A$13:$B$234,2,FALSE)))","v":27.088999999999999},7696.8511203809667,8851.3787884381127,1539.3702240761934,1770.2757576876224,{"$f":"VLOOKUP(AW413,'Cenové indexy '!$D$7:$E$200,2,FALSE)","v":100.14},{"$f":"W413/Y413*'Cenové indexy '!$E$149","v":1585.3330458256223},1902.3996549907467,2015,"09","18","2015-09-18","Áno","Áno","Neurčené","Nie","24 mesiacov zadarmo",null,null,null,"Zmluva 2_BS",null,null,null,null,null,{"$f":"VLOOKUP(M413,Adresy!$A$4:$C$156,2,FALSE)","v":"Klatov"},{"$f":"VLOOKUP(M413,Adresy!$A$4:$C$156,3,FALSE)","v":"Plzeňská 929"},"M","2015M09",null,null,null,null,null,{"$f":"VLOOKUP(M413,Adresy!$A$3:$C$122,2,FALSE)","v":"Klatov"},{"$f":"VLOOKUP(M413,Adresy!$A$3:$C$122,3,FALSE)","v":"Plzeňská 929"},0,0,0,0]
["lôžko","lôžka JIS","pasívny antidekubitný matrac",null,null,null,null,"CliniCare10",null,"Linet","položková cena (súčasť sumárnej ceny)","HW","Klatovská nemocnice","ČR","Linet spol. s.r.o.",null,5,26450,30417.5,{"$f":"IF(N414=\"SR\",1,IF(AC414=\"\",VLOOKUP(AW414,'CZKEUR Xchange rate'!$D$13:$E$234,2,FALSE),VLOOKUP(AW414,'CZKEUR Xchange rate'!$A$13:$B$234,2,FALSE)))","v":27.088999999999999},976.41108937206991,1122.8727527778804,195.28221787441399,224.57455055557608,{"$f":"VLOOKUP(AW414,'Cenové indexy '!$D$7:$E$200,2,FALSE)","v":100.14},{"$f":"W414/Y414*'Cenové indexy '!$E$149","v":201.11299310353817},241.3355917242458,2015,"09","18","2015-09-18","Áno","Áno","Neurčené","Nie","24 mesiacov zadarmo",null,null,null,"Zmluva 2_BS",null,null,null,null,null,{"$f":"VLOOKUP(M414,Adresy!$A$4:$C$156,2,FALSE)","v":"Klatov"},{"$f":"VLOOKUP(M414,Adresy!$A$4:$C$156,3,FALSE)","v":"Plzeňská 929"},"M","2015M09",null,null,null,null,null,{"$f":"VLOOKUP(M414,Adresy!$A$3:$C$122,2,FALSE)","v":"Klatov"},{"$f":"VLOOKUP(M414,Adresy!$A$3:$C$122,3,FALSE)","v":"Plzeňská 929"},0,0,0,0]
["lôžko","lôžka resiscutačné","Celá zostava",null,null,null,null,"Multicare","neurochirurgické oddelenie","Linet","sumárna cena","HW","Fakultní nemocnica Olomouc","ČR","Linet spol. s.r.o.",null,8,456653,525151,{"$f":"IF(N415=\"SR\",1,IF(AC415=\"\",VLOOKUP(AW415,'CZKEUR Xchange rate'!$D$13:$E$234,2,FALSE),VLOOKUP(AW415,'CZKEUR Xchange rate'!$A$13:$B$234,2,FALSE)))","v":27.041},16887.430198587332,19420.546577419474,2110.9287748234165,2427.5683221774343,{"$f":"VLOOKUP(AW415,'Cenové indexy '!$D$7:$E$200,2,FALSE)","v":100.11},{"$f":"W415/Y415*'Cenové indexy '!$E$149","v":2174.6087758219851},2609.530530986382,2015,"08","18","2015-08-18","Áno","Áno","Neurčené","Nie","24 mesiacov zadarmo",null,null,null,"Zmluva 3_BS",null,null,null,null,null,{"$f":"VLOOKUP(M415,Adresy!$A$4:$C$156,2,FALSE)","v":"Olomouc"},{"$f":"VLOOKUP(M415,Adresy!$A$4:$C$156,3,FALSE)","v":"I.P. Pavolva 185/6"},"M","2015M08",null,null,null,null,null,{"$f":"VLOOKUP(M415,Adresy!$A$3:$C$122,2,FALSE)","v":"Olomouc"},{"$f":"VLOOKUP(M415,Adresy!$A$3:$C$122,3,FALSE)","v":"I.P. Pavolva 185/6"},0,0,0,0]
["lôžko","lôžka resiscutačné","elektrické resuscitačné lôžko",null,null,null,null,"Multicare","neurochirurgické oddelenie","Linet","položková cena (súčasť sumárnej ceny)","HW","Fakultní nemocnica Olomouc","ČR","Linet spol. s.r.o.",null,8,413941,476032.2,{"$f":"IF(N416=\"SR\",1,IF(AC416=\"\",VLOOKUP(AW416,'CZKEUR Xchange rate'!$D$13:$E$234,2,FALSE),VLOOKUP(AW416,'CZKEUR Xchange rate'!$A$13:$B$234,2,FALSE)))","v":27.041},15307.902814245035,17604.090085425836,1913.4878517806294,2200.5112606782295,{"$f":"VLOOKUP(AW416,'Cenové indexy '!$D$7:$E$200,2,FALSE)","v":100.11},{"$f":"W416/Y416*'Cenové indexy '!$E$149","v":1971.211688683811},2365.454026420573,2015,"08","18","2015-08-18","Áno","Áno","Neurčené","Nie","24 mesiacov zadarmo",null,null,null,"Zmluva 3_BS",null,null,null,null,null,{"$f":"VLOOKUP(M416,Adresy!$A$4:$C$156,2,FALSE)","v":"Olomouc"},{"$f":"VLOOKUP(M416,Adresy!$A$4:$C$156,3,FALSE)","v":"I.P. Pavolva 185/6"},"M","2015M08",null,null,null,null,null,{"$f":"VLOOKUP(M416,Adresy!$A$3:$C$122,2,FALSE)","v":"Olomouc"},{"$f":"VLOOKUP(M416,Adresy!$A$3:$C$122,3,FALSE)","v":"I.P. Pavolva 185/6"},0,0,0,0]
["lôžko","lôžka resiscutačné","držiak kyslíka",null,null,null,null,null,"neurochirurgické oddelenie","Linet","položková cena (súčasť sumárnej ceny)","HW","Fakultní nemocnica Olomouc","ČR","Linet spol. s.r.o.",null,8,6020,6923,{"$f":"IF(N417=\"SR\",1,IF(AC417=\"\",VLOOKUP(AW417,'CZKEUR Xchange rate'!$D$13:$E$234,2,FALSE),VLOOKUP(AW417,'CZKEUR Xchange rate'!$A$13:$B$234,2,FALSE)))","v":27.041},222.62490292518768,256.01863836396581,27.82811286564846,32.002329795495726,{"$f":"VLOOKUP(AW417,'Cenové indexy '!$D$7:$E$200,2,FALSE)","v":100.11},{"$f":"W417/Y417*'Cenové indexy '!$E$149","v":28.667598440059187},34.401118128071026,2015,"08","18","2015-08-18","Áno","Áno","Neurčené","Nie","24 mesiacov zadarmo",null,null,null,"Zmluva 3_BS",null,null,null,null,null,{"$f":"VLOOKUP(M417,Adresy!$A$4:$C$156,2,FALSE)","v":"Olomouc"},{"$f":"VLOOKUP(M417,Adresy!$A$4:$C$156,3,FALSE)","v":"I.P. Pavolva 185/6"},"M","2015M08",null,null,null,null,null,{"$f":"VLOOKUP(M417,Adresy!$A$3:$C$122,2,FALSE)","v":"Olomouc"},{"$f":"VLOOKUP(M417,Adresy!$A$3:$C$122,3,FALSE)","v":"I.P. Pavolva 185/6"},0,0,0,0]
["lôžko","lôžka resiscutačné","hrazda",null,null,null,null,null,"neurochirurgické oddelenie","Linet","položková cena (súčasť sumárnej ceny)","HW","Fakultní nemocnica Olomouc","ČR","Linet spol. s.r.o.",null,8,2744,3155.6,{"$f":"IF(N418=\"SR\",1,IF(AC418=\"\",VLOOKUP(AW418,'CZKEUR Xchange rate'!$D$13:$E$234,2,FALSE),VLOOKUP(AW418,'CZKEUR Xchange rate'!$A$13:$B$234,2,FALSE)))","v":27.041},101.47553714729484,116.69686771938908,12.684442143411855,14.587108464923634,{"$f":"VLOOKUP(AW418,'Cenové indexy '!$D$7:$E$200,2,FALSE)","v":100.11},{"$f":"W418/Y418*'Cenové indexy '!$E$149","v":13.067091381980466},15.680509658376559,2015,"08","18","2015-08-18","Áno","Áno","Neurčené","Nie","24 mesiacov zadarmo",null,null,null,"Zmluva 3_BS",null,null,null,null,null,{"$f":"VLOOKUP(M418,Adresy!$A$4:$C$156,2,FALSE)","v":"Olomouc"},{"$f":"VLOOKUP(M418,Adresy!$A$4:$C$156,3,FALSE)","v":"I.P. Pavolva 185/6"},"M","2015M08",null,null,null,null,null,{"$f":"VLOOKUP(M418,Adresy!$A$3:$C$122,2,FALSE)","v":"Olomouc"},{"$f":"VLOOKUP(M418,Adresy!$A$3:$C$122,3,FALSE)","v":"I.P. Pavolva 185/6"},0,0,0,0]
["lôžko","lôžka resiscutačné","rukoveť",null,null,null,null,null,"neurochirurgické oddelenie","Linet","položková cena (súčasť sumárnej ceny)","HW","Fakultní nemocnica Olomouc","ČR","Linet spol. s.r.o.",null,8,2660,3059,{"$f":"IF(N419=\"SR\",1,IF(AC419=\"\",VLOOKUP(AW419,'CZKEUR Xchange rate'!$D$13:$E$234,2,FALSE),VLOOKUP(AW419,'CZKEUR Xchange rate'!$A$13:$B$234,2,FALSE)))","v":27.041},98.369143152989906,113.12451462593839,12.296142894123738,14.140564328242299,{"$f":"VLOOKUP(AW419,'Cenové indexy '!$D$7:$E$200,2,FALSE)","v":100.11},{"$f":"W419/Y419*'Cenové indexy '!$E$149","v":12.667078380491271},15.200494056589523,2015,"08","18","2015-08-18","Áno","Áno","Neurčené","Nie","24 mesiacov zadarmo",null,null,null,"Zmluva 3_BS",null,null,null,null,null,{"$f":"VLOOKUP(M419,Adresy!$A$4:$C$156,2,FALSE)","v":"Olomouc"},{"$f":"VLOOKUP(M419,Adresy!$A$4:$C$156,3,FALSE)","v":"I.P. Pavolva 185/6"},"M","2015M08",null,null,null,null,null,{"$f":"VLOOKUP(M419,Adresy!$A$3:$C$122,2,FALSE)","v":"Olomouc"},{"$f":"VLOOKUP(M419,Adresy!$A$3:$C$122,3,FALSE)","v":"I.P. Pavolva 185/6"},0,0,0,0]
["lôžko","lôžka resiscutačné","infúzný stojan",null,null,null,null,null,"neurochirurgické oddelenie","Linet","položková cena (súčasť sumárnej ceny)","HW","Fakultní nemocnica Olomouc","ČR","Linet spol. s.r.o.",null,8,2548,2930.2,{"$f":"IF(N420=\"SR\",1,IF(AC420=\"\",VLOOKUP(AW420,'CZKEUR Xchange rate'!$D$13:$E$234,2,FALSE),VLOOKUP(AW420,'CZKEUR Xchange rate'!$A$13:$B$234,2,FALSE)))","v":27.041},94.227284493916642,108.36137716800414,11.77841056173958,13.545172146000517,{"$f":"VLOOKUP(AW420,'Cenové indexy '!$D$7:$E$200,2,FALSE)","v":100.11},{"$f":"W420/Y420*'Cenové indexy '!$E$149","v":12.133727711839006},14.560473254206807,2015,"08","18","2015-08-18","Áno","Áno","Neurčené","Nie","24 mesiacov zadarmo",null,null,null,"Zmluva 3_BS",null,null,null,null,null,{"$f":"VLOOKUP(M420,Adresy!$A$4:$C$156,2,FALSE)","v":"Olomouc"},{"$f":"VLOOKUP(M420,Adresy!$A$4:$C$156,3,FALSE)","v":"I.P. Pavolva 185/6"},"M","2015M08",null,null,null,null,null,{"$f":"VLOOKUP(M420,Adresy!$A$3:$C$122,2,FALSE)","v":"Olomouc"},{"$f":"VLOOKUP(M420,Adresy!$A$3:$C$122,3,FALSE)","v":"I.P. Pavolva 185/6"},0,0,0,0]
["lôžko","lôžka resiscutačné","kôš na bažanta",null,null,null,null,null,"neurochirurgické oddelenie","Linet","položková cena (súčasť sumárnej ceny)","HW","Fakultní nemocnica Olomouc","ČR","Linet spol. s.r.o.",null,8,1232,1416.8,{"$f":"IF(N421=\"SR\",1,IF(AC421=\"\",VLOOKUP(AW421,'CZKEUR Xchange rate'!$D$13:$E$234,2,FALSE),VLOOKUP(AW421,'CZKEUR Xchange rate'!$A$13:$B$234,2,FALSE)))","v":27.041},45.560445249805852,52.394512037276726,5.6950556562257315,6.5493140046595908,{"$f":"VLOOKUP(AW421,'Cenové indexy '!$D$7:$E$200,2,FALSE)","v":100.11},{"$f":"W421/Y421*'Cenové indexy '!$E$149","v":5.8668573551749041},7.0402288262098844,2015,"08","18","2015-08-18","Áno","Áno","Neurčené","Nie","24 mesiacov zadarmo",null,null,null,"Zmluva 3_BS",null,null,null,null,null,{"$f":"VLOOKUP(M421,Adresy!$A$4:$C$156,2,FALSE)","v":"Olomouc"},{"$f":"VLOOKUP(M421,Adresy!$A$4:$C$156,3,FALSE)","v":"I.P. Pavolva 185/6"},"M","2015M08",null,null,null,null,null,{"$f":"VLOOKUP(M421,Adresy!$A$3:$C$122,2,FALSE)","v":"Olomouc"},{"$f":"VLOOKUP(M421,Adresy!$A$3:$C$122,3,FALSE)","v":"I.P. Pavolva 185/6"},0,0,0,0]
["lôžko","lôžka resiscutačné","držiak infúzných púmp",null,null,null,null,null,"neurochirurgické oddelenie","Linet","položková cena (súčasť sumárnej ceny)","HW","Fakultní nemocnica Olomouc","ČR","Linet spol. s.r.o.",null,8,11508,13234.2,{"$f":"IF(N422=\"SR\",1,IF(AC422=\"\",VLOOKUP(AW422,'CZKEUR Xchange rate'!$D$13:$E$234,2,FALSE),VLOOKUP(AW422,'CZKEUR Xchange rate'!$A$13:$B$234,2,FALSE)))","v":27.041},425.57597721977737,489.41237380274401,53.196997152472171,61.176546725343002,{"$f":"VLOOKUP(AW422,'Cenové indexy '!$D$7:$E$200,2,FALSE)","v":100.11},{"$f":"W422/Y422*'Cenové indexy '!$E$149","v":54.801781204020124},65.762137444824148,2015,"08","18","2015-08-18","Áno","Áno","Neurčené","Nie","24 mesiacov zadarmo",null,null,null,"Zmluva 3_BS",null,null,null,null,null,{"$f":"VLOOKUP(M422,Adresy!$A$4:$C$156,2,FALSE)","v":"Olomouc"},{"$f":"VLOOKUP(M422,Adresy!$A$4:$C$156,3,FALSE)","v":"I.P. Pavolva 185/6"},"M","2015M08",null,null,null,null,null,{"$f":"VLOOKUP(M422,Adresy!$A$3:$C$122,2,FALSE)","v":"Olomouc"},{"$f":"VLOOKUP(M422,Adresy!$A$3:$C$122,3,FALSE)","v":"I.P. Pavolva 185/6"},0,0,0,0]
["lôžko","lôžka resiscutačné","pasívny antidekubitný matrac",null,null,null,null,"Ergomatt","neurochirurgické oddelenie","Linet","položková cena (súčasť sumárnej ceny)","HW","Fakultní nemocnica Olomouc","ČR","Linet spol. s.r.o.",null,8,16000,18400,{"$f":"IF(N423=\"SR\",1,IF(AC423=\"\",VLOOKUP(AW423,'CZKEUR Xchange rate'!$D$13:$E$234,2,FALSE),VLOOKUP(AW423,'CZKEUR Xchange rate'!$A$13:$B$234,2,FALSE)))","v":27.041},591.69409415332268,680.44820827632111,73.961761769165335,85.056026034540139,{"$f":"VLOOKUP(AW423,'Cenové indexy '!$D$7:$E$200,2,FALSE)","v":100.11},{"$f":"W423/Y423*'Cenové indexy '!$E$149","v":76.192952664609138},91.431543197530956,2015,"08","18","2015-08-18","Áno","Áno","Neurčené","Nie","24 mesiacov zadarmo",null,null,null,"Zmluva 3_BS",null,null,null,null,null,{"$f":"VLOOKUP(M423,Adresy!$A$4:$C$156,2,FALSE)","v":"Olomouc"},{"$f":"VLOOKUP(M423,Adresy!$A$4:$C$156,3,FALSE)","v":"I.P. Pavolva 185/6"},"M","2015M08",null,null,null,null,null,{"$f":"VLOOKUP(M423,Adresy!$A$3:$C$122,2,FALSE)","v":"Olomouc"},{"$f":"VLOOKUP(M423,Adresy!$A$3:$C$122,3,FALSE)","v":"I.P. Pavolva 185/6"},0,0,0,0]
["lôžko","lôžka štandardné","Celá zostava",null,null,null,null,"Eleganza 1","interná klinika","Linet","sumárna cena","HW","Fakultní nemocnica Olomouc","ČR","Linet spol. s.r.o.",null,4,111284.2,127976.8,{"$f":"IF(N424=\"SR\",1,IF(AC424=\"\",VLOOKUP(AW424,'CZKEUR Xchange rate'!$D$13:$E$234,2,FALSE),VLOOKUP(AW424,'CZKEUR Xchange rate'!$A$13:$B$234,2,FALSE)))","v":27.041},4115.3877445360749,4732.6947967900596,1028.8469361340187,1183.1736991975149,{"$f":"VLOOKUP(AW424,'Cenové indexy '!$D$7:$E$200,2,FALSE)","v":100.11},{"$f":"W424/Y424*'Cenové indexy '!$E$149","v":1059.883972864862},1271.8607674378343,2015,"08","18","2015-08-18","Áno","Áno","Neurčené","Nie","24 mesiacov zadarmo",null,null,null,"Zmluva 4_BS",null,null,null,null,null,{"$f":"VLOOKUP(M424,Adresy!$A$4:$C$156,2,FALSE)","v":"Olomouc"},{"$f":"VLOOKUP(M424,Adresy!$A$4:$C$156,3,FALSE)","v":"I.P. Pavolva 185/6"},"M","2015M08",null,null,null,null,null,{"$f":"VLOOKUP(M424,Adresy!$A$3:$C$122,2,FALSE)","v":"Olomouc"},{"$f":"VLOOKUP(M424,Adresy!$A$3:$C$122,3,FALSE)","v":"I.P. Pavolva 185/6"},0,0,0,0]
["lôžko","lôžka štandardné","elektrické štandardné lôžko",null,null,null,null,"Eleganza 1","interná klinika","Linet","položková cena (súčasť sumárnej ceny)","HW","Fakultní nemocnica Olomouc","ČR","Linet spol. s.r.o.",null,4,93356.2,107359.6,{"$f":"IF(N425=\"SR\",1,IF(AC425=\"\",VLOOKUP(AW425,'CZKEUR Xchange rate'!$D$13:$E$234,2,FALSE),VLOOKUP(AW425,'CZKEUR Xchange rate'!$A$13:$B$234,2,FALSE)))","v":27.041},{"$f":"R425/T425","v":3452.3945120372764},{"$f":"S425/T425","v":3970.2525794164417},863.0986280093191,992.56314485411042,{"$f":"VLOOKUP(AW425,'Cenové indexy '!$D$7:$E$200,2,FALSE)","v":100.11},{"$f":"W425/Y425*'Cenové indexy '!$E$149","v":889.1355659434729},1066.9626791321675,2015,"08","18","2015-08-18","Áno","Áno","Neurčené","Nie","24 mesiacov zadarmo",null,null,null,"Zmluva 4_BS",null,null,null,null,null,{"$f":"VLOOKUP(M425,Adresy!$A$4:$C$156,2,FALSE)","v":"Olomouc"},{"$f":"VLOOKUP(M425,Adresy!$A$4:$C$156,3,FALSE)","v":"I.P. Pavolva 185/6"},"M","2015M08",null,null,null,null,null,{"$f":"VLOOKUP(M425,Adresy!$A$3:$C$122,2,FALSE)","v":"Olomouc"},{"$f":"VLOOKUP(M425,Adresy!$A$3:$C$122,3,FALSE)","v":"I.P. Pavolva 185/6"},0,0,0,0]
["lôžko","lôžka štandardné","hrazda",null,null,null,null,null,"interná klinika","Linet","položková cena (súčasť sumárnej ceny)","HW","Fakultní nemocnica Olomouc","ČR","Linet spol. s.r.o.",null,4,2744,3155.6,{"$f":"IF(N426=\"SR\",1,IF(AC426=\"\",VLOOKUP(AW426,'CZKEUR Xchange rate'!$D$13:$E$234,2,FALSE),VLOOKUP(AW426,'CZKEUR Xchange rate'!$A$13:$B$234,2,FALSE)))","v":27.041},101.47553714729484,116.69686771938908,25.368884286823711,29.174216929847269,{"$f":"VLOOKUP(AW426,'Cenové indexy '!$D$7:$E$200,2,FALSE)","v":100.11},{"$f":"W426/Y426*'Cenové indexy '!$E$149","v":26.134182763960933},31.361019316753119,2015,"08","18","2015-08-18","Áno","Áno","Neurčené","Nie","24 mesiacov zadarmo",null,null,null,"Zmluva 4_BS",null,null,null,null,null,{"$f":"VLOOKUP(M426,Adresy!$A$4:$C$156,2,FALSE)","v":"Olomouc"},{"$f":"VLOOKUP(M426,Adresy!$A$4:$C$156,3,FALSE)","v":"I.P. Pavolva 185/6"},"M","2015M08",null,null,null,null,null,{"$f":"VLOOKUP(M426,Adresy!$A$3:$C$122,2,FALSE)","v":"Olomouc"},{"$f":"VLOOKUP(M426,Adresy!$A$3:$C$122,3,FALSE)","v":"I.P. Pavolva 185/6"},0,0,0,0]
["lôžko","lôžka štandardné","rukoveť",null,null,null,null,null,"interná klinika","Linet","položková cena (súčasť sumárnej ceny)","HW","Fakultní nemocnica Olomouc","ČR","Linet spol. s.r.o.",null,4,2660,3059,{"$f":"IF(N427=\"SR\",1,IF(AC427=\"\",VLOOKUP(AW427,'CZKEUR Xchange rate'!$D$13:$E$234,2,FALSE),VLOOKUP(AW427,'CZKEUR Xchange rate'!$A$13:$B$234,2,FALSE)))","v":27.041},98.369143152989906,113.12451462593839,24.592285788247477,28.281128656484597,{"$f":"VLOOKUP(AW427,'Cenové indexy '!$D$7:$E$200,2,FALSE)","v":100.11},{"$f":"W427/Y427*'Cenové indexy '!$E$149","v":25.334156760982541},30.400988113179046,2015,"08","18","2015-08-18","Áno","Áno","Neurčené","Nie","24 mesiacov zadarmo",null,null,null,"Zmluva 4_BS",null,null,null,null,null,{"$f":"VLOOKUP(M427,Adresy!$A$4:$C$156,2,FALSE)","v":"Olomouc"},{"$f":"VLOOKUP(M427,Adresy!$A$4:$C$156,3,FALSE)","v":"I.P. Pavolva 185/6"},"M","2015M08",null,null,null,null,null,{"$f":"VLOOKUP(M427,Adresy!$A$3:$C$122,2,FALSE)","v":"Olomouc"},{"$f":"VLOOKUP(M427,Adresy!$A$3:$C$122,3,FALSE)","v":"I.P. Pavolva 185/6"},0,0,0,0]
["lôžko","lôžka štandardné","infúzný stojan",null,null,null,null,null,"interná klinika","Linet","položková cena (súčasť sumárnej ceny)","HW","Fakultní nemocnica Olomouc","ČR","Linet spol. s.r.o.",null,4,2492,2865.8,{"$f":"IF(N428=\"SR\",1,IF(AC428=\"\",VLOOKUP(AW428,'CZKEUR Xchange rate'!$D$13:$E$234,2,FALSE),VLOOKUP(AW428,'CZKEUR Xchange rate'!$A$13:$B$234,2,FALSE)))","v":27.041},92.156355164380017,105.97980843903703,23.039088791095004,26.494952109759257,{"$f":"VLOOKUP(AW428,'Cenové indexy '!$D$7:$E$200,2,FALSE)","v":100.11},{"$f":"W428/Y428*'Cenové indexy '!$E$149","v":23.734104755025747},28.480925706030895,2015,"08","18","2015-08-18","Áno","Áno","Neurčené","Nie","24 mesiacov zadarmo",null,null,null,"Zmluva 4_BS",null,null,null,null,null,{"$f":"VLOOKUP(M428,Adresy!$A$4:$C$156,2,FALSE)","v":"Olomouc"},{"$f":"VLOOKUP(M428,Adresy!$A$4:$C$156,3,FALSE)","v":"I.P. Pavolva 185/6"},"M","2015M08",null,null,null,null,null,{"$f":"VLOOKUP(M428,Adresy!$A$3:$C$122,2,FALSE)","v":"Olomouc"},{"$f":"VLOOKUP(M428,Adresy!$A$3:$C$122,3,FALSE)","v":"I.P. Pavolva 185/6"},0,0,0,0]
["lôžko","lôžka štandardné","kôš na bažanta",null,null,null,null,null,"interná klinika","Linet","položková cena (súčasť sumárnej ceny)","HW","Fakultní nemocnica Olomouc","ČR","Linet spol. s.r.o.",null,4,1232,1416.8,{"$f":"IF(N429=\"SR\",1,IF(AC429=\"\",VLOOKUP(AW429,'CZKEUR Xchange rate'!$D$13:$E$234,2,FALSE),VLOOKUP(AW429,'CZKEUR Xchange rate'!$A$13:$B$234,2,FALSE)))","v":27.041},45.560445249805852,52.394512037276726,11.390111312451463,13.098628009319182,{"$f":"VLOOKUP(AW429,'Cenové indexy '!$D$7:$E$200,2,FALSE)","v":100.11},{"$f":"W429/Y429*'Cenové indexy '!$E$149","v":11.733714710349808},14.080457652419769,2015,"08","18","2015-08-18","Áno","Áno","Neurčené","Nie","24 mesiacov zadarmo",null,null,null,"Zmluva 4_BS",null,null,null,null,null,{"$f":"VLOOKUP(M429,Adresy!$A$4:$C$156,2,FALSE)","v":"Olomouc"},{"$f":"VLOOKUP(M429,Adresy!$A$4:$C$156,3,FALSE)","v":"I.P. Pavolva 185/6"},"M","2015M08",null,null,null,null,null,{"$f":"VLOOKUP(M429,Adresy!$A$3:$C$122,2,FALSE)","v":"Olomouc"},{"$f":"VLOOKUP(M429,Adresy!$A$3:$C$122,3,FALSE)","v":"I.P. Pavolva 185/6"},0,0,0,0]
["lôžko","lôžka štandardné","pasívny antidekubitný matrac",null,null,null,null,"Prema","interná klinika","Linet","položková cena (súčasť sumárnej ceny)","HW","Fakultní nemocnica Olomouc","ČR","Linet spol. s.r.o.",null,4,8800,10120,{"$f":"IF(N430=\"SR\",1,IF(AC430=\"\",VLOOKUP(AW430,'CZKEUR Xchange rate'!$D$13:$E$234,2,FALSE),VLOOKUP(AW430,'CZKEUR Xchange rate'!$A$13:$B$234,2,FALSE)))","v":27.041},325.4317517843275,374.24651455197665,81.357937946081876,93.561628637994161,{"$f":"VLOOKUP(AW430,'Cenové indexy '!$D$7:$E$200,2,FALSE)","v":100.11},{"$f":"W430/Y430*'Cenové indexy '!$E$149","v":83.812247931070061},100.57469751728406,2015,"08","18","2015-08-18","Áno","Áno","Neurčené","Nie","24 mesiacov zadarmo",null,null,null,"Zmluva 4_BS",null,null,null,null,null,{"$f":"VLOOKUP(M430,Adresy!$A$4:$C$156,2,FALSE)","v":"Olomouc"},{"$f":"VLOOKUP(M430,Adresy!$A$4:$C$156,3,FALSE)","v":"I.P. Pavolva 185/6"},"M","2015M08",null,null,null,null,null,{"$f":"VLOOKUP(M430,Adresy!$A$3:$C$122,2,FALSE)","v":"Olomouc"},{"$f":"VLOOKUP(M430,Adresy!$A$3:$C$122,3,FALSE)","v":"I.P. Pavolva 185/6"},0,0,0,0]
["lôžko","lôžka štandardné","Celá zostava",null,null,null,null,"Eleganza 1","interná, neurochirugická a kardiochirurgická klinika","Linet","sumárna cena","HW","Fakultní nemocnice Hradec Králové","ČR","Linet spol. s.r.o.",null,28,691572,795307.8,{"$f":"IF(N431=\"SR\",1,IF(AC431=\"\",VLOOKUP(AW431,'CZKEUR Xchange rate'!$D$13:$E$234,2,FALSE),VLOOKUP(AW431,'CZKEUR Xchange rate'!$A$13:$B$234,2,FALSE)))","v":27.521000000000001},25128.883398132333,28898.215907852187,897.46012136186903,1032.0791395661495,{"$f":"VLOOKUP(AW431,'Cenové indexy '!$D$7:$E$200,2,FALSE)","v":99.28},{"$f":"W431/Y431*'Cenové indexy '!$E$149","v":932.26291615682464},1118.7154993881895,2013,"12","12","2013-12-12","Áno","Áno","Neurčené","Nie","24 mesiacov zadarmo",null,null,null,"Zmluva 5_BS",null,null,null,null,null,{"$f":"VLOOKUP(M431,Adresy!$A$4:$C$156,2,FALSE)","v":"Hradec Králové"},{"$f":"VLOOKUP(M431,Adresy!$A$4:$C$156,3,FALSE)","v":"Sokolská 581"},"M","2013M12",null,null,null,null,null,{"$f":"VLOOKUP(M431,Adresy!$A$3:$C$122,2,FALSE)","v":"Hradec Králové"},{"$f":"VLOOKUP(M431,Adresy!$A$3:$C$122,3,FALSE)","v":"Sokolská 581"},0,0,0,0]
["lôžko","lôžka štandardné","elektrické štandardné lôžko",null,null,null,null,"Eleganza 1","interná, neurochirugická a kardiochirurgická klinika","Linet","bez položkovej identifikácie ceny (v rámci sumárnej ceny)","HW","Fakultní nemocnice Hradec Králové","ČR","Linet spol. s.r.o.",null,28,null,null,{"$f":"IF(N432=\"SR\",1,IF(AC432=\"\",VLOOKUP(AW432,'CZKEUR Xchange rate'!$D$13:$E$234,2,FALSE),VLOOKUP(AW432,'CZKEUR Xchange rate'!$A$13:$B$234,2,FALSE)))","v":27.521000000000001},0,0,0,0,{"$f":"VLOOKUP(AW432,'Cenové indexy '!$D$7:$E$200,2,FALSE)","v":99.28},{"$f":"W432/Y432*'Cenové indexy '!$E$149","v":0},0,2013,"12","12","2013-12-12","Áno","Áno","Neurčené","Nie","24 mesiacov zadarmo",null,null,null,"Zmluva 5_BS",null,null,null,null,null,{"$f":"VLOOKUP(M432,Adresy!$A$4:$C$156,2,FALSE)","v":"Hradec Králové"},{"$f":"VLOOKUP(M432,Adresy!$A$4:$C$156,3,FALSE)","v":"Sokolská 581"},"M","2013M12",null,null,null,null,null,{"$f":"VLOOKUP(M432,Adresy!$A$3:$C$122,2,FALSE)","v":"Hradec Králové"},{"$f":"VLOOKUP(M432,Adresy!$A$3:$C$122,3,FALSE)","v":"Sokolská 581"},0,0,0,0]
["lôžko","lôžka štandardné","hrazda",null,null,null,null,null,"interná, neurochirugická a kardiochirurgická klinika","Linet","bez položkovej identifikácie ceny (v rámci sumárnej ceny)","HW","Fakultní nemocnice Hradec Králové","ČR","Linet spol. s.r.o.",null,28,null,null,{"$f":"IF(N433=\"SR\",1,IF(AC433=\"\",VLOOKUP(AW433,'CZKEUR Xchange rate'!$D$13:$E$234,2,FALSE),VLOOKUP(AW433,'CZKEUR Xchange rate'!$A$13:$B$234,2,FALSE)))","v":27.521000000000001},0,0,0,0,{"$f":"VLOOKUP(AW433,'Cenové indexy '!$D$7:$E$200,2,FALSE)","v":99.28},{"$f":"W433/Y433*'Cenové indexy '!$E$149","v":0},0,2013,"12","12","2013-12-12","Áno","Áno","Neurčené","Nie","24 mesiacov zadarmo",null,null,null,"Zmluva 5_BS",null,null,null,null,null,{"$f":"VLOOKUP(M433,Adresy!$A$4:$C$156,2,FALSE)","v":"Hradec Králové"},{"$f":"VLOOKUP(M433,Adresy!$A$4:$C$156,3,FALSE)","v":"Sokolská 581"},"M","2013M12",null,null,null,null,null,{"$f":"VLOOKUP(M433,Adresy!$A$3:$C$122,2,FALSE)","v":"Hradec Králové"},{"$f":"VLOOKUP(M433,Adresy!$A$3:$C$122,3,FALSE)","v":"Sokolská 581"},0,0,0,0]
["lôžko","lôžka štandardné","rukoveť",null,null,null,null,null,"interná, neurochirugická a kardiochirurgická klinika","Linet","bez položkovej identifikácie ceny (v rámci sumárnej ceny)","HW","Fakultní nemocnice Hradec Králové","ČR","Linet spol. s.r.o.",null,28,null,null,{"$f":"IF(N434=\"SR\",1,IF(AC434=\"\",VLOOKUP(AW434,'CZKEUR Xchange rate'!$D$13:$E$234,2,FALSE),VLOOKUP(AW434,'CZKEUR Xchange rate'!$A$13:$B$234,2,FALSE)))","v":27.815999999999999},0,0,0,0,{"$f":"VLOOKUP(AW434,'Cenové indexy '!$D$7:$E$200,2,FALSE)","v":99.87},{"$f":"W434/Y434*'Cenové indexy '!$E$149","v":0},0,2014,"08","27","2014-08-27","Áno","Áno","Neurčené","Nie","24 mesiacov zadarmo",null,null,null,"Zmluva 5_BS",null,null,null,null,null,{"$f":"VLOOKUP(M434,Adresy!$A$4:$C$156,2,FALSE)","v":"Hradec Králové"},{"$f":"VLOOKUP(M434,Adresy!$A$4:$C$156,3,FALSE)","v":"Sokolská 581"},"M","2014M08",null,null,null,null,null,{"$f":"VLOOKUP(M434,Adresy!$A$3:$C$122,2,FALSE)","v":"Hradec Králové"},{"$f":"VLOOKUP(M434,Adresy!$A$3:$C$122,3,FALSE)","v":"Sokolská 581"},0,0,0,0]
["lôžko","lôžka štandardné","infúzný stojan",null,null,null,null,null,"interná, neurochirugická a kardiochirurgická klinika","Linet","bez položkovej identifikácie ceny (v rámci sumárnej ceny)","HW","Fakultní nemocnice Hradec Králové","ČR","Linet spol. s.r.o.",null,28,null,null,{"$f":"IF(N435=\"SR\",1,IF(AC435=\"\",VLOOKUP(AW435,'CZKEUR Xchange rate'!$D$13:$E$234,2,FALSE),VLOOKUP(AW435,'CZKEUR Xchange rate'!$A$13:$B$234,2,FALSE)))","v":27.815999999999999},0,0,0,0,{"$f":"VLOOKUP(AW435,'Cenové indexy '!$D$7:$E$200,2,FALSE)","v":99.87},{"$f":"W435/Y435*'Cenové indexy '!$E$149","v":0},0,2014,"08","27","2014-08-27","Áno","Áno","Neurčené","Nie","24 mesiacov zadarmo",null,null,null,"Zmluva 5_BS",null,null,null,null,null,{"$f":"VLOOKUP(M435,Adresy!$A$4:$C$156,2,FALSE)","v":"Hradec Králové"},{"$f":"VLOOKUP(M435,Adresy!$A$4:$C$156,3,FALSE)","v":"Sokolská 581"},"M","2014M08",null,null,null,null,null,{"$f":"VLOOKUP(M435,Adresy!$A$3:$C$122,2,FALSE)","v":"Hradec Králové"},{"$f":"VLOOKUP(M435,Adresy!$A$3:$C$122,3,FALSE)","v":"Sokolská 581"},0,0,0,0]
["lôžko","lôžka štandardné","kôš na bažanta",null,null,null,null,null,"interná, neurochirugická a kardiochirurgická klinika","Linet","bez položkovej identifikácie ceny (v rámci sumárnej ceny)","HW","Fakultní nemocnice Hradec Králové","ČR","Linet spol. s.r.o.",null,28,null,null,{"$f":"IF(N436=\"SR\",1,IF(AC436=\"\",VLOOKUP(AW436,'CZKEUR Xchange rate'!$D$13:$E$234,2,FALSE),VLOOKUP(AW436,'CZKEUR Xchange rate'!$A$13:$B$234,2,FALSE)))","v":27.815999999999999},0,0,0,0,{"$f":"VLOOKUP(AW436,'Cenové indexy '!$D$7:$E$200,2,FALSE)","v":99.87},{"$f":"W436/Y436*'Cenové indexy '!$E$149","v":0},0,2014,"08","27","2014-08-27","Áno","Áno","Neurčené","Nie","24 mesiacov zadarmo",null,null,null,"Zmluva 5_BS",null,null,null,null,null,{"$f":"VLOOKUP(M436,Adresy!$A$4:$C$156,2,FALSE)","v":"Hradec Králové"},{"$f":"VLOOKUP(M436,Adresy!$A$4:$C$156,3,FALSE)","v":"Sokolská 581"},"M","2014M08",null,null,null,null,null,{"$f":"VLOOKUP(M436,Adresy!$A$3:$C$122,2,FALSE)","v":"Hradec Králové"},{"$f":"VLOOKUP(M436,Adresy!$A$3:$C$122,3,FALSE)","v":"Sokolská 581"},0,0,0,0]
["lôžko","lôžka JIS","elektrické JIS lôžko s váhou",null,null,null,null,"Multicare",null,"Linet","položková cena (súčasť sumárnej ceny)","HW","Fakultní nemocnice Hradec Králové","ČR","Linet spol. s.r.o.",null,2,346000,397900,{"$f":"IF(N437=\"SR\",1,IF(AC437=\"\",VLOOKUP(AW437,'CZKEUR Xchange rate'!$D$13:$E$234,2,FALSE),VLOOKUP(AW437,'CZKEUR Xchange rate'!$A$13:$B$234,2,FALSE)))","v":27.815999999999999},12438.884095484613,14304.716709807306,6219.4420477423064,7152.358354903653,{"$f":"VLOOKUP(AW437,'Cenové indexy '!$D$7:$E$200,2,FALSE)","v":99.87},{"$f":"W437/Y437*'Cenové indexy '!$E$149","v":6422.4597815526586},7706.9517378631899,2014,"08","27","2014-08-27","Áno","Áno","ERDF","Nie","24 mesiacov zadarmo",null,null,null,"Zmluva 6_BS",null,null,null,null,null,{"$f":"VLOOKUP(M437,Adresy!$A$4:$C$156,2,FALSE)","v":"Hradec Králové"},{"$f":"VLOOKUP(M437,Adresy!$A$4:$C$156,3,FALSE)","v":"Sokolská 581"},"M","2014M08",null,null,null,null,null,{"$f":"VLOOKUP(M437,Adresy!$A$3:$C$122,2,FALSE)","v":"Hradec Králové"},{"$f":"VLOOKUP(M437,Adresy!$A$3:$C$122,3,FALSE)","v":"Sokolská 581"},0,0,0,0]
["lôžko","lôžka JIS","elektrické JIS lôžko",null,null,null,null,"Multicare",null,"Linet","položková cena (súčasť sumárnej ceny)","HW","Fakultní nemocnice Hradec Králové","ČR","Linet spol. s.r.o.",null,4,416000,478400,{"$f":"IF(N438=\"SR\",1,IF(AC438=\"\",VLOOKUP(AW438,'CZKEUR Xchange rate'!$D$13:$E$234,2,FALSE),VLOOKUP(AW438,'CZKEUR Xchange rate'!$A$13:$B$234,2,FALSE)))","v":27.815999999999999},14955.421340235836,17198.734541271213,3738.8553350589591,4299.6836353178032,{"$f":"VLOOKUP(AW438,'Cenové indexy '!$D$7:$E$200,2,FALSE)","v":99.87},{"$f":"W438/Y438*'Cenové indexy '!$E$149","v":3860.9006779276096},4633.080813513131,2014,"08","27","2014-08-27","Áno","Áno","ERDF","Nie","24 mesiacov zadarmo",null,null,null,"Zmluva 6_BS",null,null,null,null,null,{"$f":"VLOOKUP(M438,Adresy!$A$4:$C$156,2,FALSE)","v":"Hradec Králové"},{"$f":"VLOOKUP(M438,Adresy!$A$4:$C$156,3,FALSE)","v":"Sokolská 581"},"M","2014M08",null,null,null,null,null,{"$f":"VLOOKUP(M438,Adresy!$A$3:$C$122,2,FALSE)","v":"Hradec Králové"},{"$f":"VLOOKUP(M438,Adresy!$A$3:$C$122,3,FALSE)","v":"Sokolská 581"},0,0,0,0]
["lôžko","lôžka JIS","aktívny antidekubitný matrac",null,null,null,null,"Precioso",null,"Linet","položková cena (súčasť sumárnej ceny)","HW","Fakultní nemocnice Hradec Králové","ČR","Linet spol. s.r.o.",null,12,864000,993600,{"$f":"IF(N439=\"SR\",1,IF(AC439=\"\",VLOOKUP(AW439,'CZKEUR Xchange rate'!$D$13:$E$234,2,FALSE),VLOOKUP(AW439,'CZKEUR Xchange rate'!$A$13:$B$234,2,FALSE)))","v":27.815999999999999},31061.259706643661,35720.448662640207,2588.4383088869718,2976.7040552200174,{"$f":"VLOOKUP(AW439,'Cenové indexy '!$D$7:$E$200,2,FALSE)","v":99.87},{"$f":"W439/Y439*'Cenové indexy '!$E$149","v":2672.9312385652684},3207.5174862783219,2014,"08","27","2014-08-27","Áno","Áno","ERDF","Nie","24 mesiacov zadarmo",null,null,null,"Zmluva 6_BS",null,null,null,null,null,{"$f":"VLOOKUP(M439,Adresy!$A$4:$C$156,2,FALSE)","v":"Hradec Králové"},{"$f":"VLOOKUP(M439,Adresy!$A$4:$C$156,3,FALSE)","v":"Sokolská 581"},"M","2014M08",null,null,null,null,null,{"$f":"VLOOKUP(M439,Adresy!$A$3:$C$122,2,FALSE)","v":"Hradec Králové"},{"$f":"VLOOKUP(M439,Adresy!$A$3:$C$122,3,FALSE)","v":"Sokolská 581"},0,0,0,0]
["lôžko","lôžka JIS","elektrické JIS lôžko",null,null,null,null,"Eleganza 3",null,"Linet","položková cena (súčasť sumárnej ceny)","HW","Fakultní nemocnice Hradec Králové","ČR","Linet spol. s.r.o.",null,7,420000,483000,{"$f":"IF(N440=\"SR\",1,IF(AC440=\"\",VLOOKUP(AW440,'CZKEUR Xchange rate'!$D$13:$E$234,2,FALSE),VLOOKUP(AW440,'CZKEUR Xchange rate'!$A$13:$B$234,2,FALSE)))","v":27.815999999999999},15099.223468507334,17364.106988783435,2157.0319240724762,2480.5867126833477,{"$f":"VLOOKUP(AW440,'Cenové indexy '!$D$7:$E$200,2,FALSE)","v":99.87},{"$f":"W440/Y440*'Cenové indexy '!$E$149","v":2227.4426988043901},2672.9312385652679,2014,"08","27","2014-08-27","Áno","Áno","ERDF","Nie","24 mesiacov zadarmo",null,null,null,"Zmluva 6_BS",null,null,null,null,null,{"$f":"VLOOKUP(M440,Adresy!$A$4:$C$156,2,FALSE)","v":"Hradec Králové"},{"$f":"VLOOKUP(M440,Adresy!$A$4:$C$156,3,FALSE)","v":"Sokolská 581"},"M","2014M08",null,null,null,null,null,{"$f":"VLOOKUP(M440,Adresy!$A$3:$C$122,2,FALSE)","v":"Hradec Králové"},{"$f":"VLOOKUP(M440,Adresy!$A$3:$C$122,3,FALSE)","v":"Sokolská 581"},0,0,0,0]
["lôžko","lôžka štandardné","pasívny antidekubitný matrac",null,null,null,null,"Ergomatt",null,"Linet","položková cena (súčasť sumárnej ceny)","HW","Fakultní nemocnice Hradec Králové","ČR","Linet spol. s.r.o.",null,1,7000,8050,{"$f":"IF(N441=\"SR\",1,IF(AC441=\"\",VLOOKUP(AW441,'CZKEUR Xchange rate'!$D$13:$E$234,2,FALSE),VLOOKUP(AW441,'CZKEUR Xchange rate'!$A$13:$B$234,2,FALSE)))","v":27.815999999999999},251.65372447512223,289.40178314639058,251.65372447512223,289.40178314639058,{"$f":"VLOOKUP(AW441,'Cenové indexy '!$D$7:$E$200,2,FALSE)","v":99.87},{"$f":"W441/Y441*'Cenové indexy '!$E$149","v":259.86831486051221},311.84197783261465,2014,"08","27","2014-08-27","Áno","Áno","ERDF","Nie","24 mesiacov zadarmo",null,null,null,"Zmluva 6_BS",null,null,null,null,null,{"$f":"VLOOKUP(M441,Adresy!$A$4:$C$156,2,FALSE)","v":"Hradec Králové"},{"$f":"VLOOKUP(M441,Adresy!$A$4:$C$156,3,FALSE)","v":"Sokolská 581"},"M","2014M08",null,null,null,null,null,{"$f":"VLOOKUP(M441,Adresy!$A$3:$C$122,2,FALSE)","v":"Hradec Králové"},{"$f":"VLOOKUP(M441,Adresy!$A$3:$C$122,3,FALSE)","v":"Sokolská 581"},0,0,0,0]
["lôžko","lôžka štandardné","mechanické štandardné lôžko",null,null,null,null,null,null,"","sumárna cena","HW","Fakultná nemocnica s poliklinikou J.A.Reimana Prešov","SR","ČECHOVO s.r.o.",null,4,8292,9550.4,{"$f":"IF(N442=\"SR\",1,IF(AC442=\"\",VLOOKUP(AW442,'CZKEUR Xchange rate'!$D$13:$E$234,2,FALSE),VLOOKUP(AW442,'CZKEUR Xchange rate'!$A$13:$B$234,2,FALSE)))","v":1},8292,9550.4,2073,2387.6,{"$f":"VLOOKUP(AW442,'Cenové indexy '!$D$7:$E$200,2,FALSE)","v":100.14},{"$f":"W442/Y442*'Cenové indexy '!$E$149","v":2134.8960455362489},2561.8752546434985,2015,"09","21","2015-09-21","Áno","Áno","Neurčené","Nie","24 mesiacov zadarmo",null,null,null,"Zmluva 8_BS",null,null,null,null,null,{"$f":"VLOOKUP(M442,Adresy!$A$4:$C$156,2,FALSE)","v":"Prešov"},{"$f":"VLOOKUP(M442,Adresy!$A$4:$C$156,3,FALSE)","v":"Jána Hollého"},"M","2015M09",null,null,null,null,null,{"$f":"VLOOKUP(M442,Adresy!$A$3:$C$122,2,FALSE)","v":"Prešov"},{"$f":"VLOOKUP(M442,Adresy!$A$3:$C$122,3,FALSE)","v":"Jána Hollého"},0,0,0,0]
["lôžko","lôžka štandardné","hrazda",null,null,null,null,null,null,"","položková cena (súčasť sumárnej ceny)","HW","Fakultná nemocnica s poliklinikou J.A.Reimana Prešov","SR","ČECHOVO s.r.o.",null,4,null,null,{"$f":"IF(N443=\"SR\",1,IF(AC443=\"\",VLOOKUP(AW443,'CZKEUR Xchange rate'!$D$13:$E$234,2,FALSE),VLOOKUP(AW443,'CZKEUR Xchange rate'!$A$13:$B$234,2,FALSE)))","v":1},0,0,0,0,{"$f":"VLOOKUP(AW443,'Cenové indexy '!$D$7:$E$200,2,FALSE)","v":100.14},{"$f":"W443/Y443*'Cenové indexy '!$E$149","v":0},0,2015,"09","21","2015-09-21","Áno","Áno","Neurčené","Nie","24 mesiacov zadarmo",null,null,null,"Zmluva 8_BS",null,null,null,null,null,{"$f":"VLOOKUP(M443,Adresy!$A$4:$C$156,2,FALSE)","v":"Prešov"},{"$f":"VLOOKUP(M443,Adresy!$A$4:$C$156,3,FALSE)","v":"Jána Hollého"},"M","2015M09",null,null,null,null,null,{"$f":"VLOOKUP(M443,Adresy!$A$3:$C$122,2,FALSE)","v":"Prešov"},{"$f":"VLOOKUP(M443,Adresy!$A$3:$C$122,3,FALSE)","v":"Jána Hollého"},0,0,0,0]
["lôžko","lôžka štandardné","pasívny antidekubitný matrac",null,null,null,null,null,null,"","položková cena (súčasť sumárnej ceny)","HW","Fakultná nemocnica s poliklinikou J.A.Reimana Prešov","SR","ČECHOVO s.r.o.",null,4,null,null,{"$f":"IF(N444=\"SR\",1,IF(AC444=\"\",VLOOKUP(AW444,'CZKEUR Xchange rate'!$D$13:$E$234,2,FALSE),VLOOKUP(AW444,'CZKEUR Xchange rate'!$A$13:$B$234,2,FALSE)))","v":1},0,0,0,0,{"$f":"VLOOKUP(AW444,'Cenové indexy '!$D$7:$E$200,2,FALSE)","v":100.14},{"$f":"W444/Y444*'Cenové indexy '!$E$149","v":0},0,2015,"09","21","2015-09-21","Áno","Áno","Neurčené","Nie","24 mesiacov zadarmo",null,null,null,"Zmluva 8_BS",null,null,null,null,null,{"$f":"VLOOKUP(M444,Adresy!$A$4:$C$156,2,FALSE)","v":"Prešov"},{"$f":"VLOOKUP(M444,Adresy!$A$4:$C$156,3,FALSE)","v":"Jána Hollého"},"M","2015M09",null,null,null,null,null,{"$f":"VLOOKUP(M444,Adresy!$A$3:$C$122,2,FALSE)","v":"Prešov"},{"$f":"VLOOKUP(M444,Adresy!$A$3:$C$122,3,FALSE)","v":"Jána Hollého"},0,0,0,0]
["lôžko","lôžka štandardné","mechanické štandardné lôžko s matracom",null,"2-dielna ložná plocha",null,null,"PLB-N85-0",null,"PROMA REHA","položková cena (súčasť sumárnej ceny)","HW","Ústredná vojenská nemocnica SNP Ružomberok","SR","Med Partners a.s.",null,22,23672,28406.400000000001,{"$f":"IF(N445=\"SR\",1,IF(AC445=\"\",VLOOKUP(AW445,'CZKEUR Xchange rate'!$D$13:$E$234,2,FALSE),VLOOKUP(AW445,'CZKEUR Xchange rate'!$A$13:$B$234,2,FALSE)))","v":1},23672,28406.400000000001,1076,1291.2,{"$f":"VLOOKUP(AW445,'Cenové indexy '!$D$7:$E$200,2,FALSE)","v":99.98},{"$f":"W445/Y445*'Cenové indexy '!$E$149","v":1109.900780156031},1331.8809361872372,2014,"11","11","2014-11-11","Áno","Áno","Neurčené","Nie","24 mesiacov zadarmo",null,null,null,"Zmluva 9_BS",null,null,null,null,null,{"$f":"VLOOKUP(M445,Adresy!$A$4:$C$156,2,FALSE)","v":"Ružomberok"},{"$f":"VLOOKUP(M445,Adresy!$A$4:$C$156,3,FALSE)","v":"Generála Miloša Vesela 21"},"M","2014M11",null,null,null,null,null,{"$f":"VLOOKUP(M445,Adresy!$A$3:$C$122,2,FALSE)","v":{"$error":"#N/A"}},{"$f":"VLOOKUP(M445,Adresy!$A$3:$C$122,3,FALSE)","v":{"$error":"#N/A"}},{"$error":"#N/A"},{"$error":"#N/A"},{"$error":"#N/A"},{"$error":"#N/A"}]
["lôžko","lôžka štandardné","mechanické štandardné lôžko s matracom",null,"4-dielna ložná plocha",null,null,"PLL-N85-0",null,"PROMA REHA","položková cena (súčasť sumárnej ceny)","HW","Ústredná vojenská nemocnica SNP Ružomberok","SR","Med Partners a.s.",null,7,8190,9828,{"$f":"IF(N446=\"SR\",1,IF(AC446=\"\",VLOOKUP(AW446,'CZKEUR Xchange rate'!$D$13:$E$234,2,FALSE),VLOOKUP(AW446,'CZKEUR Xchange rate'!$A$13:$B$234,2,FALSE)))","v":1},8190,9828,1170,1404,{"$f":"VLOOKUP(AW446,'Cenové indexy '!$D$7:$E$200,2,FALSE)","v":99.98},{"$f":"W446/Y446*'Cenové indexy '!$E$149","v":1206.8623724744948},1448.2348469693936,2014,"11","11","2014-11-11","Áno","Áno","Neurčené","Nie","24 mesiacov zadarmo",null,null,null,"Zmluva 9_BS",null,null,null,null,null,{"$f":"VLOOKUP(M446,Adresy!$A$4:$C$156,2,FALSE)","v":"Ružomberok"},{"$f":"VLOOKUP(M446,Adresy!$A$4:$C$156,3,FALSE)","v":"Generála Miloša Vesela 21"},"M","2014M11",null,null,null,null,null,{"$f":"VLOOKUP(M446,Adresy!$A$3:$C$122,2,FALSE)","v":{"$error":"#N/A"}},{"$f":"VLOOKUP(M446,Adresy!$A$3:$C$122,3,FALSE)","v":{"$error":"#N/A"}},{"$error":"#N/A"},{"$error":"#N/A"},{"$error":"#N/A"},{"$error":"#N/A"}]
["lôžko","lôžka štandardné","mechanické štandardné lôžko s matracom",null,"s TR náklonom (5-dielna ložná locha)",null,null,"PLL-N85-T",null,"PROMA REHA","položková cena (súčasť sumárnej ceny)","HW","Ústredná vojenská nemocnica SNP Ružomberok","SR","Med Partners a.s.",null,20,23180,27816,{"$f":"IF(N447=\"SR\",1,IF(AC447=\"\",VLOOKUP(AW447,'CZKEUR Xchange rate'!$D$13:$E$234,2,FALSE),VLOOKUP(AW447,'CZKEUR Xchange rate'!$A$13:$B$234,2,FALSE)))","v":1},23180,27816,1159,1390.8,{"$f":"VLOOKUP(AW447,'Cenové indexy '!$D$7:$E$200,2,FALSE)","v":99.98},{"$f":"W447/Y447*'Cenové indexy '!$E$149","v":1195.515803160632},1434.6189637927584,2014,"11","11","2014-11-11","Áno","Áno","Neurčené","Nie","24 mesiacov zadarmo",null,null,null,"Zmluva 9_BS",null,null,null,null,null,{"$f":"VLOOKUP(M447,Adresy!$A$4:$C$156,2,FALSE)","v":"Ružomberok"},{"$f":"VLOOKUP(M447,Adresy!$A$4:$C$156,3,FALSE)","v":"Generála Miloša Vesela 21"},"M","2014M11",null,null,null,null,null,{"$f":"VLOOKUP(M447,Adresy!$A$3:$C$122,2,FALSE)","v":{"$error":"#N/A"}},{"$f":"VLOOKUP(M447,Adresy!$A$3:$C$122,3,FALSE)","v":{"$error":"#N/A"}},{"$error":"#N/A"},{"$error":"#N/A"},{"$error":"#N/A"},{"$error":"#N/A"}]
["lôžko","lôžka štandardné","mechanické štandardné lôžko s matracom a príslušenstvom",null,null,null,null,"Terra 402",null,"Linet","bez položkovej identifikácie ceny (v rámci sumárnej ceny)","HW","Ústredná vojenská nemocnica SNP Ružomberok","SR","Med Partners a.s.",null,6,7800,9360,{"$f":"IF(N448=\"SR\",1,IF(AC448=\"\",VLOOKUP(AW448,'CZKEUR Xchange rate'!$D$13:$E$234,2,FALSE),VLOOKUP(AW448,'CZKEUR Xchange rate'!$A$13:$B$234,2,FALSE)))","v":1},7800,9360,1300,1560,{"$f":"VLOOKUP(AW448,'Cenové indexy '!$D$7:$E$200,2,FALSE)","v":99.98},{"$f":"W448/Y448*'Cenové indexy '!$E$149","v":1340.9581916383274},1609.1498299659929,2014,"11","11","2014-11-11","Áno","Áno","Neurčené","Nie","24 mesiacov zadarmo",null,null,null,"Zmluva 9_BS",null,null,null,null,null,{"$f":"VLOOKUP(M448,Adresy!$A$4:$C$156,2,FALSE)","v":"Ružomberok"},{"$f":"VLOOKUP(M448,Adresy!$A$4:$C$156,3,FALSE)","v":"Generála Miloša Vesela 21"},"M","2014M11",null,null,null,null,null,{"$f":"VLOOKUP(M448,Adresy!$A$3:$C$122,2,FALSE)","v":{"$error":"#N/A"}},{"$f":"VLOOKUP(M448,Adresy!$A$3:$C$122,3,FALSE)","v":{"$error":"#N/A"}},{"$error":"#N/A"},{"$error":"#N/A"},{"$error":"#N/A"},{"$error":"#N/A"}]
["lôžko","lôžka štandardné","elektrické štandardné lôžko s matracom a príslušenstvom",null,null,null,null,"Novos",null,"Linet","bez položkovej identifikácie ceny (v rámci sumárnej ceny)","HW","Ústredná vojenská nemocnica SNP Ružomberok","SR","Med Partners a.s.",null,67,149008,178809.60000000001,{"$f":"IF(N449=\"SR\",1,IF(AC449=\"\",VLOOKUP(AW449,'CZKEUR Xchange rate'!$D$13:$E$234,2,FALSE),VLOOKUP(AW449,'CZKEUR Xchange rate'!$A$13:$B$234,2,FALSE)))","v":1},149008,178809.60000000001,2224,2668.8,{"$f":"VLOOKUP(AW449,'Cenové indexy '!$D$7:$E$200,2,FALSE)","v":99.98},{"$f":"W449/Y449*'Cenové indexy '!$E$149","v":2294.0700140028007},2752.8840168033607,2014,"11","11","2014-11-11","Áno","Áno","Neurčené","Nie","24 mesiacov zadarmo",null,null,null,"Zmluva 9_BS",null,null,null,null,null,{"$f":"VLOOKUP(M449,Adresy!$A$4:$C$156,2,FALSE)","v":"Ružomberok"},{"$f":"VLOOKUP(M449,Adresy!$A$4:$C$156,3,FALSE)","v":"Generála Miloša Vesela 21"},"M","2014M11",null,null,null,null,null,{"$f":"VLOOKUP(M449,Adresy!$A$3:$C$122,2,FALSE)","v":{"$error":"#N/A"}},{"$f":"VLOOKUP(M449,Adresy!$A$3:$C$122,3,FALSE)","v":{"$error":"#N/A"}},{"$error":"#N/A"},{"$error":"#N/A"},{"$error":"#N/A"},{"$error":"#N/A"}]
["lôžko","lôžka štandardné","elektrické štandardné lôžko s matracom a príslušenstvom",null,null,null,null,"Novos",null,"Linet","bez položkovej identifikácie ceny (v rámci sumárnej ceny)","HW","Ústredná vojenská nemocnica SNP Ružomberok","SR","Med Partners a.s.",null,38,72960,87552,{"$f":"IF(N450=\"SR\",1,IF(AC450=\"\",VLOOKUP(AW450,'CZKEUR Xchange rate'!$D$13:$E$234,2,FALSE),VLOOKUP(AW450,'CZKEUR Xchange rate'!$A$13:$B$234,2,FALSE)))","v":1},72960,87552,1920,2304,{"$f":"VLOOKUP(AW450,'Cenové indexy '!$D$7:$E$200,2,FALSE)","v":99.98},{"$f":"W450/Y450*'Cenové indexy '!$E$149","v":1980.4920984196838},{"$f":"Z450*1.2","v":2376.5905181036205},2014,"11","11",{"$f":"DATE(AB450,AC450,AD450)","v":"2014-11-11"},"Áno","Áno","Neurčené","Nie","24 mesiacov zadarmo",null,null,null,"Zmluva 9_BS",null,null,null,null,null,{"$f":"VLOOKUP(M450,Adresy!$A$4:$C$156,2,FALSE)","v":"Ružomberok"},{"$f":"VLOOKUP(M450,Adresy!$A$4:$C$156,3,FALSE)","v":"Generála Miloša Vesela 21"},"M","2014M11",null,null,null,null,null,{"$f":"VLOOKUP(M450,Adresy!$A$3:$C$122,2,FALSE)","v":{"$error":"#N/A"}},{"$f":"VLOOKUP(M450,Adresy!$A$3:$C$122,3,FALSE)","v":{"$error":"#N/A"}},{"$f":"IF(BC450<>AT450,1,0)","v":{"$error":"#N/A"}},{"$error":"#N/A"},{"$error":"#N/A"},{"$error":"#N/A"}]
["lôžko","lôžka štandardné","elektrické štandardné lôžko s matracom a príslušenstvom",null,null,null,null,"Novos",null,"Linet","bez položkovej identifikácie ceny (v rámci sumárnej ceny)","HW","Ústredná vojenská nemocnica SNP Ružomberok","SR","Med Partners a.s.",null,5,9290,11148,{"$f":"IF(N451=\"SR\",1,IF(AC451=\"\",VLOOKUP(AW451,'CZKEUR Xchange rate'!$D$13:$E$234,2,FALSE),VLOOKUP(AW451,'CZKEUR Xchange rate'!$A$13:$B$234,2,FALSE)))","v":1},9290,11148,1858,2229.6,{"$f":"VLOOKUP(AW451,'Cenové indexy '!$D$7:$E$200,2,FALSE)","v":99.98},{"$f":"W451/Y451*'Cenové indexy '!$E$149","v":1916.5387077415483},2299.8464492898579,2014,"11","11","2014-11-11","Áno","Áno","Neurčené","Nie","24 mesiacov zadarmo",null,null,null,"Zmluva 9_BS",null,null,null,null,null,{"$f":"VLOOKUP(M451,Adresy!$A$4:$C$156,2,FALSE)","v":"Ružomberok"},{"$f":"VLOOKUP(M451,Adresy!$A$4:$C$156,3,FALSE)","v":"Generála Miloša Vesela 21"},"M",{"$f":"IF(AC451=\"\",CONCATENATE(AB451,AV451,\"06\"),IF(LEN(AC451)=1,CONCATENATE(AB451,AV451,\"0\"&AC451),CONCATENATE(AB451,AV451,AC451)))","v":"2014M11"},null,null,null,null,null,{"$f":"VLOOKUP(M451,Adresy!$A$3:$C$122,2,FALSE)","v":{"$error":"#N/A"}},{"$f":"VLOOKUP(M451,Adresy!$A$3:$C$122,3,FALSE)","v":{"$error":"#N/A"}},{"$error":"#N/A"},{"$error":"#N/A"},{"$error":"#N/A"},{"$error":"#N/A"}]
["lôžko","lôžka štandardné","elektrické štandardné lôžko s matracom a príslušenstvom",null,null,null,null,"Movita",null,"Linet","bez položkovej identifikácie ceny (v rámci sumárnej ceny)","HW","Ústredná vojenská nemocnica SNP Ružomberok","SR","Med Partners a.s.",null,16,23440,28128,{"$f":"IF(N452=\"SR\",1,IF(AC452=\"\",VLOOKUP(AW452,'CZKEUR Xchange rate'!$D$13:$E$234,2,FALSE),VLOOKUP(AW452,'CZKEUR Xchange rate'!$A$13:$B$234,2,FALSE)))","v":1},23440,28128,1465,1758,{"$f":"VLOOKUP(AW452,'Cenové indexy '!$D$7:$E$200,2,FALSE)","v":99.98},{"$f":"W452/Y452*'Cenové indexy '!$E$149","v":1511.1567313462692},1813.3880776155231,2014,"11","11","2014-11-11","Áno","Áno","Neurčené","Nie","24 mesiacov zadarmo",null,null,null,"Zmluva 9_BS",null,null,null,null,null,{"$f":"VLOOKUP(M452,Adresy!$A$4:$C$156,2,FALSE)","v":"Ružomberok"},{"$f":"VLOOKUP(M452,Adresy!$A$4:$C$156,3,FALSE)","v":"Generála Miloša Vesela 21"},"M","2014M11",null,null,null,null,null,{"$f":"VLOOKUP(M452,Adresy!$A$3:$C$122,2,FALSE)","v":{"$error":"#N/A"}},{"$f":"VLOOKUP(M452,Adresy!$A$3:$C$122,3,FALSE)","v":{"$error":"#N/A"}},{"$error":"#N/A"},{"$error":"#N/A"},{"$error":"#N/A"},{"$error":"#N/A"}]
["lôžko","lôžka štandardné","elektrické štandardné lôžko s matracom",null,null,null,null,"Movita V2",null,"Linet","bez položkovej identifikácie ceny (v rámci sumárnej ceny)","HW","Ústredná vojenská nemocnica SNP Ružomberok","SR","Med Partners a.s.",null,12,16812,20174.400000000001,{"$f":"IF(N453=\"SR\",1,IF(AC453=\"\",VLOOKUP(AW453,'CZKEUR Xchange rate'!$D$13:$E$234,2,FALSE),VLOOKUP(AW453,'CZKEUR Xchange rate'!$A$13:$B$234,2,FALSE)))","v":1},16812,20174.400000000001,1401,1681.2,{"$f":"VLOOKUP(AW453,'Cenové indexy '!$D$7:$E$200,2,FALSE)","v":99.98},{"$f":"W453/Y453*'Cenové indexy '!$E$149","v":1445.1403280656129},1734.1683936787356,2014,"11","11","2014-11-11","Áno","Áno","Neurčené","Nie","24 mesiacov zadarmo",null,null,null,"Zmluva 9_BS",null,null,null,null,null,{"$f":"VLOOKUP(M453,Adresy!$A$4:$C$156,2,FALSE)","v":"Ružomberok"},{"$f":"VLOOKUP(M453,Adresy!$A$4:$C$156,3,FALSE)","v":"Generála Miloša Vesela 21"},"M","2014M11",null,null,null,null,null,{"$f":"VLOOKUP(M453,Adresy!$A$3:$C$122,2,FALSE)","v":{"$error":"#N/A"}},{"$f":"VLOOKUP(M453,Adresy!$A$3:$C$122,3,FALSE)","v":{"$error":"#N/A"}},{"$error":"#N/A"},{"$error":"#N/A"},{"$error":"#N/A"},{"$error":"#N/A"}]
["lôžko","lôžka štandardné","elektrické štandardné lôžko s matracom a príslušenstvom",null,null,null,null,"Eleganza 1",null,"Linet","bez položkovej identifikácie ceny (v rámci sumárnej ceny)","HW","Ústredná vojenská nemocnica SNP Ružomberok","SR","Med Partners a.s.",null,20,54540,65448,{"$f":"IF(N454=\"SR\",1,IF(AC454=\"\",VLOOKUP(AW454,'CZKEUR Xchange rate'!$D$13:$E$234,2,FALSE),VLOOKUP(AW454,'CZKEUR Xchange rate'!$A$13:$B$234,2,FALSE)))","v":1},54540,65448,2727,3272.4,{"$f":"VLOOKUP(AW454,'Cenové indexy '!$D$7:$E$200,2,FALSE)","v":99.98},{"$f":"W454/Y454*'Cenové indexy '!$E$149","v":2812.917683536707},3375.5012202440485,2014,"11","11","2014-11-11","Áno","Áno","Neurčené","Nie","24 mesiacov zadarmo",null,null,null,"Zmluva 9_BS",null,null,null,null,null,{"$f":"VLOOKUP(M454,Adresy!$A$4:$C$156,2,FALSE)","v":"Ružomberok"},{"$f":"VLOOKUP(M454,Adresy!$A$4:$C$156,3,FALSE)","v":"Generála Miloša Vesela 21"},"M","2014M11",null,null,null,null,null,{"$f":"VLOOKUP(M454,Adresy!$A$3:$C$122,2,FALSE)","v":{"$error":"#N/A"}},{"$f":"VLOOKUP(M454,Adresy!$A$3:$C$122,3,FALSE)","v":{"$error":"#N/A"}},{"$error":"#N/A"},{"$error":"#N/A"},{"$error":"#N/A"},{"$error":"#N/A"}]
["lôžko","lôžka štandardné","elektrické štandardné lôžko s matracom a príslušenstvom",null,null,null,null,"Eleganza 1",null,"Linet","bez položkovej identifikácie ceny (v rámci sumárnej ceny)","HW","Ústredná vojenská nemocnica SNP Ružomberok","SR","Med Partners a.s.",null,10,26170,31404,{"$f":"IF(N455=\"SR\",1,IF(AC455=\"\",VLOOKUP(AW455,'CZKEUR Xchange rate'!$D$13:$E$234,2,FALSE),VLOOKUP(AW455,'CZKEUR Xchange rate'!$A$13:$B$234,2,FALSE)))","v":1},26170,31404,2617,3140.4,{"$f":"VLOOKUP(AW455,'Cenové indexy '!$D$7:$E$200,2,FALSE)","v":99.98},{"$f":"W455/Y455*'Cenové indexy '!$E$149","v":2699.4519903980795},3239.3423884776953,2014,"11","11","2014-11-11","Áno","Áno","Neurčené","Nie","24 mesiacov zadarmo",null,null,null,"Zmluva 9_BS",null,null,null,null,null,{"$f":"VLOOKUP(M455,Adresy!$A$4:$C$156,2,FALSE)","v":"Ružomberok"},{"$f":"VLOOKUP(M455,Adresy!$A$4:$C$156,3,FALSE)","v":"Generála Miloša Vesela 21"},"M","2014M11",null,null,null,null,null,{"$f":"VLOOKUP(M455,Adresy!$A$3:$C$122,2,FALSE)","v":{"$error":"#N/A"}},{"$f":"VLOOKUP(M455,Adresy!$A$3:$C$122,3,FALSE)","v":{"$error":"#N/A"}},{"$error":"#N/A"},{"$error":"#N/A"},{"$error":"#N/A"},{"$error":"#N/A"}]
["lôžko","lôžka štandardné","elektrické štandardné lôžko s matracom a príslušenstvom",null,null,null,null,"Eleganza 1",null,"Linet","bez položkovej identifikácie ceny (v rámci sumárnej ceny)","HW","Ústredná vojenská nemocnica SNP Ružomberok","SR","Med Partners a.s.",null,30,78990,94788,{"$f":"IF(N456=\"SR\",1,IF(AC456=\"\",VLOOKUP(AW456,'CZKEUR Xchange rate'!$D$13:$E$234,2,FALSE),VLOOKUP(AW456,'CZKEUR Xchange rate'!$A$13:$B$234,2,FALSE)))","v":1},78990,94788,2633,3159.6,{"$f":"VLOOKUP(AW456,'Cenové indexy '!$D$7:$E$200,2,FALSE)","v":99.98},{"$f":"W456/Y456*'Cenové indexy '!$E$149","v":2715.9560912182437},3259.1473094618923,2014,"11","11","2014-11-11","Áno","Áno","Neurčené","Nie","24 mesiacov zadarmo",null,null,null,"Zmluva 9_BS",null,null,null,null,null,{"$f":"VLOOKUP(M456,Adresy!$A$4:$C$156,2,FALSE)","v":"Ružomberok"},{"$f":"VLOOKUP(M456,Adresy!$A$4:$C$156,3,FALSE)","v":"Generála Miloša Vesela 21"},"M","2014M11",null,null,null,null,null,{"$f":"VLOOKUP(M456,Adresy!$A$3:$C$122,2,FALSE)","v":{"$error":"#N/A"}},{"$f":"VLOOKUP(M456,Adresy!$A$3:$C$122,3,FALSE)","v":{"$error":"#N/A"}},{"$error":"#N/A"},{"$error":"#N/A"},{"$error":"#N/A"},{"$error":"#N/A"}]
["lôžko","lôžka štandardné","elektrické štandardné lôžko s matracom a príslušenstvom",null,null,null,null,"Eleganza 1",null,"Linet","bez položkovej identifikácie ceny (v rámci sumárnej ceny)","HW","Ústredná vojenská nemocnica SNP Ružomberok","SR","Med Partners a.s.",null,5,14130,16956,{"$f":"IF(N457=\"SR\",1,IF(AC457=\"\",VLOOKUP(AW457,'CZKEUR Xchange rate'!$D$13:$E$234,2,FALSE),VLOOKUP(AW457,'CZKEUR Xchange rate'!$A$13:$B$234,2,FALSE)))","v":1},14130,16956,2826,3391.2,{"$f":"VLOOKUP(AW457,'Cenové indexy '!$D$7:$E$200,2,FALSE)","v":99.98},{"$f":"W457/Y457*'Cenové indexy '!$E$149","v":2915.0368073614718},3498.044168833766,2014,"11","11","2014-11-11","Áno","Áno","Neurčené","Nie","24 mesiacov zadarmo",null,null,null,"Zmluva 9_BS",null,null,null,null,null,{"$f":"VLOOKUP(M457,Adresy!$A$4:$C$156,2,FALSE)","v":"Ružomberok"},{"$f":"VLOOKUP(M457,Adresy!$A$4:$C$156,3,FALSE)","v":"Generála Miloša Vesela 21"},"M","2014M11",null,null,null,null,null,{"$f":"VLOOKUP(M457,Adresy!$A$3:$C$122,2,FALSE)","v":{"$error":"#N/A"}},{"$f":"VLOOKUP(M457,Adresy!$A$3:$C$122,3,FALSE)","v":{"$error":"#N/A"}},{"$error":"#N/A"},{"$error":"#N/A"},{"$error":"#N/A"},{"$error":"#N/A"}]
["lôžko","lôžka JIS","elektrické štandardné lôžko s matracom a príslušenstvom",null,null,null,null,"Latera",null,"Linet","položková cena (bez sumárnej ceny)","HW","Ústredná vojenská nemocnica SNP Ružomberok","SR","Med Partners a.s.",null,2,10440,12528,{"$f":"IF(N458=\"SR\",1,IF(AC458=\"\",VLOOKUP(AW458,'CZKEUR Xchange rate'!$D$13:$E$234,2,FALSE),VLOOKUP(AW458,'CZKEUR Xchange rate'!$A$13:$B$234,2,FALSE)))","v":1},10440,12528,5220,6264,{"$f":"VLOOKUP(AW458,'Cenové indexy '!$D$7:$E$200,2,FALSE)","v":99.98},{"$f":"W458/Y458*'Cenové indexy '!$E$149","v":5384.4628925785146},6461.3554710942171,2014,"11","11","2014-11-11","Áno","Áno","Neurčené","Nie","24 mesiacov zadarmo",null,null,null,"Zmluva 9_BS",null,null,null,null,null,{"$f":"VLOOKUP(M458,Adresy!$A$4:$C$156,2,FALSE)","v":"Ružomberok"},{"$f":"VLOOKUP(M458,Adresy!$A$4:$C$156,3,FALSE)","v":"Generála Miloša Vesela 21"},"M","2014M11",null,null,null,null,null,{"$f":"VLOOKUP(M458,Adresy!$A$3:$C$122,2,FALSE)","v":{"$error":"#N/A"}},{"$f":"VLOOKUP(M458,Adresy!$A$3:$C$122,3,FALSE)","v":{"$error":"#N/A"}},{"$error":"#N/A"},{"$error":"#N/A"},{"$error":"#N/A"},{"$error":"#N/A"}]
["lôžko","lôžka JIS","elektrické štandardné lôžko s matracom a príslušenstvom",null,null,null,null,"Eleganza 3XC",null,"Linet","položková cena (bez sumárnej ceny)","HW","Ústredná vojenská nemocnica SNP Ružomberok","SR","Med Partners a.s.",null,2,17602,21122.400000000001,{"$f":"IF(N459=\"SR\",1,IF(AC459=\"\",VLOOKUP(AW459,'CZKEUR Xchange rate'!$D$13:$E$234,2,FALSE),VLOOKUP(AW459,'CZKEUR Xchange rate'!$A$13:$B$234,2,FALSE)))","v":1},17602,21122.400000000001,8801,10561.2,{"$f":"VLOOKUP(AW459,'Cenové indexy '!$D$7:$E$200,2,FALSE)","v":99.98},{"$f":"W459/Y459*'Cenové indexy '!$E$149","v":9078.2869573914777},10893.944348869773,2014,"11","11","2014-11-11","Áno","Áno","Neurčené","Nie","24 mesiacov zadarmo",null,null,null,"Zmluva 9_BS",null,null,null,null,null,{"$f":"VLOOKUP(M459,Adresy!$A$4:$C$156,2,FALSE)","v":"Ružomberok"},{"$f":"VLOOKUP(M459,Adresy!$A$4:$C$156,3,FALSE)","v":"Generála Miloša Vesela 21"},"M","2014M11",null,null,null,null,null,{"$f":"VLOOKUP(M459,Adresy!$A$3:$C$122,2,FALSE)","v":{"$error":"#N/A"}},{"$f":"VLOOKUP(M459,Adresy!$A$3:$C$122,3,FALSE)","v":{"$error":"#N/A"}},{"$error":"#N/A"},{"$error":"#N/A"},{"$error":"#N/A"},{"$error":"#N/A"}]
["lôžko","lôžka JIS","elektrické štandardné lôžko s matracom a príslušenstvom",null,null,null,null,"Eleganza 3",null,"Linet","položková cena (bez sumárnej ceny)","HW","Ústredná vojenská nemocnica SNP Ružomberok","SR","Med Partners a.s.",null,2,11410,13692,{"$f":"IF(N460=\"SR\",1,IF(AC460=\"\",VLOOKUP(AW460,'CZKEUR Xchange rate'!$D$13:$E$234,2,FALSE),VLOOKUP(AW460,'CZKEUR Xchange rate'!$A$13:$B$234,2,FALSE)))","v":1},11410,13692,5705,6846,{"$f":"VLOOKUP(AW460,'Cenové indexy '!$D$7:$E$200,2,FALSE)","v":99.98},{"$f":"W460/Y460*'Cenové indexy '!$E$149","v":5884.7434486897373},7061.6921384276848,2014,"11","11","2014-11-11","Áno","Áno","Neurčené","Nie","24 mesiacov zadarmo",null,null,null,"Zmluva 9_BS",null,null,null,null,null,{"$f":"VLOOKUP(M460,Adresy!$A$4:$C$156,2,FALSE)","v":"Ružomberok"},{"$f":"VLOOKUP(M460,Adresy!$A$4:$C$156,3,FALSE)","v":"Generála Miloša Vesela 21"},"M","2014M11",null,null,null,null,null,{"$f":"VLOOKUP(M460,Adresy!$A$3:$C$122,2,FALSE)","v":{"$error":"#N/A"}},{"$f":"VLOOKUP(M460,Adresy!$A$3:$C$122,3,FALSE)","v":{"$error":"#N/A"}},{"$error":"#N/A"},{"$error":"#N/A"},{"$error":"#N/A"},{"$error":"#N/A"}]
["lôžko","novorodenecké lôžka","elektrické štandardné lôžko s matracom a príslušenstvom",null,null,null,null,"NP-50",null,"Linet","položková cena (bez sumárnej ceny)","HW","Ústredná vojenská nemocnica SNP Ružomberok","SR","Med Partners a.s.",null,5,3255,3906,{"$f":"IF(N461=\"SR\",1,IF(AC461=\"\",VLOOKUP(AW461,'CZKEUR Xchange rate'!$D$13:$E$234,2,FALSE),VLOOKUP(AW461,'CZKEUR Xchange rate'!$A$13:$B$234,2,FALSE)))","v":1},3255,3906,651,781.2,{"$f":"VLOOKUP(AW461,'Cenové indexy '!$D$7:$E$200,2,FALSE)","v":99.98},{"$f":"W461/Y461*'Cenové indexy '!$E$149","v":671.51060212042398},805.8127225445088,2014,"11","11","2014-11-11","Áno","Áno","Neurčené","Nie","24 mesiacov zadarmo",null,null,null,"Zmluva 9_BS",null,null,null,null,null,{"$f":"VLOOKUP(M461,Adresy!$A$4:$C$156,2,FALSE)","v":"Ružomberok"},{"$f":"VLOOKUP(M461,Adresy!$A$4:$C$156,3,FALSE)","v":"Generála Miloša Vesela 21"},"M","2014M11",null,null,null,null,null,{"$f":"VLOOKUP(M461,Adresy!$A$3:$C$122,2,FALSE)","v":{"$error":"#N/A"}},{"$f":"VLOOKUP(M461,Adresy!$A$3:$C$122,3,FALSE)","v":{"$error":"#N/A"}},{"$error":"#N/A"},{"$error":"#N/A"},{"$error":"#N/A"},{"$error":"#N/A"}]
["lôžko","detská lôžka","elektrické štandardné lôžko s matracom a príslušenstvom",null,null,null,null,"BUDDY L-T",null,"Linet","položková cena (bez sumárnej ceny)","HW","Ústredná vojenská nemocnica SNP Ružomberok","SR","Med Partners a.s.",null,10,20880,25056,{"$f":"IF(N462=\"SR\",1,IF(AC462=\"\",VLOOKUP(AW462,'CZKEUR Xchange rate'!$D$13:$E$234,2,FALSE),VLOOKUP(AW462,'CZKEUR Xchange rate'!$A$13:$B$234,2,FALSE)))","v":1},20880,25056,2088,2505.6,{"$f":"VLOOKUP(AW462,'Cenové indexy '!$D$7:$E$200,2,FALSE)","v":99.98},{"$f":"W462/Y462*'Cenové indexy '!$E$149","v":2153.785157031406},2584.5421884376869,2014,"11","11","2014-11-11","Áno","Áno","Neurčené","Nie","24 mesiacov zadarmo",null,null,null,"Zmluva 9_BS",null,null,null,null,null,{"$f":"VLOOKUP(M462,Adresy!$A$4:$C$156,2,FALSE)","v":"Ružomberok"},{"$f":"VLOOKUP(M462,Adresy!$A$4:$C$156,3,FALSE)","v":"Generála Miloša Vesela 21"},"M","2014M11",null,null,null,null,null,{"$f":"VLOOKUP(M462,Adresy!$A$3:$C$122,2,FALSE)","v":{"$error":"#N/A"}},{"$f":"VLOOKUP(M462,Adresy!$A$3:$C$122,3,FALSE)","v":{"$error":"#N/A"}},{"$error":"#N/A"},{"$error":"#N/A"},{"$error":"#N/A"},{"$error":"#N/A"}]
["lôžko","detské JIS lôžka","elektrické štandardné lôžko s matracom a príslušenstvom",null,null,null,null,"Eleganza smart junior",null,"Linet","položková cena (bez sumárnej ceny)","HW","Ústredná vojenská nemocnica SNP Ružomberok","SR","Med Partners a.s.",null,4,13476,16171.2,{"$f":"IF(N463=\"SR\",1,IF(AC463=\"\",VLOOKUP(AW463,'CZKEUR Xchange rate'!$D$13:$E$234,2,FALSE),VLOOKUP(AW463,'CZKEUR Xchange rate'!$A$13:$B$234,2,FALSE)))","v":1},13476,16171.2,3369,4042.8,{"$f":"VLOOKUP(AW463,'Cenové indexy '!$D$7:$E$200,2,FALSE)","v":99.98},{"$f":"W463/Y463*'Cenové indexy '!$E$149","v":3475.1447289457892},4170.1736747349469,2014,"11","11","2014-11-11","Áno","Áno","Neurčené","Nie","24 mesiacov zadarmo",null,null,null,"Zmluva 9_BS",null,null,null,null,null,{"$f":"VLOOKUP(M463,Adresy!$A$4:$C$156,2,FALSE)","v":"Ružomberok"},{"$f":"VLOOKUP(M463,Adresy!$A$4:$C$156,3,FALSE)","v":"Generála Miloša Vesela 21"},"M","2014M11",null,null,null,null,null,{"$f":"VLOOKUP(M463,Adresy!$A$3:$C$122,2,FALSE)","v":{"$error":"#N/A"}},{"$f":"VLOOKUP(M463,Adresy!$A$3:$C$122,3,FALSE)","v":{"$error":"#N/A"}},{"$error":"#N/A"},{"$error":"#N/A"},{"$error":"#N/A"},{"$error":"#N/A"}]
["aktívny antidekubitný systém",null,"antidekubitný sýstém",null,null,null,null,"Virtuoso",null,"Linet","položková cena (bez sumárnej ceny)","HW","Ústredná vojenská nemocnica SNP Ružomberok","SR","Med Partners a.s.",null,2,8910,10692,{"$f":"IF(N464=\"SR\",1,IF(AC464=\"\",VLOOKUP(AW464,'CZKEUR Xchange rate'!$D$13:$E$234,2,FALSE),VLOOKUP(AW464,'CZKEUR Xchange rate'!$A$13:$B$234,2,FALSE)))","v":1},8910,10692,4455,5346,{"$f":"VLOOKUP(AW464,'Cenové indexy '!$D$7:$E$200,2,FALSE)","v":99.98},{"$f":"W464/Y464*'Cenové indexy '!$E$149","v":4595.3605721144222},5514.4326865373068,2014,"11","11","2014-11-11","Áno","Áno","Neurčené","Nie","24 mesiacov zadarmo",null,null,null,"Zmluva 9_BS",null,null,null,null,null,{"$f":"VLOOKUP(M464,Adresy!$A$4:$C$156,2,FALSE)","v":"Ružomberok"},{"$f":"VLOOKUP(M464,Adresy!$A$4:$C$156,3,FALSE)","v":"Generála Miloša Vesela 21"},"M","2014M11",null,null,null,null,null,{"$f":"VLOOKUP(M464,Adresy!$A$3:$C$122,2,FALSE)","v":{"$error":"#N/A"}},{"$f":"VLOOKUP(M464,Adresy!$A$3:$C$122,3,FALSE)","v":{"$error":"#N/A"}},{"$error":"#N/A"},{"$error":"#N/A"},{"$error":"#N/A"},{"$error":"#N/A"}]
["lôžko","lôžka resiscutačné","elektrické resuscitačné lôžko s váhou a aktívnym antidekubitačným systémom",null,null,null,null,"Multicare",null,"Linet","položková cena (bez sumárnej ceny)","HW","Ústredná vojenská nemocnica SNP Ružomberok","SR","Med Partners a.s.",null,1,23345,28014,{"$f":"IF(N465=\"SR\",1,IF(AC465=\"\",VLOOKUP(AW465,'CZKEUR Xchange rate'!$D$13:$E$234,2,FALSE),VLOOKUP(AW465,'CZKEUR Xchange rate'!$A$13:$B$234,2,FALSE)))","v":1},23345,28014,23345,28014,{"$f":"VLOOKUP(AW465,'Cenové indexy '!$D$7:$E$200,2,FALSE)","v":99.98},{"$f":"W465/Y465*'Cenové indexy '!$E$149","v":24080.514602920583},28896.617523504698,2014,"11","11","2014-11-11","Áno","Áno","Neurčené","Nie","24 mesiacov zadarmo",null,null,null,"Zmluva 9_BS",null,null,null,null,null,{"$f":"VLOOKUP(M465,Adresy!$A$4:$C$156,2,FALSE)","v":"Ružomberok"},{"$f":"VLOOKUP(M465,Adresy!$A$4:$C$156,3,FALSE)","v":"Generála Miloša Vesela 21"},"M","2014M11",null,null,null,null,null,{"$f":"VLOOKUP(M465,Adresy!$A$3:$C$122,2,FALSE)","v":{"$error":"#N/A"}},{"$f":"VLOOKUP(M465,Adresy!$A$3:$C$122,3,FALSE)","v":{"$error":"#N/A"}},{"$error":"#N/A"},{"$error":"#N/A"},{"$error":"#N/A"},{"$error":"#N/A"}]
["lôžko","lôžka štandardné","mechanické štandardné lôžko",null,null,null,null,"Terra 402",null,"Linet","bez položkovej identifikácie ceny (v rámci sumárnej ceny)","HW","Stredoslovenský ústav srdcových a cievnych chorôb, a.s.","SR","BASCO SK s.r.o.",null,3,2756.5,3307.8,{"$f":"IF(N466=\"SR\",1,IF(AC466=\"\",VLOOKUP(AW466,'CZKEUR Xchange rate'!$D$13:$E$234,2,FALSE),VLOOKUP(AW466,'CZKEUR Xchange rate'!$A$13:$B$234,2,FALSE)))","v":1},2756.5,3307.8,918.83333333333337,1102.6000000000001,{"$f":"VLOOKUP(AW466,'Cenové indexy '!$D$7:$E$200,2,FALSE)","v":98.6},{"$f":"W466/Y466*'Cenové indexy '!$E$149","v":961.04748140635581},1153.2569776876269,2013,"07","02","2013-07-02","Áno","Nie","Neurčené","Nie","24 mesiacov zadarmo",null,null,null,"Zmluva 10_BS",null,null,null,null,null,{"$f":"VLOOKUP(M466,Adresy!$A$4:$C$156,2,FALSE)","v":"Banská Bystrica"},{"$f":"VLOOKUP(M466,Adresy!$A$4:$C$156,3,FALSE)","v":"Cesta k nemocnici 622/1"},"M","2013M07",null,null,null,null,null,{"$f":"VLOOKUP(M466,Adresy!$A$3:$C$122,2,FALSE)","v":{"$error":"#N/A"}},{"$f":"VLOOKUP(M466,Adresy!$A$3:$C$122,3,FALSE)","v":{"$error":"#N/A"}},{"$error":"#N/A"},{"$error":"#N/A"},{"$error":"#N/A"},{"$error":"#N/A"}]
["lôžko","lôžka štandardné","nočný stolík",null,null,null,null,"Eleganza classic",null,"Linet","bez položkovej identifikácie ceny (v rámci sumárnej ceny)","HW","Stredoslovenský ústav srdcových a cievnych chorôb, a.s.","SR","BASCO SK s.r.o.",null,4,2425.9,2911.1,{"$f":"IF(N467=\"SR\",1,IF(AC467=\"\",VLOOKUP(AW467,'CZKEUR Xchange rate'!$D$13:$E$234,2,FALSE),VLOOKUP(AW467,'CZKEUR Xchange rate'!$A$13:$B$234,2,FALSE)))","v":1},2425.9,2911.1,606.47500000000002,727.77499999999998,{"$f":"VLOOKUP(AW467,'Cenové indexy '!$D$7:$E$200,2,FALSE)","v":98.6},{"$f":"W467/Y467*'Cenové indexy '!$E$149","v":634.33840517241379},761.20608620689654,2013,"07","02","2013-07-02","Áno","Nie","Neurčené","Nie","24 mesiacov zadarmo",null,null,null,"Zmluva 10_BS",null,null,null,null,null,{"$f":"VLOOKUP(M467,Adresy!$A$4:$C$156,2,FALSE)","v":"Banská Bystrica"},{"$f":"VLOOKUP(M467,Adresy!$A$4:$C$156,3,FALSE)","v":"Cesta k nemocnici 622/1"},"M","2013M07",null,null,null,null,null,{"$f":"VLOOKUP(M467,Adresy!$A$3:$C$122,2,FALSE)","v":{"$error":"#N/A"}},{"$f":"VLOOKUP(M467,Adresy!$A$3:$C$122,3,FALSE)","v":{"$error":"#N/A"}},{"$error":"#N/A"},{"$error":"#N/A"},{"$error":"#N/A"},{"$error":"#N/A"}]
["lôžko","lôžka štandardné","kôš na bažanta",null,null,null,null,null,null,"Linet","bez položkovej identifikácie ceny (v rámci sumárnej ceny)","HW","Stredoslovenský ústav srdcových a cievnych chorôb, a.s.","SR","BASCO SK s.r.o.",null,8,237.1,284.5,{"$f":"IF(N468=\"SR\",1,IF(AC468=\"\",VLOOKUP(AW468,'CZKEUR Xchange rate'!$D$13:$E$234,2,FALSE),VLOOKUP(AW468,'CZKEUR Xchange rate'!$A$13:$B$234,2,FALSE)))","v":1},237.1,284.5,29.637499999999999,35.5625,{"$f":"VLOOKUP(AW468,'Cenové indexy '!$D$7:$E$200,2,FALSE)","v":98.6},{"$f":"W468/Y468*'Cenové indexy '!$E$149","v":30.99914173427992},37.198970081135904,2013,"07","02","2013-07-02","Áno","Nie","Neurčené","Nie","24 mesiacov zadarmo",null,null,null,"Zmluva 10_BS",null,null,null,null,null,{"$f":"VLOOKUP(M468,Adresy!$A$4:$C$156,2,FALSE)","v":"Banská Bystrica"},{"$f":"VLOOKUP(M468,Adresy!$A$4:$C$156,3,FALSE)","v":"Cesta k nemocnici 622/1"},"M","2013M07",null,null,null,null,null,{"$f":"VLOOKUP(M468,Adresy!$A$3:$C$122,2,FALSE)","v":{"$error":"#N/A"}},{"$f":"VLOOKUP(M468,Adresy!$A$3:$C$122,3,FALSE)","v":{"$error":"#N/A"}},{"$error":"#N/A"},{"$error":"#N/A"},{"$error":"#N/A"},{"$error":"#N/A"}]
["lôžko","lôžka štandardné","hrazda",null,null,null,null,null,null,"Linet","bez položkovej identifikácie ceny (v rámci sumárnej ceny)","HW","Stredoslovenský ústav srdcových a cievnych chorôb, a.s.","SR","BASCO SK s.r.o.",null,8,401.3,481.5,{"$f":"IF(N469=\"SR\",1,IF(AC469=\"\",VLOOKUP(AW469,'CZKEUR Xchange rate'!$D$13:$E$234,2,FALSE),VLOOKUP(AW469,'CZKEUR Xchange rate'!$A$13:$B$234,2,FALSE)))","v":1},401.3,481.5,50.162500000000001,60.1875,{"$f":"VLOOKUP(AW469,'Cenové indexy '!$D$7:$E$200,2,FALSE)","v":98.6},{"$f":"W469/Y469*'Cenové indexy '!$E$149","v":52.467126014198783},62.960551217038535,2013,"07","02","2013-07-02","Áno","Nie","Neurčené","Nie","24 mesiacov zadarmo",null,null,null,"Zmluva 10_BS",null,null,null,null,null,{"$f":"VLOOKUP(M469,Adresy!$A$4:$C$156,2,FALSE)","v":"Banská Bystrica"},{"$f":"VLOOKUP(M469,Adresy!$A$4:$C$156,3,FALSE)","v":"Cesta k nemocnici 622/1"},"M","2013M07",null,null,null,null,null,{"$f":"VLOOKUP(M469,Adresy!$A$3:$C$122,2,FALSE)","v":{"$error":"#N/A"}},{"$f":"VLOOKUP(M469,Adresy!$A$3:$C$122,3,FALSE)","v":{"$error":"#N/A"}},{"$error":"#N/A"},{"$error":"#N/A"},{"$error":"#N/A"},{"$error":"#N/A"}]
["lôžko","lôžka štandardné","držiak infúzných púmp",null,null,null,null,null,null,"Linet","bez položkovej identifikácie ceny (v rámci sumárnej ceny)","HW","Stredoslovenský ústav srdcových a cievnych chorôb, a.s.","SR","BASCO SK s.r.o.",null,8,145.9,175.1,{"$f":"IF(N470=\"SR\",1,IF(AC470=\"\",VLOOKUP(AW470,'CZKEUR Xchange rate'!$D$13:$E$234,2,FALSE),VLOOKUP(AW470,'CZKEUR Xchange rate'!$A$13:$B$234,2,FALSE)))","v":1},145.9,175.1,18.237500000000001,21.887499999999999,{"$f":"VLOOKUP(AW470,'Cenové indexy '!$D$7:$E$200,2,FALSE)","v":98.6},{"$f":"W470/Y470*'Cenové indexy '!$E$149","v":19.075389198782965},22.890467038539558,2013,"07","02","2013-07-02","Áno","Nie","Neurčené","Nie","24 mesiacov zadarmo",null,null,null,"Zmluva 10_BS",null,null,null,null,null,{"$f":"VLOOKUP(M470,Adresy!$A$4:$C$156,2,FALSE)","v":"Banská Bystrica"},{"$f":"VLOOKUP(M470,Adresy!$A$4:$C$156,3,FALSE)","v":"Cesta k nemocnici 622/1"},"M","2013M07",null,null,null,null,null,{"$f":"VLOOKUP(M470,Adresy!$A$3:$C$122,2,FALSE)","v":{"$error":"#N/A"}},{"$f":"VLOOKUP(M470,Adresy!$A$3:$C$122,3,FALSE)","v":{"$error":"#N/A"}},{"$error":"#N/A"},{"$error":"#N/A"},{"$error":"#N/A"},{"$error":"#N/A"}]
["lôžko","lôžka štandardné","infúzný stojan",null,null,null,null,null,null,"Linet","bez položkovej identifikácie ceny (v rámci sumárnej ceny)","HW","Stredoslovenský ústav srdcových a cievnych chorôb, a.s.","SR","BASCO SK s.r.o.",null,8,601.9,722.3,{"$f":"IF(N471=\"SR\",1,IF(AC471=\"\",VLOOKUP(AW471,'CZKEUR Xchange rate'!$D$13:$E$234,2,FALSE),VLOOKUP(AW471,'CZKEUR Xchange rate'!$A$13:$B$234,2,FALSE)))","v":1},601.9,722.3,75.237499999999997,90.287499999999994,{"$f":"VLOOKUP(AW471,'Cenové indexy '!$D$7:$E$200,2,FALSE)","v":98.6},{"$f":"W471/Y471*'Cenové indexy '!$E$149","v":78.694151876267753},94.432982251521295,2013,"07","02","2013-07-02","Áno","Nie","Neurčené","Nie","24 mesiacov zadarmo",null,null,null,"Zmluva 10_BS",null,null,null,null,null,{"$f":"VLOOKUP(M471,Adresy!$A$4:$C$156,2,FALSE)","v":"Banská Bystrica"},{"$f":"VLOOKUP(M471,Adresy!$A$4:$C$156,3,FALSE)","v":"Cesta k nemocnici 622/1"},"M","2013M07",null,null,null,null,null,{"$f":"VLOOKUP(M471,Adresy!$A$3:$C$122,2,FALSE)","v":{"$error":"#N/A"}},{"$f":"VLOOKUP(M471,Adresy!$A$3:$C$122,3,FALSE)","v":{"$error":"#N/A"}},{"$error":"#N/A"},{"$error":"#N/A"},{"$error":"#N/A"},{"$error":"#N/A"}]
["lôžko","lôžka štandardné","rukoveť",null,null,null,null,null,null,"Linet","bez položkovej identifikácie ceny (v rámci sumárnej ceny)","HW","Stredoslovenský ústav srdcových a cievnych chorôb, a.s.","SR","BASCO SK s.r.o.",null,8,155,186,{"$f":"IF(N472=\"SR\",1,IF(AC472=\"\",VLOOKUP(AW472,'CZKEUR Xchange rate'!$D$13:$E$234,2,FALSE),VLOOKUP(AW472,'CZKEUR Xchange rate'!$A$13:$B$234,2,FALSE)))","v":1},155,186,19.375,23.25,{"$f":"VLOOKUP(AW472,'Cenové indexy '!$D$7:$E$200,2,FALSE)","v":98.6},{"$f":"W472/Y472*'Cenové indexy '!$E$149","v":20.265149594320487},24.318179513184585,2013,"07","02","2013-07-02","Áno","Nie","Neurčené","Nie","24 mesiacov zadarmo",null,null,null,"Zmluva 10_BS",null,null,null,null,null,{"$f":"VLOOKUP(M472,Adresy!$A$4:$C$156,2,FALSE)","v":"Banská Bystrica"},{"$f":"VLOOKUP(M472,Adresy!$A$4:$C$156,3,FALSE)","v":"Cesta k nemocnici 622/1"},"M","2013M07",null,null,null,null,null,{"$f":"VLOOKUP(M472,Adresy!$A$3:$C$122,2,FALSE)","v":{"$error":"#N/A"}},{"$f":"VLOOKUP(M472,Adresy!$A$3:$C$122,3,FALSE)","v":{"$error":"#N/A"}},{"$error":"#N/A"},{"$error":"#N/A"},{"$error":"#N/A"},{"$error":"#N/A"}]
["lôžko","lôžka štandardné","stolička",null,null,null,null,null,null,"Linet","bez položkovej identifikácie ceny (v rámci sumárnej ceny)","HW","Stredoslovenský ústav srdcových a cievnych chorôb, a.s.","SR","BASCO SK s.r.o.",null,10,396,475.2,{"$f":"IF(N473=\"SR\",1,IF(AC473=\"\",VLOOKUP(AW473,'CZKEUR Xchange rate'!$D$13:$E$234,2,FALSE),VLOOKUP(AW473,'CZKEUR Xchange rate'!$A$13:$B$234,2,FALSE)))","v":1},396,475.2,39.6,47.519999999999996,{"$f":"VLOOKUP(AW473,'Cenové indexy '!$D$7:$E$200,2,FALSE)","v":98.6},{"$f":"W473/Y473*'Cenové indexy '!$E$149","v":41.419350912778903},49.703221095334683,2013,"07","02","2013-07-02","Áno","Nie","Neurčené","Nie","24 mesiacov zadarmo",null,null,null,"Zmluva 10_BS",null,null,null,null,null,{"$f":"VLOOKUP(M473,Adresy!$A$4:$C$156,2,FALSE)","v":"Banská Bystrica"},{"$f":"VLOOKUP(M473,Adresy!$A$4:$C$156,3,FALSE)","v":"Cesta k nemocnici 622/1"},"M","2013M07",null,null,null,null,null,{"$f":"VLOOKUP(M473,Adresy!$A$3:$C$122,2,FALSE)","v":{"$error":"#N/A"}},{"$f":"VLOOKUP(M473,Adresy!$A$3:$C$122,3,FALSE)","v":{"$error":"#N/A"}},{"$error":"#N/A"},{"$error":"#N/A"},{"$error":"#N/A"},{"$error":"#N/A"}]
["lôžko","lôžka štandardné","mechanické štandardné lôžko",null,null,null,null,"Terra 402",null,"Linet","bez položkovej identifikácie ceny (v rámci sumárnej ceny)","HW","Detská fakultná nemocnica s poliklinikou Banská Bystrica","SR","BASCO SK s.r.o.",null,8,7292.2,8750.6,{"$f":"IF(N474=\"SR\",1,IF(AC474=\"\",VLOOKUP(AW474,'CZKEUR Xchange rate'!$D$13:$E$234,2,FALSE),VLOOKUP(AW474,'CZKEUR Xchange rate'!$A$13:$B$234,2,FALSE)))","v":1},7292.2,8750.6,911.52499999999998,1093.825,{"$f":"VLOOKUP(AW474,'Cenové indexy '!$D$7:$E$200,2,FALSE)","v":92.42},{"$f":"W474/Y474*'Cenové indexy '!$E$149","v":1017.156170201255},1220.587404241506,2011,"12","21","2011-12-21","Áno","Nie","Neurčené","Nie","24 mesiacov zadarmo",null,null,null,"Zmluva 11_BS",null,null,null,null,null,{"$f":"VLOOKUP(M474,Adresy!$A$4:$C$156,2,FALSE)","v":"Banská Bystrica"},{"$f":"VLOOKUP(M474,Adresy!$A$4:$C$156,3,FALSE)","v":"Námestie Ludvíka Svobodu 6818/4"},"M","2011M12",null,null,null,null,null,{"$f":"VLOOKUP(M474,Adresy!$A$3:$C$122,2,FALSE)","v":"Banská Bystrica"},{"$f":"VLOOKUP(M474,Adresy!$A$3:$C$122,3,FALSE)","v":"Námestie Ludvíka Svobodu 6818/4"},0,0,0,0]
["lôžko","lôžka štandardné","pasívny antidekubitný matrac",null,"nosnosť 120kg",null,null,"EFECTA",null,"","bez položkovej identifikácie ceny (v rámci sumárnej ceny)","HW","Detská fakultná nemocnica s poliklinikou Banská Bystrica","SR","BASCO SK s.r.o.",null,8,1555.2,1866.2,{"$f":"IF(N475=\"SR\",1,IF(AC475=\"\",VLOOKUP(AW475,'CZKEUR Xchange rate'!$D$13:$E$234,2,FALSE),VLOOKUP(AW475,'CZKEUR Xchange rate'!$A$13:$B$234,2,FALSE)))","v":1},1555.2,1866.2,{"$f":"U475/Q475","v":194.4},{"$f":"V475/Q475","v":233.27500000000001},{"$f":"VLOOKUP(AW475,'Cenové indexy '!$D$7:$E$200,2,FALSE)","v":92.42},{"$f":"W475/Y475*'Cenové indexy '!$E$149","v":216.92785111447739},260.31342133737286,2011,"12","21","2011-12-21","Áno","Nie","Neurčené","Nie","24 mesiacov zadarmo",null,null,null,"Zmluva 11_BS",null,null,null,null,null,{"$f":"VLOOKUP(M475,Adresy!$A$4:$C$156,2,FALSE)","v":"Banská Bystrica"},{"$f":"VLOOKUP(M475,Adresy!$A$4:$C$156,3,FALSE)","v":"Námestie Ludvíka Svobodu 6818/4"},"M","2011M12",null,null,null,null,null,{"$f":"VLOOKUP(M475,Adresy!$A$3:$C$122,2,FALSE)","v":"Banská Bystrica"},{"$f":"VLOOKUP(M475,Adresy!$A$3:$C$122,3,FALSE)","v":"Námestie Ludvíka Svobodu 6818/4"},0,0,0,0]
["lôžko","lôžka štandardné","bočnice",null,"sklopná postranica",null,null,null,null,"","bez položkovej identifikácie ceny (v rámci sumárnej ceny)","HW","Detská fakultná nemocnica s poliklinikou Banská Bystrica","SR","BASCO SK s.r.o.",null,16,2592,3110.4,{"$f":"IF(N476=\"SR\",1,IF(AC476=\"\",VLOOKUP(AW476,'CZKEUR Xchange rate'!$D$13:$E$234,2,FALSE),VLOOKUP(AW476,'CZKEUR Xchange rate'!$A$13:$B$234,2,FALSE)))","v":1},2592,3110.4,162,194.4,{"$f":"VLOOKUP(AW476,'Cenové indexy '!$D$7:$E$200,2,FALSE)","v":92.42},{"$f":"W476/Y476*'Cenové indexy '!$E$149","v":180.77320926206448},216.92785111447736,2011,"12","21","2011-12-21","Áno","Nie","Neurčené","Nie","24 mesiacov zadarmo",null,null,null,"Zmluva 11_BS",null,null,null,null,null,{"$f":"VLOOKUP(M476,Adresy!$A$4:$C$156,2,FALSE)","v":"Banská Bystrica"},{"$f":"VLOOKUP(M476,Adresy!$A$4:$C$156,3,FALSE)","v":"Námestie Ludvíka Svobodu 6818/4"},"M","2011M12",null,null,null,null,null,{"$f":"VLOOKUP(M476,Adresy!$A$3:$C$122,2,FALSE)","v":"Banská Bystrica"},{"$f":"VLOOKUP(M476,Adresy!$A$3:$C$122,3,FALSE)","v":"Námestie Ludvíka Svobodu 6818/4"},0,0,0,0]
["lôžko","lôžka štandardné","pasívny antidekubitný matrac",null,null,null,null,"LUX",null,"Bohemia","bez položkovej identifikácie ceny (v rámci sumárnej ceny)","HW","Fakultná nemocnica Trenčín","SR","VITAMED.SK s.r.o.",null,200,18200,21840,{"$f":"IF(N477=\"SR\",1,IF(AC477=\"\",VLOOKUP(AW477,'CZKEUR Xchange rate'!$D$13:$E$234,2,FALSE),VLOOKUP(AW477,'CZKEUR Xchange rate'!$A$13:$B$234,2,FALSE)))","v":1},18200,21840,91,109.2,{"$f":"VLOOKUP(AW477,'Cenové indexy '!$D$7:$E$200,2,FALSE)","v":92.42},{"$f":"W477/Y477*'Cenové indexy '!$E$149","v":101.54544470893745},121.85453365072493,2011,"12","21","2011-12-21","Áno","Áno","Neurčené","Nie","24 mesiacov zadarmo",null,null,null,"Zmluva 12_BS",null,null,null,null,null,{"$f":"VLOOKUP(M477,Adresy!$A$4:$C$156,2,FALSE)","v":"Trenčín"},{"$f":"VLOOKUP(M477,Adresy!$A$4:$C$156,3,FALSE)","v":"Legionárska 594/2"},"M","2011M12",null,null,null,null,null,{"$f":"VLOOKUP(M477,Adresy!$A$3:$C$122,2,FALSE)","v":"Trenčín"},{"$f":"VLOOKUP(M477,Adresy!$A$3:$C$122,3,FALSE)","v":"Legionárska 594/2"},0,0,0,0]
["aktívny antidekubitný systém",null,"antidekubitný sýstém",null,null,null,null,"Virtuoso",null,"Linet","bez položkovej identifikácie ceny (v rámci sumárnej ceny)","HW","Fakultná nemocnica Trenčín","SR","BASCO SK s.r.o.",null,2,6400,7680,{"$f":"IF(N478=\"SR\",1,IF(AC478=\"\",VLOOKUP(AW478,'CZKEUR Xchange rate'!$D$13:$E$234,2,FALSE),VLOOKUP(AW478,'CZKEUR Xchange rate'!$A$13:$B$234,2,FALSE)))","v":1},6400,7680,3200,3840,{"$f":"VLOOKUP(AW478,'Cenové indexy '!$D$7:$E$200,2,FALSE)","v":89.51},{"$f":"W478/Y478*'Cenové indexy '!$E$149","v":3686.9176628309683},4424.3011953971618,2011,null,null,"2010-11-30","Áno","Áno","Neurčené","Nie","24 mesiacov zadarmo",null,null,null,"Zmluva 13_BS",null,null,null,null,null,{"$f":"VLOOKUP(M478,Adresy!$A$4:$C$156,2,FALSE)","v":"Trenčín"},{"$f":"VLOOKUP(M478,Adresy!$A$4:$C$156,3,FALSE)","v":"Legionárska 594/2"},"M","2011M06",null,null,null,null,null,{"$f":"VLOOKUP(M478,Adresy!$A$3:$C$122,2,FALSE)","v":"Trenčín"},{"$f":"VLOOKUP(M478,Adresy!$A$3:$C$122,3,FALSE)","v":"Legionárska 594/2"},0,0,0,0]
["lôžko","lôžka štandardné","pasívny antidekubitný matrac",null,"nosnosť 120kg",null,null,"EFECTA",null,"","bez položkovej identifikácie ceny (v rámci sumárnej ceny)","HW","Nemocnica Poprad, a. s.","SR","BASCO SK s.r.o.",null,50,9950,11940,{"$f":"IF(N479=\"SR\",1,IF(AC479=\"\",VLOOKUP(AW479,'CZKEUR Xchange rate'!$D$13:$E$234,2,FALSE),VLOOKUP(AW479,'CZKEUR Xchange rate'!$A$13:$B$234,2,FALSE)))","v":1},9950,11940,199,238.8,{"$f":"VLOOKUP(AW479,'Cenové indexy '!$D$7:$E$200,2,FALSE)","v":89.51},{"$f":"W479/Y479*'Cenové indexy '!$E$149","v":229.28019215730083},275.13623058876101,2011,null,null,"2010-11-30","Áno","Áno","Neurčené","Nie","24 mesiacov zadarmo",null,null,null,"Zmluva 14_BS",null,null,null,null,null,{"$f":"VLOOKUP(M479,Adresy!$A$4:$C$156,2,FALSE)","v":"Poprad"},{"$f":"VLOOKUP(M479,Adresy!$A$4:$C$156,3,FALSE)","v":"Banícka"},"M","2011M06",null,null,null,null,null,{"$f":"VLOOKUP(M479,Adresy!$A$3:$C$122,2,FALSE)","v":"Poprad"},{"$f":"VLOOKUP(M479,Adresy!$A$3:$C$122,3,FALSE)","v":"Banícka"},0,0,0,0]
["lôžko","lôžka JIS","elektrické JIS lôžko",null,null,null,null,"Latera acute",null,"Linet","bez položkovej identifikácie ceny (v rámci sumárnej ceny)","HW","Univerzitná nemocnica Martin","SR","BASCO SK s.r.o.",null,2,5130.8,6156.9,{"$f":"IF(N480=\"SR\",1,IF(AC480=\"\",VLOOKUP(AW480,'CZKEUR Xchange rate'!$D$13:$E$234,2,FALSE),VLOOKUP(AW480,'CZKEUR Xchange rate'!$A$13:$B$234,2,FALSE)))","v":1},5130.8,6156.9,2565.4,3078.45,{"$f":"VLOOKUP(AW480,'Cenové indexy '!$D$7:$E$200,2,FALSE)","v":98.57},{"$f":"W480/Y480*'Cenové indexy '!$E$149","v":2684.0793547732574},3220.8952257279088,2013,null,null,"2012-11-30","Áno","Nie","Neurčené","Nie","24 mesiacov zadarmo",null,null,null,"Zmluva 15_BS",null,null,null,null,null,{"$f":"VLOOKUP(M480,Adresy!$A$4:$C$156,2,FALSE)","v":"Martin"},{"$f":"VLOOKUP(M480,Adresy!$A$4:$C$156,3,FALSE)","v":"Kollárova 2"},"M","2013M06",null,null,null,null,null,{"$f":"VLOOKUP(M480,Adresy!$A$3:$C$122,2,FALSE)","v":{"$error":"#N/A"}},{"$f":"VLOOKUP(M480,Adresy!$A$3:$C$122,3,FALSE)","v":{"$error":"#N/A"}},{"$error":"#N/A"},{"$error":"#N/A"},{"$error":"#N/A"},{"$error":"#N/A"}]
["lôžko","lôžka JIS","infúzný stojan",null,null,null,null,null,null,"Linet","bez položkovej identifikácie ceny (v rámci sumárnej ceny)","HW","Univerzitná nemocnica Martin","SR","BASCO SK s.r.o.",null,2,100.3,120.4,{"$f":"IF(N481=\"SR\",1,IF(AC481=\"\",VLOOKUP(AW481,'CZKEUR Xchange rate'!$D$13:$E$234,2,FALSE),VLOOKUP(AW481,'CZKEUR Xchange rate'!$A$13:$B$234,2,FALSE)))","v":1},100.3,120.4,50.15,60.2,{"$f":"VLOOKUP(AW481,'Cenové indexy '!$D$7:$E$200,2,FALSE)","v":98.57},{"$f":"W481/Y481*'Cenové indexy '!$E$149","v":52.470016232119306},62.964019478543165,2013,null,null,"2012-11-30","Áno","Nie","Neurčené","Nie","24 mesiacov zadarmo",null,null,null,"Zmluva 15_BS",null,null,null,null,null,{"$f":"VLOOKUP(M481,Adresy!$A$4:$C$156,2,FALSE)","v":"Martin"},{"$f":"VLOOKUP(M481,Adresy!$A$4:$C$156,3,FALSE)","v":"Kollárova 2"},"M","2013M06",null,null,null,null,null,{"$f":"VLOOKUP(M481,Adresy!$A$3:$C$122,2,FALSE)","v":{"$error":"#N/A"}},{"$f":"VLOOKUP(M481,Adresy!$A$3:$C$122,3,FALSE)","v":{"$error":"#N/A"}},{"$error":"#N/A"},{"$error":"#N/A"},{"$error":"#N/A"},{"$error":"#N/A"}]
["lôžko","lôžka JIS","držiak kyslíka",null,null,null,null,null,null,"Linet","bez položkovej identifikácie ceny (v rámci sumárnej ceny)","HW","Univerzitná nemocnica Martin","SR","BASCO SK s.r.o.",null,2,258.39999999999998,310.10000000000002,{"$f":"IF(N482=\"SR\",1,IF(AC482=\"\",VLOOKUP(AW482,'CZKEUR Xchange rate'!$D$13:$E$234,2,FALSE),VLOOKUP(AW482,'CZKEUR Xchange rate'!$A$13:$B$234,2,FALSE)))","v":1},258.39999999999998,310.10000000000002,129.19999999999999,155.05000000000001,{"$f":"VLOOKUP(AW482,'Cenové indexy '!$D$7:$E$200,2,FALSE)","v":98.57},{"$f":"W482/Y482*'Cenové indexy '!$E$149","v":135.17699097088362},162.21238916506033,2013,null,null,"2012-11-30","Áno","Nie","Neurčené","Nie","24 mesiacov zadarmo",null,null,null,"Zmluva 15_BS",null,null,null,null,null,{"$f":"VLOOKUP(M482,Adresy!$A$4:$C$156,2,FALSE)","v":"Martin"},{"$f":"VLOOKUP(M482,Adresy!$A$4:$C$156,3,FALSE)","v":"Kollárova 2"},"M","2013M06",null,null,null,null,null,{"$f":"VLOOKUP(M482,Adresy!$A$3:$C$122,2,FALSE)","v":{"$error":"#N/A"}},{"$f":"VLOOKUP(M482,Adresy!$A$3:$C$122,3,FALSE)","v":{"$error":"#N/A"}},{"$error":"#N/A"},{"$error":"#N/A"},{"$error":"#N/A"},{"$error":"#N/A"}]
["lôžko","lôžka JIS","hrazda",null,null,null,null,null,null,"Linet","bez položkovej identifikácie ceny (v rámci sumárnej ceny)","HW","Univerzitná nemocnica Martin","SR","BASCO SK s.r.o.",null,2,95.8,114.9,{"$f":"IF(N483=\"SR\",1,IF(AC483=\"\",VLOOKUP(AW483,'CZKEUR Xchange rate'!$D$13:$E$234,2,FALSE),VLOOKUP(AW483,'CZKEUR Xchange rate'!$A$13:$B$234,2,FALSE)))","v":1},95.8,114.9,47.9,57.45,{"$f":"VLOOKUP(AW483,'Cenové indexy '!$D$7:$E$200,2,FALSE)","v":98.57},{"$f":"W483/Y483*'Cenové indexy '!$E$149","v":50.115927767069088},60.139113320482906,2013,null,null,"2012-11-30","Áno","Nie","Neurčené","Nie","24 mesiacov zadarmo",null,null,null,"Zmluva 15_BS",null,null,null,null,null,{"$f":"VLOOKUP(M483,Adresy!$A$4:$C$156,2,FALSE)","v":"Martin"},{"$f":"VLOOKUP(M483,Adresy!$A$4:$C$156,3,FALSE)","v":"Kollárova 2"},"M","2013M06",null,null,null,null,null,{"$f":"VLOOKUP(M483,Adresy!$A$3:$C$122,2,FALSE)","v":{"$error":"#N/A"}},{"$f":"VLOOKUP(M483,Adresy!$A$3:$C$122,3,FALSE)","v":{"$error":"#N/A"}},{"$error":"#N/A"},{"$error":"#N/A"},{"$error":"#N/A"},{"$error":"#N/A"}]
["lôžko","lôžka JIS","rukoveť",null,null,null,null,null,null,"Linet","bez položkovej identifikácie ceny (v rámci sumárnej ceny)","HW","Univerzitná nemocnica Martin","SR","BASCO SK s.r.o.",null,2,25.8,31,{"$f":"IF(N484=\"SR\",1,IF(AC484=\"\",VLOOKUP(AW484,'CZKEUR Xchange rate'!$D$13:$E$234,2,FALSE),VLOOKUP(AW484,'CZKEUR Xchange rate'!$A$13:$B$234,2,FALSE)))","v":1},25.8,31,12.9,15.5,{"$f":"VLOOKUP(AW484,'Cenové indexy '!$D$7:$E$200,2,FALSE)","v":98.57},{"$f":"W484/Y484*'Cenové indexy '!$E$149","v":13.496773866287917},16.196128639545499,2013,null,null,"2012-11-30","Áno","Nie","Neurčené","Nie","24 mesiacov zadarmo",null,null,null,"Zmluva 15_BS",null,null,null,null,null,{"$f":"VLOOKUP(M484,Adresy!$A$4:$C$156,2,FALSE)","v":"Martin"},{"$f":"VLOOKUP(M484,Adresy!$A$4:$C$156,3,FALSE)","v":"Kollárova 2"},"M","2013M06",null,null,null,null,null,{"$f":"VLOOKUP(M484,Adresy!$A$3:$C$122,2,FALSE)","v":{"$error":"#N/A"}},{"$f":"VLOOKUP(M484,Adresy!$A$3:$C$122,3,FALSE)","v":{"$error":"#N/A"}},{"$error":"#N/A"},{"$error":"#N/A"},{"$error":"#N/A"},{"$error":"#N/A"}]
["lôžko","lôžka JIS","pasívny antidekubitný matrac",null,null,null,null,"EFECTA",null,"","bez položkovej identifikácie ceny (v rámci sumárnej ceny)","HW","Univerzitná nemocnica Martin","SR","BASCO SK s.r.o.",null,2,155,186,{"$f":"IF(N485=\"SR\",1,IF(AC485=\"\",VLOOKUP(AW485,'CZKEUR Xchange rate'!$D$13:$E$234,2,FALSE),VLOOKUP(AW485,'CZKEUR Xchange rate'!$A$13:$B$234,2,FALSE)))","v":1},155,186,77.5,93,{"$f":"VLOOKUP(AW485,'Cenové indexy '!$D$7:$E$200,2,FALSE)","v":98.57},{"$f":"W485/Y485*'Cenové indexy '!$E$149","v":81.085269351729735},97.302323222075685,2013,null,null,"2012-11-30","Áno","Nie","Neurčené","Nie","24 mesiacov zadarmo",null,null,null,"Zmluva 15_BS",null,null,null,null,null,{"$f":"VLOOKUP(M485,Adresy!$A$4:$C$156,2,FALSE)","v":"Martin"},{"$f":"VLOOKUP(M485,Adresy!$A$4:$C$156,3,FALSE)","v":"Kollárova 2"},"M","2013M06",null,null,null,null,null,{"$f":"VLOOKUP(M485,Adresy!$A$3:$C$122,2,FALSE)","v":{"$error":"#N/A"}},{"$f":"VLOOKUP(M485,Adresy!$A$3:$C$122,3,FALSE)","v":{"$error":"#N/A"}},{"$error":"#N/A"},{"$error":"#N/A"},{"$error":"#N/A"},{"$error":"#N/A"}]
["lôžko","lôžka resiscutačné","elektrické resuscitačné lôžko s váhou a aktívnym antidekubitačným systémom",null,null,null,null,"Multicare",null,"Linet","bez položkovej identifikácie ceny (v rámci sumárnej ceny)","HW","Univerzitná nemocnica Martin","SR","BASCO SK s.r.o.",null,3,35710,42852,{"$f":"IF(N486=\"SR\",1,IF(AC486=\"\",VLOOKUP(AW486,'CZKEUR Xchange rate'!$D$13:$E$234,2,FALSE),VLOOKUP(AW486,'CZKEUR Xchange rate'!$A$13:$B$234,2,FALSE)))","v":1},35710,42852,11903.333333333334,14284,{"$f":"VLOOKUP(AW486,'Cenové indexy '!$D$7:$E$200,2,FALSE)","v":98.57},{"$f":"W486/Y486*'Cenové indexy '!$E$149","v":12453.999864732339},14944.799837678805,2013,null,null,"2012-11-30","Áno","Nie","Neurčené","Nie","24 mesiacov zadarmo",null,null,null,"Zmluva 16_BS",null,null,null,null,null,{"$f":"VLOOKUP(M486,Adresy!$A$4:$C$156,2,FALSE)","v":"Martin"},{"$f":"VLOOKUP(M486,Adresy!$A$4:$C$156,3,FALSE)","v":"Kollárova 2"},"M","2013M06",null,null,null,null,null,{"$f":"VLOOKUP(M486,Adresy!$A$3:$C$122,2,FALSE)","v":{"$error":"#N/A"}},{"$f":"VLOOKUP(M486,Adresy!$A$3:$C$122,3,FALSE)","v":{"$error":"#N/A"}},{"$error":"#N/A"},{"$error":"#N/A"},{"$error":"#N/A"},{"$error":"#N/A"}]
["lôžko","lôžka štandardné","mechanické štandardné lôžko",null,null,null,null,"Calma 202",null,"Linet","sumárna cena","HW","Nemocnica Poprad, a. s.","SR","BASCO SK s.r.o.",null,28,41300,49560,{"$f":"IF(N487=\"SR\",1,IF(AC487=\"\",VLOOKUP(AW487,'CZKEUR Xchange rate'!$D$13:$E$234,2,FALSE),VLOOKUP(AW487,'CZKEUR Xchange rate'!$A$13:$B$234,2,FALSE)))","v":1},41300,49560,1475,1770,{"$f":"VLOOKUP(AW487,'Cenové indexy '!$D$7:$E$200,2,FALSE)","v":99.5},{"$f":"W487/Y487*'Cenové indexy '!$E$149","v":1528.8115577889446},1834.5738693467335,2014,null,null,"2013-11-30","Áno","Áno","3 splátky","Nie","24 mesiacov zadarmo",null,null,null,"Zmluva 17_BS",null,null,null,null,null,{"$f":"VLOOKUP(M487,Adresy!$A$4:$C$156,2,FALSE)","v":"Poprad"},{"$f":"VLOOKUP(M487,Adresy!$A$4:$C$156,3,FALSE)","v":"Banícka"},"M","2014M06",null,null,null,null,null,{"$f":"VLOOKUP(M487,Adresy!$A$3:$C$122,2,FALSE)","v":"Poprad"},{"$f":"VLOOKUP(M487,Adresy!$A$3:$C$122,3,FALSE)","v":"Banícka"},0,0,0,0]
["lôžko","lôžka štandardné","infúzný stojan",null,null,null,null,null,null,"Linet","bez položkovej identifikácie ceny (v rámci sumárnej ceny)","HW","Nemocnica Poprad, a. s.","SR","BASCO SK s.r.o.",null,28,null,null,{"$f":"IF(N488=\"SR\",1,IF(AC488=\"\",VLOOKUP(AW488,'CZKEUR Xchange rate'!$D$13:$E$234,2,FALSE),VLOOKUP(AW488,'CZKEUR Xchange rate'!$A$13:$B$234,2,FALSE)))","v":1},0,0,0,0,{"$f":"VLOOKUP(AW488,'Cenové indexy '!$D$7:$E$200,2,FALSE)","v":99.5},{"$f":"W488/Y488*'Cenové indexy '!$E$149","v":0},0,2014,null,null,"2013-11-30","Áno","Áno","3 splátky","Nie","24 mesiacov zadarmo",null,null,null,"Zmluva 17_BS",null,null,null,null,null,{"$f":"VLOOKUP(M488,Adresy!$A$4:$C$156,2,FALSE)","v":"Poprad"},{"$f":"VLOOKUP(M488,Adresy!$A$4:$C$156,3,FALSE)","v":"Banícka"},"M","2014M06",null,null,null,null,null,{"$f":"VLOOKUP(M488,Adresy!$A$3:$C$122,2,FALSE)","v":"Poprad"},{"$f":"VLOOKUP(M488,Adresy!$A$3:$C$122,3,FALSE)","v":"Banícka"},0,0,0,0]
["lôžko","lôžka štandardné","hrazda",null,null,null,null,null,null,"Linet","bez položkovej identifikácie ceny (v rámci sumárnej ceny)","HW","Nemocnica Poprad, a. s.","SR","BASCO SK s.r.o.",null,28,null,null,{"$f":"IF(N489=\"SR\",1,IF(AC489=\"\",VLOOKUP(AW489,'CZKEUR Xchange rate'!$D$13:$E$234,2,FALSE),VLOOKUP(AW489,'CZKEUR Xchange rate'!$A$13:$B$234,2,FALSE)))","v":1},{"$f":"R489/T489","v":0},{"$f":"S489/T489","v":0},0,0,{"$f":"VLOOKUP(AW489,'Cenové indexy '!$D$7:$E$200,2,FALSE)","v":99.5},{"$f":"W489/Y489*'Cenové indexy '!$E$149","v":0},0,2014,null,null,"2013-11-30","Áno","Áno","3 splátky","Nie","24 mesiacov zadarmo",null,null,null,"Zmluva 17_BS",null,null,null,null,null,{"$f":"VLOOKUP(M489,Adresy!$A$4:$C$156,2,FALSE)","v":"Poprad"},{"$f":"VLOOKUP(M489,Adresy!$A$4:$C$156,3,FALSE)","v":"Banícka"},"M","2014M06",null,null,null,null,null,{"$f":"VLOOKUP(M489,Adresy!$A$3:$C$122,2,FALSE)","v":"Poprad"},{"$f":"VLOOKUP(M489,Adresy!$A$3:$C$122,3,FALSE)","v":"Banícka"},0,0,0,0]
["lôžko","lôžka štandardné","pasívny antidekubitný matrac",null,null,null,null,"Prema",null,"Linet","bez položkovej identifikácie ceny (v rámci sumárnej ceny)","HW","Nemocnica Poprad, a. s.","SR","BASCO SK s.r.o.",null,28,null,null,{"$f":"IF(N490=\"SR\",1,IF(AC490=\"\",VLOOKUP(AW490,'CZKEUR Xchange rate'!$D$13:$E$234,2,FALSE),VLOOKUP(AW490,'CZKEUR Xchange rate'!$A$13:$B$234,2,FALSE)))","v":1},0,0,0,0,{"$f":"VLOOKUP(AW490,'Cenové indexy '!$D$7:$E$200,2,FALSE)","v":99.5},{"$f":"W490/Y490*'Cenové indexy '!$E$149","v":0},0,2014,null,null,"2013-11-30","Áno","Áno","3 splátky","Nie","24 mesiacov zadarmo",null,null,null,"Zmluva 17_BS",null,null,null,null,null,{"$f":"VLOOKUP(M490,Adresy!$A$4:$C$156,2,FALSE)","v":"Poprad"},{"$f":"VLOOKUP(M490,Adresy!$A$4:$C$156,3,FALSE)","v":"Banícka"},"M","2014M06",null,null,null,null,null,{"$f":"VLOOKUP(M490,Adresy!$A$3:$C$122,2,FALSE)","v":"Poprad"},{"$f":"VLOOKUP(M490,Adresy!$A$3:$C$122,3,FALSE)","v":"Banícka"},0,0,0,0]
["lôžko","lôžka štandardné","elektrické štandardné lôžko",null,"s kardio kreslom",null,null,"Eleganza 1",null,"Linet","sumárna cena","HW","Nemocnica Poprad, a. s.","SR","BASCO SK s.r.o.",null,4,11419.2,13703,{"$f":"IF(N491=\"SR\",1,IF(AC491=\"\",VLOOKUP(AW491,'CZKEUR Xchange rate'!$D$13:$E$234,2,FALSE),VLOOKUP(AW491,'CZKEUR Xchange rate'!$A$13:$B$234,2,FALSE)))","v":1},11419.2,13703,2854.8,3425.75,{"$f":"VLOOKUP(AW491,'Cenové indexy '!$D$7:$E$200,2,FALSE)","v":99.5},{"$f":"W491/Y491*'Cenové indexy '!$E$149","v":2958.9499899497487},3550.7399879396985,2014,null,null,"2013-11-30","Áno","Áno","3 splátky","Nie","24 mesiacov zadarmo",null,null,null,"Zmluva 17_BS",null,null,null,null,null,{"$f":"VLOOKUP(M491,Adresy!$A$4:$C$156,2,FALSE)","v":"Poprad"},{"$f":"VLOOKUP(M491,Adresy!$A$4:$C$156,3,FALSE)","v":"Banícka"},"M","2014M06",null,null,null,null,null,{"$f":"VLOOKUP(M491,Adresy!$A$3:$C$122,2,FALSE)","v":"Poprad"},{"$f":"VLOOKUP(M491,Adresy!$A$3:$C$122,3,FALSE)","v":"Banícka"},0,0,0,0]
["lôžko","lôžka štandardné","infúzný stojan",null,null,null,null,null,null,"Linet","bez položkovej identifikácie ceny (v rámci sumárnej ceny)","HW","Nemocnica Poprad, a. s.","SR","BASCO SK s.r.o.",null,4,null,null,{"$f":"IF(N492=\"SR\",1,IF(AC492=\"\",VLOOKUP(AW492,'CZKEUR Xchange rate'!$D$13:$E$234,2,FALSE),VLOOKUP(AW492,'CZKEUR Xchange rate'!$A$13:$B$234,2,FALSE)))","v":1},0,0,0,0,{"$f":"VLOOKUP(AW492,'Cenové indexy '!$D$7:$E$200,2,FALSE)","v":99.5},{"$f":"W492/Y492*'Cenové indexy '!$E$149","v":0},0,2014,null,null,"2013-11-30","Áno","Áno","3 splátky","Nie","24 mesiacov zadarmo",null,null,null,"Zmluva 17_BS",null,null,null,null,null,{"$f":"VLOOKUP(M492,Adresy!$A$4:$C$156,2,FALSE)","v":"Poprad"},{"$f":"VLOOKUP(M492,Adresy!$A$4:$C$156,3,FALSE)","v":"Banícka"},"M","2014M06",null,null,null,null,null,{"$f":"VLOOKUP(M492,Adresy!$A$3:$C$122,2,FALSE)","v":"Poprad"},{"$f":"VLOOKUP(M492,Adresy!$A$3:$C$122,3,FALSE)","v":"Banícka"},0,0,0,0]
["lôžko","lôžka štandardné","hrazda",null,null,null,null,null,null,"Linet","bez položkovej identifikácie ceny (v rámci sumárnej ceny)","HW","Nemocnica Poprad, a. s.","SR","BASCO SK s.r.o.",null,4,null,null,{"$f":"IF(N493=\"SR\",1,IF(AC493=\"\",VLOOKUP(AW493,'CZKEUR Xchange rate'!$D$13:$E$234,2,FALSE),VLOOKUP(AW493,'CZKEUR Xchange rate'!$A$13:$B$234,2,FALSE)))","v":1},0,0,0,0,{"$f":"VLOOKUP(AW493,'Cenové indexy '!$D$7:$E$200,2,FALSE)","v":99.5},{"$f":"W493/Y493*'Cenové indexy '!$E$149","v":0},0,2014,null,null,"2013-11-30","Áno","Áno","3 splátky","Nie","24 mesiacov zadarmo",null,null,null,"Zmluva 17_BS",null,null,null,null,null,{"$f":"VLOOKUP(M493,Adresy!$A$4:$C$156,2,FALSE)","v":"Poprad"},{"$f":"VLOOKUP(M493,Adresy!$A$4:$C$156,3,FALSE)","v":"Banícka"},"M","2014M06",null,null,null,null,null,{"$f":"VLOOKUP(M493,Adresy!$A$3:$C$122,2,FALSE)","v":"Poprad"},{"$f":"VLOOKUP(M493,Adresy!$A$3:$C$122,3,FALSE)","v":"Banícka"},0,0,0,0]
["lôžko","lôžka štandardné","držiaky",null,null,null,null,null,null,"Linet","bez položkovej identifikácie ceny (v rámci sumárnej ceny)","HW","Nemocnica Poprad, a. s.","SR","BASCO SK s.r.o.",null,4,null,null,{"$f":"IF(N494=\"SR\",1,IF(AC494=\"\",VLOOKUP(AW494,'CZKEUR Xchange rate'!$D$13:$E$234,2,FALSE),VLOOKUP(AW494,'CZKEUR Xchange rate'!$A$13:$B$234,2,FALSE)))","v":1},0,0,0,0,{"$f":"VLOOKUP(AW494,'Cenové indexy '!$D$7:$E$200,2,FALSE)","v":99.5},{"$f":"W494/Y494*'Cenové indexy '!$E$149","v":0},0,2014,null,null,"2013-11-30","Áno","Áno","3 splátky","Nie","24 mesiacov zadarmo",null,null,null,"Zmluva 17_BS",null,null,null,null,null,{"$f":"VLOOKUP(M494,Adresy!$A$4:$C$156,2,FALSE)","v":"Poprad"},{"$f":"VLOOKUP(M494,Adresy!$A$4:$C$156,3,FALSE)","v":"Banícka"},"M","2014M06",null,null,null,null,null,{"$f":"VLOOKUP(M494,Adresy!$A$3:$C$122,2,FALSE)","v":"Poprad"},{"$f":"VLOOKUP(M494,Adresy!$A$3:$C$122,3,FALSE)","v":"Banícka"},0,0,0,0]
["lôžko","lôžka štandardné","mechanické štandardné lôžko",null,"4-dielna ložná plocha; 200x86cm",null,null,"Calma 202",null,"Linet","bez položkovej identifikácie ceny (v rámci sumárnej ceny)","HW","Fakultná nemocnica Trnava","SR","Artspect spol. s r.o.",null,25,10350,{"$f":"R495*1.2","v":12420},{"$f":"IF(N495=\"SR\",1,IF(AC495=\"\",VLOOKUP(AW495,'CZKEUR Xchange rate'!$D$13:$E$234,2,FALSE),VLOOKUP(AW495,'CZKEUR Xchange rate'!$A$13:$B$234,2,FALSE)))","v":1},10350,12420,414,496.8,{"$f":"VLOOKUP(AW495,'Cenové indexy '!$D$7:$E$200,2,FALSE)","v":99.88},{"$f":"W495/Y495*'Cenové indexy '!$E$149","v":427.47116539847815},512.96539847817371,2015,null,null,"2014-11-30","Áno","Áno","kapitálovka","Nie","24 mesiacov zadarmo",null,null,null,"Zmluva 1_XS",null,null,null,null,null,{"$f":"VLOOKUP(M495,Adresy!$A$4:$C$156,2,FALSE)","v":"Trnava"},{"$f":"VLOOKUP(M495,Adresy!$A$4:$C$156,3,FALSE)","v":"Andreja Žarnova 11"},"M","2015M06",null,null,null,null,null,{"$f":"VLOOKUP(M495,Adresy!$A$3:$C$122,2,FALSE)","v":"Trnava"},{"$f":"VLOOKUP(M495,Adresy!$A$3:$C$122,3,FALSE)","v":"Andreja Žarnova 11"},0,0,0,0]
["lôžko","lôžka štandardné","mechanické štandardné lôžko",null,"4-dielna ložná plocha; 200x75cm",null,null,"Calma 202",null,"Linet","bez položkovej identifikácie ceny (v rámci sumárnej ceny)","HW","Fakultná nemocnica Trnava","SR","Artspect spol. s r.o.",null,61,25327.200000000001,30392.639999999999,{"$f":"IF(N496=\"SR\",1,IF(AC496=\"\",VLOOKUP(AW496,'CZKEUR Xchange rate'!$D$13:$E$234,2,FALSE),VLOOKUP(AW496,'CZKEUR Xchange rate'!$A$13:$B$234,2,FALSE)))","v":1},25327.200000000001,30392.639999999999,415.2,498.24,{"$f":"VLOOKUP(AW496,'Cenové indexy '!$D$7:$E$200,2,FALSE)","v":99.88},{"$f":"W496/Y496*'Cenové indexy '!$E$149","v":428.7102122547056},514.45225470564674,2015,null,null,"2014-11-30","Áno","Áno","kapitálovka","Nie","24 mesiacov zadarmo",null,null,null,"Zmluva 1_XS",null,null,null,null,null,{"$f":"VLOOKUP(M496,Adresy!$A$4:$C$156,2,FALSE)","v":"Trnava"},{"$f":"VLOOKUP(M496,Adresy!$A$4:$C$156,3,FALSE)","v":"Andreja Žarnova 11"},"M","2015M06",null,null,null,null,null,{"$f":"VLOOKUP(M496,Adresy!$A$3:$C$122,2,FALSE)","v":"Trnava"},{"$f":"VLOOKUP(M496,Adresy!$A$3:$C$122,3,FALSE)","v":"Andreja Žarnova 11"},0,0,0,0]
["lôžko","lôžka štandardné","pasívny antidekubitný matrac",null,"200x86x14",null,null,"Efecta",null,"Linet","bez položkovej identifikácie ceny (v rámci sumárnej ceny)","HW","Fakultná nemocnica Trnava","SR","Artspect spol. s r.o.",null,25,2512.39,3014.8679999999999,{"$f":"IF(N497=\"SR\",1,IF(AC497=\"\",VLOOKUP(AW497,'CZKEUR Xchange rate'!$D$13:$E$234,2,FALSE),VLOOKUP(AW497,'CZKEUR Xchange rate'!$A$13:$B$234,2,FALSE)))","v":1},2512.39,3014.8679999999999,100.4956,120.59472,{"$f":"VLOOKUP(AW497,'Cenové indexy '!$D$7:$E$200,2,FALSE)","v":99.88},{"$f":"W497/Y497*'Cenové indexy '!$E$149","v":103.76563103724467},124.5187572446936,2015,null,null,"2014-11-30","Áno","Áno","kapitálovka","Nie","24 mesiacov zadarmo",null,null,null,"Zmluva 1_XS",null,null,null,null,null,{"$f":"VLOOKUP(M497,Adresy!$A$4:$C$156,2,FALSE)","v":"Trnava"},{"$f":"VLOOKUP(M497,Adresy!$A$4:$C$156,3,FALSE)","v":"Andreja Žarnova 11"},"M","2015M06",null,null,null,null,null,{"$f":"VLOOKUP(M497,Adresy!$A$3:$C$122,2,FALSE)","v":"Trnava"},{"$f":"VLOOKUP(M497,Adresy!$A$3:$C$122,3,FALSE)","v":"Andreja Žarnova 11"},0,0,0,0]
["lôžko","lôžka štandardné","pasívny antidekubitný matrac",null,"200x75x14",null,null,"Efecta",null,"Linet","bez položkovej identifikácie ceny (v rámci sumárnej ceny)","HW","Fakultná nemocnica Trnava","SR","Artspect spol. s r.o.",null,61,6159.78,7391.735999999999,{"$f":"IF(N498=\"SR\",1,IF(AC498=\"\",VLOOKUP(AW498,'CZKEUR Xchange rate'!$D$13:$E$234,2,FALSE),VLOOKUP(AW498,'CZKEUR Xchange rate'!$A$13:$B$234,2,FALSE)))","v":1},6159.78,7391.735999999999,100.97999999999999,121.17599999999999,{"$f":"VLOOKUP(AW498,'Cenové indexy '!$D$7:$E$200,2,FALSE)","v":99.88},{"$f":"W498/Y498*'Cenové indexy '!$E$149","v":104.26579295154184},125.11895154185021,2015,null,null,"2014-11-30","Áno","Áno","kapitálovka","Nie","24 mesiacov zadarmo",null,null,null,"Zmluva 1_XS",null,null,null,null,null,{"$f":"VLOOKUP(M498,Adresy!$A$4:$C$156,2,FALSE)","v":"Trnava"},{"$f":"VLOOKUP(M498,Adresy!$A$4:$C$156,3,FALSE)","v":"Andreja Žarnova 11"},"M","2015M06",null,null,null,null,null,{"$f":"VLOOKUP(M498,Adresy!$A$3:$C$122,2,FALSE)","v":"Trnava"},{"$f":"VLOOKUP(M498,Adresy!$A$3:$C$122,3,FALSE)","v":"Andreja Žarnova 11"},0,0,0,0]
["lôžko","lôžka štandardné","zábrany sklopné ľavé",null,null,null,null,null,null,"Linet","bez položkovej identifikácie ceny (v rámci sumárnej ceny)","HW","Fakultná nemocnica Trnava","SR","Artspect spol. s r.o.",null,43,4904.0600000000004,5884.8720000000003,{"$f":"IF(N499=\"SR\",1,IF(AC499=\"\",VLOOKUP(AW499,'CZKEUR Xchange rate'!$D$13:$E$234,2,FALSE),VLOOKUP(AW499,'CZKEUR Xchange rate'!$A$13:$B$234,2,FALSE)))","v":1},4904.0600000000004,5884.8720000000003,114.0479069767442,136.85748837209303,{"$f":"VLOOKUP(AW499,'Cenové indexy '!$D$7:$E$200,2,FALSE)","v":99.88},{"$f":"W499/Y499*'Cenové indexy '!$E$149","v":117.75891716571515},141.31070059885818,2015,null,null,"2014-11-30","Áno","Áno","kapitálovka","Nie","24 mesiacov zadarmo",null,null,null,"Zmluva 1_XS",null,null,null,null,null,{"$f":"VLOOKUP(M499,Adresy!$A$4:$C$156,2,FALSE)","v":"Trnava"},{"$f":"VLOOKUP(M499,Adresy!$A$4:$C$156,3,FALSE)","v":"Andreja Žarnova 11"},"M","2015M06",null,null,null,null,null,{"$f":"VLOOKUP(M499,Adresy!$A$3:$C$122,2,FALSE)","v":"Trnava"},{"$f":"VLOOKUP(M499,Adresy!$A$3:$C$122,3,FALSE)","v":"Andreja Žarnova 11"},0,0,0,0]
["lôžko","lôžka štandardné","zábrany sklopné pravé",null,null,null,null,null,null,"Linet","bez položkovej identifikácie ceny (v rámci sumárnej ceny)","HW","Fakultná nemocnica Trnava","SR","Artspect spol. s r.o.",null,43,4904.0600000000004,5884.8720000000003,{"$f":"IF(N500=\"SR\",1,IF(AC500=\"\",VLOOKUP(AW500,'CZKEUR Xchange rate'!$D$13:$E$234,2,FALSE),VLOOKUP(AW500,'CZKEUR Xchange rate'!$A$13:$B$234,2,FALSE)))","v":1},4904.0600000000004,5884.8720000000003,114.0479069767442,136.85748837209303,{"$f":"VLOOKUP(AW500,'Cenové indexy '!$D$7:$E$200,2,FALSE)","v":99.88},{"$f":"W500/Y500*'Cenové indexy '!$E$149","v":117.75891716571515},141.31070059885818,2015,null,null,"2014-11-30","Áno","Áno","kapitálovka","Nie","24 mesiacov zadarmo",null,null,null,"Zmluva 1_XS",null,null,null,null,null,{"$f":"VLOOKUP(M500,Adresy!$A$4:$C$156,2,FALSE)","v":"Trnava"},{"$f":"VLOOKUP(M500,Adresy!$A$4:$C$156,3,FALSE)","v":"Andreja Žarnova 11"},"M","2015M06",null,null,null,null,null,{"$f":"VLOOKUP(M500,Adresy!$A$3:$C$122,2,FALSE)","v":"Trnava"},{"$f":"VLOOKUP(M500,Adresy!$A$3:$C$122,3,FALSE)","v":"Andreja Žarnova 11"},0,0,0,0]
["ultrazvukový chirurgický aspirátor",null,"konzola","s nožným pedálom",null,"použitý prístoj","CUSA Excel 8","CUSA Excel 8","pre COS","Integra Life Scientces Ltd.","položková cena (súčasť sumárnej ceny)","HW","Krajská nemocnica T.Bati, a.s.","ČR","NIMOTECH s.r.o.",null,1,956700,1157607,{"$f":"IF(N506=\"SR\",1,IF(AC506=\"\",VLOOKUP(AW506,'CZKEUR Xchange rate'!$D$13:$E$234,2,FALSE),VLOOKUP(AW506,'CZKEUR Xchange rate'!$A$13:$B$234,2,FALSE)))","v":27.027000000000001},35397.935397935398,42831.501831501831,35397.935397935398,42831.501831501831,{"$f":"VLOOKUP(AW506,'Cenové indexy '!$D$7:$E$200,2,FALSE)","v":100.29},{"$f":"W506/Y506*'Cenové indexy '!$E$149","v":36400.329819414474},43680.395783297368,2015,"12",null,"2015-11-30","Áno","Áno","12 splátok","Nie","3 mesiace",null,null,null,"Zmluva 89_DG",null,null,null,null,null,{"$f":"VLOOKUP(M506,Adresy!$A$4:$C$156,2,FALSE)","v":"Zlín"},{"$f":"VLOOKUP(M506,Adresy!$A$4:$C$156,3,FALSE)","v":"Havlíčkovo nábř. 600"},"M","2015M12",null,null,null,null,null,{"$f":"VLOOKUP(M506,Adresy!$A$3:$C$122,2,FALSE)","v":"Zlín"},{"$f":"VLOOKUP(M506,Adresy!$A$3:$C$122,3,FALSE)","v":"Havlíčkovo nábř. 600"},0,0,0,0]
["ultrazvukový chirurgický aspirátor",null,"montážny kit","pre rukoväť",null,null,"CUSA Excel 9","C5600",null,"Integra Life Scientces Ltd.,","položková cena (súčasť sumárnej ceny)","HW","Fakultná nemocnica Kráľovské Vinohrady","ČR","NIMOTECH s.r.o.",null,1,105588.40000000001,null,{"$f":"IF(N527=\"SR\",1,IF(AC527=\"\",VLOOKUP(AW527,'CZKEUR Xchange rate'!$D$13:$E$234,2,FALSE),VLOOKUP(AW527,'CZKEUR Xchange rate'!$A$13:$B$234,2,FALSE)))","v":27.039000000000001},3905.0408668959653,0,3905.0408668959653,0,{"$f":"VLOOKUP(AW527,'Cenové indexy '!$D$7:$E$200,2,FALSE)","v":100.14},{"$f":"W527/Y527*'Cenové indexy '!$E$149","v":4021.6383523365375},4825.9660228038447,2015,"11",null,"2015-10-31","Áno","Áno","EFRR","Nie","24 mesiacov",null,null,null,"Zmluva 89_AT",null,null,null,null,null,{"$f":"VLOOKUP(M527,Adresy!$A$4:$C$156,2,FALSE)","v":"Praha"},{"$f":"VLOOKUP(M527,Adresy!$A$4:$C$156,3,FALSE)","v":"Šrobárova 1150/50"},"M","2015M11",null,null,null,null,null,{"$f":"VLOOKUP(M527,Adresy!$A$3:$C$122,2,FALSE)","v":"Praha"},{"$f":"VLOOKUP(M527,Adresy!$A$3:$C$122,3,FALSE)","v":"Šrobárova 1150/50"},0,0,0,0]
["urologické pracovisko s laserom pre litotripsiu",null,"laser pre litotripsiu",null,null,null,"Calkulase litotripter","Calkulase litotripter","urologické oddelenie","","sumárna cena","HW","Fakultná nemocnica s poliklinikou J.A.Reimana Prešov","SR","Salvena s.r.o.",null,1,50692.480000000003,61154.94,{"$f":"IF(N552=\"SR\",1,IF(AC552=\"\",VLOOKUP(AW552,'CZKEUR Xchange rate'!$D$13:$E$234,2,FALSE),VLOOKUP(AW552,'CZKEUR Xchange rate'!$A$13:$B$234,2,FALSE)))","v":1},50692.480000000003,61154.94,50692.480000000003,61154.94,{"$f":"VLOOKUP(AW552,'Cenové indexy '!$D$7:$E$200,2,FALSE)","v":96.04},{"$f":"W552/Y552*'Cenové indexy '!$E$149","v":54434.77157850896},65321.725894210751,2012,"06",null,"2012-05-31","Áno","Áno","neurčené","Nie","24 mesiacov",null,null,null,"Zmluva 92_DG",null,null,null,null,null,{"$f":"VLOOKUP(M552,Adresy!$A$4:$C$156,2,FALSE)","v":"Prešov"},{"$f":"VLOOKUP(M552,Adresy!$A$4:$C$156,3,FALSE)","v":"Jána Hollého"},"M","2012M06",null,null,null,null,null,{"$f":"VLOOKUP(M552,Adresy!$A$3:$C$122,2,FALSE)","v":"Prešov"},{"$f":"VLOOKUP(M552,Adresy!$A$3:$C$122,3,FALSE)","v":"Jána Hollého"},0,0,0,0]
["urologické pracovisko s laserom pre litotripsiu",null,"laser",null,null,null,"Ho-YAG","Sphinx","pre urologické oddelenie","LISA LASER PRODUCTS","bez položkovej identifikácie ceny (v rámci sumárnej ceny)","HW","Vojenská fakultná nemocnica Praha","ČR","Hospimed spol. s r.o.",null,1,null,null,{"$f":"IF(N569=\"SR\",1,IF(AC569=\"\",VLOOKUP(AW569,'CZKEUR Xchange rate'!$D$13:$E$234,2,FALSE),VLOOKUP(AW569,'CZKEUR Xchange rate'!$A$13:$B$234,2,FALSE)))","v":25.042000000000002},0,0,null,null,{"$f":"VLOOKUP(AW569,'Cenové indexy '!$D$7:$E$200,2,FALSE)","v":92.95},{"$f":"W569/Y569*'Cenové indexy '!$E$149","v":0},0,2012,"02",null,"2012-01-31","Áno","Áno","Neurčené","Nie","24 mesiacov",null,null,null,"Zmluva 95_AT",null,null,null,null,null,{"$f":"VLOOKUP(M569,Adresy!$A$4:$C$156,2,FALSE)","v":"Praha"},{"$f":"VLOOKUP(M569,Adresy!$A$4:$C$156,3,FALSE)","v":"U Vojenské nemocnice 1/1200"},"M","2012M02",null,null,null,null,null,{"$f":"VLOOKUP(M569,Adresy!$A$3:$C$122,2,FALSE)","v":{"$error":"#N/A"}},{"$f":"VLOOKUP(M569,Adresy!$A$3:$C$122,3,FALSE)","v":{"$error":"#N/A"}},{"$error":"#N/A"},{"$error":"#N/A"},{"$error":"#N/A"},{"$error":"#N/A"}]
["fakoemulzifikačný prístroj",null,"fakoemulzifikačný prístroj","modul diatermia ",null,null,"EVA",null,"prístroj  na operácie na prednom segmente oka s možnosťou vitroretinálnej chirurgie,phacoemulzifikácia (fakoemulzifikáciu) a aspirácia zakaleného jadra - sivého zákalu šošovky (katarakta), operácie na\nsietnici a reparácia makuly","DORC","bez položkovej identifikácie ceny (v rámci sumárnej ceny)",null,"Univerzitná nemocnica L. Pasteura Košice","SR","M E D I L A S spoločnosť s ručením obmedzeným",null,null,null,null,{"$f":"IF(N599=\"SR\",1,IF(AC599=\"\",VLOOKUP(AW599,'CZKEUR Xchange rate'!$D$13:$E$234,2,FALSE),VLOOKUP(AW599,'CZKEUR Xchange rate'!$A$13:$B$234,2,FALSE)))","v":1},0,0,null,null,{"$f":"VLOOKUP(AW599,'Cenové indexy '!$D$7:$E$200,2,FALSE)","v":99.88},{"$f":"W599/Y599*'Cenové indexy '!$E$149","v":0},0,2015,"06",null,"2015-05-31","Áno","Áno","Neurčené","Nie","Neurčené",null,null,null,"Zmluva 97_AT",null,null,null,null,null,{"$f":"VLOOKUP(M599,Adresy!$A$4:$C$156,2,FALSE)","v":"Košice"},{"$f":"VLOOKUP(M599,Adresy!$A$4:$C$156,3,FALSE)","v":"Trieda SNP 457/1"},"M","2015M06",null,null,null,null,null,{"$f":"VLOOKUP(M599,Adresy!$A$3:$C$122,2,FALSE)","v":{"$error":"#N/A"}},{"$f":"VLOOKUP(M599,Adresy!$A$3:$C$122,3,FALSE)","v":{"$error":"#N/A"}},{"$error":"#N/A"},{"$error":"#N/A"},{"$error":"#N/A"},{"$error":"#N/A"}]
["fakoemulzifikačný prístroj",null,"fakoemulzifikačný prístroj","aspiračný systém s vákuovou pumpou",null,null,"Stellaris 1433","Venturi","prístroj  na operácie na prednom príp. zadnom segmente oka \nsietnici a reparácia makuly","Bausch & Lomb","bez položkovej identifikácie ceny (v rámci sumárnej ceny)",null,"Univerzitná nemocnica Bratislava ","SR","Askin&Co",null,null,null,null,{"$f":"IF(N604=\"SR\",1,IF(AC604=\"\",VLOOKUP(AW604,'CZKEUR Xchange rate'!$D$13:$E$234,2,FALSE),VLOOKUP(AW604,'CZKEUR Xchange rate'!$A$13:$B$234,2,FALSE)))","v":1},0,0,null,null,{"$f":"VLOOKUP(AW604,'Cenové indexy '!$D$7:$E$200,2,FALSE)","v":99.71},{"$f":"W604/Y604*'Cenové indexy '!$E$149","v":0},0,2014,"07",null,"2014-06-30","Áno","Áno","Neurčené","Áno","min. 12 mesiacov",null,null,null,"Zmluva 95_DG",null,"Rámcová zmluva",null,null,null,{"$f":"VLOOKUP(M604,Adresy!$A$4:$C$156,2,FALSE)","v":"Bratislava"},{"$f":"VLOOKUP(M604,Adresy!$A$4:$C$156,3,FALSE)","v":"Ružinovská 4810/6"},"M","2014M07",null,null,null,null,null,{"$f":"VLOOKUP(M604,Adresy!$A$3:$C$122,2,FALSE)","v":{"$error":"#N/A"}},{"$f":"VLOOKUP(M604,Adresy!$A$3:$C$122,3,FALSE)","v":{"$error":"#N/A"}},{"$error":"#N/A"},{"$error":"#N/A"},{"$error":"#N/A"},{"$error":"#N/A"}]
["fakoemulzifikačný prístroj",null,"príslušenstvo","rukáv na mikroinciziu ","1,8 mm",null,"Stellaris PC",null,"prístroj na operácie na prednom a zadnom segmente oka \nsietnici a reparácia makuly","Bausch & Lomb","položková cena (súčasť sumárnej ceny)",null,"Vojenská nemocnice Brno","ČR","SPIRIT MEDICAL spol. s r.o.",null,1,2678.5,3241,{"$f":"IF(N637=\"SR\",1,IF(AC637=\"\",VLOOKUP(AW637,'CZKEUR Xchange rate'!$D$13:$E$234,2,FALSE),VLOOKUP(AW637,'CZKEUR Xchange rate'!$A$13:$B$234,2,FALSE)))","v":27.039000000000001},99.060616147046858,119.86390029217056,99.060616147046858,119.86390029217056,{"$f":"VLOOKUP(AW637,'Cenové indexy '!$D$7:$E$200,2,FALSE)","v":100.14},{"$f":"W637/Y637*'Cenové indexy '!$E$149","v":102.01838768968386},122.42206522762064,2015,"11",null,"2015-10-31","Áno","Áno","Neurčené","Nie","24 mesiacov zadarmo",null,null,null,"Zmluva 104_DG",null,null,null,null,null,{"$f":"VLOOKUP(M637,Adresy!$A$4:$C$156,2,FALSE)","v":"Brno"},{"$f":"VLOOKUP(M637,Adresy!$A$4:$C$156,3,FALSE)","v":"Zábrdovická 3"},"M","2015M11",null,null,null,null,null,{"$f":"VLOOKUP(M637,Adresy!$A$3:$C$122,2,FALSE)","v":{"$error":"#N/A"}},{"$f":"VLOOKUP(M637,Adresy!$A$3:$C$122,3,FALSE)","v":{"$error":"#N/A"}},{"$error":"#N/A"},{"$error":"#N/A"},{"$error":"#N/A"},{"$error":"#N/A"}]
["fakoemulzifikačný prístroj",null,"fakoemulzifikačný prístroj","modul diatermia ",null,null,"PentaSys2",null,"prístroj na operácie na prednom a zadnom segmente oka \nsietnici a reparácia makuly","IOLTECH S.A.","bez položkovej identifikácie ceny (v rámci sumárnej ceny)",null,"Fakultná nemocnica s poliklinikou J.A.Reimana Prešov","SR","DISPOMED s.r.o.",null,null,null,null,{"$f":"IF(N651=\"SR\",1,IF(AC651=\"\",VLOOKUP(AW651,'CZKEUR Xchange rate'!$D$13:$E$234,2,FALSE),VLOOKUP(AW651,'CZKEUR Xchange rate'!$A$13:$B$234,2,FALSE)))","v":1},0,0,null,null,{"$f":"VLOOKUP(AW651,'Cenové indexy '!$D$7:$E$200,2,FALSE)","v":99.82},{"$f":"W651/Y651*'Cenové indexy '!$E$149","v":0},0,2015,"05",null,"2015-04-30","Áno","Áno","na splátky 48 mesiacov","Áno","24 mesiacov zadarmo",null,null,null,"Zmluva 106_DG",null,null,null,null,null,{"$f":"VLOOKUP(M651,Adresy!$A$4:$C$156,2,FALSE)","v":"Prešov"},{"$f":"VLOOKUP(M651,Adresy!$A$4:$C$156,3,FALSE)","v":"Jána Hollého"},"M","2015M05",null,null,null,null,null,{"$f":"VLOOKUP(M651,Adresy!$A$3:$C$122,2,FALSE)","v":"Prešov"},{"$f":"VLOOKUP(M651,Adresy!$A$3:$C$122,3,FALSE)","v":"Jána Hollého"},0,0,0,0]
["fakoemulzifikačný prístroj",null,"fakoemulzifikačný prístroj","možnosť používať rôzne typy nástrojov, koncoviek, hrotov",null,null,"Centurion Vision System",null,null,"Alcon Laboratories, Inc","bez položkovej identifikácie ceny (v rámci sumárnej ceny)",null,"Fakultná nemocnica Kráľovské Vinohrady","ČR","Alcon Pharmaceuticalis s.r.o.",null,null,null,null,{"$f":"IF(N672=\"SR\",1,IF(AC672=\"\",VLOOKUP(AW672,'CZKEUR Xchange rate'!$D$13:$E$234,2,FALSE),VLOOKUP(AW672,'CZKEUR Xchange rate'!$A$13:$B$234,2,FALSE)))","v":27.895},0,0,null,null,{"$f":"VLOOKUP(AW672,'Cenové indexy '!$D$7:$E$200,2,FALSE)","v":99.86},{"$f":"W672/Y672*'Cenové indexy '!$E$149","v":0},0,2015,"01",null,"2014-12-31","Áno","Áno",null,"Nie","24 mesiacov zadarmo",null,null,null,"Zmluva 108_DG",null,null,null,null,null,{"$f":"VLOOKUP(M672,Adresy!$A$4:$C$156,2,FALSE)","v":"Praha"},{"$f":"VLOOKUP(M672,Adresy!$A$4:$C$156,3,FALSE)","v":"Šrobárova 1150/50"},"M","2015M01",null,null,null,null,null,{"$f":"VLOOKUP(M672,Adresy!$A$3:$C$122,2,FALSE)","v":"Praha"},{"$f":"VLOOKUP(M672,Adresy!$A$3:$C$122,3,FALSE)","v":"Šrobárova 1150/50"},0,0,0,0]
["pľúcny ventilátor",null,"P/V Tool Pro Opcia",null,null,null,"Hamilton G5","Hamilton G5","pediatrická anesteziológia","Hamilton medical","položková cena (súčasť sumárnej ceny)","HW","Detská fakultná nemocnica Košice","SR","",null,2,null,null,{"$f":"IF(N684=\"SR\",1,IF(AC684=\"\",VLOOKUP(AW684,'CZKEUR Xchange rate'!$D$13:$E$234,2,FALSE),VLOOKUP(AW684,'CZKEUR Xchange rate'!$A$13:$B$234,2,FALSE)))","v":1},0,0,null,null,{"$f":"VLOOKUP(AW684,'Cenové indexy '!$D$7:$E$200,2,FALSE)","v":99.88},{"$f":"W684/Y684*'Cenové indexy '!$E$149","v":0},0,2015,null,null,"2014-11-30","Áno","Áno","Neurčené","Nie","24 mesiacov zadarmo",null,null,null,"Zmluva ?_MS",null,null,null,null,null,{"$f":"VLOOKUP(M684,Adresy!$A$4:$C$156,2,FALSE)","v":"Košice"},{"$f":"VLOOKUP(M684,Adresy!$A$4:$C$156,3,FALSE)","v":"Trieda SNP 457/1"},"M","2015M06",null,null,null,null,null,{"$f":"VLOOKUP(M684,Adresy!$A$3:$C$122,2,FALSE)","v":"Košice"},{"$f":"VLOOKUP(M684,Adresy!$A$3:$C$122,3,FALSE)","v":"Trieda SNP 457/1"},0,0,0,0]
["CT",null,"tomograf",null,null,null,"AQUILION CLX","AQUILION CLX",null,"Toshiba","bez položkovej identifikácie ceny (v rámci sumárnej ceny)",null,"Nemocnice Česká Lípa","ČR","AUDIOSCAN s.r.o.",null,null,null,null,{"$f":"IF(N723=\"SR\",1,IF(AC723=\"\",VLOOKUP(AW723,'CZKEUR Xchange rate'!$D$13:$E$234,2,FALSE),VLOOKUP(AW723,'CZKEUR Xchange rate'!$A$13:$B$234,2,FALSE)))","v":25.661999999999999},0,0,null,null,{"$f":"VLOOKUP(AW723,'Cenové indexy '!$D$7:$E$200,2,FALSE)","v":99.31},{"$f":"W723/Y723*'Cenové indexy '!$E$149","v":0},0,2013,"10",null,"2013-09-30","Áno","Áno","EFRR","Nie","24 mesiacov",null,null,null,"Zmluva 111_AT",null,null,null,null,null,{"$f":"VLOOKUP(M723,Adresy!$A$4:$C$156,2,FALSE)","v":"Česká Lípa"},{"$f":"VLOOKUP(M723,Adresy!$A$4:$C$156,3,FALSE)","v":"Purkyňova 1849"},"M","2013M10",null,null,null,null,null,{"$f":"VLOOKUP(M723,Adresy!$A$3:$C$122,2,FALSE)","v":"Česká Lípa"},{"$f":"VLOOKUP(M723,Adresy!$A$3:$C$122,3,FALSE)","v":"Purkyňova 1849"},0,0,0,0]
["CT",null,"tomograf","vrstvy 64 ",64,null,"AQUILION CLX","AQUILION CLX",null,"Toshiba","bez položkovej identifikácie ceny (v rámci sumárnej ceny)",null,"Nemocnice Česká Lípa","ČR","AUDIOSCAN s.r.o.",null,null,null,null,{"$f":"IF(N724=\"SR\",1,IF(AC724=\"\",VLOOKUP(AW724,'CZKEUR Xchange rate'!$D$13:$E$234,2,FALSE),VLOOKUP(AW724,'CZKEUR Xchange rate'!$A$13:$B$234,2,FALSE)))","v":25.661999999999999},0,0,null,null,{"$f":"VLOOKUP(AW724,'Cenové indexy '!$D$7:$E$200,2,FALSE)","v":99.31},{"$f":"W724/Y724*'Cenové indexy '!$E$149","v":0},0,2013,"10",null,"2013-09-30","Áno","Áno","EFRR","Nie","24 mesiacov",null,null,null,"Zmluva 111_AT",null,null,null,null,null,{"$f":"VLOOKUP(M724,Adresy!$A$4:$C$156,2,FALSE)","v":"Česká Lípa"},{"$f":"VLOOKUP(M724,Adresy!$A$4:$C$156,3,FALSE)","v":"Purkyňova 1849"},"M","2013M10",null,null,null,null,null,{"$f":"VLOOKUP(M724,Adresy!$A$3:$C$122,2,FALSE)","v":"Česká Lípa"},{"$f":"VLOOKUP(M724,Adresy!$A$3:$C$122,3,FALSE)","v":"Purkyňova 1849"},0,0,0,0]
["CT",null,"aplikačné softvérové vybavenie pre vyhodnocovaciu a zobrazovaciu stanicu všeobecnú","Fly through SW","endoskopia a kolonoskopia 3D virtuálna",null,"AQUILION CLX","Aqulion D konzole",null,"Toshiba","bez položkovej identifikácie ceny (v rámci sumárnej ceny)","SW","Nemocnice Česká Lípa","ČR","AUDIOSCAN s.r.o.",null,null,null,null,{"$f":"IF(N752=\"SR\",1,IF(AC752=\"\",VLOOKUP(AW752,'CZKEUR Xchange rate'!$D$13:$E$234,2,FALSE),VLOOKUP(AW752,'CZKEUR Xchange rate'!$A$13:$B$234,2,FALSE)))","v":25.661999999999999},0,0,null,null,{"$f":"VLOOKUP(AW752,'Cenové indexy '!$D$7:$E$200,2,FALSE)","v":99.31},{"$f":"W752/Y752*'Cenové indexy '!$E$149","v":0},0,2013,"10",null,"2013-09-30","Áno","Áno","EFRR","Nie","24 mesiacov",null,null,null,"Zmluva 111_AT",null,null,null,null,null,{"$f":"VLOOKUP(M752,Adresy!$A$4:$C$156,2,FALSE)","v":"Česká Lípa"},{"$f":"VLOOKUP(M752,Adresy!$A$4:$C$156,3,FALSE)","v":"Purkyňova 1849"},"M","2013M10",null,null,null,null,null,{"$f":"VLOOKUP(M752,Adresy!$A$3:$C$122,2,FALSE)","v":"Česká Lípa"},{"$f":"VLOOKUP(M752,Adresy!$A$3:$C$122,3,FALSE)","v":"Purkyňova 1849"},0,0,0,0]
["CT",null,"celá zostava","subsekundový počítačový tomograf",null,null,"AQUILION CLX","AQUILION CLX",null,"Toshiba","sumárna cena","HW","Oblastní nemocnice Jičín a.s","ČR","AUDIOSCAN s.r.o.",null,1,10477000,12677170,{"$f":"IF(N775=\"SR\",1,IF(AC775=\"\",VLOOKUP(AW775,'CZKEUR Xchange rate'!$D$13:$E$234,2,FALSE),VLOOKUP(AW775,'CZKEUR Xchange rate'!$A$13:$B$234,2,FALSE)))","v":25.818000000000001},405802.15353629249,491020.60577891389,{"$f":"U775/Q775","v":405802.15353629249},{"$f":"V775/Q775","v":491020.60577891389},{"$f":"VLOOKUP(AW775,'Cenové indexy '!$D$7:$E$200,2,FALSE)","v":98.82},{"$f":"W775/Y775*'Cenové indexy '!$E$149","v":423501.07361058338},508201.28833270003,2013,"08",null,"2013-07-31","Áno","Áno","Neurčené","Nie","24 mesiacov, potom min. 10 rokov podľa zmluvy",null,null,null,"Zmluva 112_AT",null,null,null,null,null,{"$f":"VLOOKUP(M775,Adresy!$A$4:$C$156,2,FALSE)","v":"Jičín"},{"$f":"VLOOKUP(M775,Adresy!$A$4:$C$156,3,FALSE)","v":"Bolzanova 512"},"M","2013M08",null,null,null,null,null,{"$f":"VLOOKUP(M775,Adresy!$A$3:$C$122,2,FALSE)","v":"Jičín"},{"$f":"VLOOKUP(M775,Adresy!$A$3:$C$122,3,FALSE)","v":"Bolzanova 512"},0,0,0,0]
["CT",null,"aplikačné softvérové vybavenie pre vyhodnocovaciu a zobrazovaciu stanicu I.","MPR rekonštrukcia",null,null,"AQUILION CLX","Aqulion Vitrea",null,"Toshiba","bez položkovej identifikácie ceny (v rámci sumárnej ceny)","SW","Oblastní nemocnice Jičín a.s","ČR","AUDIOSCAN s.r.o.",null,null,null,null,{"$f":"IF(N796=\"SR\",1,IF(AC796=\"\",VLOOKUP(AW796,'CZKEUR Xchange rate'!$D$13:$E$234,2,FALSE),VLOOKUP(AW796,'CZKEUR Xchange rate'!$A$13:$B$234,2,FALSE)))","v":25.818000000000001},0,0,null,null,{"$f":"VLOOKUP(AW796,'Cenové indexy '!$D$7:$E$200,2,FALSE)","v":98.82},{"$f":"W796/Y796*'Cenové indexy '!$E$149","v":0},0,2013,"08",null,"2013-07-31","Áno","Áno","Neurčené","Nie","24 mesiacov, potom min. 10 rokov podľa zmluvy",null,null,null,"Zmluva 112_AT",null,null,null,null,null,{"$f":"VLOOKUP(M796,Adresy!$A$4:$C$156,2,FALSE)","v":"Jičín"},{"$f":"VLOOKUP(M796,Adresy!$A$4:$C$156,3,FALSE)","v":"Bolzanova 512"},"M","2013M08",null,null,null,null,null,{"$f":"VLOOKUP(M796,Adresy!$A$3:$C$122,2,FALSE)","v":"Jičín"},{"$f":"VLOOKUP(M796,Adresy!$A$3:$C$122,3,FALSE)","v":"Bolzanova 512"},0,0,0,0]
["CT",null,"aplikačné softvérové vybavenie pre vyhodnocovaciu a zobrazovaciu stanicu II.","endoskopia a kolonoskopia 3D virtuálna","endoskopia a kolonoskopia 3D virtuálna",null,"AQUILION CLX","Aqulion Vitrea",null,"Toshiba","bez položkovej identifikácie ceny (v rámci sumárnej ceny)","SW","Oblastní nemocnice Jičín a.s","ČR","AUDIOSCAN s.r.o.",null,null,null,null,{"$f":"IF(N820=\"SR\",1,IF(AC820=\"\",VLOOKUP(AW820,'CZKEUR Xchange rate'!$D$13:$E$234,2,FALSE),VLOOKUP(AW820,'CZKEUR Xchange rate'!$A$13:$B$234,2,FALSE)))","v":25.818000000000001},0,0,null,null,{"$f":"VLOOKUP(AW820,'Cenové indexy '!$D$7:$E$200,2,FALSE)","v":98.82},{"$f":"W820/Y820*'Cenové indexy '!$E$149","v":0},0,2013,"08",null,"2013-07-31","Áno","Áno","Neurčené","Nie","24 mesiacov, potom min. 10 rokov podľa zmluvy",null,null,null,"Zmluva 112_AT",null,null,null,null,null,{"$f":"VLOOKUP(M820,Adresy!$A$4:$C$156,2,FALSE)","v":"Jičín"},{"$f":"VLOOKUP(M820,Adresy!$A$4:$C$156,3,FALSE)","v":"Bolzanova 512"},"M","2013M08",null,null,null,null,null,{"$f":"VLOOKUP(M820,Adresy!$A$3:$C$122,2,FALSE)","v":"Jičín"},{"$f":"VLOOKUP(M820,Adresy!$A$3:$C$122,3,FALSE)","v":"Bolzanova 512"},0,0,0,0]
["CT",null,"tomograf","priestorové rozlíšenie ","21,4 Lp/cm",null,"AQUILION CLX","AQUILION CLX",null,"Toshiba","bez položkovej identifikácie ceny (v rámci sumárnej ceny)",null,"Masarykov onkologický ústav","ČR","AUDIOSCAN s.r.o.",null,null,null,null,{"$f":"IF(N843=\"SR\",1,IF(AC843=\"\",VLOOKUP(AW843,'CZKEUR Xchange rate'!$D$13:$E$234,2,FALSE),VLOOKUP(AW843,'CZKEUR Xchange rate'!$A$13:$B$234,2,FALSE)))","v":25.818000000000001},0,0,null,null,{"$f":"VLOOKUP(AW843,'Cenové indexy '!$D$7:$E$200,2,FALSE)","v":98.82},{"$f":"W843/Y843*'Cenové indexy '!$E$149","v":0},0,2013,"08",null,"2013-07-31","Áno","Áno","Neurčené","Nie","24 mesiacov",null,null,null,"Zmluva 113_AT",null,null,null,null,null,{"$f":"VLOOKUP(M843,Adresy!$A$4:$C$156,2,FALSE)","v":"Brno"},{"$f":"VLOOKUP(M843,Adresy!$A$4:$C$156,3,FALSE)","v":"Žlutý kopec 543/7"},"M","2013M08",null,null,null,null,null,{"$f":"VLOOKUP(M843,Adresy!$A$3:$C$122,2,FALSE)","v":"Brno"},{"$f":"VLOOKUP(M843,Adresy!$A$3:$C$122,3,FALSE)","v":"Žlutý kopec 543/7"},0,0,0,0]
["CT",null,"ovládacia stanica operátora","obrazová komunikácia ","Dicom 3.0 interface  (StorageSCP, Print, MWM SCU,Q/R)",null,"AQUILION CLX",null,null,"Toshiba","bez položkovej identifikácie ceny (v rámci sumárnej ceny)",null,"Masarykov onkologický ústav","ČR","AUDIOSCAN s.r.o.",null,null,null,null,{"$f":"IF(N848=\"SR\",1,IF(AC848=\"\",VLOOKUP(AW848,'CZKEUR Xchange rate'!$D$13:$E$234,2,FALSE),VLOOKUP(AW848,'CZKEUR Xchange rate'!$A$13:$B$234,2,FALSE)))","v":25.818000000000001},0,0,null,null,{"$f":"VLOOKUP(AW848,'Cenové indexy '!$D$7:$E$200,2,FALSE)","v":98.82},{"$f":"W848/Y848*'Cenové indexy '!$E$149","v":0},0,2013,"08",null,"2013-07-31","Áno","Áno","Neurčené","Nie","24 mesiacov",null,null,null,"Zmluva 113_AT",null,null,null,null,null,{"$f":"VLOOKUP(M848,Adresy!$A$4:$C$156,2,FALSE)","v":"Brno"},{"$f":"VLOOKUP(M848,Adresy!$A$4:$C$156,3,FALSE)","v":"Žlutý kopec 543/7"},"M","2013M08",null,null,null,null,null,{"$f":"VLOOKUP(M848,Adresy!$A$3:$C$122,2,FALSE)","v":"Brno"},{"$f":"VLOOKUP(M848,Adresy!$A$3:$C$122,3,FALSE)","v":"Žlutý kopec 543/7"},0,0,0,0]
["CT",null,"celá zostava","multidetektorový počítačový tomograf",null,null,"AQUILION 64 CLX","AQUILION 64 CLX",null,"Toshiba","sumárna cena","HW","Nemocnice s poliklinikami n.o Nitra - Topoľčany","SR","AUDIOSCAN s.r.o.",null,1,445000,534000,{"$f":"IF(N867=\"SR\",1,IF(AC867=\"\",VLOOKUP(AW867,'CZKEUR Xchange rate'!$D$13:$E$234,2,FALSE),VLOOKUP(AW867,'CZKEUR Xchange rate'!$A$13:$B$234,2,FALSE)))","v":1},445000,534000,{"$f":"U867/Q867","v":445000},{"$f":"V867/Q867","v":534000},{"$f":"VLOOKUP(AW867,'Cenové indexy '!$D$7:$E$200,2,FALSE)","v":99},{"$f":"W867/Y867*'Cenové indexy '!$E$149","v":463564.14141414134},556276.96969696961,2013,"02",null,"2013-01-31","Áno","Áno","Neurčené","Nie","24 mesiacov zadarmo, potom podľa zmluvy",null,null,null,"Zmluva 96_AT",null,null,null,null,null,{"$f":"VLOOKUP(M867,Adresy!$A$4:$C$156,2,FALSE)","v":"Topoľčany"},{"$f":"VLOOKUP(M867,Adresy!$A$4:$C$156,3,FALSE)","v":"Pavlovova"},"M","2013M02",null,null,null,null,null,{"$f":"VLOOKUP(M867,Adresy!$A$3:$C$122,2,FALSE)","v":"Topoľčany"},{"$f":"VLOOKUP(M867,Adresy!$A$3:$C$122,3,FALSE)","v":"Pavlovova"},0,0,0,0]
["CT",null,"aplikačné softvérové vybavenie lekárskej postprocesingovej a diagnostickej stanice","3D rekonštrukcia","povrchová",null,"AQUILION 64 CLX",null,null,"Toshiba","bez položkovej identifikácie ceny (v rámci sumárnej ceny)",null,"Nemocnice s poliklinikami n.o Nitra - Topoľčany","SR","AUDIOSCAN s.r.o.",null,null,null,null,{"$f":"IF(N895=\"SR\",1,IF(AC895=\"\",VLOOKUP(AW895,'CZKEUR Xchange rate'!$D$13:$E$234,2,FALSE),VLOOKUP(AW895,'CZKEUR Xchange rate'!$A$13:$B$234,2,FALSE)))","v":1},0,0,null,null,{"$f":"VLOOKUP(AW895,'Cenové indexy '!$D$7:$E$200,2,FALSE)","v":99},{"$f":"W895/Y895*'Cenové indexy '!$E$149","v":0},0,2013,"02",null,"2013-01-31","Áno","Áno","Neurčené","Nie","24 mesiacov zadarmo, potom podľa zmluvy",null,null,null,"Zmluva 96_AT",null,null,null,null,null,{"$f":"VLOOKUP(M895,Adresy!$A$4:$C$156,2,FALSE)","v":"Topoľčany"},{"$f":"VLOOKUP(M895,Adresy!$A$4:$C$156,3,FALSE)","v":"Pavlovova"},"M","2013M02",null,null,null,null,null,{"$f":"VLOOKUP(M895,Adresy!$A$3:$C$122,2,FALSE)","v":"Topoľčany"},{"$f":"VLOOKUP(M895,Adresy!$A$3:$C$122,3,FALSE)","v":"Pavlovova"},0,0,0,0]
["CT",null,"tomograf","obrazová komunikácia ","DICOM 3.0",null,"Ingenuity Elite 128",null,null,"Philips","bez položkovej identifikácie ceny (v rámci sumárnej ceny)",null,"Masarykova nemocnice v Ústí nad Labem, o.z.","ČR","Philips Česká republika s.r.o.",null,null,null,null,{"$f":"IF(N920=\"SR\",1,IF(AC920=\"\",VLOOKUP(AW920,'CZKEUR Xchange rate'!$D$13:$E$234,2,FALSE),VLOOKUP(AW920,'CZKEUR Xchange rate'!$A$13:$B$234,2,FALSE)))","v":27.439},0,0,null,null,{"$f":"VLOOKUP(AW920,'Cenové indexy '!$D$7:$E$200,2,FALSE)","v":99.75},{"$f":"W920/Y920*'Cenové indexy '!$E$149","v":0},0,2015,"04",null,"2015-03-31","Áno","Áno","Neurčené","Nie","36 mesiacov, potom 10 rokov podľa zmluvy",null,null,null,"Zmluva 114_AT",null,null,null,null,null,{"$f":"VLOOKUP(M920,Adresy!$A$4:$C$156,2,FALSE)","v":"Ústí nad Labem"},{"$f":"VLOOKUP(M920,Adresy!$A$4:$C$156,3,FALSE)","v":"Sociální péčer 12A"},"M","2015M04",null,null,null,null,null,{"$f":"VLOOKUP(M920,Adresy!$A$3:$C$122,2,FALSE)","v":"Ústí nad Labem"},{"$f":"VLOOKUP(M920,Adresy!$A$3:$C$122,3,FALSE)","v":"Sociální péčer 12A"},0,0,0,0]
["CT",null,"aplikačné softvérové vybavenie multimodalitnej pracovnej stanice","SurfaceMIP",null,null,"Ingenuity Elite 128",null,null,"Philips","bez položkovej identifikácie ceny (v rámci sumárnej ceny)","SW","Masarykova nemocnice v Ústí nad Labem, o.z.","ČR","Philips Česká republika s.r.o.",null,null,null,null,{"$f":"IF(N939=\"SR\",1,IF(AC939=\"\",VLOOKUP(AW939,'CZKEUR Xchange rate'!$D$13:$E$234,2,FALSE),VLOOKUP(AW939,'CZKEUR Xchange rate'!$A$13:$B$234,2,FALSE)))","v":27.439},0,0,null,null,{"$f":"VLOOKUP(AW939,'Cenové indexy '!$D$7:$E$200,2,FALSE)","v":99.75},{"$f":"W939/Y939*'Cenové indexy '!$E$149","v":0},0,2015,"04",null,"2015-03-31","Áno","Áno","Neurčené","Nie","36 mesiacov, potom 10 rokov podľa zmluvy",null,null,null,"Zmluva 114_AT",null,null,null,null,null,{"$f":"VLOOKUP(M939,Adresy!$A$4:$C$156,2,FALSE)","v":"Ústí nad Labem"},{"$f":"VLOOKUP(M939,Adresy!$A$4:$C$156,3,FALSE)","v":"Sociální péčer 12A"},"M","2015M04",null,null,null,null,null,{"$f":"VLOOKUP(M939,Adresy!$A$3:$C$122,2,FALSE)","v":"Ústí nad Labem"},{"$f":"VLOOKUP(M939,Adresy!$A$3:$C$122,3,FALSE)","v":"Sociální péčer 12A"},0,0,0,0]
["CT",null,"aplikačné softvérové vybavenie ovládacej stanice  operátora","2D rekonštrukcia",null,null,"SOMATOM Perspective",null,null,"Siemens","bez položkovej identifikácie ceny (v rámci sumárnej ceny)",null,"Úrazová nemocnice v Brne","ČR","Siemens Healthcare s.r.o.",null,null,null,null,{"$f":"IF(N967=\"SR\",1,IF(AC967=\"\",VLOOKUP(AW967,'CZKEUR Xchange rate'!$D$13:$E$234,2,FALSE),VLOOKUP(AW967,'CZKEUR Xchange rate'!$A$13:$B$234,2,FALSE)))","v":27.599},0,0,null,null,{"$f":"VLOOKUP(AW967,'Cenové indexy '!$D$7:$E$200,2,FALSE)","v":99.83},{"$f":"W967/Y967*'Cenové indexy '!$E$149","v":0},0,2014,"09",null,"2014-08-31","Áno","Áno","Neurčené","Nie","36 mesiacov ",null,null,null,"Zmluva 129_AT",null,null,null,null,null,{"$f":"VLOOKUP(M967,Adresy!$A$4:$C$156,2,FALSE)","v":"Brno"},{"$f":"VLOOKUP(M967,Adresy!$A$4:$C$156,3,FALSE)","v":"Ponávka 6"},"M","2014M09",null,null,null,null,null,{"$f":"VLOOKUP(M967,Adresy!$A$3:$C$122,2,FALSE)","v":{"$error":"#N/A"}},{"$f":"VLOOKUP(M967,Adresy!$A$3:$C$122,3,FALSE)","v":{"$error":"#N/A"}},{"$error":"#N/A"},{"$error":"#N/A"},{"$error":"#N/A"},{"$error":"#N/A"}]
["CT",null,"aplikačné softvérové vybavenie ovládacej stanice  operátora","MIP ",null,null,"SOMATOM Perspective",null,null,"Siemens","bez položkovej identifikácie ceny (v rámci sumárnej ceny)",null,"Úrazová nemocnice v Brne","ČR","Siemens Healthcare s.r.o.",null,null,null,null,{"$f":"IF(N972=\"SR\",1,IF(AC972=\"\",VLOOKUP(AW972,'CZKEUR Xchange rate'!$D$13:$E$234,2,FALSE),VLOOKUP(AW972,'CZKEUR Xchange rate'!$A$13:$B$234,2,FALSE)))","v":27.599},0,0,null,null,{"$f":"VLOOKUP(AW972,'Cenové indexy '!$D$7:$E$200,2,FALSE)","v":99.83},{"$f":"W972/Y972*'Cenové indexy '!$E$149","v":0},0,2014,"09",null,"2014-08-31","Áno","Áno","Neurčené","Nie","36 mesiacov ",null,null,null,"Zmluva 129_AT",null,null,null,null,null,{"$f":"VLOOKUP(M972,Adresy!$A$4:$C$156,2,FALSE)","v":"Brno"},{"$f":"VLOOKUP(M972,Adresy!$A$4:$C$156,3,FALSE)","v":"Ponávka 6"},"M","2014M09",null,null,null,null,null,{"$f":"VLOOKUP(M972,Adresy!$A$3:$C$122,2,FALSE)","v":{"$error":"#N/A"}},{"$f":"VLOOKUP(M972,Adresy!$A$3:$C$122,3,FALSE)","v":{"$error":"#N/A"}},{"$error":"#N/A"},{"$error":"#N/A"},{"$error":"#N/A"},{"$error":"#N/A"}]
["CT",null,"záručný servis na 3 roky",null,null,null,"SOMATOM Perspective",null,null,"Siemens","položková cena (súčasť sumárnej ceny)",null,"Úrazová nemocnice v Brne","ČR","Siemens Healthcare s.r.o.",null,1,950615,1150244,{"$f":"IF(N1007=\"SR\",1,IF(AC1007=\"\",VLOOKUP(AW1007,'CZKEUR Xchange rate'!$D$13:$E$234,2,FALSE),VLOOKUP(AW1007,'CZKEUR Xchange rate'!$A$13:$B$234,2,FALSE)))","v":27.599},34443.820428276384,41677.017283234898,34443.820428276384,41677.017283234898,{"$f":"VLOOKUP(AW1007,'Cenové indexy '!$D$7:$E$200,2,FALSE)","v":99.83},{"$f":"W1007/Y1007*'Cenové indexy '!$E$149","v":35582.40209123653},42698.882509483832,2014,"09",null,"2014-08-31","Áno","Áno","Neurčené","Nie","36 mesiacov ",null,null,null,"Zmluva 129_AT",null,null,null,null,null,{"$f":"VLOOKUP(M1007,Adresy!$A$4:$C$156,2,FALSE)","v":"Brno"},{"$f":"VLOOKUP(M1007,Adresy!$A$4:$C$156,3,FALSE)","v":"Ponávka 6"},"M","2014M09",null,null,null,null,null,{"$f":"VLOOKUP(M1007,Adresy!$A$3:$C$122,2,FALSE)","v":{"$error":"#N/A"}},{"$f":"VLOOKUP(M1007,Adresy!$A$3:$C$122,3,FALSE)","v":{"$error":"#N/A"}},{"$error":"#N/A"},{"$error":"#N/A"},{"$error":"#N/A"},{"$error":"#N/A"}]
["CT",null,"tomograf","FAST CARE Platforma","FAST Scan Assistant, FAST Adjust, CARE kV, CARE Child, CARE Profile, CARE Dashboard, CARE Dose Configurator, Dose Notification, Dose Alert",null,"SOMATOM Definition AS (AS + konfigurácia)",null,null,"Siemens","bez položkovej identifikácie ceny (v rámci sumárnej ceny)",null,"Fakultní nemocnice Hradec Králové","ČR","Siemens Healthcare s.r.o.",null,null,null,null,{"$f":"IF(N1019=\"SR\",1,IF(AC1019=\"\",VLOOKUP(AW1019,'CZKEUR Xchange rate'!$D$13:$E$234,2,FALSE),VLOOKUP(AW1019,'CZKEUR Xchange rate'!$A$13:$B$234,2,FALSE)))","v":27.094000000000001},0,0,null,null,{"$f":"VLOOKUP(AW1019,'Cenové indexy '!$D$7:$E$200,2,FALSE)","v":99.95},{"$f":"W1019/Y1019*'Cenové indexy '!$E$149","v":0},0,2015,"07",null,"2015-06-30","Áno","Áno","EFRR","Nie","36 mesiacov ",null,null,null,"Zmluva 130_AT",null,null,null,null,null,{"$f":"VLOOKUP(M1019,Adresy!$A$4:$C$156,2,FALSE)","v":"Hradec Králové"},{"$f":"VLOOKUP(M1019,Adresy!$A$4:$C$156,3,FALSE)","v":"Sokolská 581"},"M","2015M07",null,null,null,null,null,{"$f":"VLOOKUP(M1019,Adresy!$A$3:$C$122,2,FALSE)","v":"Hradec Králové"},{"$f":"VLOOKUP(M1019,Adresy!$A$3:$C$122,3,FALSE)","v":"Sokolská 581"},0,0,0,0]
["CT",null,"pozáručný servis","bez náhradných dielov a spotrebného materiálu / na jeden rok",null,null,"SOMATOM Definition AS (AS + konfigurácia)",null,null,"Siemens","sumárna cena",null,"Fakultní nemocnice Hradec Králové","ČR","Siemens Healthcare s.r.o.",null,1,512500,null,{"$f":"IF(N1044=\"SR\",1,IF(AC1044=\"\",VLOOKUP(AW1044,'CZKEUR Xchange rate'!$D$13:$E$234,2,FALSE),VLOOKUP(AW1044,'CZKEUR Xchange rate'!$A$13:$B$234,2,FALSE)))","v":27.094000000000001},18915.627076105411,0,{"$f":"U1044/Q1044","v":18915.627076105411},{"$f":"V1044/Q1044","v":0},{"$f":"VLOOKUP(AW1044,'Cenové indexy '!$D$7:$E$200,2,FALSE)","v":99.95},{"$f":"W1044/Y1044*'Cenové indexy '!$E$149","v":19517.444926050535},23420.933911260643,2015,"07",null,"2015-06-30",null,null,"EFRR","Nie",null,null,null,null,"Zmluva 130_AT_pozáručný servis",null,null,null,null,null,{"$f":"VLOOKUP(M1044,Adresy!$A$4:$C$156,2,FALSE)","v":"Hradec Králové"},{"$f":"VLOOKUP(M1044,Adresy!$A$4:$C$156,3,FALSE)","v":"Sokolská 581"},"M","2015M07",null,null,null,null,null,{"$f":"VLOOKUP(M1044,Adresy!$A$3:$C$122,2,FALSE)","v":"Hradec Králové"},{"$f":"VLOOKUP(M1044,Adresy!$A$3:$C$122,3,FALSE)","v":"Sokolská 581"},0,0,0,0]
["CT",null,"tomograf","chladiaci systém voda/vzduch",null,null,"SOMATOM Definition AS (AS + konfigurácia)",null,null,"Siemens","bez položkovej identifikácie ceny (v rámci sumárnej ceny)",null,"Fakultní nemocnice Hradec Králové","ČR","Siemens Healthcare s.r.o.",null,null,null,null,{"$f":"IF(N1054=\"SR\",1,IF(AC1054=\"\",VLOOKUP(AW1054,'CZKEUR Xchange rate'!$D$13:$E$234,2,FALSE),VLOOKUP(AW1054,'CZKEUR Xchange rate'!$A$13:$B$234,2,FALSE)))","v":27.608000000000001},0,0,null,null,{"$f":"VLOOKUP(AW1054,'Cenové indexy '!$D$7:$E$200,2,FALSE)","v":99.95},{"$f":"W1054/Y1054*'Cenové indexy '!$E$149","v":0},0,2015,"02",null,"2015-01-31","Áno","Áno","EFRR","Nie","36 mesiacov ",null,null,null,"Zmluva 131_AT",null,null,null,null,null,{"$f":"VLOOKUP(M1054,Adresy!$A$4:$C$156,2,FALSE)","v":"Hradec Králové"},{"$f":"VLOOKUP(M1054,Adresy!$A$4:$C$156,3,FALSE)","v":"Sokolská 581"},"M","2015M02",null,null,null,null,null,{"$f":"VLOOKUP(M1054,Adresy!$A$3:$C$122,2,FALSE)","v":"Hradec Králové"},{"$f":"VLOOKUP(M1054,Adresy!$A$3:$C$122,3,FALSE)","v":"Sokolská 581"},0,0,0,0]
["CT",null,"injektor",null,null,null,"SOMATOM Definition AS (AS + konfigurácia)","Stelland D",null,"Siemens","položková cena (súčasť sumárnej ceny)",null,"Fakultní nemocnice Hradec Králové","ČR","Siemens Healthcare s.r.o.",null,1,759000,null,{"$f":"IF(N1071=\"SR\",1,IF(AC1071=\"\",VLOOKUP(AW1071,'CZKEUR Xchange rate'!$D$13:$E$234,2,FALSE),VLOOKUP(AW1071,'CZKEUR Xchange rate'!$A$13:$B$234,2,FALSE)))","v":27.608000000000001},27492.031295276731,0,{"$f":"U1071/Q1071","v":27492.031295276731},{"$f":"V1071/Q1071","v":0},{"$f":"VLOOKUP(AW1071,'Cenové indexy '!$D$7:$E$200,2,FALSE)","v":99.95},{"$f":"W1071/Y1071*'Cenové indexy '!$E$149","v":28366.715232435108},34040.05827892213,2015,"02",null,"2015-01-31","Áno","Áno","EFRR","Nie","36 mesiacov ",null,null,null,"Zmluva 131_AT",null,null,null,null,null,{"$f":"VLOOKUP(M1071,Adresy!$A$4:$C$156,2,FALSE)","v":"Hradec Králové"},{"$f":"VLOOKUP(M1071,Adresy!$A$4:$C$156,3,FALSE)","v":"Sokolská 581"},"M","2015M02",null,null,null,null,null,{"$f":"VLOOKUP(M1071,Adresy!$A$3:$C$122,2,FALSE)","v":"Hradec Králové"},{"$f":"VLOOKUP(M1071,Adresy!$A$3:$C$122,3,FALSE)","v":"Sokolská 581"},0,0,0,0]
["CT",null,"diagnostická stanica","syngio.CT cievna analýza #1",null,null,"SOMATOM Definition AS (Open 64 RT)",null,null,"Siemens","bez položkovej identifikácie ceny (v rámci sumárnej ceny)",null,"Nemocnice na Bulovce","ČR","Siemens Healthcare s.r.o.",null,null,null,null,{"$f":"IF(N1092=\"SR\",1,IF(AC1092=\"\",VLOOKUP(AW1092,'CZKEUR Xchange rate'!$D$13:$E$234,2,FALSE),VLOOKUP(AW1092,'CZKEUR Xchange rate'!$A$13:$B$234,2,FALSE)))","v":27.521000000000001},0,0,null,null,{"$f":"VLOOKUP(AW1092,'Cenové indexy '!$D$7:$E$200,2,FALSE)","v":99.28},{"$f":"W1092/Y1092*'Cenové indexy '!$E$149","v":0},0,2013,"12",null,"2013-11-30","Áno","Áno","Na splátky","Nie","24 mesiacov",null,null,null,"Zmluva 132_AT",null,null,null,null,null,{"$f":"VLOOKUP(M1092,Adresy!$A$4:$C$156,2,FALSE)","v":"Praha"},{"$f":"VLOOKUP(M1092,Adresy!$A$4:$C$156,3,FALSE)","v":"Budínova 67/2"},"M","2013M12",null,null,null,null,null,{"$f":"VLOOKUP(M1092,Adresy!$A$3:$C$122,2,FALSE)","v":"Praha"},{"$f":"VLOOKUP(M1092,Adresy!$A$3:$C$122,3,FALSE)","v":"Budínova 67/2"},0,0,0,0]
["CT",null,"syngo.CT Rapid Stent Planning #1",null,null,null,"SOMATOM Definition AS (AS + konfigurácia)",null,null,"Siemens","bez položkovej identifikácie ceny (v rámci sumárnej ceny)",null,"Nemocnica Nový Jičín a.s.","ČR","Siemens Healthcare s.r.o.",null,null,null,null,{"$f":"IF(N1122=\"SR\",1,IF(AC1122=\"\",VLOOKUP(AW1122,'CZKEUR Xchange rate'!$D$13:$E$234,2,FALSE),VLOOKUP(AW1122,'CZKEUR Xchange rate'!$A$13:$B$234,2,FALSE)))","v":27.088999999999999},0,0,null,null,{"$f":"VLOOKUP(AW1122,'Cenové indexy '!$D$7:$E$200,2,FALSE)","v":100.14},{"$f":"W1122/Y1122*'Cenové indexy '!$E$149","v":0},0,2015,"09",null,"2015-08-31","Áno","Áno","EFRR","Nie","24 mesiacov ",null,null,null,"Zmluva 134_AT",null,null,null,null,null,{"$f":"VLOOKUP(M1122,Adresy!$A$4:$C$156,2,FALSE)","v":"Nový Jičín"},{"$f":"VLOOKUP(M1122,Adresy!$A$4:$C$156,3,FALSE)","v":"K Nemocnici 76"},"M","2015M09",null,null,null,null,null,{"$f":"VLOOKUP(M1122,Adresy!$A$3:$C$122,2,FALSE)","v":"Nový Jičín"},{"$f":"VLOOKUP(M1122,Adresy!$A$3:$C$122,3,FALSE)","v":"K Nemocnici 76"},0,0,0,0]
["CT",null,"tomograf","maximálna doba rekonštrukcie ","min. 15 obrázkov/s v matrici 512x512 pixelov zo surových dát",null,"SOMATOM Perspective",null,null,"Siemens","bez položkovej identifikácie ceny (v rámci sumárnej ceny)",null,"Nemocnica s poliklinikou Brezno, n.o.","SR","Siemens Healthcare s.r.o.",null,null,null,null,{"$f":"IF(N1143=\"SR\",1,IF(AC1143=\"\",VLOOKUP(AW1143,'CZKEUR Xchange rate'!$D$13:$E$234,2,FALSE),VLOOKUP(AW1143,'CZKEUR Xchange rate'!$A$13:$B$234,2,FALSE)))","v":1},0,0,null,null,{"$f":"VLOOKUP(AW1143,'Cenové indexy '!$D$7:$E$200,2,FALSE)","v":99.95},{"$f":"W1143/Y1143*'Cenové indexy '!$E$149","v":0},0,2015,"02",null,"2015-01-31","Áno","Áno","na 2 splátky ","Nie","24 mesiacov",null,null,null,"Zmluva 110_DG",null,null,null,null,null,{"$f":"VLOOKUP(M1143,Adresy!$A$4:$C$156,2,FALSE)","v":"Brezno"},{"$f":"VLOOKUP(M1143,Adresy!$A$4:$C$156,3,FALSE)","v":"Banisko 1"},"M","2015M02",null,null,null,null,null,{"$f":"VLOOKUP(M1143,Adresy!$A$3:$C$122,2,FALSE)","v":"Brezno"},{"$f":"VLOOKUP(M1143,Adresy!$A$3:$C$122,3,FALSE)","v":"Banisko 1"},0,0,0,0]
["CT",null,"aplikačné softvérové vybavenie ovládacej pracovnej stanice pre lekára pre diagnostiku a postprocesing","softvérový balík pre hodnotenie stenóz a aneuryziem ",null,null,"SOMATOM Perspective",null,null,"Siemens","bez položkovej identifikácie ceny (v rámci sumárnej ceny)",null,"Nemocnica s poliklinikou Brezno, n.o.","SR","Siemens Healthcare s.r.o.",null,null,null,null,{"$f":"IF(N1164=\"SR\",1,IF(AC1164=\"\",VLOOKUP(AW1164,'CZKEUR Xchange rate'!$D$13:$E$234,2,FALSE),VLOOKUP(AW1164,'CZKEUR Xchange rate'!$A$13:$B$234,2,FALSE)))","v":1},0,0,null,null,{"$f":"VLOOKUP(AW1164,'Cenové indexy '!$D$7:$E$200,2,FALSE)","v":99.95},{"$f":"W1164/Y1164*'Cenové indexy '!$E$149","v":0},0,2015,"02",null,"2015-01-31","Áno","Áno","na 2 splátky ","Nie","24 mesiacov",null,null,null,"Zmluva 110_DG",null,null,null,null,null,{"$f":"VLOOKUP(M1164,Adresy!$A$4:$C$156,2,FALSE)","v":"Brezno"},{"$f":"VLOOKUP(M1164,Adresy!$A$4:$C$156,3,FALSE)","v":"Banisko 1"},"M","2015M02",null,null,null,null,null,{"$f":"VLOOKUP(M1164,Adresy!$A$3:$C$122,2,FALSE)","v":"Brezno"},{"$f":"VLOOKUP(M1164,Adresy!$A$3:$C$122,3,FALSE)","v":"Banisko 1"},0,0,0,0]
["CT",null,"aplikačné softvérové vybavenie ovládacej stanice  operátora","3d SSD",null,null,"Ingenuity Core 64"," Ingenuity Core 64",null,"Philips","bez položkovej identifikácie ceny (v rámci sumárnej ceny)",null,"Karlovarská krajská  nemocnice a.s","ČR","Medinet s.r.o.",null,null,null,null,{"$f":"IF(N1190=\"SR\",1,IF(AC1190=\"\",VLOOKUP(AW1190,'CZKEUR Xchange rate'!$D$13:$E$234,2,FALSE),VLOOKUP(AW1190,'CZKEUR Xchange rate'!$A$13:$B$234,2,FALSE)))","v":27.439},0,0,null,null,{"$f":"VLOOKUP(AW1190,'Cenové indexy '!$D$7:$E$200,2,FALSE)","v":99.75},{"$f":"W1190/Y1190*'Cenové indexy '!$E$149","v":0},0,2015,"04",null,"2015-03-31","Áno","Áno","EFRR","Áno","24 mesiacov",null,null,null,"Zmluva 111_DG",null,null,null,null,null,{"$f":"VLOOKUP(M1190,Adresy!$A$4:$C$156,2,FALSE)","v":"Karlovy Vary"},{"$f":"VLOOKUP(M1190,Adresy!$A$4:$C$156,3,FALSE)","v":"Bezručova 1190/19"},"M","2015M04",null,null,null,null,null,{"$f":"VLOOKUP(M1190,Adresy!$A$3:$C$122,2,FALSE)","v":"Karlovy Vary"},{"$f":"VLOOKUP(M1190,Adresy!$A$3:$C$122,3,FALSE)","v":"Bezručova 1190/19"},0,0,0,0]
["CT",null,"pracovná stanica pre lekára pre diagnostiku a  postprocessing","DVD archivačná jednotka",null,null,"Ingenuity Core 64","IntelliSpace Portal IX",null,"Philips","bez položkovej identifikácie ceny (v rámci sumárnej ceny)",null,"Karlovarská krajská  nemocnice a.s","ČR","Medinet s.r.o.",null,null,null,null,{"$f":"IF(N1195=\"SR\",1,IF(AC1195=\"\",VLOOKUP(AW1195,'CZKEUR Xchange rate'!$D$13:$E$234,2,FALSE),VLOOKUP(AW1195,'CZKEUR Xchange rate'!$A$13:$B$234,2,FALSE)))","v":27.439},0,0,null,null,{"$f":"VLOOKUP(AW1195,'Cenové indexy '!$D$7:$E$200,2,FALSE)","v":99.75},{"$f":"W1195/Y1195*'Cenové indexy '!$E$149","v":0},0,2015,"04",null,"2015-03-31","Áno","Áno","EFRR","Áno","24 mesiacov",null,null,null,"Zmluva 111_DG",null,null,null,null,null,{"$f":"VLOOKUP(M1195,Adresy!$A$4:$C$156,2,FALSE)","v":"Karlovy Vary"},{"$f":"VLOOKUP(M1195,Adresy!$A$4:$C$156,3,FALSE)","v":"Bezručova 1190/19"},"M","2015M04",null,null,null,null,null,{"$f":"VLOOKUP(M1195,Adresy!$A$3:$C$122,2,FALSE)","v":"Karlovy Vary"},{"$f":"VLOOKUP(M1195,Adresy!$A$3:$C$122,3,FALSE)","v":"Bezručova 1190/19"},0,0,0,0]
["CT",null,"tomograf","detektorové elementy neurčené","neurčené",null,"OPTIMA CT660",null,null,"GE Healthcare","bez položkovej identifikácie ceny (v rámci sumárnej ceny)",null,"Liptovská nemocnica s poliklinikou MUDr. Ivana Stodolu Liptovský Mikuláš","SR","INTES Poprad s.r.o.",null,null,null,null,{"$f":"IF(N1216=\"SR\",1,IF(AC1216=\"\",VLOOKUP(AW1216,'CZKEUR Xchange rate'!$D$13:$E$234,2,FALSE),VLOOKUP(AW1216,'CZKEUR Xchange rate'!$A$13:$B$234,2,FALSE)))","v":1},0,0,null,null,{"$f":"VLOOKUP(AW1216,'Cenové indexy '!$D$7:$E$200,2,FALSE)","v":92.42},{"$f":"W1216/Y1216*'Cenové indexy '!$E$149","v":0},0,2011,"12",null,"2011-11-30","Áno","Áno","na splátky 60 mesiacov","Áno","24 mesiacov",null,"60 mesiacov","24 hodín","Zmluva 112_DG",null,null,null,null,null,{"$f":"VLOOKUP(M1216,Adresy!$A$4:$C$156,2,FALSE)","v":"Liptovský Mikuláš"},{"$f":"VLOOKUP(M1216,Adresy!$A$4:$C$156,3,FALSE)","v":"Hurbanova"},"M","2011M12",null,null,null,null,null,{"$f":"VLOOKUP(M1216,Adresy!$A$3:$C$122,2,FALSE)","v":"Liptovský Mikuláš"},{"$f":"VLOOKUP(M1216,Adresy!$A$3:$C$122,3,FALSE)","v":"Hurbanova"},0,0,0,0]
["CT",null,"tomograf","tepelná kapacita  anódy RTG žiariča","6,3 MHU",null,"OPTIMA CT660S",null,null,"GE Healthcare","bez položkovej identifikácie ceny (v rámci sumárnej ceny)",null,"Fakultná nemocnica s poliklinikou F. D. Roosevelta Banská Bystrica","SR","INTES Poprad s.r.o.",null,null,null,null,{"$f":"IF(N1237=\"SR\",1,IF(AC1237=\"\",VLOOKUP(AW1237,'CZKEUR Xchange rate'!$D$13:$E$234,2,FALSE),VLOOKUP(AW1237,'CZKEUR Xchange rate'!$A$13:$B$234,2,FALSE)))","v":1},0,0,null,null,{"$f":"VLOOKUP(AW1237,'Cenové indexy '!$D$7:$E$200,2,FALSE)","v":98.82},{"$f":"W1237/Y1237*'Cenové indexy '!$E$149","v":0},0,2013,"08",null,"2013-07-31","Áno","Áno","na 24 splátok ","Áno","12 mesiacov",null,null,null,"Zmluva 113_DG",null,null,null,null,null,{"$f":"VLOOKUP(M1237,Adresy!$A$4:$C$156,2,FALSE)","v":"Banská Bystrica"},{"$f":"VLOOKUP(M1237,Adresy!$A$4:$C$156,3,FALSE)","v":"Námestie Ludvíka Svobodu 6818/4"},"M","2013M08",null,null,null,null,null,{"$f":"VLOOKUP(M1237,Adresy!$A$3:$C$122,2,FALSE)","v":"Banská Bystrica"},{"$f":"VLOOKUP(M1237,Adresy!$A$3:$C$122,3,FALSE)","v":"Námestie Ludvíka Svobodu 6818/4"},0,0,0,0]
["CT",null,"celá zostava","multidetektorový počítačový tomograf",null,null,"MX 16","MX 16",null,"Philips","sumárna cena","HW","Fakultná nemocnica Trenčín","SR","MEDICAL GROUP SK a.s.",null,1,721924,866308.8,{"$f":"IF(N1263=\"SR\",1,IF(AC1263=\"\",VLOOKUP(AW1263,'CZKEUR Xchange rate'!$D$13:$E$234,2,FALSE),VLOOKUP(AW1263,'CZKEUR Xchange rate'!$A$13:$B$234,2,FALSE)))","v":1},721924,866308.8,{"$f":"U1263/Q1263","v":721924},{"$f":"V1263/Q1263","v":866308.8},{"$f":"VLOOKUP(AW1263,'Cenové indexy '!$D$7:$E$200,2,FALSE)","v":99.5},{"$f":"W1263/Y1263*'Cenové indexy '!$E$149","v":748261.52884422103},897913.83461306524,2014,null,null,"2013-11-30","Áno","Áno","na splátky ","Áno","24 mesiacov",null,null,null,"Zmluva 114_DG",null,null,null,null,null,{"$f":"VLOOKUP(M1263,Adresy!$A$4:$C$156,2,FALSE)","v":"Trenčín"},{"$f":"VLOOKUP(M1263,Adresy!$A$4:$C$156,3,FALSE)","v":"Legionárska 594/2"},"M","2014M06",null,null,null,null,null,{"$f":"VLOOKUP(M1263,Adresy!$A$3:$C$122,2,FALSE)","v":"Trenčín"},{"$f":"VLOOKUP(M1263,Adresy!$A$3:$C$122,3,FALSE)","v":"Legionárska 594/2"},0,0,0,0]
["CT",null,"aplikačné softvérové vybavenie ovládacej pracovnej stanice pre lekára pre diagnostiku a postprocesing","2D rekonštrukcia",null,null,"MX 16",null,null,"Philips","bez položkovej identifikácie ceny (v rámci sumárnej ceny)",null,"Fakultná nemocnica Trenčín","SR","MEDICAL GROUP SK a.s.",null,null,null,null,{"$f":"IF(N1288=\"SR\",1,IF(AC1288=\"\",VLOOKUP(AW1288,'CZKEUR Xchange rate'!$D$13:$E$234,2,FALSE),VLOOKUP(AW1288,'CZKEUR Xchange rate'!$A$13:$B$234,2,FALSE)))","v":1},0,0,null,null,{"$f":"VLOOKUP(AW1288,'Cenové indexy '!$D$7:$E$200,2,FALSE)","v":99.5},{"$f":"W1288/Y1288*'Cenové indexy '!$E$149","v":0},0,2014,null,null,"2013-11-30","Áno","Áno","na splátky","Áno","24 mesiacov",null,null,null,"Zmluva 114_DG",null,null,null,null,null,{"$f":"VLOOKUP(M1288,Adresy!$A$4:$C$156,2,FALSE)","v":"Trenčín"},{"$f":"VLOOKUP(M1288,Adresy!$A$4:$C$156,3,FALSE)","v":"Legionárska 594/2"},"M","2014M06",null,null,null,null,null,{"$f":"VLOOKUP(M1288,Adresy!$A$3:$C$122,2,FALSE)","v":"Trenčín"},{"$f":"VLOOKUP(M1288,Adresy!$A$3:$C$122,3,FALSE)","v":"Legionárska 594/2"},0,0,0,0]
["CT",null,"tomograf","nastaviteľné kV","90 kV až 140 kW",null,"Ingenuity Core",null,null,"Philips","bez položkovej identifikácie ceny (v rámci sumárnej ceny)",null,"Univerzitná nemocnica Martin","SR","MEDICAL GROUP SK a.s.",null,null,null,null,{"$f":"IF(N1305=\"SR\",1,IF(AC1305=\"\",VLOOKUP(AW1305,'CZKEUR Xchange rate'!$D$13:$E$234,2,FALSE),VLOOKUP(AW1305,'CZKEUR Xchange rate'!$A$13:$B$234,2,FALSE)))","v":1},0,0,null,null,{"$f":"VLOOKUP(AW1305,'Cenové indexy '!$D$7:$E$200,2,FALSE)","v":98.57},{"$f":"W1305/Y1305*'Cenové indexy '!$E$149","v":0},0,2013,null,null,"2012-11-30","Áno","Áno","Neurčené","Áno","24 mesiacov",null,null,null,"Zmluva 115_DG",null,null,null,null,null,{"$f":"VLOOKUP(M1305,Adresy!$A$4:$C$156,2,FALSE)","v":"Martin"},{"$f":"VLOOKUP(M1305,Adresy!$A$4:$C$156,3,FALSE)","v":"Kollárova 2"},"M","2013M06",null,null,null,null,null,{"$f":"VLOOKUP(M1305,Adresy!$A$3:$C$122,2,FALSE)","v":{"$error":"#N/A"}},{"$f":"VLOOKUP(M1305,Adresy!$A$3:$C$122,3,FALSE)","v":{"$error":"#N/A"}},{"$error":"#N/A"},{"$error":"#N/A"},{"$error":"#N/A"},{"$error":"#N/A"}]
["CT",null,"ovládacia stanica operátora","kapacita pevného disku","262 GB",null,"Ingenuity Core",null,null,"Philips","bez položkovej identifikácie ceny (v rámci sumárnej ceny)",null,"Univerzitná nemocnica Martin","SR","MEDICAL GROUP SK a.s.",null,null,null,null,{"$f":"IF(N1315=\"SR\",1,IF(AC1315=\"\",VLOOKUP(AW1315,'CZKEUR Xchange rate'!$D$13:$E$234,2,FALSE),VLOOKUP(AW1315,'CZKEUR Xchange rate'!$A$13:$B$234,2,FALSE)))","v":1},0,0,null,null,{"$f":"VLOOKUP(AW1315,'Cenové indexy '!$D$7:$E$200,2,FALSE)","v":98.57},{"$f":"W1315/Y1315*'Cenové indexy '!$E$149","v":0},0,2013,null,null,"2012-11-30","Áno","Áno","Neurčené","Áno","24 mesiacov",null,null,null,"Zmluva 115_DG",null,null,null,null,null,{"$f":"VLOOKUP(M1315,Adresy!$A$4:$C$156,2,FALSE)","v":"Martin"},{"$f":"VLOOKUP(M1315,Adresy!$A$4:$C$156,3,FALSE)","v":"Kollárova 2"},"M","2013M06",null,null,null,null,null,{"$f":"VLOOKUP(M1315,Adresy!$A$3:$C$122,2,FALSE)","v":{"$error":"#N/A"}},{"$f":"VLOOKUP(M1315,Adresy!$A$3:$C$122,3,FALSE)","v":{"$error":"#N/A"}},{"$error":"#N/A"},{"$error":"#N/A"},{"$error":"#N/A"},{"$error":"#N/A"}]
["CT",null,"aplikačné softvérové vybavenie ovládacej pracovnej stanice pre lekára pre diagnostiku a postprocesing","MPR rekonštrukcia",null,null,"Ingenuity Core",null,null,"Philips","bez položkovej identifikácie ceny (v rámci sumárnej ceny)",null,"Univerzitná nemocnica Martin","SR","MEDICAL GROUP SK a.s.",null,null,null,null,{"$f":"IF(N1340=\"SR\",1,IF(AC1340=\"\",VLOOKUP(AW1340,'CZKEUR Xchange rate'!$D$13:$E$234,2,FALSE),VLOOKUP(AW1340,'CZKEUR Xchange rate'!$A$13:$B$234,2,FALSE)))","v":1},0,0,null,null,{"$f":"VLOOKUP(AW1340,'Cenové indexy '!$D$7:$E$200,2,FALSE)","v":98.57},{"$f":"W1340/Y1340*'Cenové indexy '!$E$149","v":0},0,2013,null,null,"2012-11-30","Áno","Áno","Neurčené","Áno","24 mesiacov",null,null,null,"Zmluva 115_DG",null,null,null,null,null,{"$f":"VLOOKUP(M1340,Adresy!$A$4:$C$156,2,FALSE)","v":"Martin"},{"$f":"VLOOKUP(M1340,Adresy!$A$4:$C$156,3,FALSE)","v":"Kollárova 2"},"M","2013M06",null,null,null,null,null,{"$f":"VLOOKUP(M1340,Adresy!$A$3:$C$122,2,FALSE)","v":{"$error":"#N/A"}},{"$f":"VLOOKUP(M1340,Adresy!$A$3:$C$122,3,FALSE)","v":{"$error":"#N/A"}},{"$error":"#N/A"},{"$error":"#N/A"},{"$error":"#N/A"},{"$error":"#N/A"}]
["CT",null,"tomograf","vrstvy 80",80,null,"Aquilion PRIME",null,null,"Toshiba","bez položkovej identifikácie ceny (v rámci sumárnej ceny)",null,"Fakultní nemocnice v Motole","ČR","AUDIOSCAN s.r.o.",null,null,null,null,{"$f":"IF(N1356=\"SR\",1,IF(AC1356=\"\",VLOOKUP(AW1356,'CZKEUR Xchange rate'!$D$13:$E$234,2,FALSE),VLOOKUP(AW1356,'CZKEUR Xchange rate'!$A$13:$B$234,2,FALSE)))","v":27.599},0,0,null,null,{"$f":"VLOOKUP(AW1356,'Cenové indexy '!$D$7:$E$200,2,FALSE)","v":99.83},{"$f":"W1356/Y1356*'Cenové indexy '!$E$149","v":0},0,2014,"09",null,"2014-08-31","Áno","Áno","EFRR","Áno","24 mesiacov",null,null,null,"Zmluva 116_DG",null,null,null,null,null,{"$f":"VLOOKUP(M1356,Adresy!$A$4:$C$156,2,FALSE)","v":"Praha"},{"$f":"VLOOKUP(M1356,Adresy!$A$4:$C$156,3,FALSE)","v":"V úvalu 84"},"M","2014M09",null,null,null,null,null,{"$f":"VLOOKUP(M1356,Adresy!$A$3:$C$122,2,FALSE)","v":"Praha"},{"$f":"VLOOKUP(M1356,Adresy!$A$3:$C$122,3,FALSE)","v":"V úvalu 84"},0,0,0,0]
["CT",null,"injektor","na stropnom závese",null,null,"Aquilion PRIME",null,null,"Toshiba","bez položkovej identifikácie ceny (v rámci sumárnej ceny)",null,"Fakultní nemocnice v Motole","ČR","AUDIOSCAN s.r.o.",null,null,null,null,{"$f":"IF(N1387=\"SR\",1,IF(AC1387=\"\",VLOOKUP(AW1387,'CZKEUR Xchange rate'!$D$13:$E$234,2,FALSE),VLOOKUP(AW1387,'CZKEUR Xchange rate'!$A$13:$B$234,2,FALSE)))","v":27.599},0,0,null,null,{"$f":"VLOOKUP(AW1387,'Cenové indexy '!$D$7:$E$200,2,FALSE)","v":99.83},{"$f":"W1387/Y1387*'Cenové indexy '!$E$149","v":0},0,2014,"09",null,"2014-08-31","Áno","Áno","EFRR","Áno","24 mesiacov",null,null,null,"Zmluva 116_DG",null,null,null,null,null,{"$f":"VLOOKUP(M1387,Adresy!$A$4:$C$156,2,FALSE)","v":"Praha"},{"$f":"VLOOKUP(M1387,Adresy!$A$4:$C$156,3,FALSE)","v":"V úvalu 84"},"M","2014M09",null,null,null,null,null,{"$f":"VLOOKUP(M1387,Adresy!$A$3:$C$122,2,FALSE)","v":"Praha"},{"$f":"VLOOKUP(M1387,Adresy!$A$3:$C$122,3,FALSE)","v":"V úvalu 84"},0,0,0,0]
["CT",null,"aplikačné softvérové vybavenie ovládacej stanice  operátora","softwér angio",null,null,"OPTIMA CT660",null,null,"GE Healthcare","bez položkovej identifikácie ceny (v rámci sumárnej ceny)",null,"Kroměřížska nemocnica a.s.","ČR","GE Medical Systems  s.r.o.",null,null,null,null,{"$f":"IF(N1412=\"SR\",1,IF(AC1412=\"\",VLOOKUP(AW1412,'CZKEUR Xchange rate'!$D$13:$E$234,2,FALSE),VLOOKUP(AW1412,'CZKEUR Xchange rate'!$A$13:$B$234,2,FALSE)))","v":27.088999999999999},0,0,null,null,{"$f":"VLOOKUP(AW1412,'Cenové indexy '!$D$7:$E$200,2,FALSE)","v":100.14},{"$f":"W1412/Y1412*'Cenové indexy '!$E$149","v":0},0,2015,"09",null,"2015-08-31","Áno","Áno","na 36 splátok","Áno","36 mesiacov",null,null,null,"Zmluva 127_DG",null,null,null,null,null,{"$f":"VLOOKUP(M1412,Adresy!$A$4:$C$156,2,FALSE)","v":"Kroměříž"},{"$f":"VLOOKUP(M1412,Adresy!$A$4:$C$156,3,FALSE)","v":"Havlíčkova 660/69"},"M","2015M09",null,null,null,null,null,{"$f":"VLOOKUP(M1412,Adresy!$A$3:$C$122,2,FALSE)","v":"Kroměříž"},{"$f":"VLOOKUP(M1412,Adresy!$A$3:$C$122,3,FALSE)","v":"Havlíčkova 660/69"},0,0,0,0]
["CT",null,"aplikačné softvérové vybavenie ovládacej pracovnej stanice pre lekára pre diagnostiku a postprocesing","softvér pre pľúcne vyšetrenie",null,"min. 2 licencie","OPTIMA CT660",null,null,"GE Healthcare","bez položkovej identifikácie ceny (v rámci sumárnej ceny)",null,"Kroměřížska nemocnica a.s.","ČR","GE Medical Systems  s.r.o.",null,null,null,null,{"$f":"IF(N1424=\"SR\",1,IF(AC1424=\"\",VLOOKUP(AW1424,'CZKEUR Xchange rate'!$D$13:$E$234,2,FALSE),VLOOKUP(AW1424,'CZKEUR Xchange rate'!$A$13:$B$234,2,FALSE)))","v":27.088999999999999},0,0,null,null,{"$f":"VLOOKUP(AW1424,'Cenové indexy '!$D$7:$E$200,2,FALSE)","v":100.14},{"$f":"W1424/Y1424*'Cenové indexy '!$E$149","v":0},0,2015,"09",null,"2015-08-31","Áno","Áno","na 36 splátok","Áno","36 mesiacov",null,null,null,"Zmluva 127_DG",null,null,null,null,null,{"$f":"VLOOKUP(M1424,Adresy!$A$4:$C$156,2,FALSE)","v":"Kroměříž"},{"$f":"VLOOKUP(M1424,Adresy!$A$4:$C$156,3,FALSE)","v":"Havlíčkova 660/69"},"M","2015M09",null,null,null,null,null,{"$f":"VLOOKUP(M1424,Adresy!$A$3:$C$122,2,FALSE)","v":"Kroměříž"},{"$f":"VLOOKUP(M1424,Adresy!$A$3:$C$122,3,FALSE)","v":"Havlíčkova 660/69"},0,0,0,0]
["CT",null,"tomograf","výkon generátora","80 kW",null,"SOMATOM Definition AS (64)",null,null,"Siemens","bez položkovej identifikácie ceny (v rámci sumárnej ceny)",null,"Fakultná nemocnica Trenčín","SR","MED LEADER s.r.o.",null,null,null,null,{"$f":"IF(N1439=\"SR\",1,IF(AC1439=\"\",VLOOKUP(AW1439,'CZKEUR Xchange rate'!$D$13:$E$234,2,FALSE),VLOOKUP(AW1439,'CZKEUR Xchange rate'!$A$13:$B$234,2,FALSE)))","v":1},0,0,null,null,{"$f":"VLOOKUP(AW1439,'Cenové indexy '!$D$7:$E$200,2,FALSE)","v":87.95},{"$f":"W1439/Y1439*'Cenové indexy '!$E$149","v":0},0,2010,"06",null,"2010-05-31","Áno","Áno","48 splátok","Áno","24 mesiacov",null,null,null,"Zmluva 129_DG",null,null,null,null,null,{"$f":"VLOOKUP(M1439,Adresy!$A$4:$C$156,2,FALSE)","v":"Trenčín"},{"$f":"VLOOKUP(M1439,Adresy!$A$4:$C$156,3,FALSE)","v":"Legionárska 594/2"},"M","2010M06",null,null,null,null,null,{"$f":"VLOOKUP(M1439,Adresy!$A$3:$C$122,2,FALSE)","v":"Trenčín"},{"$f":"VLOOKUP(M1439,Adresy!$A$3:$C$122,3,FALSE)","v":"Legionárska 594/2"},0,0,0,0]
["CT",null,"aplikačné softvérové vybavenie ovládacej pracovnej stanice pre lekára pre diagnostiku a postprocesing","kardio vyšetrenie",null,null,"SOMATOM Definition AS (64)",null,null,"Siemens","bez položkovej identifikácie ceny (v rámci sumárnej ceny)",null,"Fakultná nemocnica Trenčín","SR","MED LEADER s.r.o.",null,null,null,null,{"$f":"IF(N1464=\"SR\",1,IF(AC1464=\"\",VLOOKUP(AW1464,'CZKEUR Xchange rate'!$D$13:$E$234,2,FALSE),VLOOKUP(AW1464,'CZKEUR Xchange rate'!$A$13:$B$234,2,FALSE)))","v":1},0,0,null,null,{"$f":"VLOOKUP(AW1464,'Cenové indexy '!$D$7:$E$200,2,FALSE)","v":87.95},{"$f":"W1464/Y1464*'Cenové indexy '!$E$149","v":0},0,2010,"06",null,"2010-05-31","Áno","Áno","48 splátok","Áno","24 mesiacov",null,null,null,"Zmluva 129_DG",null,null,null,null,null,{"$f":"VLOOKUP(M1464,Adresy!$A$4:$C$156,2,FALSE)","v":"Trenčín"},{"$f":"VLOOKUP(M1464,Adresy!$A$4:$C$156,3,FALSE)","v":"Legionárska 594/2"},"M","2010M06",null,null,null,null,null,{"$f":"VLOOKUP(M1464,Adresy!$A$3:$C$122,2,FALSE)","v":"Trenčín"},{"$f":"VLOOKUP(M1464,Adresy!$A$3:$C$122,3,FALSE)","v":"Legionárska 594/2"},0,0,0,0]
["CT",null,"pracovná stanica pre lekára pre diagnostiku a  postprocessing","monitor","2 ks \"19",null,"SOMATOM Definition AS",null,null,"Siemens","bez položkovej identifikácie ceny (v rámci sumárnej ceny)",null,"Univerzitná nemocnica Bratislava","SR","AD REM s.r.o.",null,null,null,null,{"$f":"IF(N1492=\"SR\",1,IF(AC1492=\"\",VLOOKUP(AW1492,'CZKEUR Xchange rate'!$D$13:$E$234,2,FALSE),VLOOKUP(AW1492,'CZKEUR Xchange rate'!$A$13:$B$234,2,FALSE)))","v":1},0,0,null,null,{"$f":"VLOOKUP(AW1492,'Cenové indexy '!$D$7:$E$200,2,FALSE)","v":87.74},{"$f":"W1492/Y1492*'Cenové indexy '!$E$149","v":0},0,2009,"11",null,"2009-10-31","Áno","Áno","neurčené","Áno","24 mesiacov",null,null,null,"Zmluva 130_DG",null,null,null,null,null,{"$f":"VLOOKUP(M1492,Adresy!$A$4:$C$156,2,FALSE)","v":"Bratislava"},{"$f":"VLOOKUP(M1492,Adresy!$A$4:$C$156,3,FALSE)","v":"Ružinovská 4810/6"},"M","2009M11",null,null,null,null,null,{"$f":"VLOOKUP(M1492,Adresy!$A$3:$C$122,2,FALSE)","v":{"$error":"#N/A"}},{"$f":"VLOOKUP(M1492,Adresy!$A$3:$C$122,3,FALSE)","v":{"$error":"#N/A"}},{"$error":"#N/A"},{"$error":"#N/A"},{"$error":"#N/A"},{"$error":"#N/A"}]
["CT",null,"celá zostava",null,null,null,"SOMATOM Definition Flash",null,null,"Siemens","sumárna cena","HW","Krajská nemocnice Liberec, a.s.","ČR","Siemens Healthcare s.r.o.",null,1,26131030,31618546,{"$f":"IF(N1511=\"SR\",1,IF(AC1511=\"\",VLOOKUP(AW1511,'CZKEUR Xchange rate'!$D$13:$E$234,2,FALSE),VLOOKUP(AW1511,'CZKEUR Xchange rate'!$A$13:$B$234,2,FALSE)))","v":26.927},970439.70735692803,1174232.0347606491,{"$f":"U1511/Q1511","v":970439.70735692803},{"$f":"V1511/Q1511","v":1174232.0347606491},{"$f":"VLOOKUP(AW1511,'Cenové indexy '!$D$7:$E$200,2,FALSE)","v":99.45},{"$f":"W1511/Y1511*'Cenové indexy '!$E$149","v":1006349.391852388},1207619.2702228655,2013,"11",null,"2013-10-31","Áno","Áno","neurčené","Nie","24 mesiacov",null,null,null,"Zmluva 132_DG",null,null,null,null,null,{"$f":"VLOOKUP(M1511,Adresy!$A$4:$C$156,2,FALSE)","v":"Liberec"},{"$f":"VLOOKUP(M1511,Adresy!$A$4:$C$156,3,FALSE)","v":"Husova 357/10"},"M","2013M11",null,null,null,null,null,{"$f":"VLOOKUP(M1511,Adresy!$A$3:$C$122,2,FALSE)","v":"Liberec"},{"$f":"VLOOKUP(M1511,Adresy!$A$3:$C$122,3,FALSE)","v":"Husova 357/10"},0,0,0,0]
["CT",null,"diagnostický server","CT Oncology Engine Pro @via#3",null,null,"SOMATOM Definition Flash",null,null,"Siemens","bez položkovej identifikácie ceny (v rámci sumárnej ceny)",null,"Krajská nemocnice Liberec, a.s.","ČR","Siemens Healthcare s.r.o.",null,null,null,null,{"$f":"IF(N1532=\"SR\",1,IF(AC1532=\"\",VLOOKUP(AW1532,'CZKEUR Xchange rate'!$D$13:$E$234,2,FALSE),VLOOKUP(AW1532,'CZKEUR Xchange rate'!$A$13:$B$234,2,FALSE)))","v":26.927},0,0,null,null,{"$f":"VLOOKUP(AW1532,'Cenové indexy '!$D$7:$E$200,2,FALSE)","v":99.45},{"$f":"W1532/Y1532*'Cenové indexy '!$E$149","v":0},0,2013,"11",null,"2013-10-31","Áno","Áno","neurčené","Nie","24 mesiacov",null,null,null,"Zmluva 132_DG",null,null,null,null,null,{"$f":"VLOOKUP(M1532,Adresy!$A$4:$C$156,2,FALSE)","v":"Liberec"},{"$f":"VLOOKUP(M1532,Adresy!$A$4:$C$156,3,FALSE)","v":"Husova 357/10"},"M","2013M11",null,null,null,null,null,{"$f":"VLOOKUP(M1532,Adresy!$A$3:$C$122,2,FALSE)","v":"Liberec"},{"$f":"VLOOKUP(M1532,Adresy!$A$3:$C$122,3,FALSE)","v":"Husova 357/10"},0,0,0,0]
["CT",null,"tomograf","nosnosť","200 kg",null,"SOMATOM Definition AS (Excel Edition)",null,null,"Siemens","bez položkovej identifikácie ceny (v rámci sumárnej ceny)",null,"Oblastní nemocnice Trutnov, a.s.","ČR","Siemens Healthcare s.r.o.",null,null,null,null,{"$f":"IF(N1539=\"SR\",1,IF(AC1539=\"\",VLOOKUP(AW1539,'CZKEUR Xchange rate'!$D$13:$E$234,2,FALSE),VLOOKUP(AW1539,'CZKEUR Xchange rate'!$A$13:$B$234,2,FALSE)))","v":25.658999999999999},0,0,null,null,{"$f":"VLOOKUP(AW1539,'Cenové indexy '!$D$7:$E$200,2,FALSE)","v":98.94},{"$f":"W1539/Y1539*'Cenové indexy '!$E$149","v":0},0,2013,"03",null,"2013-02-28","Áno","Áno","EFRR","Áno","24 mesiacov",null,null,null,"Zmluva 133_DG",null,null,null,null,null,{"$f":"VLOOKUP(M1539,Adresy!$A$4:$C$156,2,FALSE)","v":"Trutnov"},{"$f":"VLOOKUP(M1539,Adresy!$A$4:$C$156,3,FALSE)","v":"Maxima Gorkého 77"},"M",{"$f":"IF(AC1539=\"\",CONCATENATE(AB1539,AV1539,\"06\"),IF(LEN(AC1539)=1,CONCATENATE(AB1539,AV1539,\"0\"&AC1539),CONCATENATE(AB1539,AV1539,AC1539)))","v":"2013M03"},null,null,null,null,null,{"$f":"VLOOKUP(M1539,Adresy!$A$3:$C$122,2,FALSE)","v":"Trutnov"},{"$f":"VLOOKUP(M1539,Adresy!$A$3:$C$122,3,FALSE)","v":"Maxima Gorkého 77"},0,0,0,0]
["CT",null,"aplikačné softvérové vybavenie ovládacej pracovnej stanice pre lekára pre diagnostiku a postprocesing II.","MIP ",null,null,"SOMATOM Definition AS (Excel Edition)",null,null,"Siemens","bez položkovej identifikácie ceny (v rámci sumárnej ceny)",null,"Oblastní nemocnice Trutnov, a.s.","ČR","Siemens Healthcare s.r.o.",null,null,null,null,{"$f":"IF(N1563=\"SR\",1,IF(AC1563=\"\",VLOOKUP(AW1563,'CZKEUR Xchange rate'!$D$13:$E$234,2,FALSE),VLOOKUP(AW1563,'CZKEUR Xchange rate'!$A$13:$B$234,2,FALSE)))","v":25.658999999999999},0,0,null,null,{"$f":"VLOOKUP(AW1563,'Cenové indexy '!$D$7:$E$200,2,FALSE)","v":98.94},{"$f":"W1563/Y1563*'Cenové indexy '!$E$149","v":0},0,2013,"03",null,"2013-02-28","Áno","Áno","EFRR","Áno","24 mesiacov",null,null,null,"Zmluva 133_DG",null,null,null,null,null,{"$f":"VLOOKUP(M1563,Adresy!$A$4:$C$156,2,FALSE)","v":"Trutnov"},{"$f":"VLOOKUP(M1563,Adresy!$A$4:$C$156,3,FALSE)","v":"Maxima Gorkého 77"},"M","2013M03",null,null,null,null,null,{"$f":"VLOOKUP(M1563,Adresy!$A$3:$C$122,2,FALSE)","v":"Trutnov"},{"$f":"VLOOKUP(M1563,Adresy!$A$3:$C$122,3,FALSE)","v":"Maxima Gorkého 77"},0,0,0,0]
["prístroj na brachyterapiu",null,"likvidácia strého S-LDR",null,null,null,"MicroSelectron HDR V3 Digital",null,null,"Nucletron","bez položkovej identifikácie ceny (v rámci sumárnej ceny)",null,"Fakultná nemocnica Trenčín","SR","NUCLECS",null,1,null,null,{"$f":"IF(N1584=\"SR\",1,IF(AC1584=\"\",VLOOKUP(AW1584,'CZKEUR Xchange rate'!$D$13:$E$234,2,FALSE),VLOOKUP(AW1584,'CZKEUR Xchange rate'!$A$13:$B$234,2,FALSE)))","v":1},0,0,null,null,{"$f":"VLOOKUP(AW1584,'Cenové indexy '!$D$7:$E$200,2,FALSE)","v":90.89},{"$f":"W1584/Y1584*'Cenové indexy '!$E$149","v":0},0,2011,"08",null,"2011-07-31","Áno","Áno","neurčené","Nie","24 mesiacov",null,null,null,"Zmluva 136_AT",null,null,null,null,null,{"$f":"VLOOKUP(M1584,Adresy!$A$4:$C$156,2,FALSE)","v":"Trenčín"},{"$f":"VLOOKUP(M1584,Adresy!$A$4:$C$156,3,FALSE)","v":"Legionárska 594/2"},"M","2011M08",null,null,null,null,null,{"$f":"VLOOKUP(M1584,Adresy!$A$3:$C$122,2,FALSE)","v":"Trenčín"},{"$f":"VLOOKUP(M1584,Adresy!$A$3:$C$122,3,FALSE)","v":"Legionárska 594/2"},0,0,0,0]
["prístroj na brachyterapiu",null,"počet liečebných kanálov",24,null,null,"GammaMedplus iX",null,null,"Varian Medical Systems","bez položkovej identifikácie ceny (v rámci sumárnej ceny)",null,"Nemocnica Nový Jičín a.s.","ČR","Amedis spol. s r.o.",null,null,null,null,{"$f":"IF(N1607=\"SR\",1,IF(AC1607=\"\",VLOOKUP(AW1607,'CZKEUR Xchange rate'!$D$13:$E$234,2,FALSE),VLOOKUP(AW1607,'CZKEUR Xchange rate'!$A$13:$B$234,2,FALSE)))","v":27.027000000000001},0,0,null,null,{"$f":"VLOOKUP(AW1607,'Cenové indexy '!$D$7:$E$200,2,FALSE)","v":100.29},{"$f":"W1607/Y1607*'Cenové indexy '!$E$149","v":0},0,2015,"12",null,"2015-11-30","Áno","Áno","EFRR","Nie","24 mesiacov",null,null,null,"Zmluva 135_DG",null,null,null,null,null,{"$f":"VLOOKUP(M1607,Adresy!$A$4:$C$156,2,FALSE)","v":"Nový Jičín"},{"$f":"VLOOKUP(M1607,Adresy!$A$4:$C$156,3,FALSE)","v":"K Nemocnici 76"},"M","2015M12",null,null,null,null,null,{"$f":"VLOOKUP(M1607,Adresy!$A$3:$C$122,2,FALSE)","v":"Nový Jičín"},{"$f":"VLOOKUP(M1607,Adresy!$A$3:$C$122,3,FALSE)","v":"K Nemocnici 76"},0,0,0,0]
["RTG","digitálny mobilný RTG systém s C-ramenom","DICOM",null,null,null,"neurčené",null,null,"","bez položkovej identifikácie ceny (v rámci sumárnej ceny)",null,"Fakultná nemocnica s poliklinikou J.A.Reimana Prešov","SR","Unique Medical s.r.o.",null,null,null,null,{"$f":"IF(N1631=\"SR\",1,IF(AC1631=\"\",VLOOKUP(AW1631,'CZKEUR Xchange rate'!$D$13:$E$234,2,FALSE),VLOOKUP(AW1631,'CZKEUR Xchange rate'!$A$13:$B$234,2,FALSE)))","v":1},0,0,null,null,{"$f":"VLOOKUP(AW1631,'Cenové indexy '!$D$7:$E$200,2,FALSE)","v":99.82},{"$f":"W1631/Y1631*'Cenové indexy '!$E$149","v":0},0,2015,"05",null,"2015-04-30","Áno","Áno","neurčené","Nie","neurčené",null,null,null,"Zmluva 137_DG",null,null,null,null,null,{"$f":"VLOOKUP(M1631,Adresy!$A$4:$C$156,2,FALSE)","v":"Prešov"},{"$f":"VLOOKUP(M1631,Adresy!$A$4:$C$156,3,FALSE)","v":"Jána Hollého"},"M","2015M05",null,null,null,null,null,{"$f":"VLOOKUP(M1631,Adresy!$A$3:$C$122,2,FALSE)","v":"Prešov"},{"$f":"VLOOKUP(M1631,Adresy!$A$3:$C$122,3,FALSE)","v":"Jána Hollého"},0,0,0,0]
["RTG","mobilný skiagrafický RTG prístroj","minimálna expozičná doba",null,"1ms - 2ms",null,"neurčené",null,null,"","bez položkovej identifikácie ceny (v rámci sumárnej ceny)",null,"Východoslovenský ústav srdcových a cievnych chorôb, a.s.","SR","Medixray s.r.o.",null,null,null,null,{"$f":"IF(N1656=\"SR\",1,IF(AC1656=\"\",VLOOKUP(AW1656,'CZKEUR Xchange rate'!$D$13:$E$234,2,FALSE),VLOOKUP(AW1656,'CZKEUR Xchange rate'!$A$13:$B$234,2,FALSE)))","v":1},0,0,null,null,{"$f":"VLOOKUP(AW1656,'Cenové indexy '!$D$7:$E$200,2,FALSE)","v":100.07},{"$f":"W1656/Y1656*'Cenové indexy '!$E$149","v":0},0,2015,"10",null,"2015-09-30","Áno","Áno","neurčené","Nie","neurčené",null,null,null,"Zmluva 139_DG",null,null,null,null,null,{"$f":"VLOOKUP(M1656,Adresy!$A$4:$C$156,2,FALSE)","v":"Košice"},{"$f":"VLOOKUP(M1656,Adresy!$A$4:$C$156,3,FALSE)","v":"Ondavská č.8"},"M","2015M10",null,null,null,null,null,{"$f":"VLOOKUP(M1656,Adresy!$A$3:$C$128,2,FALSE)","v":{"$error":"#N/A"}},{"$f":"VLOOKUP(M1656,Adresy!$A$3:$C$128,3,FALSE)","v":{"$error":"#N/A"}},{"$error":"#N/A"},{"$error":"#N/A"},{"$error":"#N/A"},{"$error":"#N/A"}]
["RTG","digitálny RTG","detektor",null,null,null,"AXIOM Aristos FX Plus",null,null,"Siemens","bez položkovej identifikácie ceny (v rámci sumárnej ceny)",null,"Národný onkologický ústav","SR","MED LEADER s.r.o.",null,null,null,null,{"$f":"IF(N1675=\"SR\",1,IF(AC1675=\"\",VLOOKUP(AW1675,'CZKEUR Xchange rate'!$D$13:$E$234,2,FALSE),VLOOKUP(AW1675,'CZKEUR Xchange rate'!$A$13:$B$234,2,FALSE)))","v":1},0,0,null,null,{"$f":"VLOOKUP(AW1675,'Cenové indexy '!$D$7:$E$200,2,FALSE)","v":89.14},{"$f":"W1675/Y1675*'Cenové indexy '!$E$149","v":0},0,2011,"03",null,"2011-02-28","Áno","Áno","neurčené","Nie","24 mesiacov",null,null,null,"Zmluva 142_DG",null,null,null,null,null,{"$f":"VLOOKUP(M1675,Adresy!$A$4:$C$156,2,FALSE)","v":"Bratislava"},{"$f":"VLOOKUP(M1675,Adresy!$A$4:$C$156,3,FALSE)","v":"Klenová 3019/1"},"M","2011M03",null,null,null,null,null,{"$f":"VLOOKUP(M1675,Adresy!$A$3:$C$122,2,FALSE)","v":"Bratislava"},{"$f":"VLOOKUP(M1675,Adresy!$A$3:$C$122,3,FALSE)","v":"Klenová 3019/1"},0,0,0,0]
["RTG","digitálny mobilný RTG systém s C-ramenom","monitor",null,"2 ks \"19",null,"OEC Brivo 785 Essential",null,null,"GE Healthcare","bez položkovej identifikácie ceny (v rámci sumárnej ceny)",null,"Nemocnica s poliklinikou Považská Bystrica","SR","INTES Poprad s.r.o.",null,null,null,null,{"$f":"IF(N1683=\"SR\",1,IF(AC1683=\"\",VLOOKUP(AW1683,'CZKEUR Xchange rate'!$D$13:$E$234,2,FALSE),VLOOKUP(AW1683,'CZKEUR Xchange rate'!$A$13:$B$234,2,FALSE)))","v":1},0,0,null,null,{"$f":"VLOOKUP(AW1683,'Cenové indexy '!$D$7:$E$200,2,FALSE)","v":99.28},{"$f":"W1683/Y1683*'Cenové indexy '!$E$149","v":0},0,2013,"12",null,"2013-11-30","Áno","Áno","neurčené","Nie","36 mesiacov ",null,null,null,"Zmluva 143_DG",null,null,null,null,null,{"$f":"VLOOKUP(M1683,Adresy!$A$4:$C$156,2,FALSE)","v":"Považská Bystrica"},{"$f":"VLOOKUP(M1683,Adresy!$A$4:$C$156,3,FALSE)","v":"Nemocničná"},"M","2013M12",null,null,null,null,null,{"$f":"VLOOKUP(M1683,Adresy!$A$3:$C$122,2,FALSE)","v":"Považská Bystrica"},{"$f":"VLOOKUP(M1683,Adresy!$A$3:$C$122,3,FALSE)","v":"Nemocničná"},0,0,0,0]
["RTG","diagnostický systém","PACS systém",null,"modulárny archivačný systém digitánych snímkov so rerverom a záložným zdrojom",null,"neurčené","Tomocon",null,"","položková cena (súčasť sumárnej ceny)",null,"Poliklinika Štúrovo","SR","Medixray s.r.o.",null,1,37000,44400,{"$f":"IF(N1708=\"SR\",1,IF(AC1708=\"\",VLOOKUP(AW1708,'CZKEUR Xchange rate'!$D$13:$E$234,2,FALSE),VLOOKUP(AW1708,'CZKEUR Xchange rate'!$A$13:$B$234,2,FALSE)))","v":1},37000,44400,{"$f":"U1708/Q1708","v":37000},{"$f":"V1708/Q1708","v":44400},{"$f":"VLOOKUP(AW1708,'Cenové indexy '!$D$7:$E$200,2,FALSE)","v":100.14},{"$f":"W1708/Y1708*'Cenové indexy '!$E$149","v":38104.75334531656},45725.704014379873,2015,"11",null,"2015-10-31","Áno","Áno","neurčené","Áno","24 mesiacov",null,null,null,"Zmluva 147_DG",null,null,null,null,null,{"$f":"VLOOKUP(M1708,Adresy!$A$4:$C$156,2,FALSE)","v":"Štúrovo"},{"$f":"VLOOKUP(M1708,Adresy!$A$4:$C$156,3,FALSE)","v":"Jesenského,"},"M","2015M11",null,null,null,null,null,{"$f":"VLOOKUP(M1708,Adresy!$A$3:$C$122,2,FALSE)","v":"Štúrovo"},{"$f":"VLOOKUP(M1708,Adresy!$A$3:$C$122,3,FALSE)","v":"Jesenského,"},0,0,0,0]
["RTG","digitálny mobilný RTG systém s C-ramenom","RTG lampa","s dvoma ohniskami",null,null,"OEC Fluorostar 7900","OEC Fluorostar 7900",null,"GE Healthcare","bez položkovej identifikácie ceny (v rámci sumárnej ceny)",null,"Fakultná nemocnica Trnava","SR","INTES Poprad s.r.o.",null,null,null,null,{"$f":"IF(N1722=\"SR\",1,IF(AC1722=\"\",VLOOKUP(AW1722,'CZKEUR Xchange rate'!$D$13:$E$234,2,FALSE),VLOOKUP(AW1722,'CZKEUR Xchange rate'!$A$13:$B$234,2,FALSE)))","v":1},0,0,null,null,{"$f":"VLOOKUP(AW1722,'Cenové indexy '!$D$7:$E$200,2,FALSE)","v":99.41},{"$f":"W1722/Y1722*'Cenové indexy '!$E$149","v":0},0,2014,"01",null,"2013-12-31","Áno","Áno","neurčené","Nie","12 mesiacov ",null,null,null,"Zmluva 149_DG",null,null,null,null,null,{"$f":"VLOOKUP(M1722,Adresy!$A$4:$C$156,2,FALSE)","v":"Trnava"},{"$f":"VLOOKUP(M1722,Adresy!$A$4:$C$156,3,FALSE)","v":"Andreja Žarnova 11"},"M","2014M01",null,null,null,null,null,{"$f":"VLOOKUP(M1722,Adresy!$A$3:$C$122,2,FALSE)","v":"Trnava"},{"$f":"VLOOKUP(M1722,Adresy!$A$3:$C$122,3,FALSE)","v":"Andreja Žarnova 11"},0,0,0,0]
["RTG","digitálny RTG","diagnostická stanica",null,null,null,"DIRA X-TWIN ZP triedy IIb",null,null,"Roesys GmbH","bez položkovej identifikácie ceny (v rámci sumárnej ceny)",null,"Nemocnice s poliklinikami n.o Nitra - Topoľčany","SR","Medixray s.r.o.",null,null,null,null,{"$f":"IF(N1755=\"SR\",1,IF(AC1755=\"\",VLOOKUP(AW1755,'CZKEUR Xchange rate'!$D$13:$E$234,2,FALSE),VLOOKUP(AW1755,'CZKEUR Xchange rate'!$A$13:$B$234,2,FALSE)))","v":1},0,0,null,null,{"$f":"VLOOKUP(AW1755,'Cenové indexy '!$D$7:$E$200,2,FALSE)","v":100.03},{"$f":"W1755/Y1755*'Cenové indexy '!$E$149","v":0},0,2015,"03",null,"2015-02-28","Áno","Áno","Na splátky","Nie","neurčené",null,null,null,"Zmluva 140_AT",null,"12 splátok",null,null,null,{"$f":"VLOOKUP(M1755,Adresy!$A$4:$C$156,2,FALSE)","v":"Topoľčany"},{"$f":"VLOOKUP(M1755,Adresy!$A$4:$C$156,3,FALSE)","v":"Pavlovova"},"M","2015M03",null,null,null,null,null,{"$f":"VLOOKUP(M1755,Adresy!$A$3:$C$122,2,FALSE)","v":"Topoľčany"},{"$f":"VLOOKUP(M1755,Adresy!$A$3:$C$122,3,FALSE)","v":"Pavlovova"},0,0,0,0]
["RTG","digitálny RTG","generátor",null,"80kW",null,"Digital Diagnost R4",null,null,"Philips","bez položkovej identifikácie ceny (v rámci sumárnej ceny)",null,"Krajská nemocnica T.Bati, a.s.","ČR","Philips Česká republika s.r.o.",null,null,null,null,{"$f":"IF(N1780=\"SR\",1,IF(AC1780=\"\",VLOOKUP(AW1780,'CZKEUR Xchange rate'!$D$13:$E$234,2,FALSE),VLOOKUP(AW1780,'CZKEUR Xchange rate'!$A$13:$B$234,2,FALSE)))","v":27.599},0,0,null,null,{"$f":"VLOOKUP(AW1780,'Cenové indexy '!$D$7:$E$200,2,FALSE)","v":99.83},{"$f":"W1780/Y1780*'Cenové indexy '!$E$149","v":0},0,2014,"09",null,"2014-08-31","Áno","Áno","EFRR","Nie","24 mesiacov",null,null,null,"Zmluva 142_AT",null,null,null,null,null,{"$f":"VLOOKUP(M1780,Adresy!$A$4:$C$156,2,FALSE)","v":"Zlín"},{"$f":"VLOOKUP(M1780,Adresy!$A$4:$C$156,3,FALSE)","v":"Havlíčkovo nábř. 600"},"M","2014M09",null,null,null,null,null,{"$f":"VLOOKUP(M1780,Adresy!$A$3:$C$122,2,FALSE)","v":"Zlín"},{"$f":"VLOOKUP(M1780,Adresy!$A$3:$C$122,3,FALSE)","v":"Havlíčkovo nábř. 600"},0,0,0,0]
["RTG","digitálny RTG","RTG žiarič","s dvoma ohniskami","tepelná kapacita 1700KHU",null,"Digital Diagnost R4",null,null,"Philips","bez položkovej identifikácie ceny (v rámci sumárnej ceny)",null,"Krajská nemocnica T.Bati, a.s.","ČR","Philips Česká republika s.r.o.",null,null,null,null,{"$f":"IF(N1781=\"SR\",1,IF(AC1781=\"\",VLOOKUP(AW1781,'CZKEUR Xchange rate'!$D$13:$E$234,2,FALSE),VLOOKUP(AW1781,'CZKEUR Xchange rate'!$A$13:$B$234,2,FALSE)))","v":27.599},0,0,null,null,{"$f":"VLOOKUP(AW1781,'Cenové indexy '!$D$7:$E$200,2,FALSE)","v":99.83},{"$f":"W1781/Y1781*'Cenové indexy '!$E$149","v":0},0,2014,"09",null,"2014-08-31","Áno","Áno","EFRR","Nie","24 mesiacov",null,null,null,"Zmluva 142_AT",null,null,null,null,null,{"$f":"VLOOKUP(M1781,Adresy!$A$4:$C$156,2,FALSE)","v":"Zlín"},{"$f":"VLOOKUP(M1781,Adresy!$A$4:$C$156,3,FALSE)","v":"Havlíčkovo nábř. 600"},"M","2014M09",null,null,null,null,null,{"$f":"VLOOKUP(M1781,Adresy!$A$3:$C$122,2,FALSE)","v":"Zlín"},{"$f":"VLOOKUP(M1781,Adresy!$A$3:$C$122,3,FALSE)","v":"Havlíčkovo nábř. 600"},0,0,0,0]
["RTG","terapeutický RTG","súprava röngenovej trubice",null,null,null,"T-200",null,null,"Womed","bez položkovej identifikácie ceny (v rámci sumárnej ceny)",null,"Fakultní nemocnice Hradec Králové","ČR","AMEDIS spol. s r.o.",null,null,null,null,{"$f":"IF(N1808=\"SR\",1,IF(AC1808=\"\",VLOOKUP(AW1808,'CZKEUR Xchange rate'!$D$13:$E$234,2,FALSE),VLOOKUP(AW1808,'CZKEUR Xchange rate'!$A$13:$B$234,2,FALSE)))","v":25.562999999999999},0,0,null,null,{"$f":"VLOOKUP(AW1808,'Cenové indexy '!$D$7:$E$200,2,FALSE)","v":98.79},{"$f":"W1808/Y1808*'Cenové indexy '!$E$149","v":0},0,2013,"01",null,"2012-12-31","Áno","Áno","Neurčené","Nie","24 mesiacov",null,null,null,"Zmluva 145_AT",null,null,null,null,null,{"$f":"VLOOKUP(M1808,Adresy!$A$4:$C$156,2,FALSE)","v":"Hradec Králové"},{"$f":"VLOOKUP(M1808,Adresy!$A$4:$C$156,3,FALSE)","v":"Sokolská 581"},"M","2013M01",null,null,null,null,null,{"$f":"VLOOKUP(M1808,Adresy!$A$3:$C$122,2,FALSE)","v":"Hradec Králové"},{"$f":"VLOOKUP(M1808,Adresy!$A$3:$C$122,3,FALSE)","v":"Sokolská 581"},0,0,0,0]
["RTG","digitálny skiaskopicko-skiagrafický RTG prístroj","generátor",null,"80kW",null,"Luminos Agile Max",null,null,"Siemens","bez položkovej identifikácie ceny (v rámci sumárnej ceny)",null,"Fakultní nemocnice Brno","ČR","Siemens Healthcare s.r.o.",null,null,null,null,{"$f":"IF(N1832=\"SR\",1,IF(AC1832=\"\",VLOOKUP(AW1832,'CZKEUR Xchange rate'!$D$13:$E$234,2,FALSE),VLOOKUP(AW1832,'CZKEUR Xchange rate'!$A$13:$B$234,2,FALSE)))","v":27.094000000000001},0,0,null,null,{"$f":"VLOOKUP(AW1832,'Cenové indexy '!$D$7:$E$200,2,FALSE)","v":99.95},{"$f":"W1832/Y1832*'Cenové indexy '!$E$149","v":0},0,2015,"07",null,"2015-06-30","Áno","Áno","EFRR","Nie","24 mesiacov",null,null,null,"Zmluva 147_AT",null,null,null,null,null,{"$f":"VLOOKUP(M1832,Adresy!$A$4:$C$156,2,FALSE)","v":"Brno"},{"$f":"VLOOKUP(M1832,Adresy!$A$4:$C$156,3,FALSE)","v":"Jihlavská 340/20"},"M","2015M07",null,null,null,null,null,{"$f":"VLOOKUP(M1832,Adresy!$A$3:$C$122,2,FALSE)","v":"Brno"},{"$f":"VLOOKUP(M1832,Adresy!$A$3:$C$122,3,FALSE)","v":"Jihlavská 340/20"},0,0,0,0]
["RTG","digitálny mobilný RTG systém s C-ramenom","clona","motorická irisová",null,null,"ARCADIS Varic",null,null,"Siemens","bez položkovej identifikácie ceny (v rámci sumárnej ceny)",null,"NsP Sv. Jakuba, n.o. Bardejov","SR","AD REM s.r.o.",null,null,null,null,{"$f":"IF(N1853=\"SR\",1,IF(AC1853=\"\",VLOOKUP(AW1853,'CZKEUR Xchange rate'!$D$13:$E$234,2,FALSE),VLOOKUP(AW1853,'CZKEUR Xchange rate'!$A$13:$B$234,2,FALSE)))","v":1},0,0,null,null,{"$f":"VLOOKUP(AW1853,'Cenové indexy '!$D$7:$E$200,2,FALSE)","v":99.87},{"$f":"W1853/Y1853*'Cenové indexy '!$E$149","v":0},0,2014,"08",null,"2014-07-31","Áno","Áno","Neurčené","Áno","24 mesiacov",null,null,null,"Zmluva 148_AT",null,null,null,null,null,{"$f":"VLOOKUP(M1853,Adresy!$A$4:$C$156,2,FALSE)","v":"Bardejov"},{"$f":"VLOOKUP(M1853,Adresy!$A$4:$C$156,3,FALSE)","v":"Sv. Jakuba 510/21"},"M","2014M08",null,null,null,null,null,{"$f":"VLOOKUP(M1853,Adresy!$A$3:$C$122,2,FALSE)","v":"Bardejov"},{"$f":"VLOOKUP(M1853,Adresy!$A$3:$C$122,3,FALSE)","v":"Sv. Jakuba 510/21"},0,0,0,0]
["RTG","digitálny mobilný RTG systém s C-ramenom","generátor","vysokofrekvenčný","20 kHZ ",null,"OEC Fluorostar 7900",null,null,"GE Healthcare","bez položkovej identifikácie ceny (v rámci sumárnej ceny)",null,"Fakultní nemocnice u sv. Anny v Brně","ČR","Electric Medical Service s.r.o",null,null,null,null,{"$f":"IF(N1876=\"SR\",1,IF(AC1876=\"\",VLOOKUP(AW1876,'CZKEUR Xchange rate'!$D$13:$E$234,2,FALSE),VLOOKUP(AW1876,'CZKEUR Xchange rate'!$A$13:$B$234,2,FALSE)))","v":27.039000000000001},0,0,null,null,{"$f":"VLOOKUP(AW1876,'Cenové indexy '!$D$7:$E$200,2,FALSE)","v":100.14},{"$f":"W1876/Y1876*'Cenové indexy '!$E$149","v":0},0,2015,"11",null,"2015-10-31","Áno","Áno","neurčené","Áno","36 mesiacov ",null,null,null,"Zmluva 151_AT",null,null,null,null,null,{"$f":"VLOOKUP(M1876,Adresy!$A$4:$C$156,2,FALSE)","v":"Brno"},{"$f":"VLOOKUP(M1876,Adresy!$A$4:$C$156,3,FALSE)","v":"Pekařská 53"},"M","2015M11",null,null,null,null,null,{"$f":"VLOOKUP(M1876,Adresy!$A$3:$C$122,2,FALSE)","v":"Brno"},{"$f":"VLOOKUP(M1876,Adresy!$A$3:$C$122,3,FALSE)","v":"Pekařská 53"},0,0,0,0]
["RTG","digitálny mobilný RTG systém s C-ramenom","generátor","vysokofrekvenčný","20 kHZ ",null,"ZEIHM Vision RFD",null,null,"Ziehm Imaging","bez položkovej identifikácie ceny (v rámci sumárnej ceny)",null,"Fakultní nemocnice u sv. Anny v Brně","ČR","Electric Medical Service s.r.o",null,null,null,null,{"$f":"IF(N1884=\"SR\",1,IF(AC1884=\"\",VLOOKUP(AW1884,'CZKEUR Xchange rate'!$D$13:$E$234,2,FALSE),VLOOKUP(AW1884,'CZKEUR Xchange rate'!$A$13:$B$234,2,FALSE)))","v":27.039000000000001},0,0,null,null,{"$f":"VLOOKUP(AW1884,'Cenové indexy '!$D$7:$E$200,2,FALSE)","v":100.14},{"$f":"W1884/Y1884*'Cenové indexy '!$E$149","v":0},0,2015,"11",null,"2015-10-31","Áno","Áno","neurčené","Áno","36 mesiacov ",null,null,null,"Zmluva 151_AT",null,null,null,null,null,{"$f":"VLOOKUP(M1884,Adresy!$A$4:$C$156,2,FALSE)","v":"Brno"},{"$f":"VLOOKUP(M1884,Adresy!$A$4:$C$156,3,FALSE)","v":"Pekařská 53"},"M","2015M11",null,null,null,null,null,{"$f":"VLOOKUP(M1884,Adresy!$A$3:$C$122,2,FALSE)","v":"Brno"},{"$f":"VLOOKUP(M1884,Adresy!$A$3:$C$122,3,FALSE)","v":"Pekařská 53"},0,0,0,0]
["RTG","pevný skiagraficko - skiaskopický RTG prístroj","RTG lampa",null,null,null,"MECALL EIDOS 439","Varian",null,"MECALL","bez položkovej identifikácie ceny (v rámci sumárnej ceny)",null,"Nemocnice na Bulovce","ČR","FOMEI a.s.",null,null,null,null,{"$f":"IF(N1905=\"SR\",1,IF(AC1905=\"\",VLOOKUP(AW1905,'CZKEUR Xchange rate'!$D$13:$E$234,2,FALSE),VLOOKUP(AW1905,'CZKEUR Xchange rate'!$A$13:$B$234,2,FALSE)))","v":27.439},0,0,null,null,{"$f":"VLOOKUP(AW1905,'Cenové indexy '!$D$7:$E$200,2,FALSE)","v":99.75},{"$f":"W1905/Y1905*'Cenové indexy '!$E$149","v":0},0,2015,"04",null,"2015-03-31","Áno","Áno","na splátky","Nie","24 mesiacov",null,null,null,"Zmluva 153_AT",null,"12 splátok",null,null,null,{"$f":"VLOOKUP(M1905,Adresy!$A$4:$C$156,2,FALSE)","v":"Praha"},{"$f":"VLOOKUP(M1905,Adresy!$A$4:$C$156,3,FALSE)","v":"Budínova 67/2"},"M","2015M04",null,null,null,null,null,{"$f":"VLOOKUP(M1905,Adresy!$A$3:$C$122,2,FALSE)","v":"Praha"},{"$f":"VLOOKUP(M1905,Adresy!$A$3:$C$122,3,FALSE)","v":"Budínova 67/2"},0,0,0,0]
["RTG","digitálny skiagrafický RTG prístroj","plochý detektor","digitálny ",null,null,"Calypso",null,null,"General Medical Merate","bez položkovej identifikácie ceny (v rámci sumárnej ceny)",null,"Fakultní nemocnice v Motole","ČR","PROMEDICA PRAHA GROUP a.s.",null,null,null,null,{"$f":"IF(N1923=\"SR\",1,IF(AC1923=\"\",VLOOKUP(AW1923,'CZKEUR Xchange rate'!$D$13:$E$234,2,FALSE),VLOOKUP(AW1923,'CZKEUR Xchange rate'!$A$13:$B$234,2,FALSE)))","v":27.599},0,0,null,null,{"$f":"VLOOKUP(AW1923,'Cenové indexy '!$D$7:$E$200,2,FALSE)","v":99.83},{"$f":"W1923/Y1923*'Cenové indexy '!$E$149","v":0},0,2014,"09",null,"2014-08-31","Áno","Áno","EFRR","Áno","24 mesiacov",null,null,null,"Zmluva 155_AT",null,null,null,null,null,{"$f":"VLOOKUP(M1923,Adresy!$A$4:$C$156,2,FALSE)","v":"Praha"},{"$f":"VLOOKUP(M1923,Adresy!$A$4:$C$156,3,FALSE)","v":"V úvalu 84"},"M",{"$f":"IF(AC1923=\"\",CONCATENATE(AB1923,AV1923,\"06\"),IF(LEN(AC1923)=1,CONCATENATE(AB1923,AV1923,\"0\"&AC1923),CONCATENATE(AB1923,AV1923,AC1923)))","v":"2014M09"},null,null,null,null,null,{"$f":"VLOOKUP(M1923,Adresy!$A$3:$C$122,2,FALSE)","v":"Praha"},{"$f":"VLOOKUP(M1923,Adresy!$A$3:$C$122,3,FALSE)","v":"V úvalu 84"},0,0,0,0]
["RTG","mobilný skiagrafický RTG prístroj","RTG lampa","s dvoma ohniskami",null,null,"TMX+",null,null,"GE Healthcare","bez položkovej identifikácie ceny (v rámci sumárnej ceny)",null,"Nemocnice Olomouckého kraje, a.s.","ČR","Electric Medical Service s.r.o",null,null,null,null,{"$f":"IF(N1952=\"SR\",1,IF(AC1952=\"\",VLOOKUP(AW1952,'CZKEUR Xchange rate'!$D$13:$E$234,2,FALSE),VLOOKUP(AW1952,'CZKEUR Xchange rate'!$A$13:$B$234,2,FALSE)))","v":25.213999999999999},0,0,null,null,{"$f":"VLOOKUP(AW1952,'Cenové indexy '!$D$7:$E$200,2,FALSE)","v":99.36},{"$f":"W1952/Y1952*'Cenové indexy '!$E$149","v":0},0,2012,"12",null,"2012-11-30","Áno","Áno","neurčené","Nie","24 mesiacov ",null,null,null,"Zmluva 153_DG",null,null,null,null,null,{"$f":"VLOOKUP(M1952,Adresy!$A$4:$C$156,2,FALSE)","v":"Olomouc"},{"$f":"VLOOKUP(M1952,Adresy!$A$4:$C$156,3,FALSE)","v":"Jeremenkova 1191/40a"},"M","2012M12",null,null,null,null,null,{"$f":"VLOOKUP(M1952,Adresy!$A$3:$C$122,2,FALSE)","v":"Olomouc"},{"$f":"VLOOKUP(M1952,Adresy!$A$3:$C$122,3,FALSE)","v":"Jeremenkova 1191/40a"},0,0,0,0]
["RTG","univerzálny skiagraficko-skiaskopický komplet s integrovaným C ramenom","monitor","vyšetrovňa","2 ks \"19",null,"ULTIMAX-i",null,null,"Toshiba","bez položkovej identifikácie ceny (v rámci sumárnej ceny)",null,"Fakultní nemocnice v Motole","ČR","AUDIOSCAN s.r.o.",null,null,null,null,{"$f":"IF(N1977=\"SR\",1,IF(AC1977=\"\",VLOOKUP(AW1977,'CZKEUR Xchange rate'!$D$13:$E$234,2,FALSE),VLOOKUP(AW1977,'CZKEUR Xchange rate'!$A$13:$B$234,2,FALSE)))","v":24.809000000000001},0,0,null,null,{"$f":"VLOOKUP(AW1977,'Cenové indexy '!$D$7:$E$200,2,FALSE)","v":96.8},{"$f":"W1977/Y1977*'Cenové indexy '!$E$149","v":0},0,2012,"04",null,"2012-03-31","Áno","Áno","neurčené","Áno","24 mesiacov ",null,null,null,"Zmluva 156_DG",null,null,null,null,null,{"$f":"VLOOKUP(M1977,Adresy!$A$4:$C$156,2,FALSE)","v":"Praha"},{"$f":"VLOOKUP(M1977,Adresy!$A$4:$C$156,3,FALSE)","v":"V úvalu 84"},"M","2012M04",null,null,null,null,null,{"$f":"VLOOKUP(M1977,Adresy!$A$3:$C$122,2,FALSE)","v":"Praha"},{"$f":"VLOOKUP(M1977,Adresy!$A$3:$C$122,3,FALSE)","v":"V úvalu 84"},0,0,0,0]
["CT",null,"tomograf","priestorové rozlíšenie ","24 Lp/cm",null,"AQUILION ONE","AQUILION ONE",null,"Toshiba","bez položkovej identifikácie ceny (v rámci sumárnej ceny)",null,"Fakultní nemocnice v Motole","ČR","AUDIOSCAN s.r.o.",null,null,null,null,{"$f":"IF(N1991=\"SR\",1,IF(AC1991=\"\",VLOOKUP(AW1991,'CZKEUR Xchange rate'!$D$13:$E$234,2,FALSE),VLOOKUP(AW1991,'CZKEUR Xchange rate'!$A$13:$B$234,2,FALSE)))","v":27.815999999999999},0,0,null,null,{"$f":"VLOOKUP(AW1991,'Cenové indexy '!$D$7:$E$200,2,FALSE)","v":99.87},{"$f":"W1991/Y1991*'Cenové indexy '!$E$149","v":0},0,2014,"08",null,"2014-07-31","Áno","Áno","EFRR","Nie","24 mesiacov zadarmo",null,null,null,"Zmluva 126_AT",null,null,null,null,null,{"$f":"VLOOKUP(M1991,Adresy!$A$4:$C$156,2,FALSE)","v":"Praha"},{"$f":"VLOOKUP(M1991,Adresy!$A$4:$C$156,3,FALSE)","v":"V úvalu 84"},"M","2014M08",null,null,null,null,null,{"$f":"VLOOKUP(M1991,Adresy!$A$3:$C$122,2,FALSE)","v":"Praha"},{"$f":"VLOOKUP(M1991,Adresy!$A$3:$C$122,3,FALSE)","v":"V úvalu 84"},0,0,0,0]
["CT",null,"postprocesingová multimodalitná diagnostická stanica II.","monitor","27\" LCD",null,"AQUILION ONE","Aqulion Vitrea",null,"Toshiba","bez položkovej identifikácie ceny (v rámci sumárnej ceny)","HW","Fakultní nemocnice v Motole","ČR","AUDIOSCAN s.r.o.",null,null,null,null,{"$f":"IF(N2024=\"SR\",1,IF(AC2024=\"\",VLOOKUP(AW2024,'CZKEUR Xchange rate'!$D$13:$E$234,2,FALSE),VLOOKUP(AW2024,'CZKEUR Xchange rate'!$A$13:$B$234,2,FALSE)))","v":27.815999999999999},0,0,null,null,{"$f":"VLOOKUP(AW2024,'Cenové indexy '!$D$7:$E$200,2,FALSE)","v":99.87},{"$f":"W2024/Y2024*'Cenové indexy '!$E$149","v":0},0,2014,"08",null,"2014-07-31","Áno","Áno","EFRR","Nie","24 mesiacov zadarmo",null,null,null,"Zmluva 126_AT",null,null,null,null,null,{"$f":"VLOOKUP(M2024,Adresy!$A$4:$C$156,2,FALSE)","v":"Praha"},{"$f":"VLOOKUP(M2024,Adresy!$A$4:$C$156,3,FALSE)","v":"V úvalu 84"},"M","2014M08",null,null,null,null,null,{"$f":"VLOOKUP(M2024,Adresy!$A$3:$C$122,2,FALSE)","v":"Praha"},{"$f":"VLOOKUP(M2024,Adresy!$A$3:$C$122,3,FALSE)","v":"V úvalu 84"},0,0,0,0]
["CT",null,"aplikačné softvérové vybavenie pre postprocesingovú multimodalitnú diagnostickú stanicu II.","MPR rekonštrukcia",null,null,"AQUILION ONE","Aqulion Vitrea",null,"Toshiba","bez položkovej identifikácie ceny (v rámci sumárnej ceny)","SW","Fakultní nemocnice v Motole","ČR","AUDIOSCAN s.r.o.",null,null,null,null,{"$f":"IF(N2029=\"SR\",1,IF(AC2029=\"\",VLOOKUP(AW2029,'CZKEUR Xchange rate'!$D$13:$E$234,2,FALSE),VLOOKUP(AW2029,'CZKEUR Xchange rate'!$A$13:$B$234,2,FALSE)))","v":27.815999999999999},0,0,null,null,{"$f":"VLOOKUP(AW2029,'Cenové indexy '!$D$7:$E$200,2,FALSE)","v":99.87},{"$f":"W2029/Y2029*'Cenové indexy '!$E$149","v":0},0,2014,"08",null,"2014-07-31","Áno","Áno","EFRR","Nie","24 mesiacov zadarmo",null,null,null,"Zmluva 126_AT",null,null,null,null,null,{"$f":"VLOOKUP(M2029,Adresy!$A$4:$C$156,2,FALSE)","v":"Praha"},{"$f":"VLOOKUP(M2029,Adresy!$A$4:$C$156,3,FALSE)","v":"V úvalu 84"},"M","2014M08",null,null,null,null,null,{"$f":"VLOOKUP(M2029,Adresy!$A$3:$C$122,2,FALSE)","v":"Praha"},{"$f":"VLOOKUP(M2029,Adresy!$A$3:$C$122,3,FALSE)","v":"V úvalu 84"},0,0,0,0]
["CT",null,"ovládacia stanica operátora (skenovacia)","Akvizícia CBP",null,null,"AQUILION ONE","AQUILION ONE",null,"Toshiba","bez položkovej identifikácie ceny (v rámci sumárnej ceny)","SW","Nemocnice České Budějovice, a.s.","ČR","AUDIOSCAN s.r.o.",null,null,null,null,{"$f":"IF(N2063=\"SR\",1,IF(AC2063=\"\",VLOOKUP(AW2063,'CZKEUR Xchange rate'!$D$13:$E$234,2,FALSE),VLOOKUP(AW2063,'CZKEUR Xchange rate'!$A$13:$B$234,2,FALSE)))","v":27.041},0,0,null,null,{"$f":"VLOOKUP(AW2063,'Cenové indexy '!$D$7:$E$200,2,FALSE)","v":100.11},{"$f":"W2063/Y2063*'Cenové indexy '!$E$149","v":0},0,2015,"08",null,"2015-07-31","Áno","Áno","EFRR","Nie","24 mesiacov zadarmo, potom 8 rokov podľa zmluvy",null,null,null,"Zmluva 127_AT",null,null,null,null,null,{"$f":"VLOOKUP(M2063,Adresy!$A$4:$C$156,2,FALSE)","v":"České Budějovice "},{"$f":"VLOOKUP(M2063,Adresy!$A$4:$C$156,3,FALSE)","v":"B. Němcové 54"},"M","2015M08",null,null,null,null,null,{"$f":"VLOOKUP(M2063,Adresy!$A$3:$C$122,2,FALSE)","v":"České Budějovice "},{"$f":"VLOOKUP(M2063,Adresy!$A$3:$C$122,3,FALSE)","v":"B. Němcové 54"},0,0,0,0]
["CT",null,"postprocesingová multimodalitná diagnostická stanica","jednotka","CD/DVD",null,"AQUILION ONE","AQUILION ONE",null,"Toshiba","bez položkovej identifikácie ceny (v rámci sumárnej ceny)","HW","Nemocnice České Budějovice, a.s.","ČR","AUDIOSCAN s.r.o.",null,null,null,null,{"$f":"IF(N2076=\"SR\",1,IF(AC2076=\"\",VLOOKUP(AW2076,'CZKEUR Xchange rate'!$D$13:$E$234,2,FALSE),VLOOKUP(AW2076,'CZKEUR Xchange rate'!$A$13:$B$234,2,FALSE)))","v":27.041},0,0,null,null,{"$f":"VLOOKUP(AW2076,'Cenové indexy '!$D$7:$E$200,2,FALSE)","v":100.11},{"$f":"W2076/Y2076*'Cenové indexy '!$E$149","v":0},0,2015,"08",null,"2015-07-31","Áno","Áno","EFRR","Nie","24 mesiacov zadarmo, potom 8 rokov podľa zmluvy",null,null,null,"Zmluva 127_AT",null,null,null,null,null,{"$f":"VLOOKUP(M2076,Adresy!$A$4:$C$156,2,FALSE)","v":"České Budějovice "},{"$f":"VLOOKUP(M2076,Adresy!$A$4:$C$156,3,FALSE)","v":"B. Němcové 54"},"M","2015M08",null,null,null,null,null,{"$f":"VLOOKUP(M2076,Adresy!$A$3:$C$122,2,FALSE)","v":"České Budějovice "},{"$f":"VLOOKUP(M2076,Adresy!$A$3:$C$122,3,FALSE)","v":"B. Němcové 54"},0,0,0,0]
["CT",null,"celá zostava","multidetektorový celotelový tomograf",null,null,"AQUILION ONE","AQUILION ONE",null,"Toshiba","sumárna cena","HW","Vojenská nemocnice Olomouc","ČR","AUDIOSCAN s.r.o.",null,1,26977000,32642170,{"$f":"IF(N2101=\"SR\",1,IF(AC2101=\"\",VLOOKUP(AW2101,'CZKEUR Xchange rate'!$D$13:$E$234,2,FALSE),VLOOKUP(AW2101,'CZKEUR Xchange rate'!$A$13:$B$234,2,FALSE)))","v":27.088999999999999},995865.48045332055,1204997.2313485178,{"$f":"U2101/Q2101","v":995865.48045332055},{"$f":"V2101/Q2101","v":1204997.2313485178},{"$f":"VLOOKUP(AW2101,'Cenové indexy '!$D$7:$E$200,2,FALSE)","v":100.14},{"$f":"W2101/Y2101*'Cenové indexy '!$E$149","v":1025600.2296699715},1230720.2756039659,2015,"09",null,"2015-08-31","Áno","Áno","neurčené","Áno","36 mesiacov",null,null,null,"Zmluva 128_DG",null,null,null,null,null,{"$f":"VLOOKUP(M2101,Adresy!$A$4:$C$156,2,FALSE)","v":"Olomouc"},{"$f":"VLOOKUP(M2101,Adresy!$A$4:$C$156,3,FALSE)","v":"Sušilovo nám. 5"},"M","2015M09",null,null,null,null,null,{"$f":"VLOOKUP(M2101,Adresy!$A$3:$C$122,2,FALSE)","v":{"$error":"#N/A"}},{"$f":"VLOOKUP(M2101,Adresy!$A$3:$C$122,3,FALSE)","v":{"$error":"#N/A"}},{"$error":"#N/A"},{"$error":"#N/A"},{"$error":"#N/A"},{"$error":"#N/A"}]
["CT",null,"tomograf","nosnosť","300 kg",null,"AQUILION ONE",null,null,"Toshiba","bez položkovej identifikácie ceny (v rámci sumárnej ceny)",null,"Vojenská nemocnice Olomouc","ČR","AUDIOSCAN s.r.o.",null,null,null,null,{"$f":"IF(N2110=\"SR\",1,IF(AC2110=\"\",VLOOKUP(AW2110,'CZKEUR Xchange rate'!$D$13:$E$234,2,FALSE),VLOOKUP(AW2110,'CZKEUR Xchange rate'!$A$13:$B$234,2,FALSE)))","v":27.088999999999999},0,0,null,null,{"$f":"VLOOKUP(AW2110,'Cenové indexy '!$D$7:$E$200,2,FALSE)","v":100.14},{"$f":"W2110/Y2110*'Cenové indexy '!$E$149","v":0},0,2015,"09",null,"2015-08-31","Áno","Áno","neurčené","Áno","36 mesiacov",null,null,null,"Zmluva 128_DG",null,null,null,null,null,{"$f":"VLOOKUP(M2110,Adresy!$A$4:$C$156,2,FALSE)","v":"Olomouc"},{"$f":"VLOOKUP(M2110,Adresy!$A$4:$C$156,3,FALSE)","v":"Sušilovo nám. 5"},"M","2015M09",null,null,null,null,null,{"$f":"VLOOKUP(M2110,Adresy!$A$3:$C$122,2,FALSE)","v":{"$error":"#N/A"}},{"$f":"VLOOKUP(M2110,Adresy!$A$3:$C$122,3,FALSE)","v":{"$error":"#N/A"}},{"$error":"#N/A"},{"$error":"#N/A"},{"$error":"#N/A"},{"$error":"#N/A"}]
["CT",null,"aplikačné softvérové vybavenie ovládacej pracovnej stanice pre lekára pre diagnostiku a postprocesing I","softwér pre endoskopiu ","Fly Through",null,"AQUILION ONE",null,null,"Toshiba","bez položkovej identifikácie ceny (v rámci sumárnej ceny)",null,"Vojenská nemocnice Olomouc","ČR","AUDIOSCAN s.r.o.",null,null,null,null,{"$f":"IF(N2128=\"SR\",1,IF(AC2128=\"\",VLOOKUP(AW2128,'CZKEUR Xchange rate'!$D$13:$E$234,2,FALSE),VLOOKUP(AW2128,'CZKEUR Xchange rate'!$A$13:$B$234,2,FALSE)))","v":27.088999999999999},0,0,null,null,{"$f":"VLOOKUP(AW2128,'Cenové indexy '!$D$7:$E$200,2,FALSE)","v":100.14},{"$f":"W2128/Y2128*'Cenové indexy '!$E$149","v":0},0,2015,"09",null,"2015-08-31","Áno","Áno","neurčené","Áno","36 mesiacov",null,null,null,"Zmluva 128_DG",null,null,null,null,null,{"$f":"VLOOKUP(M2128,Adresy!$A$4:$C$156,2,FALSE)","v":"Olomouc"},{"$f":"VLOOKUP(M2128,Adresy!$A$4:$C$156,3,FALSE)","v":"Sušilovo nám. 5"},"M","2015M09",null,null,null,null,null,{"$f":"VLOOKUP(M2128,Adresy!$A$3:$C$122,2,FALSE)","v":{"$error":"#N/A"}},{"$f":"VLOOKUP(M2128,Adresy!$A$3:$C$122,3,FALSE)","v":{"$error":"#N/A"}},{"$error":"#N/A"},{"$error":"#N/A"},{"$error":"#N/A"},{"$error":"#N/A"}]
["CT",null,"aplikačné softvérové vybavenie ovládacej pracovnej stanice pre lekára pre diagnostiku a postprocesing II","softvér pre extrakraniálnu aplikáciu","CT BP 4D",null,"AQUILION ONE",null,null,"Toshiba","bez položkovej identifikácie ceny (v rámci sumárnej ceny)",null,"Vojenská nemocnice Olomouc","ČR","AUDIOSCAN s.r.o.",null,null,null,null,{"$f":"IF(N2153=\"SR\",1,IF(AC2153=\"\",VLOOKUP(AW2153,'CZKEUR Xchange rate'!$D$13:$E$234,2,FALSE),VLOOKUP(AW2153,'CZKEUR Xchange rate'!$A$13:$B$234,2,FALSE)))","v":27.088999999999999},{"$f":"R2153/T2153","v":0},{"$f":"S2153/T2153","v":0},null,null,{"$f":"VLOOKUP(AW2153,'Cenové indexy '!$D$7:$E$200,2,FALSE)","v":100.14},{"$f":"W2153/Y2153*'Cenové indexy '!$E$149","v":0},0,2015,"09",null,"2015-08-31","Áno","Áno","neurčené","Áno","36 mesiacov",null,null,null,"Zmluva 128_DG",null,null,null,null,null,{"$f":"VLOOKUP(M2153,Adresy!$A$4:$C$156,2,FALSE)","v":"Olomouc"},{"$f":"VLOOKUP(M2153,Adresy!$A$4:$C$156,3,FALSE)","v":"Sušilovo nám. 5"},"M","2015M09",null,null,null,null,null,{"$f":"VLOOKUP(M2153,Adresy!$A$3:$C$122,2,FALSE)","v":{"$error":"#N/A"}},{"$f":"VLOOKUP(M2153,Adresy!$A$3:$C$122,3,FALSE)","v":{"$error":"#N/A"}},{"$error":"#N/A"},{"$error":"#N/A"},{"$error":"#N/A"},{"$error":"#N/A"}]
["rádioterapeutické pracovisko","verifikačná sieť","rozšírenie existujúceho systému pre verifikáciu a registráciu ožarovania Elekta IMPAC Mosaiq",null,null,null,"Elekta IMPAC Mosaiq",null,null,"ELEKTA","položková cena (súčasť sumárnej ceny)",null,"Fakultná nemocnica Nitra","SR","TRANSKONTAKT spol. s r.o.",null,1,151880,182256,{"$f":"IF(N2178=\"SR\",1,IF(AC2178=\"\",VLOOKUP(AW2178,'CZKEUR Xchange rate'!$D$13:$E$234,2,FALSE),VLOOKUP(AW2178,'CZKEUR Xchange rate'!$A$13:$B$234,2,FALSE)))","v":1},151880,182256,151880,182256,{"$f":"VLOOKUP(AW2178,'Cenové indexy '!$D$7:$E$200,2,FALSE)","v":99.71},{"$f":"W2178/Y2178*'Cenové indexy '!$E$149","v":157089.4032694815},{"$f":"Z2178*1.2","v":188507.28392337778},2014,"07",null,{"$f":"DATE(AB2178,AC2178,AD2178)","v":"2014-06-30"},"Áno","Áno","2 splátky","Nie","24 mesiacov na tovarovú časť, 5 rokov na stavebné práce",null,null,null,"Zmluva 160_AT",null,null,null,null,null,{"$f":"VLOOKUP(M2178,Adresy!$A$4:$C$156,2,FALSE)","v":"Nitra"},{"$f":"VLOOKUP(M2178,Adresy!$A$4:$C$156,3,FALSE)","v":"Špitálska 6"},"M","2014M07",null,null,null,null,null,{"$f":"VLOOKUP(M2178,Adresy!$A$3:$C$122,2,FALSE)","v":"Nitra"},{"$f":"VLOOKUP(M2178,Adresy!$A$3:$C$122,3,FALSE)","v":"Špitálska 6"},{"$f":"IF(BC2178<>AT2178,1,0)","v":0},0,0,0]
["rádioterapeutické pracovisko","lineárny urýchľovač","celá zostava",null,null,null,"True Beam",null,null,"Varian Medical Systems","sumárna cena","HW/SW","Masarykov onkologický ústav","ČR","AMEDIS spol. s r.o.",null,1,165323100,199955901,{"$f":"IF(N2200=\"SR\",1,IF(AC2200=\"\",VLOOKUP(AW2200,'CZKEUR Xchange rate'!$D$13:$E$234,2,FALSE),VLOOKUP(AW2200,'CZKEUR Xchange rate'!$A$13:$B$234,2,FALSE)))","v":27.041},6113793.8685699496,7394545.3570504049,6113793.8685699496,7394545.3570504049,{"$f":"VLOOKUP(AW2200,'Cenové indexy '!$D$7:$E$200,2,FALSE)","v":100.11},{"$f":"W2200/Y2200*'Cenové indexy '!$E$149","v":6298227.5663332222},7557873.0795998666,2015,"08",null,"2015-07-31","Áno","Áno","vlastné + EFRR","Nie","24 mesiacov",null,null,null,"Zmluva 162_AT",null,null,null,null,null,{"$f":"VLOOKUP(M2200,Adresy!$A$4:$C$156,2,FALSE)","v":"Brno"},{"$f":"VLOOKUP(M2200,Adresy!$A$4:$C$156,3,FALSE)","v":"Žlutý kopec 543/7"},"M","2015M08",null,null,null,null,null,{"$f":"VLOOKUP(M2200,Adresy!$A$3:$C$122,2,FALSE)","v":"Brno"},{"$f":"VLOOKUP(M2200,Adresy!$A$3:$C$122,3,FALSE)","v":"Žlutý kopec 543/7"},0,0,0,0]
["rádioterapeutické pracovisko","lineárny urýchľovač","celá zostava",null,null,null,null,null,null,"","sumárna cena","HW/SW","Nemocnice Nový Jičín a.s.","ČR","AMEDIS spol. s r.o.",null,1,98526000,119216460,{"$f":"IF(N2221=\"SR\",1,IF(AC2221=\"\",VLOOKUP(AW2221,'CZKEUR Xchange rate'!$D$13:$E$234,2,FALSE),VLOOKUP(AW2221,'CZKEUR Xchange rate'!$A$13:$B$234,2,FALSE)))","v":27.457999999999998},3588243.8633549423,4341775.0746594798,{"$f":"U2221/Q2221","v":3588243.8633549423},{"$f":"V2221/Q2221","v":4341775.0746594798},{"$f":"VLOOKUP(AW2221,'Cenové indexy '!$D$7:$E$200,2,FALSE)","v":99.71},{"$f":"W2221/Y2221*'Cenové indexy '!$E$149","v":3711318.7205675985},4453582.4646811178,2014,"07",null,"2014-06-30","Áno","Áno","EFRR","Nie","24 mesiacov",null,null,null,"Zmluva 164_AT",null,null,null,null,null,{"$f":"VLOOKUP(M2221,Adresy!$A$4:$C$156,2,FALSE)","v":"Nový Jičín"},{"$f":"VLOOKUP(M2221,Adresy!$A$4:$C$156,3,FALSE)","v":"K Nemocnici 76"},"M","2014M07",null,null,null,null,null,{"$f":"VLOOKUP(M2221,Adresy!$A$3:$C$122,2,FALSE)","v":"Nový Jičín"},{"$f":"VLOOKUP(M2221,Adresy!$A$3:$C$122,3,FALSE)","v":"K Nemocnici 76"},0,0,0,0]
["rádioterapeutické pracovisko","verifikačná sieť","upgrade verifikačnej siete VarisVision 7.x na verziu ARIA v.13.6","1x ARIA T-Box SW",null,null,null,null,null,"Varian Medical Systems","položková cena (súčasť sumárnej ceny)",null,"Fakultná nemocnica Trenčín","SR","AMEDIS spol. s r.o.",null,1,23700,null,{"$f":"IF(N2246=\"SR\",1,IF(AC2246=\"\",VLOOKUP(AW2246,'CZKEUR Xchange rate'!$D$13:$E$234,2,FALSE),VLOOKUP(AW2246,'CZKEUR Xchange rate'!$A$13:$B$234,2,FALSE)))","v":1},23700,0,23700,0,{"$f":"VLOOKUP(AW2246,'Cenové indexy '!$D$7:$E$200,2,FALSE)","v":100.29},{"$f":"W2246/Y2246*'Cenové indexy '!$E$149","v":24371.133712234518},29245.36045468142,2015,"12",null,"2015-11-30","Áno","Áno","Neurčené","Nie","24 mesiacov",null,null,null,"Zmluva 167_AT",null,null,null,null,null,{"$f":"VLOOKUP(M2246,Adresy!$A$4:$C$156,2,FALSE)","v":"Trenčín"},{"$f":"VLOOKUP(M2246,Adresy!$A$4:$C$156,3,FALSE)","v":"Legionárska 594/2"},"M","2015M12",null,null,null,null,null,{"$f":"VLOOKUP(M2246,Adresy!$A$3:$C$122,2,FALSE)","v":"Trenčín"},{"$f":"VLOOKUP(M2246,Adresy!$A$3:$C$122,3,FALSE)","v":"Legionárska 594/2"},0,0,0,0]
["rádioterapeutické pracovisko","verifikačná sieť","upgrade verifikačnej siete VarisVision 7.x na verziu ARIA v.13.6","4x tlačiareň Color LaserJet P3015dn A4",null,null,null,null,null,"Varian Medical Systems","položková cena (súčasť sumárnej ceny)",null,"Fakultná nemocnica Trenčín","SR","AMEDIS spol. s r.o.",null,4,0,null,{"$f":"IF(N2252=\"SR\",1,IF(AC2252=\"\",VLOOKUP(AW2252,'CZKEUR Xchange rate'!$D$13:$E$234,2,FALSE),VLOOKUP(AW2252,'CZKEUR Xchange rate'!$A$13:$B$234,2,FALSE)))","v":1},0,0,0,0,{"$f":"VLOOKUP(AW2252,'Cenové indexy '!$D$7:$E$200,2,FALSE)","v":100.29},{"$f":"W2252/Y2252*'Cenové indexy '!$E$149","v":0},0,2015,"12",null,"2015-11-30","Áno","Áno","Neurčené","Nie","24 mesiacov",null,null,null,"Zmluva 167_AT",null,null,null,null,null,{"$f":"VLOOKUP(M2252,Adresy!$A$4:$C$156,2,FALSE)","v":"Trenčín"},{"$f":"VLOOKUP(M2252,Adresy!$A$4:$C$156,3,FALSE)","v":"Legionárska 594/2"},"M","2015M12",null,null,null,null,null,{"$f":"VLOOKUP(M2252,Adresy!$A$3:$C$122,2,FALSE)","v":"Trenčín"},{"$f":"VLOOKUP(M2252,Adresy!$A$3:$C$122,3,FALSE)","v":"Legionárska 594/2"},0,0,0,0]
["rádioterapeutické pracovisko",null,"lineárny urýchľovač","s dvoma modalitami",null,null,null,"Elekta Synergie XVI",null,"ELEKTA","bez položkovej identifikácie ceny (v rámci sumárnej ceny)",null,"Krajská nemocnica T.Bati, a.s.","ČR","TRANSKONTAKT-MEDICAL s.r.o",null,null,null,null,{"$f":"IF(N2273=\"SR\",1,IF(AC2273=\"\",VLOOKUP(AW2273,'CZKEUR Xchange rate'!$D$13:$E$234,2,FALSE),VLOOKUP(AW2273,'CZKEUR Xchange rate'!$A$13:$B$234,2,FALSE)))","v":27.041},0,0,null,null,{"$f":"VLOOKUP(AW2273,'Cenové indexy '!$D$7:$E$200,2,FALSE)","v":100.11},{"$f":"W2273/Y2273*'Cenové indexy '!$E$149","v":0},0,2015,"08",null,"2015-07-31","Áno","Áno","EFRR","Áno","24 mesiacov",null,null,null,"Zmluva 169_AT",null,null,null,null,null,{"$f":"VLOOKUP(M2273,Adresy!$A$4:$C$156,2,FALSE)","v":"Zlín"},{"$f":"VLOOKUP(M2273,Adresy!$A$4:$C$156,3,FALSE)","v":"Havlíčkovo nábř. 600"},"M","2015M08",null,null,null,null,null,{"$f":"VLOOKUP(M2273,Adresy!$A$3:$C$122,2,FALSE)","v":"Zlín"},{"$f":"VLOOKUP(M2273,Adresy!$A$3:$C$122,3,FALSE)","v":"Havlíčkovo nábř. 600"},0,0,0,0]
["rádioterapeutické pracovisko","lineárny urýchľovač","lineárny urýchľovač",null,null,null,null,"CLINAC",null,"Varian Medical Systems","bez položkovej identifikácie ceny (v rámci sumárnej ceny)",null,"Nemocnica České Budejovice, a.s.","ČR","AMEDIS spol. s r.o.",null,null,null,null,{"$f":"IF(N2293=\"SR\",1,IF(AC2293=\"\",VLOOKUP(AW2293,'CZKEUR Xchange rate'!$D$13:$E$234,2,FALSE),VLOOKUP(AW2293,'CZKEUR Xchange rate'!$A$13:$B$234,2,FALSE)))","v":27.608000000000001},0,0,null,null,{"$f":"VLOOKUP(AW2293,'Cenové indexy '!$D$7:$E$200,2,FALSE)","v":99.95},{"$f":"W2293/Y2293*'Cenové indexy '!$E$149","v":0},0,2015,"02",null,"2015-01-31","Áno","Áno","EFRR","Nie","24 mesiacov",null,null,null,"Zmluva 170_AT",null,null,null,null,null,{"$f":"VLOOKUP(M2293,Adresy!$A$4:$C$156,2,FALSE)","v":"České Budějovice"},{"$f":"VLOOKUP(M2293,Adresy!$A$4:$C$156,3,FALSE)","v":"B. Němcové 585/54"},"M","2015M02",null,null,null,null,null,{"$f":"VLOOKUP(M2293,Adresy!$A$3:$C$122,2,FALSE)","v":"České Budějovice"},{"$f":"VLOOKUP(M2293,Adresy!$A$3:$C$122,3,FALSE)","v":"B. Němcové 585/54"},0,0,0,0]
["počítačový perimeter",null,"celá zostava",null,null,null,"Medmont M700","Medmont M700",null,"Medmont","sumárna cena","HW/SW","UPJŠ Košice","SR","ULTRAMED s.r.o.",36638404,1,2467,2960.4,{"$f":"IF(N2324=\"SR\",1,IF(AC2324=\"\",VLOOKUP(AW2324,'CZKEUR Xchange rate'!$D$13:$E$234,2,FALSE),VLOOKUP(AW2324,'CZKEUR Xchange rate'!$A$13:$B$234,2,FALSE)))","v":1},2467,2960.4,{"$f":"U2324/Q2324","v":2467},{"$f":"V2324/Q2324","v":2960.4},{"$f":"VLOOKUP(AW2324,'Cenové indexy '!$D$7:$E$200,2,FALSE)","v":89.07},{"$f":"W2324/Y2324*'Cenové indexy '!$E$149","v":2856.4242730436736},3427.7091276524084,2011,"02","28","2011-02-28","Áno","Áno","fondy EU","Áno","24 mesiacov",null,null,null,"Zmluva 174_AT",null,null,null,null,null,{"$f":"VLOOKUP(M2324,Adresy!$A$4:$C$156,2,FALSE)","v":"Košice"},{"$f":"VLOOKUP(M2324,Adresy!$A$4:$C$156,3,FALSE)","v":"Moyzesova"},"M","2011M02",null,null,null,null,null,{"$f":"VLOOKUP(M2324,Adresy!$A$3:$C$122,2,FALSE)","v":{"$error":"#N/A"}},{"$f":"VLOOKUP(M2324,Adresy!$A$3:$C$122,3,FALSE)","v":{"$error":"#N/A"}},{"$error":"#N/A"},{"$error":"#N/A"},{"$error":"#N/A"},{"$error":"#N/A"}]
["počítačový perimeter",null,"PC zostava s tlačiarňou",null,null,null,"OCTOPOL PTS 1000",null,null,"Canon","bez položkovej identifikácie ceny (v rámci sumárnej ceny)",null,"Psychiatrická nemocnica Opava","ČR","OFTIS-OPTA s.r.o.",64650502,null,null,null,{"$f":"IF(N2345=\"SR\",1,IF(AC2345=\"\",VLOOKUP(AW2345,'CZKEUR Xchange rate'!$D$13:$E$234,2,FALSE),VLOOKUP(AW2345,'CZKEUR Xchange rate'!$A$13:$B$234,2,FALSE)))","v":27.094000000000001},{"$f":"R2345/T2345","v":0},{"$f":"S2345/T2345","v":0},null,null,{"$f":"VLOOKUP(AW2345,'Cenové indexy '!$D$7:$E$200,2,FALSE)","v":99.95},{"$f":"W2345/Y2345*'Cenové indexy '!$E$149","v":0},0,2015,"07","02","2015-07-02","Áno","Áno","z vlastných zdrojov","Áno","24 mesiacov",null,null,null,"Zmluva 177_AT",null,null,null,null,null,{"$f":"VLOOKUP(M2345,Adresy!$A$4:$C$156,2,FALSE)","v":"Opava"},{"$f":"VLOOKUP(M2345,Adresy!$A$4:$C$156,3,FALSE)","v":"Olomoucká 305/88"},"M","2015M07",null,null,null,null,null,{"$f":"VLOOKUP(M2345,Adresy!$A$3:$C$122,2,FALSE)","v":"Opava"},{"$f":"VLOOKUP(M2345,Adresy!$A$3:$C$122,3,FALSE)","v":"Olomoucká 305/88"},0,0,0,0]
["PET-CT",null,"príslušenstvo","prístroje a pomôcky na skladovanie, prípravu a aplikáciu radiofarmak",null,null,"Discovery IQ",null,null,"GE Healthcare","položková cena (súčasť sumárnej ceny)",null,"Krajská nemocnica T.Bati, a.s.","ČR","GE Medical Systems  s.r.o.",63991306,1,993300,1201893,{"$f":"IF(N2361=\"SR\",1,IF(AC2361=\"\",VLOOKUP(AW2361,'CZKEUR Xchange rate'!$D$13:$E$234,2,FALSE),VLOOKUP(AW2361,'CZKEUR Xchange rate'!$A$13:$B$234,2,FALSE)))","v":27.041},36733.108982655969,44447.06186901372,36733.108982655969,44447.06186901372,{"$f":"VLOOKUP(AW2361,'Cenové indexy '!$D$7:$E$200,2,FALSE)","v":100.11},{"$f":"W2361/Y2361*'Cenové indexy '!$E$149","v":37841.229940878133},45409.475929053755,2015,"08","28","2015-08-28","Áno","Áno","EFRR","Nie","24 mesiacov zadarmo","24 mesiacov","Neurčené","Neurčené","Zmluva 178_AT",null,null,null,null,null,{"$f":"VLOOKUP(M2361,Adresy!$A$4:$C$156,2,FALSE)","v":"Zlín"},{"$f":"VLOOKUP(M2361,Adresy!$A$4:$C$156,3,FALSE)","v":"Havlíčkovo nábř. 600"},"M","2015M08",null,null,null,null,null,{"$f":"VLOOKUP(M2361,Adresy!$A$3:$C$122,2,FALSE)","v":"Zlín"},{"$f":"VLOOKUP(M2361,Adresy!$A$3:$C$122,3,FALSE)","v":"Havlíčkovo nábř. 600"},0,0,0,0]
["PET-CT",null,"vyhodnocovacia stanica","onkologický SW","vrátane SW pre detekciu lézií, staging, treatment follow-up, vizualizáciu, volumetrickú analýzu a SW pre porovnanie dvoch štúdií pacienta získaných v rôznom čase s automatickou registráciou a zobrazením PET/CT obrazov získaných v rôznom čase",null,"Discovery IQ",null,null,"GE Healthcare","bez položkovej identifikácie ceny (v rámci sumárnej ceny)",null,"Krajská nemocnica T.Bati, a.s.","ČR","GE Medical Systems  s.r.o.",63991306,null,null,null,{"$f":"IF(N2372=\"SR\",1,IF(AC2372=\"\",VLOOKUP(AW2372,'CZKEUR Xchange rate'!$D$13:$E$234,2,FALSE),VLOOKUP(AW2372,'CZKEUR Xchange rate'!$A$13:$B$234,2,FALSE)))","v":27.041},0,0,null,null,{"$f":"VLOOKUP(AW2372,'Cenové indexy '!$D$7:$E$200,2,FALSE)","v":100.11},{"$f":"W2372/Y2372*'Cenové indexy '!$E$149","v":0},0,2015,"08","28","2015-08-28","Áno","Áno","EFRR","Nie","24 mesiacov zadarmo","24 mesiacov","Neurčené","Neurčené","Zmluva 178_AT",null,null,null,null,null,{"$f":"VLOOKUP(M2372,Adresy!$A$4:$C$156,2,FALSE)","v":"Zlín"},{"$f":"VLOOKUP(M2372,Adresy!$A$4:$C$156,3,FALSE)","v":"Havlíčkovo nábř. 600"},"M","2015M08",null,null,null,null,null,{"$f":"VLOOKUP(M2372,Adresy!$A$3:$C$122,2,FALSE)","v":"Zlín"},{"$f":"VLOOKUP(M2372,Adresy!$A$3:$C$122,3,FALSE)","v":"Havlíčkovo nábř. 600"},0,0,0,0]
["PET-CT",null,"vyhodnocovacia stanica","vyhodnocovacia stanica",null,null,"Biograph mCT Flow 64",null,null,"Siemens","bez položkovej identifikácie ceny (v rámci sumárnej ceny)",null,"Nemocnica České Budejovice, a.s.","ČR","Siemens Healthcare s.r.o.",4179960,5,null,null,{"$f":"IF(N2397=\"SR\",1,IF(AC2397=\"\",VLOOKUP(AW2397,'CZKEUR Xchange rate'!$D$13:$E$234,2,FALSE),VLOOKUP(AW2397,'CZKEUR Xchange rate'!$A$13:$B$234,2,FALSE)))","v":27.027000000000001},0,0,null,null,{"$f":"VLOOKUP(AW2397,'Cenové indexy '!$D$7:$E$200,2,FALSE)","v":100.29},{"$f":"W2397/Y2397*'Cenové indexy '!$E$149","v":0},0,2015,"12","30","2015-12-30","Áno","Áno","Neurčené","Nie","24 mesiacov zadarmo","24 mesiacov","8 rokov - podmienky podľa zmluvy","12 pracovných hodín","Zmluva 179_AT",null,null,null,null,null,{"$f":"VLOOKUP(M2397,Adresy!$A$4:$C$156,2,FALSE)","v":"České Budějovice"},{"$f":"VLOOKUP(M2397,Adresy!$A$4:$C$156,3,FALSE)","v":"B. Němcové 585/54"},"M","2015M12",null,null,null,null,null,{"$f":"VLOOKUP(M2397,Adresy!$A$3:$C$122,2,FALSE)","v":"České Budějovice"},{"$f":"VLOOKUP(M2397,Adresy!$A$3:$C$122,3,FALSE)","v":"B. Němcové 585/54"},0,0,0,0]
["PET-CT",null,"PET-CT","TrueV PET","4-ringy detektorov",null,"Biograph mCT S40",null,null,"Siemens","bez položkovej identifikácie ceny (v rámci sumárnej ceny)",null,"Fakultní nemocnica Olomouc","ČR","Siemens Healthcare s.r.o.","00268577",null,null,null,{"$f":"IF(N2429=\"SR\",1,IF(AC2429=\"\",VLOOKUP(AW2429,'CZKEUR Xchange rate'!$D$13:$E$234,2,FALSE),VLOOKUP(AW2429,'CZKEUR Xchange rate'!$A$13:$B$234,2,FALSE)))","v":27.094000000000001},0,0,null,null,{"$f":"VLOOKUP(AW2429,'Cenové indexy '!$D$7:$E$200,2,FALSE)","v":99.95},{"$f":"W2429/Y2429*'Cenové indexy '!$E$149","v":0},0,2015,"07","21","2015-07-21","Áno","Áno","EFRR","Áno","24 mesiacov zadarmo","24 mesiacov","6 rokov - podmienky podľa zmluvy","1 pracovný deň","Zmluva 180_AT",null,null,null,null,null,{"$f":"VLOOKUP(M2429,Adresy!$A$4:$C$156,2,FALSE)","v":"Olomouc"},{"$f":"VLOOKUP(M2429,Adresy!$A$4:$C$156,3,FALSE)","v":"I.P. Pavolva 185/6"},"M","2015M07",null,null,null,null,null,{"$f":"VLOOKUP(M2429,Adresy!$A$3:$C$122,2,FALSE)","v":"Olomouc"},{"$f":"VLOOKUP(M2429,Adresy!$A$3:$C$122,3,FALSE)","v":"I.P. Pavolva 185/6"},0,0,0,0]
["PET-CT",null,"vyhodnocovacia stanica","monitor nahľadový 23\"",null,null,"Biograph mCT S40",null,null,"Siemens","bez položkovej identifikácie ceny (v rámci sumárnej ceny)",null,"Fakultní nemocnica Olomouc","ČR","Siemens Healthcare s.r.o.","00268577",5,null,null,{"$f":"IF(N2444=\"SR\",1,IF(AC2444=\"\",VLOOKUP(AW2444,'CZKEUR Xchange rate'!$D$13:$E$234,2,FALSE),VLOOKUP(AW2444,'CZKEUR Xchange rate'!$A$13:$B$234,2,FALSE)))","v":27.094000000000001},0,0,null,null,{"$f":"VLOOKUP(AW2444,'Cenové indexy '!$D$7:$E$200,2,FALSE)","v":99.95},{"$f":"W2444/Y2444*'Cenové indexy '!$E$149","v":0},0,2015,"07","21","2015-07-21","Áno","Áno","EFRR","Áno","24 mesiacov zadarmo","24 mesiacov","6 rokov - podmienky podľa zmluvy","1 pracovný deň","Zmluva 180_AT",null,null,null,null,null,{"$f":"VLOOKUP(M2444,Adresy!$A$4:$C$156,2,FALSE)","v":"Olomouc"},{"$f":"VLOOKUP(M2444,Adresy!$A$4:$C$156,3,FALSE)","v":"I.P. Pavolva 185/6"},"M","2015M07",null,null,null,null,null,{"$f":"VLOOKUP(M2444,Adresy!$A$3:$C$122,2,FALSE)","v":"Olomouc"},{"$f":"VLOOKUP(M2444,Adresy!$A$3:$C$122,3,FALSE)","v":"I.P. Pavolva 185/6"},0,0,0,0]
["PET-CT",null,"PET-CT","Zdroje Ge-68 ",null,null,"Biograph mCT Flow 64",null,null,"Siemens","bez položkovej identifikácie ceny (v rámci sumárnej ceny)",null,"Masarykov onkologický ústav","ČR","Siemens Healthcare s.r.o.","00268577",null,null,null,{"$f":"IF(N2469=\"SR\",1,IF(AC2469=\"\",VLOOKUP(AW2469,'CZKEUR Xchange rate'!$D$13:$E$234,2,FALSE),VLOOKUP(AW2469,'CZKEUR Xchange rate'!$A$13:$B$234,2,FALSE)))","v":27.094000000000001},0,0,null,null,{"$f":"VLOOKUP(AW2469,'Cenové indexy '!$D$7:$E$200,2,FALSE)","v":99.95},{"$f":"W2469/Y2469*'Cenové indexy '!$E$149","v":0},0,2015,"07","28","2015-07-28","Áno","Áno","Neurčené","Nie","24 mesiacov zadarmo","24 mesiacov","min. 8 rokov","24 hodín","Zmluva 181_AT",null,null,null,null,null,{"$f":"VLOOKUP(M2469,Adresy!$A$4:$C$156,2,FALSE)","v":"Brno"},{"$f":"VLOOKUP(M2469,Adresy!$A$4:$C$156,3,FALSE)","v":"Žlutý kopec 543/7"},"M","2015M07",null,null,null,null,null,{"$f":"VLOOKUP(M2469,Adresy!$A$3:$C$122,2,FALSE)","v":"Brno"},{"$f":"VLOOKUP(M2469,Adresy!$A$3:$C$122,3,FALSE)","v":"Žlutý kopec 543/7"},0,0,0,0]
["PET-CT",null,"vyhodnocovacia stanica","syngo.via L",null,null,"Biograph mCT Flow 64",null,null,"Siemens","bez položkovej identifikácie ceny (v rámci sumárnej ceny)",null,"Masarykov onkologický ústav","ČR","Siemens Healthcare s.r.o.","00268577",1,null,null,{"$f":"IF(N2480=\"SR\",1,IF(AC2480=\"\",VLOOKUP(AW2480,'CZKEUR Xchange rate'!$D$13:$E$234,2,FALSE),VLOOKUP(AW2480,'CZKEUR Xchange rate'!$A$13:$B$234,2,FALSE)))","v":27.094000000000001},0,0,null,null,{"$f":"VLOOKUP(AW2480,'Cenové indexy '!$D$7:$E$200,2,FALSE)","v":99.95},{"$f":"W2480/Y2480*'Cenové indexy '!$E$149","v":0},0,2015,"07","28","2015-07-28","Áno","Áno","Neurčené","Nie","24 mesiacov zadarmo","24 mesiacov","min. 8 rokov","24 hodín","Zmluva 181_AT",null,null,null,null,null,{"$f":"VLOOKUP(M2480,Adresy!$A$4:$C$156,2,FALSE)","v":"Brno"},{"$f":"VLOOKUP(M2480,Adresy!$A$4:$C$156,3,FALSE)","v":"Žlutý kopec 543/7"},"M","2015M07",null,null,null,null,null,{"$f":"VLOOKUP(M2480,Adresy!$A$3:$C$122,2,FALSE)","v":"Brno"},{"$f":"VLOOKUP(M2480,Adresy!$A$3:$C$122,3,FALSE)","v":"Žlutý kopec 543/7"},0,0,0,0]
["PET-CT",null,"preventívne prehliadky zariadenia",null,null,null,"Biograph mCT Flow 64",null,null,"Siemens","položková cena (súčasť sumárnej ceny)",null,"Masarykov onkologický ústav","ČR","Siemens Healthcare s.r.o.","00268577",1,60000,null,{"$f":"IF(N2496=\"SR\",1,IF(AC2496=\"\",VLOOKUP(AW2496,'CZKEUR Xchange rate'!$D$13:$E$234,2,FALSE),VLOOKUP(AW2496,'CZKEUR Xchange rate'!$A$13:$B$234,2,FALSE)))","v":27.094000000000001},2214.5124381781943,0,2214.5124381781943,null,{"$f":"VLOOKUP(AW2496,'Cenové indexy '!$D$7:$E$200,2,FALSE)","v":99.95},{"$f":"W2496/Y2496*'Cenové indexy '!$E$149","v":2284.9691620742087},2741.9629944890503,2015,"07","28","2015-07-28","Áno","Áno","Neurčené","Nie","24 mesiacov zadarmo","24 mesiacov","min. 8 rokov","24 hodín","Zmluva 181_AT",null,null,null,null,null,{"$f":"VLOOKUP(M2496,Adresy!$A$4:$C$156,2,FALSE)","v":"Brno"},{"$f":"VLOOKUP(M2496,Adresy!$A$4:$C$156,3,FALSE)","v":"Žlutý kopec 543/7"},"M","2015M07",null,null,null,null,null,{"$f":"VLOOKUP(M2496,Adresy!$A$3:$C$122,2,FALSE)","v":"Brno"},{"$f":"VLOOKUP(M2496,Adresy!$A$3:$C$122,3,FALSE)","v":"Žlutý kopec 543/7"},0,0,0,0]
["PET-CT",null,"aplikačné softvérové vybavenie vyhodnocovacej stanice I.","onkologický SW",null,null,"Biograph mCT S40",null,null,"Siemens","bez položkovej identifikácie ceny (v rámci sumárnej ceny)",null,"Inštitút nukleárnej a molekulárnej medicíny","SR","AD REM s.r.o.",31103049,1,null,null,{"$f":"IF(N2521=\"SR\",1,IF(AC2521=\"\",VLOOKUP(AW2521,'CZKEUR Xchange rate'!$D$13:$E$234,2,FALSE),VLOOKUP(AW2521,'CZKEUR Xchange rate'!$A$13:$B$234,2,FALSE)))","v":1},0,0,null,null,{"$f":"VLOOKUP(AW2521,'Cenové indexy '!$D$7:$E$200,2,FALSE)","v":99.31},{"$f":"W2521/Y2521*'Cenové indexy '!$E$149","v":0},0,2013,"10","03","2013-10-03","Áno","Áno","na 60 splátok","Nie","24 mesiacov","24 mesiacov","6 rokov - podmienky podľa zmluvy","48 hodín","Zmluva 184_AT",null,null,null,null,null,{"$f":"VLOOKUP(M2521,Adresy!$A$4:$C$156,2,FALSE)","v":"Košice"},{"$f":"VLOOKUP(M2521,Adresy!$A$4:$C$156,3,FALSE)","v":"Rastislavova 785/43"},"M","2013M10",null,null,null,null,null,{"$f":"VLOOKUP(M2521,Adresy!$A$3:$C$122,2,FALSE)","v":"Košice"},{"$f":"VLOOKUP(M2521,Adresy!$A$3:$C$122,3,FALSE)","v":"Rastislavova 785/43"},0,0,0,0]
["PET-CT",null,"PET-CT","PET respiračný gating ",null,null,"Biograph mCT-X",null,null,"Siemens","bez položkovej identifikácie ceny (v rámci sumárnej ceny)",null,"Fakultní nemocnice Plzeň","ČR","Medifine a.s.",27718948,null,null,null,{"$f":"IF(N2548=\"SR\",1,IF(AC2548=\"\",VLOOKUP(AW2548,'CZKEUR Xchange rate'!$D$13:$E$234,2,FALSE),VLOOKUP(AW2548,'CZKEUR Xchange rate'!$A$13:$B$234,2,FALSE)))","v":27.457999999999998},0,0,null,null,{"$f":"VLOOKUP(AW2548,'Cenové indexy '!$D$7:$E$200,2,FALSE)","v":99.71},{"$f":"W2548/Y2548*'Cenové indexy '!$E$149","v":0},0,2014,"07","04","2014-07-04","Áno","Áno","Neurčené","Áno","24 mesiacov zadarmo","24 mesiacov","8 rokov - podmienky podľa zmluvy","12  hodín","Zmluva 171_DG",null,null,null,null,null,{"$f":"VLOOKUP(M2548,Adresy!$A$4:$C$156,2,FALSE)","v":"Plzeň"},{"$f":"VLOOKUP(M2548,Adresy!$A$4:$C$156,3,FALSE)","v":"Dr. E. Beneše 1128/13"},"M","2014M07",null,null,null,null,null,{"$f":"VLOOKUP(M2548,Adresy!$A$3:$C$122,2,FALSE)","v":"Plzeň"},{"$f":"VLOOKUP(M2548,Adresy!$A$3:$C$122,3,FALSE)","v":"Dr. E. Beneše 1128/13"},0,0,0,0]
["PET-CT",null,"PET-CT","počet vstiev 40",40,null,"Biograph mCT-S(40)",null,null,"Siemens","bez položkovej identifikácie ceny (v rámci sumárnej ceny)",null,"Masarykova nemocnice v Ústí nad Labem, o.z.","ČR","Siemens Healthcare s.r.o.","00268580",null,null,null,{"$f":"IF(N2568=\"SR\",1,IF(AC2568=\"\",VLOOKUP(AW2568,'CZKEUR Xchange rate'!$D$13:$E$234,2,FALSE),VLOOKUP(AW2568,'CZKEUR Xchange rate'!$A$13:$B$234,2,FALSE)))","v":27.088999999999999},0,0,null,null,{"$f":"VLOOKUP(AW2568,'Cenové indexy '!$D$7:$E$200,2,FALSE)","v":100.14},{"$f":"W2568/Y2568*'Cenové indexy '!$E$149","v":0},0,2015,"09","23","2015-09-23","Áno","Áno","EFRR","Áno","36 mesiacov","36 mesiacov","neurčené","24 hodín","Zmluva 172_DG",null,null,null,null,null,{"$f":"VLOOKUP(M2568,Adresy!$A$4:$C$156,2,FALSE)","v":"Ústí nad Labem"},{"$f":"VLOOKUP(M2568,Adresy!$A$4:$C$156,3,FALSE)","v":"Sociální péčer 12A"},"M","2015M09",null,null,null,null,null,{"$f":"VLOOKUP(M2568,Adresy!$A$3:$C$122,2,FALSE)","v":"Ústí nad Labem"},{"$f":"VLOOKUP(M2568,Adresy!$A$3:$C$122,3,FALSE)","v":"Sociální péčer 12A"},0,0,0,0]
["PET-CT",null,"príslušenstvo","zariadenie pre audiovizuálnue sledovanie pacientov po aplikácií rádiofarmák ",null,null,"Biograph mCT-S(40)",null,null,"Siemens","bez položkovej identifikácie ceny (v rámci sumárnej ceny)",null,"Masarykova nemocnice v Ústí nad Labem, o.z.","ČR","Siemens Healthcare s.r.o.","00268604",null,null,null,{"$f":"IF(N2593=\"SR\",1,IF(AC2593=\"\",VLOOKUP(AW2593,'CZKEUR Xchange rate'!$D$13:$E$234,2,FALSE),VLOOKUP(AW2593,'CZKEUR Xchange rate'!$A$13:$B$234,2,FALSE)))","v":27.088999999999999},0,0,null,null,{"$f":"VLOOKUP(AW2593,'Cenové indexy '!$D$7:$E$200,2,FALSE)","v":100.14},{"$f":"W2593/Y2593*'Cenové indexy '!$E$149","v":0},0,2015,"09","23","2015-09-23","Áno","Áno","EFRR","Áno","36 mesiacov","36 mesiacov","neurčené","24 hodín","Zmluva 172_DG",null,null,null,null,null,{"$f":"VLOOKUP(M2593,Adresy!$A$4:$C$156,2,FALSE)","v":"Ústí nad Labem"},{"$f":"VLOOKUP(M2593,Adresy!$A$4:$C$156,3,FALSE)","v":"Sociální péčer 12A"},"M","2015M09",null,null,null,null,null,{"$f":"VLOOKUP(M2593,Adresy!$A$3:$C$122,2,FALSE)","v":"Ústí nad Labem"},{"$f":"VLOOKUP(M2593,Adresy!$A$3:$C$122,3,FALSE)","v":"Sociální péčer 12A"},0,0,0,0]
["PET-CT",null,"PET-CT",null,null,null,"Discovery IQ",null,null,"GE Healthcare","položková cena (súčasť sumárnej ceny)",null,"Fakultní nemocnice Ostrava","ČR","Electric Medical Service s.r.o",49970267,1,29793120,36049675.200000003,{"$f":"IF(N2595=\"SR\",1,IF(AC2595=\"\",VLOOKUP(AW2595,'CZKEUR Xchange rate'!$D$13:$E$234,2,FALSE),VLOOKUP(AW2595,'CZKEUR Xchange rate'!$A$13:$B$234,2,FALSE)))","v":27.050999999999998},1101368.5261173339,1332655.9166019743,{"$f":"U2595/Q2595","v":1101368.5261173339},{"$f":"V2595/Q2595","v":1332655.9166019743},{"$f":"VLOOKUP(AW2595,'Cenové indexy '!$D$7:$E$200,2,FALSE)","v":101.08},{"$f":"W2595/Y2595*'Cenové indexy '!$E$149","v":1123705.3432774104},1348446.4119328924,2016,"03","22","2016-03-22","Áno","Áno","Neurčené","Nie","24 mesiacov","24 mesiacov","6 rokov - podmienky podľa zmluvy","12 hodín","Zmluva 174_DG",null,null,null,null,null,{"$f":"VLOOKUP(M2595,Adresy!$A$4:$C$156,2,FALSE)","v":"Ostrava"},{"$f":"VLOOKUP(M2595,Adresy!$A$4:$C$156,3,FALSE)","v":"17. listopadu"},"M","2016M03",null,null,null,null,null,{"$f":"VLOOKUP(M2595,Adresy!$A$3:$C$122,2,FALSE)","v":"Ostrava"},{"$f":"VLOOKUP(M2595,Adresy!$A$3:$C$122,3,FALSE)","v":"17. listopadu"},0,0,0,0]
["PET-CT",null,"rozvádzač",null,null,null,"Discovery IQ",null,null,"GE Healthcare","položková cena (súčasť sumárnej ceny)",null,"Fakultní nemocnice Ostrava","ČR","Electric Medical Service s.r.o",49970267,1,88000,106480,{"$f":"IF(N2620=\"SR\",1,IF(AC2620=\"\",VLOOKUP(AW2620,'CZKEUR Xchange rate'!$D$13:$E$234,2,FALSE),VLOOKUP(AW2620,'CZKEUR Xchange rate'!$A$13:$B$234,2,FALSE)))","v":27.050999999999998},3253.1144874496322,3936.268529814055,3253.1144874496322,3936.268529814055,{"$f":"VLOOKUP(AW2620,'Cenové indexy '!$D$7:$E$200,2,FALSE)","v":101.08},{"$f":"W2620/Y2620*'Cenové indexy '!$E$149","v":3319.0907903708012},3982.9089484449614,2016,"03","22","2016-03-22","Áno","Áno","Neurčené","Nie","24 mesiacov","24 mesiacov","6 rokov - podmienky podľa zmluvy","12 hodín","Zmluva 174_DG",null,null,null,null,null,{"$f":"VLOOKUP(M2620,Adresy!$A$4:$C$156,2,FALSE)","v":"Ostrava"},{"$f":"VLOOKUP(M2620,Adresy!$A$4:$C$156,3,FALSE)","v":"17. listopadu"},"M","2016M03",null,null,null,null,null,{"$f":"VLOOKUP(M2620,Adresy!$A$3:$C$122,2,FALSE)","v":"Ostrava"},{"$f":"VLOOKUP(M2620,Adresy!$A$3:$C$122,3,FALSE)","v":"17. listopadu"},0,0,0,0]
["infúzna technika",null,"dávkovač","lineárny",null,8713030,null,"Perfusor Space",null,"B.Braun","položková cena (súčasť sumárnej ceny)",null,"Univerzitná nemocnica Bratislava","SR","B. Braun medical s.r.o.",31350780,58,110797.98,132957.57,{"$f":"IF(N2641=\"SR\",1,IF(AC2641=\"\",VLOOKUP(AW2641,'CZKEUR Xchange rate'!$D$13:$E$234,2,FALSE),VLOOKUP(AW2641,'CZKEUR Xchange rate'!$A$13:$B$234,2,FALSE)))","v":1},110797.98,132957.57,1910.31,2292.3718965517241,{"$f":"VLOOKUP(AW2641,'Cenové indexy '!$D$7:$E$200,2,FALSE)","v":89.42},{"$f":"W2641/Y2641*'Cenové indexy '!$E$149","v":2203.2014124356965},2643.8416949228358,2011,"05","31","2011-05-31","Áno","Áno","Neurčené","Nie",null,"24 mesiacov","Neurčené","do 24 hodín","Zmluva 197_AT",null,null,null,null,null,{"$f":"VLOOKUP(M2641,Adresy!$A$4:$C$156,2,FALSE)","v":"Bratislava"},{"$f":"VLOOKUP(M2641,Adresy!$A$4:$C$156,3,FALSE)","v":"Ružinovská 4810/6"},"M","2011M05",null,null,null,null,null,"Bratislava","Ružinovská 4810/6",0,0,0,0]
["infúzna technika",null,"dávkovač","lineárny","PCA s príslušenstvom",null,null,null,null,"","bez položkovej identifikácie ceny (v rámci sumárnej ceny)",null,"Národný onkologický ústav","SR","Med Partners a.s.",44851740,1,null,null,{"$f":"IF(N2663=\"SR\",1,IF(AC2663=\"\",VLOOKUP(AW2663,'CZKEUR Xchange rate'!$D$13:$E$234,2,FALSE),VLOOKUP(AW2663,'CZKEUR Xchange rate'!$A$13:$B$234,2,FALSE)))","v":1},0,0,null,null,{"$f":"VLOOKUP(AW2663,'Cenové indexy '!$D$7:$E$200,2,FALSE)","v":99.88},{"$f":"W2663/Y2663*'Cenové indexy '!$E$149","v":0},0,2015,"06","09","2015-06-09","Áno","Áno","Neurčené","Nie",null,"Neurčené","Neurčené","Neurčené","Zmluva 201_AT",null,null,null,null,null,{"$f":"VLOOKUP(M2663,Adresy!$A$4:$C$156,2,FALSE)","v":"Bratislava"},{"$f":"VLOOKUP(M2663,Adresy!$A$4:$C$156,3,FALSE)","v":"Klenová 3019/1"},"M","2015M06",null,null,null,null,null,"Bratislava","Klenová 3019/1",0,0,0,0]
["infúzna technika",null,"dávkovač","lineárny",null,8713030,null,"Perfusor Space",null,"B.Braun","položková cena (súčasť sumárnej ceny)",null,"Detská fakultná nemocnica Košice","SR","B. Braun medical s.r.o.",31350780,3,null,6876,{"$f":"IF(N2692=\"SR\",1,IF(AC2692=\"\",VLOOKUP(AW2692,'CZKEUR Xchange rate'!$D$13:$E$234,2,FALSE),VLOOKUP(AW2692,'CZKEUR Xchange rate'!$A$13:$B$234,2,FALSE)))","v":1},0,6876,1910,2292,{"$f":"VLOOKUP(AW2692,'Cenové indexy '!$D$7:$E$200,2,FALSE)","v":98.57},{"$f":"W2692/Y2692*'Cenové indexy '!$E$149","v":1998.3595414426295},2398.0314497311551,2013,"06","25","2013-06-25","Áno","Áno","na splátky","Nie",null,"24 mesiacov","min. 5 rokov - podmienky budu upravedné podľa zmluvy","do 72 hodín","Zmluva 206_AT",null,null,null,null,null,{"$f":"VLOOKUP(M2692,Adresy!$A$4:$C$156,2,FALSE)","v":"Košice"},{"$f":"VLOOKUP(M2692,Adresy!$A$4:$C$156,3,FALSE)","v":"Trieda SNP 457/1"},"M","2013M06",null,null,null,null,null,"Košice","Trieda SNP 457/1",0,0,0,0]
["infúzna technika",null,"dávkovač","lineárny",null,8713030,null,"Perfusor Space","do zákrokovej sály","B.Braun","položková cena (súčasť sumárnej ceny)",null,"Nemocnice Strakonice ","ČR","B. Braun medical s.r.o.",48586285,2,56000,null,{"$f":"IF(N2713=\"SR\",1,IF(AC2713=\"\",VLOOKUP(AW2713,'CZKEUR Xchange rate'!$D$13:$E$234,2,FALSE),VLOOKUP(AW2713,'CZKEUR Xchange rate'!$A$13:$B$234,2,FALSE)))","v":27.437000000000001},2041.0394722455078,0,1020.5197361227539,null,{"$f":"VLOOKUP(AW2713,'Cenové indexy '!$D$7:$E$200,2,FALSE)","v":99.42},{"$f":"W2713/Y2713*'Cenové indexy '!$E$149","v":1058.6018948535466},1270.3222738242559,2014,"05","06","2014-05-06","Áno","Áno","EFRR","Áno",null,"24 mesiacov","min. 10 rokov - podmienky budu upravedné podľa zmluvy","do 24 hodín","Zmluva 208_AT",null,null,null,null,null,{"$f":"VLOOKUP(M2713,Adresy!$A$4:$C$156,2,FALSE)","v":"Strakonice "},{"$f":"VLOOKUP(M2713,Adresy!$A$4:$C$156,3,FALSE)","v":"Radomyšlská 336"},"M","2014M05",null,null,null,null,null,"Strakonice ","Radomyšlská 336",0,0,0,0]
["infúzna technika",null,"dávkovač","lineárny",null,8713030,null,"Perfusor Space",null,"B.Braun","položková cena (súčasť sumárnej ceny)",null,"Univerzitná nemocnica L. Pasteura Košice","SR","B. Braun medical s.r.o.",31350780,30,68780,82536,{"$f":"IF(N2731=\"SR\",1,IF(AC2731=\"\",VLOOKUP(AW2731,'CZKEUR Xchange rate'!$D$13:$E$234,2,FALSE),VLOOKUP(AW2731,'CZKEUR Xchange rate'!$A$13:$B$234,2,FALSE)))","v":1},68780,82536,2292.6666666666665,2751.2,{"$f":"VLOOKUP(AW2731,'Cenové indexy '!$D$7:$E$200,2,FALSE)","v":99},{"$f":"W2731/Y2731*'Cenové indexy '!$E$149","v":2388.3102356902355},2865.9722828282825,2013,"02","25","2013-02-25","Áno","Áno","Neurčené","Áno ","24 mesiacov","24 mesiacov","neurčené","24 hodín","Zmluva 182_DG",null,null,null,null,null,{"$f":"VLOOKUP(M2731,Adresy!$A$4:$C$156,2,FALSE)","v":"Košice"},{"$f":"VLOOKUP(M2731,Adresy!$A$4:$C$156,3,FALSE)","v":"Trieda SNP 457/1"},"M","2013M02",null,null,null,null,null,"Košice","Trieda SNP 457/1",0,0,0,0]
["infúzna technika",null,"softvér Take over mode (TOM)",null,null,null,null,null,null,"","bez položkovej identifikácie ceny (v rámci sumárnej ceny)",null,"Detská fakultná nemocnica s poliklinikou Banská Bystrica","SR","Med Partners a.s.",44851740,null,null,null,{"$f":"IF(N2740=\"SR\",1,IF(AC2740=\"\",VLOOKUP(AW2740,'CZKEUR Xchange rate'!$D$13:$E$234,2,FALSE),VLOOKUP(AW2740,'CZKEUR Xchange rate'!$A$13:$B$234,2,FALSE)))","v":1},0,0,null,null,{"$f":"VLOOKUP(AW2740,'Cenové indexy '!$D$7:$E$200,2,FALSE)","v":100.07},{"$f":"W2740/Y2740*'Cenové indexy '!$E$149","v":0},0,2015,"10","06","2015-10-06","Áno","Áno","Neurčené","Nie","24 mesiacov","24 mesiacov","neurčené","48 hodín","Zmluva 184_DG",null,null,null,null,null,{"$f":"VLOOKUP(M2740,Adresy!$A$4:$C$156,2,FALSE)","v":"Banská Bystrica"},{"$f":"VLOOKUP(M2740,Adresy!$A$4:$C$156,3,FALSE)","v":"Námestie Ludvíka Svobodu 6818/4"},"M","2015M10",null,null,null,null,null,"Banská Bystrica","Námestie Ludvíka Svobodu 6818/4",0,0,0,0]
["infúzna technika",null,"dávkovač","lineárny","s držiakom a trafom",null,null,null,null,"","bez položkovej identifikácie ceny (v rámci sumárnej ceny)",null,"Detská fakultná nemocnica s poliklinikou Bratislava","SR","Med Partners a.s.",44851740,6,null,null,{"$f":"IF(N2765=\"SR\",1,IF(AC2765=\"\",VLOOKUP(AW2765,'CZKEUR Xchange rate'!$D$13:$E$234,2,FALSE),VLOOKUP(AW2765,'CZKEUR Xchange rate'!$A$13:$B$234,2,FALSE)))","v":1},0,0,null,null,{"$f":"VLOOKUP(AW2765,'Cenové indexy '!$D$7:$E$200,2,FALSE)","v":99.75},{"$f":"W2765/Y2765*'Cenové indexy '!$E$149","v":0},0,2015,"04","28","2015-04-28","Áno","Áno","Neurčené","Nie","neurčené","neurčené","neurčené","neurčené","Zmluva 192_DG",null,null,null,null,null,{"$f":"VLOOKUP(M2765,Adresy!$A$4:$C$156,2,FALSE)","v":"Bratislava"},{"$f":"VLOOKUP(M2765,Adresy!$A$4:$C$156,3,FALSE)","v":"Limbová 1"},"M","2015M04",null,null,null,null,null,"Bratislava","Limbová 1",0,0,0,0]
["infúzna technika",null,"infúzna pumpa","volumetrická",null,null,null,"Argus 707",null,"Codan Argus AG","bez položkovej identifikácie ceny (v rámci sumárnej ceny)",null,"Fakultná nemocnica Trnava","SR","Medis Nitra",36531774,2,1350,1620,{"$f":"IF(N2778=\"SR\",1,IF(AC2778=\"\",VLOOKUP(AW2778,'CZKEUR Xchange rate'!$D$13:$E$234,2,FALSE),VLOOKUP(AW2778,'CZKEUR Xchange rate'!$A$13:$B$234,2,FALSE)))","v":1},1350,1620,675,810,{"$f":"VLOOKUP(AW2778,'Cenové indexy '!$D$7:$E$200,2,FALSE)","v":99.88},{"$f":"W2778/Y2778*'Cenové indexy '!$E$149","v":696.96385662795353},836.35662795354426,2015,"06","11","2015-06-11","Áno","Áno","Neurčené","Nie","neurčené","neurčené","neurčené","neurčené","Zmluva 197_DG",null,null,null,null,null,{"$f":"VLOOKUP(M2778,Adresy!$A$4:$C$156,2,FALSE)","v":"Trnava"},{"$f":"VLOOKUP(M2778,Adresy!$A$4:$C$156,3,FALSE)","v":"Andreja Žarnova 11"},"M","2015M06",null,null,null,null,null,"Trnava","Andreja Žarnova 11",0,0,0,0]
["infúzna technika",null,"dávkovač","lineárny",null,8713030,null,"Perfusor Space","vrátane upgrade","B.Braun","položková cena (súčasť sumárnej ceny)",null,"Vojenská fakultná nemocnica Praha","ČR","B. Braun medical s.r.o.",48586285,16,552000,null,{"$f":"IF(N2812=\"SR\",1,IF(AC2812=\"\",VLOOKUP(AW2812,'CZKEUR Xchange rate'!$D$13:$E$234,2,FALSE),VLOOKUP(AW2812,'CZKEUR Xchange rate'!$A$13:$B$234,2,FALSE)))","v":25.658999999999999},21512.919443470128,0,1344.557465216883,0,{"$f":"VLOOKUP(AW2812,'Cenové indexy '!$D$7:$E$200,2,FALSE)","v":98.94},{"$f":"W2812/Y2812*'Cenové indexy '!$E$149","v":1401.4979925997286},1681.7975911196743,2013,"03","22","2013-03-22","Áno","Áno","Neurčené","Áno","24 mesiacov","24 mesiacov","neurčené","48 hodín","Zmluva 208_DG",null,null,null,null,null,{"$f":"VLOOKUP(M2812,Adresy!$A$4:$C$156,2,FALSE)","v":"Praha"},{"$f":"VLOOKUP(M2812,Adresy!$A$4:$C$156,3,FALSE)","v":"U Vojenské nemocnice 1/1200"},"M","2013M03",null,null,null,null,null,"Praha","U Vojenské nemocnice 1/1200",0,0,0,0]
["intraoperačný neurofyziologický monitoring",null,"Computer Notebook",null,null,"NCCPU","NIM-ECLIPSE",null,null,"Axon Systems","položková cena (súčasť sumárnej ceny)",null,"Univerzitná nemocnica L. Pasteura Košice","SR","Timed s.r.o.","00602175",1,4983,5979.6,{"$f":"IF(N2837=\"SR\",1,IF(AC2837=\"\",VLOOKUP(AW2837,'CZKEUR Xchange rate'!$D$13:$E$234,2,FALSE),VLOOKUP(AW2837,'CZKEUR Xchange rate'!$A$13:$B$234,2,FALSE)))","v":1},4983,5979.6,4983,5979.6,{"$f":"VLOOKUP(AW2837,'Cenové indexy '!$D$7:$E$200,2,FALSE)","v":98.57},{"$f":"W2837/Y2837*'Cenové indexy '!$E$149","v":5213.5212539312161},6256.2255047174594,2013,null,null,"2012-11-30","Áno","Áno","neurčené","Nie",null,"24 mesiacov","neurčené","do 24 hdín","Zmluva 209_AT",null,null,null,null,null,{"$f":"VLOOKUP(M2837,Adresy!$A$4:$C$156,2,FALSE)","v":"Košice"},{"$f":"VLOOKUP(M2837,Adresy!$A$4:$C$156,3,FALSE)","v":"Trieda SNP 457/1"},"M","2013M06",null,null,null,null,null,"Košice","Trieda SNP 457/1",0,0,0,0]
["intraoperačný neurofyziologický monitoring",null,"Extender Stimulator",null,null,"EEX901","NIM-ECLIPSE 1.0",null,null,"Axon Systems","položková cena (súčasť sumárnej ceny)",null,"Mestská nemocnica Ostrava","ČR","Medtronic Czechia s.r.o.",64583562,1,35019.980000000003,42374.18,{"$f":"IF(N2846=\"SR\",1,IF(AC2846=\"\",VLOOKUP(AW2846,'CZKEUR Xchange rate'!$D$13:$E$234,2,FALSE),VLOOKUP(AW2846,'CZKEUR Xchange rate'!$A$13:$B$234,2,FALSE)))","v":25.475000000000001},1374.6802747791953,1663.3632973503434,1374.6802747791953,1663.3632973503434,{"$f":"VLOOKUP(AW2846,'Cenové indexy '!$D$7:$E$200,2,FALSE)","v":99},{"$f":"W2846/Y2846*'Cenové indexy '!$E$149","v":1432.0280478583677},1718.4336574300412,2013,"02","27","2013-02-27","Áno","Áno","neurčené","Nie",null,"24 mesiacov","neurčené","do 24 hdín","Zmluva 210_AT",null,"5,8% zľava",null,null,null,{"$f":"VLOOKUP(M2846,Adresy!$A$4:$C$156,2,FALSE)","v":"Ostrava"},{"$f":"VLOOKUP(M2846,Adresy!$A$4:$C$156,3,FALSE)","v":"Nemocniční 20"},"M","2013M02",null,null,null,null,null,"Ostrava","Nemocniční 20",0,0,0,0]
["intraoperačný neurofyziologický monitoring",null,"CART MCLT vozík",null,null,"MCLT16","NIM-ECLIPSE 1.0",null,null,"Axon Systems","položková cena (súčasť sumárnej ceny)",null,"Mestská nemocnica Ostrava","ČR","Medtronic Czechia s.r.o.",64583562,1,0,0,{"$f":"IF(N2864=\"SR\",1,IF(AC2864=\"\",VLOOKUP(AW2864,'CZKEUR Xchange rate'!$D$13:$E$234,2,FALSE),VLOOKUP(AW2864,'CZKEUR Xchange rate'!$A$13:$B$234,2,FALSE)))","v":25.475000000000001},0,0,0,0,{"$f":"VLOOKUP(AW2864,'Cenové indexy '!$D$7:$E$200,2,FALSE)","v":99},{"$f":"W2864/Y2864*'Cenové indexy '!$E$149","v":0},0,2013,"02","27","2013-02-27","Áno","Áno","neurčené","Nie",null,"24 mesiacov","neurčené","do 24 hdín","Zmluva 210_AT",null,"5,8% zľava",null,null,null,{"$f":"VLOOKUP(M2864,Adresy!$A$4:$C$156,2,FALSE)","v":"Ostrava"},{"$f":"VLOOKUP(M2864,Adresy!$A$4:$C$156,3,FALSE)","v":"Nemocniční 20"},"M","2013M02",null,null,null,null,null,"Ostrava","Nemocniční 20",0,0,0,0]
["operačná lampa",null,"napájací zdroj",null,null,null,"MACH LED 3SC",null,null,"Dr. Mach GmbH","položková cena (súčasť sumárnej ceny)",null,"Fakultní nemocnice Brno","ČR","NIMOTECH s.r.o.",18825605,10,67410,null,{"$f":"IF(N2889=\"SR\",1,IF(AC2889=\"\",VLOOKUP(AW2889,'CZKEUR Xchange rate'!$D$13:$E$234,2,FALSE),VLOOKUP(AW2889,'CZKEUR Xchange rate'!$A$13:$B$234,2,FALSE)))","v":27.105},2486.9950193691202,0,248.69950193691201,0,{"$f":"VLOOKUP(AW2889,'Cenové indexy '!$D$7:$E$200,2,FALSE)","v":100.07},{"$f":"W2889/Y2889*'Cenové indexy '!$E$149","v":256.3043832792419},307.5652599350903,2015,"10","22","2015-10-22","Áno","Áno","EFRR","Nie",null,"47 mesiacov","neurčené","do 24 hdín","Zmluva 213_AT",null,null,null,null,null,{"$f":"VLOOKUP(M2889,Adresy!$A$4:$C$156,2,FALSE)","v":"Brno"},{"$f":"VLOOKUP(M2889,Adresy!$A$4:$C$156,3,FALSE)","v":"Jihlavská 340/20"},"M","2015M10",null,null,null,null,null,"Brno","Jihlavská 340/20",0,0,0,0]
["operačná lampa",null,"hlavná lampa/satelit","RA index","min.95",null,"VOLISTA 600",null,null,"MAQUET","bez položkovej identifikácie ceny (v rámci sumárnej ceny)",null,"Vojenská fakultná nemocnica Praha","ČR","MAQUET Czech Republic s.r .o","03053601",null,null,null,{"$f":"IF(N2918=\"SR\",1,IF(AC2918=\"\",VLOOKUP(AW2918,'CZKEUR Xchange rate'!$D$13:$E$234,2,FALSE),VLOOKUP(AW2918,'CZKEUR Xchange rate'!$A$13:$B$234,2,FALSE)))","v":27.667000000000002},0,0,null,null,{"$f":"VLOOKUP(AW2918,'Cenové indexy '!$D$7:$E$200,2,FALSE)","v":99.98},{"$f":"W2918/Y2918*'Cenové indexy '!$E$149","v":0},0,2014,"11","24","2014-11-24","Áno","Áno","neurčené","Nie",null,"48 mesiacov","neurčené","neurčené","Zmluva 219_AT",null,null,null,null,null,{"$f":"VLOOKUP(M2918,Adresy!$A$4:$C$156,2,FALSE)","v":"Praha"},{"$f":"VLOOKUP(M2918,Adresy!$A$4:$C$156,3,FALSE)","v":"U Vojenské nemocnice 1/1200"},"M","2014M11",null,null,null,null,null,"Praha","U Vojenské nemocnice 1/1200",0,0,0,0]
["operačná lampa",null,"hlavná lampa/satelit","RA index","min.95",null,"VOLISTA 600 a 400","VOLISTA 600",null,"MAQUET","bez položkovej identifikácie ceny (v rámci sumárnej ceny)",null,"Nemocnice České Budějovice, a.s.","ČR","MAQUET Czech Republic s.r .o","03053601",null,null,null,{"$f":"IF(N2936=\"SR\",1,IF(AC2936=\"\",VLOOKUP(AW2936,'CZKEUR Xchange rate'!$D$13:$E$234,2,FALSE),VLOOKUP(AW2936,'CZKEUR Xchange rate'!$A$13:$B$234,2,FALSE)))","v":27.306999999999999},0,0,null,null,{"$f":"VLOOKUP(AW2936,'Cenové indexy '!$D$7:$E$200,2,FALSE)","v":99.88},{"$f":"W2936/Y2936*'Cenové indexy '!$E$149","v":0},0,2015,"06","01","2015-06-01","Áno","Áno","EFRR","Nie",null,"24 mesiacov","neurčené","do 12 hdín","Zmluva 220_AT",null,null,null,null,null,{"$f":"VLOOKUP(M2936,Adresy!$A$4:$C$156,2,FALSE)","v":"České Budějovice "},{"$f":"VLOOKUP(M2936,Adresy!$A$4:$C$156,3,FALSE)","v":"B. Němcové 54"},"M","2015M06",null,null,null,null,null,"České Budějovice ","B. Němcové 54",0,0,0,0]
["operačná lampa",null,"HD kamera",null,null,null,"VOLISTA 600 a 400",null,null,"MAQUET","bez položkovej identifikácie ceny (v rámci sumárnej ceny)",null,"Nemocnice České Budějovice, a.s.","ČR","MAQUET Czech Republic s.r .o","03053601",1,null,null,{"$f":"IF(N2941=\"SR\",1,IF(AC2941=\"\",VLOOKUP(AW2941,'CZKEUR Xchange rate'!$D$13:$E$234,2,FALSE),VLOOKUP(AW2941,'CZKEUR Xchange rate'!$A$13:$B$234,2,FALSE)))","v":27.306999999999999},0,0,null,null,{"$f":"VLOOKUP(AW2941,'Cenové indexy '!$D$7:$E$200,2,FALSE)","v":99.88},{"$f":"W2941/Y2941*'Cenové indexy '!$E$149","v":0},0,2015,"06","01","2015-06-01","Áno","Áno","EFRR","Nie",null,"24 mesiacov","neurčené","do 12 hdín","Zmluva 220_AT",null,null,null,null,null,{"$f":"VLOOKUP(M2941,Adresy!$A$4:$C$156,2,FALSE)","v":"České Budějovice "},{"$f":"VLOOKUP(M2941,Adresy!$A$4:$C$156,3,FALSE)","v":"B. Němcové 54"},"M","2015M06",null,null,null,null,null,"České Budějovice ","B. Němcové 54",0,0,0,0]
["operačná lampa",null,"celá zostava","dvojramenná",null,null,"iLED3/3K","iLED3/3K","klinika stomatológie a maxilofaciálnej chirurgie","TRUMPF","sumárna cena",null,"Univerzitná nemocnica Martin","SR","Nimag spol. s r.o.",31337775,1,19892.400000000001,23870.880000000001,{"$f":"IF(N2965=\"SR\",1,IF(AC2965=\"\",VLOOKUP(AW2965,'CZKEUR Xchange rate'!$D$13:$E$234,2,FALSE),VLOOKUP(AW2965,'CZKEUR Xchange rate'!$A$13:$B$234,2,FALSE)))","v":1},19892.400000000001,23870.880000000001,{"$f":"U2965/Q2965","v":19892.400000000001},{"$f":"V2965/Q2965","v":23870.880000000001},{"$f":"VLOOKUP(AW2965,'Cenové indexy '!$D$7:$E$200,2,FALSE)","v":99.52},{"$f":"W2965/Y2965*'Cenové indexy '!$E$149","v":20613.979220257235},24736.77506430868,2014,"03","13","2014-03-13","Áno","Áno","na 4 splátky","Nie",null,"24 mesiacov","neurčené","do 24 hodín","Zmluva 214_DG",null,"31% zľava",null,null,null,{"$f":"VLOOKUP(M2965,Adresy!$A$4:$C$156,2,FALSE)","v":"Martin"},{"$f":"VLOOKUP(M2965,Adresy!$A$4:$C$156,3,FALSE)","v":"Kollárova 2"},"M","2014M03",null,null,null,null,null,"Martin","Kollárova 2",0,0,0,0]
["operačná lampa",null,"celá zostava","trojramenná","s HD kamerou",null,"XLED HD ready","XLED HD ready",null,"STERIS","sumárna cena",null,"Fakultní nemocnice Ostrava","ČR","B. Braun Medical s.r.o.",48586285,2,1402556,1697092.76,{"$f":"IF(N2988=\"SR\",1,IF(AC2988=\"\",VLOOKUP(AW2988,'CZKEUR Xchange rate'!$D$13:$E$234,2,FALSE),VLOOKUP(AW2988,'CZKEUR Xchange rate'!$A$13:$B$234,2,FALSE)))","v":27.027000000000001},51894.623894623895,62792.494912494913,25947.311947311948,{"$f":"V2988/Q2988","v":31396.247456247456},{"$f":"VLOOKUP(AW2988,'Cenové indexy '!$D$7:$E$200,2,FALSE)","v":100.29},{"$f":"W2988/Y2988*'Cenové indexy '!$E$149","v":26682.084765443022},32018.501718531625,2015,"12","03","2015-12-03","Áno","Áno","EFRR","Nie",null,"24 mesiacov","60 mesiacov","14 dní","Zmluva 215_DG",null,null,null,null,null,{"$f":"VLOOKUP(M2988,Adresy!$A$4:$C$156,2,FALSE)","v":"Ostrava"},{"$f":"VLOOKUP(M2988,Adresy!$A$4:$C$156,3,FALSE)","v":"17. listopadu"},"M","2015M12",null,null,null,null,null,"Ostrava","17. listopadu",0,0,0,0]
["operačná lampa",null,"hlavná lampa","svietivosť pri vzdialenosti 1m ","160000 LUX",null,"KLS Martin marled® E9i/E9i",null,null,"Gebrueder Martin GmbH","bez položkovej identifikácie ceny (v rámci sumárnej ceny)",null,"Město Šumperk","ČR","Fénix Brno spol. s r.o.",44961863,null,null,null,{"$f":"IF(N3013=\"SR\",1,IF(AC3013=\"\",VLOOKUP(AW3013,'CZKEUR Xchange rate'!$D$13:$E$234,2,FALSE),VLOOKUP(AW3013,'CZKEUR Xchange rate'!$A$13:$B$234,2,FALSE)))","v":27.443999999999999},0,0,null,null,{"$f":"VLOOKUP(AW3013,'Cenové indexy '!$D$7:$E$200,2,FALSE)","v":99.52},{"$f":"W3013/Y3013*'Cenové indexy '!$E$149","v":0},0,2014,"02","17","2014-02-17","Áno","Áno","neurčené","Nie",null,"24 mesiacov","neurčené","do 48 hodín","Zmluva 216_DG",null,null,null,null,null,{"$f":"VLOOKUP(M3013,Adresy!$A$4:$C$156,2,FALSE)","v":"Šumperk"},{"$f":"VLOOKUP(M3013,Adresy!$A$4:$C$156,3,FALSE)","v":"náměstí Míru 1"},"M","2014M02",null,null,null,null,null,"Šumperk","náměstí Míru 1",0,0,0,0]
["operačná lampa",null,"montáž a rozmontovanie existujúcej lampy",null,null,null,"Neurčené ",null,null,"","sumárna cena",null,"Nemocnice s poliklinikou v Semilech","ČR","Radix CZ s.r.o.",26774321,1,40000,48400,{"$f":"IF(N3033=\"SR\",1,IF(AC3033=\"\",VLOOKUP(AW3033,'CZKEUR Xchange rate'!$D$13:$E$234,2,FALSE),VLOOKUP(AW3033,'CZKEUR Xchange rate'!$A$13:$B$234,2,FALSE)))","v":27.439},1457.7790735813987,1763.9126790334924,{"$f":"U3033/Q3033","v":1457.7790735813987},{"$f":"V3033/Q3033","v":1763.9126790334924},{"$f":"VLOOKUP(AW3033,'Cenové indexy '!$D$7:$E$200,2,FALSE)","v":99.75},{"$f":"W3033/Y3033*'Cenové indexy '!$E$149","v":1507.1754973278159},1808.610596793379,2015,"04","01","2015-04-01",null,null,"EFRR","Nie",null,"24 mesiacov","neurčené","do 48 hodín","Zmluva 217_DG",null,null,null,null,null,{"$f":"VLOOKUP(M3033,Adresy!$A$4:$C$156,2,FALSE)","v":"Semily"},{"$f":"VLOOKUP(M3033,Adresy!$A$4:$C$156,3,FALSE)","v":"3. května 421"},"M","2015M04",null,null,null,null,null,"Semily","3. května 421",0,0,0,0]
["operačná lampa",null,"satelit","index podania farby","95 Ra",null,"AURINIO L160/L120 PM",null,null,"TRILUX","bez položkovej identifikácie ceny (v rámci sumárnej ceny)",null,"Oblastní nemocnice Náchod, a.s.","ČR","Radix CZ s.r.o.",26774321,null,null,null,{"$f":"IF(N3060=\"SR\",1,IF(AC3060=\"\",VLOOKUP(AW3060,'CZKEUR Xchange rate'!$D$13:$E$234,2,FALSE),VLOOKUP(AW3060,'CZKEUR Xchange rate'!$A$13:$B$234,2,FALSE)))","v":27.379000000000001},0,0,null,null,{"$f":"VLOOKUP(AW3060,'Cenové indexy '!$D$7:$E$200,2,FALSE)","v":100.03},{"$f":"W3060/Y3060*'Cenové indexy '!$E$149","v":0},0,2015,"03","18","2015-03-18","Áno","Áno","na paušál","Áno",null,"60 mesiacov","10 rokov","do 24 hodín","Zmluva 219_DG",null,null,null,null,null,{"$f":"VLOOKUP(M3060,Adresy!$A$4:$C$156,2,FALSE)","v":"Náchod"},{"$f":"VLOOKUP(M3060,Adresy!$A$4:$C$156,3,FALSE)","v":"Purkyňova 446"},"M","2015M03",null,null,null,null,null,"Náchod","Purkyňova 446",0,0,0,0]
["elektrochirurgický prístroj","variabilný inteligentný koagulačný systém","monopolárne a bipolárne rezanie","suchý  rez","výkon 200 W",null,"ERBOTOM ICC 200 D VIO",null,null,"ERBE","bez položkovej identifikácie ceny (v rámci sumárnej ceny)",null,"Univerzitná nemocnica Bratislava ","SR","E-BA spol. s r.o.",31367713,null,null,null,{"$f":"IF(N3081=\"SR\",1,IF(AC3081=\"\",VLOOKUP(AW3081,'CZKEUR Xchange rate'!$D$13:$E$234,2,FALSE),VLOOKUP(AW3081,'CZKEUR Xchange rate'!$A$13:$B$234,2,FALSE)))","v":1},0,0,null,null,{"$f":"VLOOKUP(AW3081,'Cenové indexy '!$D$7:$E$200,2,FALSE)","v":99.45},{"$f":"W3081/Y3081*'Cenové indexy '!$E$149","v":0},0,2013,"11","26","2013-11-26","Áno","Áno","neurčené","Áno",null,"min.12 mesiacov","neurčené","do 24 hodín","Zmluva 222_AT",null,"Rámcová zmluva",null,null,null,{"$f":"VLOOKUP(M3081,Adresy!$A$4:$C$156,2,FALSE)","v":"Bratislava"},{"$f":"VLOOKUP(M3081,Adresy!$A$4:$C$156,3,FALSE)","v":"Ružinovská 4810/6"},"M","2013M11",null,null,null,null,null,"Bratislava","Ružinovská 4810/6",0,0,0,0]
["elektrochirurgický prístroj","variabilný inteligentný koagulačný systém","monopolárne a bipolárne koagulačné režimy","precízna koagulácia","výkon 50 W",null,"ERBOTOM ICC 200 D VIO",null,null,"ERBE","bez položkovej identifikácie ceny (v rámci sumárnej ceny)",null,"Univerzitná nemocnica Bratislava ","SR","E-BA spol. s r.o.",31367713,null,null,null,{"$f":"IF(N3086=\"SR\",1,IF(AC3086=\"\",VLOOKUP(AW3086,'CZKEUR Xchange rate'!$D$13:$E$234,2,FALSE),VLOOKUP(AW3086,'CZKEUR Xchange rate'!$A$13:$B$234,2,FALSE)))","v":1},0,0,null,null,{"$f":"VLOOKUP(AW3086,'Cenové indexy '!$D$7:$E$200,2,FALSE)","v":99.45},{"$f":"W3086/Y3086*'Cenové indexy '!$E$149","v":0},0,2013,"11","26","2013-11-26","Áno","Áno","neurčené","Áno",null,"min.12 mesiacov","neurčené","do 24 hodín","Zmluva 222_AT",null,"Rámcová zmluva",null,null,null,{"$f":"VLOOKUP(M3086,Adresy!$A$4:$C$156,2,FALSE)","v":"Bratislava"},{"$f":"VLOOKUP(M3086,Adresy!$A$4:$C$156,3,FALSE)","v":"Ružinovská 4810/6"},"M","2013M11",null,null,null,null,null,"Bratislava","Ružinovská 4810/6",0,0,0,0]
["elektrochirurgický prístroj","variabilný inteligentný koagulačný systém","celá zostava",null,null,null,"ERBOTOM ICC 300 D VIO","ERBOTOM ICC 300 D VIO",null,"ERBE","sumárna cena","HW/SW","Univerzitná nemocnica Bratislava ","SR","E-BA spol. s r.o.",31367713,1,95485.83,114583,{"$f":"IF(N3115=\"SR\",1,IF(AC3115=\"\",VLOOKUP(AW3115,'CZKEUR Xchange rate'!$D$13:$E$234,2,FALSE),VLOOKUP(AW3115,'CZKEUR Xchange rate'!$A$13:$B$234,2,FALSE)))","v":1},95485.83,114583,95485.83,114583,{"$f":"VLOOKUP(AW3115,'Cenové indexy '!$D$7:$E$200,2,FALSE)","v":99.45},{"$f":"W3115/Y3115*'Cenové indexy '!$E$149","v":99019.141758672689},118822.97011040722,2013,"11","26","2013-11-26","Áno","Áno","neurčené","Áno",null,"min.12 mesiacov","neurčené","do 24 hodín","Zmluva 222_AT",null,"Rámcová zmluva",null,null,null,{"$f":"VLOOKUP(M3115,Adresy!$A$4:$C$156,2,FALSE)","v":"Bratislava"},{"$f":"VLOOKUP(M3115,Adresy!$A$4:$C$156,3,FALSE)","v":"Ružinovská 4810/6"},"M","2013M11",null,null,null,null,null,"Bratislava","Ružinovská 4810/6",0,0,0,0]
["elektrochirurgický prístroj","variabilný inteligentný koagulačný systém","hlavné pripojenie elektrochirurg. systému a APK",null,null,null,"ERBOTOM ICC 300 D VIO",null,null,"ERBE","bez položkovej identifikácie ceny (v rámci sumárnej ceny)",null,"Univerzitná nemocnica Bratislava ","SR","E-BA spol. s r.o.",31367713,null,null,null,{"$f":"IF(N3133=\"SR\",1,IF(AC3133=\"\",VLOOKUP(AW3133,'CZKEUR Xchange rate'!$D$13:$E$234,2,FALSE),VLOOKUP(AW3133,'CZKEUR Xchange rate'!$A$13:$B$234,2,FALSE)))","v":1},0,0,null,null,{"$f":"VLOOKUP(AW3133,'Cenové indexy '!$D$7:$E$200,2,FALSE)","v":99.45},{"$f":"W3133/Y3133*'Cenové indexy '!$E$149","v":0},0,2013,"11","26","2013-11-26","Áno","Áno","neurčené","Áno",null,"min.12 mesiacov","neurčené","do 24 hodín","Zmluva 222_AT",null,"Rámcová zmluva",null,null,null,{"$f":"VLOOKUP(M3133,Adresy!$A$4:$C$156,2,FALSE)","v":"Bratislava"},{"$f":"VLOOKUP(M3133,Adresy!$A$4:$C$156,3,FALSE)","v":"Ružinovská 4810/6"},"M","2013M11",null,null,null,null,null,"Bratislava","Ružinovská 4810/6",0,0,0,0]
["elektrochirurgický prístroj","variabilný inteligentný koagulačný systém","monopolárne koagulačné režimy","pulzná koagulácia v argónovej atmosfére",null,null,"EMED ES 350",null,null,"EMED","bez položkovej identifikácie ceny (v rámci sumárnej ceny)",null,"Univerzita Komenského v Bratislave","SR","Askin&Co",17323100,null,null,null,{"$f":"IF(N3158=\"SR\",1,IF(AC3158=\"\",VLOOKUP(AW3158,'CZKEUR Xchange rate'!$D$13:$E$234,2,FALSE),VLOOKUP(AW3158,'CZKEUR Xchange rate'!$A$13:$B$234,2,FALSE)))","v":1},0,0,null,null,{"$f":"VLOOKUP(AW3158,'Cenové indexy '!$D$7:$E$200,2,FALSE)","v":92.79},{"$f":"W3158/Y3158*'Cenové indexy '!$E$149","v":0},0,2012,"01","31","2012-01-31","Áno","Áno","neurčené","Áno",null,"24 mesiacov","neurčené","neurčené","Zmluva 223_AT",null,null,null,null,null,{"$f":"VLOOKUP(M3158,Adresy!$A$4:$C$156,2,FALSE)","v":"Bratislava"},{"$f":"VLOOKUP(M3158,Adresy!$A$4:$C$156,3,FALSE)","v":"Vajanského nábrežie"},"M","2012M01",null,null,null,null,null,"Bratislava","Vajanského nábrežie",0,0,0,0]
["elektrochirurgický prístroj","elektrokoagulačný prístroj","monopolárne koagulačné režimy","koagulácia povrchová",null,null,"ERBE VIO 300 S",null,null,"ERBE","bez položkovej identifikácie ceny (v rámci sumárnej ceny)",null,"Karlovarská krajská  nemocnice a.s","ČR","Hospimed spol. s r.o.","00676853",null,null,null,{"$f":"IF(N3166=\"SR\",1,IF(AC3166=\"\",VLOOKUP(AW3166,'CZKEUR Xchange rate'!$D$13:$E$234,2,FALSE),VLOOKUP(AW3166,'CZKEUR Xchange rate'!$A$13:$B$234,2,FALSE)))","v":27.599},0,0,null,null,{"$f":"VLOOKUP(AW3166,'Cenové indexy '!$D$7:$E$200,2,FALSE)","v":99.83},{"$f":"W3166/Y3166*'Cenové indexy '!$E$149","v":0},0,2014,"09","29","2014-09-29","Áno","Áno","ERDF","Áno",null,"24 mesiacov","bude predmetom ďalšej zmluvy","do 24 hodín","Zmluva 224_AT",null,null,null,null,null,{"$f":"VLOOKUP(M3166,Adresy!$A$4:$C$156,2,FALSE)","v":"Karlovy Vary"},{"$f":"VLOOKUP(M3166,Adresy!$A$4:$C$156,3,FALSE)","v":"Bezručova 1190/19"},"M","2014M09",null,null,null,null,null,"Karlovy Vary","Bezručova 1190/19",0,0,0,0]
["elektrochirurgický prístroj","elektrokoagulačný prístroj","sonda APC 2200 A",null,null,null,"ERBE VIO 300 D",null,null,"ERBE","položková cena (súčasť sumárnej ceny)",null,"Mestská nemocnica Ostrava","ČR","Hospimed spol. s r.o.","00676853",1,17106,20698.259999999998,{"$f":"IF(N3185=\"SR\",1,IF(AC3185=\"\",VLOOKUP(AW3185,'CZKEUR Xchange rate'!$D$13:$E$234,2,FALSE),VLOOKUP(AW3185,'CZKEUR Xchange rate'!$A$13:$B$234,2,FALSE)))","v":27.667000000000002},618.28170744930776,748.12086601366241,619.78260869565213,749.93695652173903,{"$f":"VLOOKUP(AW3185,'Cenové indexy '!$D$7:$E$200,2,FALSE)","v":99.98},{"$f":"W3185/Y3185*'Cenové indexy '!$E$149","v":639.30966628108217},767.17159953729856,2014,"11","19","2014-11-19","Áno","Áno","neurčené","Áno",null,"24 mesiacov","neurčené","neurčené","Zmluva 225_AT",null,null,null,null,null,{"$f":"VLOOKUP(M3185,Adresy!$A$4:$C$156,2,FALSE)","v":"Ostrava"},{"$f":"VLOOKUP(M3185,Adresy!$A$4:$C$156,3,FALSE)","v":"Nemocniční 20"},"M","2014M11",null,null,null,null,null,"Ostrava","Nemocniční 20",0,0,0,0]
["elektrochirurgický prístroj","elektrochirurgický prístroj","kábel k neutrálnej silik. elektróde",null,null,null,"ERBOTOM ICC 300 D VIO",null,null,"ERBE","položková cena (súčasť sumárnej ceny)",null,"Nemocnica s poliklinikou Žilina","SR","E-BA spol. s r.o.",31376712,1,83.872630398205288,null,{"$f":"IF(N3210=\"SR\",1,IF(AC3210=\"\",VLOOKUP(AW3210,'CZKEUR Xchange rate'!$D$13:$E$234,2,FALSE),VLOOKUP(AW3210,'CZKEUR Xchange rate'!$A$13:$B$234,2,FALSE)))","v":1},83.872630398205288,0,83.872630398205288,null,{"$f":"VLOOKUP(AW3210,'Cenové indexy '!$D$7:$E$200,2,FALSE)","v":83.04},{"$f":"W3210/Y3210*'Cenové indexy '!$E$149","v":104.16407000200999},124.99688400241199,2006,"12","15","2006-12-15","Áno","Áno","neurčené","Nie",null,"24 mesiacov","neurčené","do 48 hodín","Zmluva 226_AT",null,"3% zľava",null,null,null,{"$f":"VLOOKUP(M3210,Adresy!$A$4:$C$156,2,FALSE)","v":"Žilina"},{"$f":"VLOOKUP(M3210,Adresy!$A$4:$C$156,3,FALSE)","v":"V. Spanyola 43"},"M","2006M12",null,null,null,null,null,"Žilina","V. Spanyola 43",0,0,0,0]
["elektrochirurgický prístroj","elektrochirurgický prístroj","celá zostava","s Bi-Clampom a Twin-coaguláciou",null,null,"ERBOTOM ICC 300 D VIO","ERBOTOM ICC 300 D VIO",null,"ERBE","sumárna cena","HW/SW","Fakultná nemocnica s poliklinikou J.A.Reimana Prešov","SR","E-BA spol. s r.o.",31376712,1,107155.35749850626,127514.87419504747,{"$f":"IF(N3234=\"SR\",1,IF(AC3234=\"\",VLOOKUP(AW3234,'CZKEUR Xchange rate'!$D$13:$E$234,2,FALSE),VLOOKUP(AW3234,'CZKEUR Xchange rate'!$A$13:$B$234,2,FALSE)))","v":1},107155.35749850626,127514.87419504747,107155.35749850626,127514.87419504747,{"$f":"VLOOKUP(AW3234,'Cenové indexy '!$D$7:$E$200,2,FALSE)","v":72.680000000000007},{"$f":"W3234/Y3234*'Cenové indexy '!$E$149","v":152049.14720447097},182458.97664536515,2005,"12","12","2005-12-12","Áno","Áno","na splátky","Nie",null,"24 mesiacov","platený servis do uplynutia doby životnosti tovaru","neurčené","Zmluva 228_AT",null,null,null,null,null,{"$f":"VLOOKUP(M3234,Adresy!$A$4:$C$156,2,FALSE)","v":"Prešov"},{"$f":"VLOOKUP(M3234,Adresy!$A$4:$C$156,3,FALSE)","v":"Jána Hollého"},"M","2005M12",null,null,null,null,null,"Prešov","Jána Hollého",0,0,0,0]
["elektrochirurgický prístroj","elektrochirurgický prístroj","kábel k neutrálnej silik. elektróde",null,null,null,"ERBE VIO 300 D",null,null,"ERBE","položková cena (súčasť sumárnej ceny)",null,"Národný onkologický ústav","SR","E-BA spol. s r.o.",31367712,1,86.958109274380931,null,{"$f":"IF(N3257=\"SR\",1,IF(AC3257=\"\",VLOOKUP(AW3257,'CZKEUR Xchange rate'!$D$13:$E$234,2,FALSE),VLOOKUP(AW3257,'CZKEUR Xchange rate'!$A$13:$B$234,2,FALSE)))","v":1},86.958109274380931,0,86.958109274380931,null,{"$f":"VLOOKUP(AW3257,'Cenové indexy '!$D$7:$E$200,2,FALSE)","v":76.11},{"$f":"W3257/Y3257*'Cenové indexy '!$E$149","v":117.82932347217061},141.39518816660473,2007,"07","17","2007-07-17","Áno","Áno","Neurčené","Nie",null,"34 mesiacov","neurčené","do 24 hodín","Zmluva 230_AT",null,"15% zľava",null,null,null,{"$f":"VLOOKUP(M3257,Adresy!$A$4:$C$156,2,FALSE)","v":"Bratislava"},{"$f":"VLOOKUP(M3257,Adresy!$A$4:$C$156,3,FALSE)","v":"Klenová 3019/1"},"M","2007M07",null,null,null,null,null,"Bratislava","Klenová 3019/1",0,0,0,0]
["elektrochirurgický prístroj",null,"monopolárne a bipolárne koagulačné režimy","bipolárna ľahká koagulácia","výkon 120 W",null,"ERBOTOM ICC 300 D VIO",null,null,"ERBE","bez položkovej identifikácie ceny (v rámci sumárnej ceny)",null,"Univerzitná nemocnica L. Pasteura Košice","SR","Skupina PKB invest -Metrostav",36461733,null,null,null,{"$f":"IF(N3282=\"SR\",1,IF(AC3282=\"\",VLOOKUP(AW3282,'CZKEUR Xchange rate'!$D$13:$E$234,2,FALSE),VLOOKUP(AW3282,'CZKEUR Xchange rate'!$A$13:$B$234,2,FALSE)))","v":1},0,0,null,null,{"$f":"VLOOKUP(AW3282,'Cenové indexy '!$D$7:$E$200,2,FALSE)","v":92.42},{"$f":"W3282/Y3282*'Cenové indexy '!$E$149","v":0},0,2011,"12","12","2011-12-12","Áno","Áno","neurčené","Áno",null,"24 mesiacov","neurčené","do 48 hodín","Zmluva 221_DG",null,null,null,null,null,{"$f":"VLOOKUP(M3282,Adresy!$A$4:$C$156,2,FALSE)","v":"Košice"},{"$f":"VLOOKUP(M3282,Adresy!$A$4:$C$156,3,FALSE)","v":"Trieda SNP 457/1"},"M","2011M12",null,null,null,null,null,"Košice","Trieda SNP 457/1",0,0,0,0]
["elektrochirurgický prístroj",null,"bipolárna pinzeta",null,null,"E20195-027","ERBOTOM ICC 300 H",null,null,"ERBE","položková cena (súčasť sumárnej ceny)",null,"Fakultná nemocnica Nitra","SR","ERBE Bratislava spol. s.r.o",31367712,null,234.35,null,{"$f":"IF(N3302=\"SR\",1,IF(AC3302=\"\",VLOOKUP(AW3302,'CZKEUR Xchange rate'!$D$13:$E$234,2,FALSE),VLOOKUP(AW3302,'CZKEUR Xchange rate'!$A$13:$B$234,2,FALSE)))","v":1},234.35,0,null,null,{"$f":"VLOOKUP(AW3302,'Cenové indexy '!$D$7:$E$200,2,FALSE)","v":{"$error":"#N/A"}},{"$f":"W3302/Y3302*'Cenové indexy '!$E$149","v":{"$error":"#N/A"}},{"$error":"#N/A"},2004,"02","09","2004-02-09","Áno","Áno","na splátky","Nie",null,"24 mesiacov","neurčené","do 48 hodín","Zmluva 224_DG",null,null,null,null,null,{"$f":"VLOOKUP(M3302,Adresy!$A$4:$C$156,2,FALSE)","v":"Nitra"},{"$f":"VLOOKUP(M3302,Adresy!$A$4:$C$156,3,FALSE)","v":"Špitálska 6"},"M","2004M02",null,null,null,null,null,"Nitra","Špitálska 6",0,0,0,0]
["RTG","digitálny mobilný RTG systém s C-ramenom","DICOM","(Storage, Modality Worklist, Query/Retrieve)",null,null,"ZIEHM Vision RFD",null,null,"Ziehm Imaging","bez položkovej identifikácie ceny (v rámci sumárnej ceny)",null,"Fakultní nemocnice Ostrava","ČR","AURA MEDICAL",65412559,null,null,null,{"$f":"IF(N3309=\"SR\",1,IF(AC3309=\"\",VLOOKUP(AW3309,'CZKEUR Xchange rate'!$D$13:$E$234,2,FALSE),VLOOKUP(AW3309,'CZKEUR Xchange rate'!$A$13:$B$234,2,FALSE)))","v":25.021000000000001},0,0,null,null,{"$f":"VLOOKUP(AW3309,'Cenové indexy '!$D$7:$E$200,2,FALSE)","v":98.17},{"$f":"W3309/Y3309*'Cenové indexy '!$E$149","v":0},0,2012,"08","08","2012-08-08","Áno","Áno","neurčené","Nie",null,"24 mesiacov","neurčené","do 24 hodín","Zmluva 245_AT",null,null,null,null,null,{"$f":"VLOOKUP(M3309,Adresy!$A$4:$C$156,2,FALSE)","v":"Ostrava"},{"$f":"VLOOKUP(M3309,Adresy!$A$4:$C$156,3,FALSE)","v":"17. listopadu"},"M","2012M08",null,null,null,null,null,"Ostrava","17. listopadu",0,0,0,0]
["RTG","digitálny mobilný RTG systém s C-ramenom","hĺbka C - ramena",null,"660 mm",null,"OEC Brivo 785 Essential",null,null,"GE Healthcare","bez položkovej identifikácie ceny (v rámci sumárnej ceny)",null,"Hornooravská NsP Trstená","SR","INTES Poprad s.r.o.",36449814,null,null,null,{"$f":"IF(N3330=\"SR\",1,IF(AC3330=\"\",VLOOKUP(AW3330,'CZKEUR Xchange rate'!$D$13:$E$234,2,FALSE),VLOOKUP(AW3330,'CZKEUR Xchange rate'!$A$13:$B$234,2,FALSE)))","v":1},0,0,null,null,{"$f":"VLOOKUP(AW3330,'Cenové indexy '!$D$7:$E$200,2,FALSE)","v":100.07},{"$f":"W3330/Y3330*'Cenové indexy '!$E$149","v":0},{"$f":"Z3330*1.2","v":0},2015,"10","26","2015-10-26","Áno","Áno","neurčené","Nie",null,"24 mesiacov","neurčené","do 24 hodín","Zmluva 248_AT",null,null,null,null,null,{"$f":"VLOOKUP(M3330,Adresy!$A$4:$C$156,2,FALSE)","v":"Trstená"},{"$f":"VLOOKUP(M3330,Adresy!$A$4:$C$156,3,FALSE)","v":"Nábrežie Ľudovíta Štúra"},"M","2015M10",null,null,null,null,null,"Trstená","Nábrežie Ľudovíta Štúra",{"$f":"IF(BC3330<>AT3330,1,0)","v":0},0,0,0]
["RTG","digitálny mobilný RTG systém s C-ramenom","zobrazovací systém","Auto Trak",null,null,"OEC Brivo 785 Essential",null,null,"GE Healthcare","bez položkovej identifikácie ceny (v rámci sumárnej ceny)",null,"Nemocnice s poliklinikami n.o Nitra - Topoľčany","SR","INTES Poprad s.r.o.",369449814,null,null,null,{"$f":"IF(N3349=\"SR\",1,IF(AC3349=\"\",VLOOKUP(AW3349,'CZKEUR Xchange rate'!$D$13:$E$234,2,FALSE),VLOOKUP(AW3349,'CZKEUR Xchange rate'!$A$13:$B$234,2,FALSE)))","v":1},0,0,null,null,{"$f":"VLOOKUP(AW3349,'Cenové indexy '!$D$7:$E$200,2,FALSE)","v":99.98},{"$f":"W3349/Y3349*'Cenové indexy '!$E$149","v":0},0,2014,"11","12","2014-11-12","Áno","Áno","na 12 splátok","Nie",null,"12 mesiacov","neurčené","do 24 hodín","Zmluva 249_AT",null,null,null,null,null,{"$f":"VLOOKUP(M3349,Adresy!$A$4:$C$156,2,FALSE)","v":"Topoľčany"},{"$f":"VLOOKUP(M3349,Adresy!$A$4:$C$156,3,FALSE)","v":"Pavlovova"},"M","2014M11",null,null,null,null,null,"Topoľčany","Pavlovova",0,0,0,0]
["Defibrilátor",null,"pacientský box, 12 zvodové EKG","zobrazenie 6 kriviek",null,null,"Corpuls3",null,null,"GS Elektromedizinische Geräte","bez položkovej identifikácie ceny (v rámci sumárnej ceny)",null,"Zdravotnícka záchranná služba Pardubického kraje, p.o.","ČR","CHEIRÓN a.s.",null,4,null,null,{"$f":"IF(N3381=\"SR\",1,IF(AC3381=\"\",VLOOKUP(AW3381,'CZKEUR Xchange rate'!$D$13:$E$234,2,FALSE),VLOOKUP(AW3381,'CZKEUR Xchange rate'!$A$13:$B$234,2,FALSE)))","v":27.45},0,0,null,null,{"$f":"VLOOKUP(AW3381,'Cenové indexy '!$D$7:$E$200,2,FALSE)","v":99.5},{"$f":"W3381/Y3381*'Cenové indexy '!$E$149","v":0},0,2014,"06","30","2014-06-30",null,null,null,null,null,null,null,null,null,null,null,null,null,null,{"$f":"VLOOKUP(M3381,Adresy!$A$4:$C$156,2,FALSE)","v":"Pardubice"},{"$f":"VLOOKUP(M3381,Adresy!$A$4:$C$156,3,FALSE)","v":"Průmyslová 450"},"M","2014M06",null,null,null,null,null,null,null,1,1,1,1]
["Defibrilátor",null,"Prstový senzor s káblom","pre dospelých",null,null,"Corpuls3","Masimo Rainbow",null,"GS Elektromedizinische Geräte","bez položkovej identifikácie ceny (v rámci sumárnej ceny)",null,"Zdravotnícka záchranná služba Pardubického kraje, p.o.","ČR","CHEIRÓN a.s.",null,4,null,null,{"$f":"IF(N3402=\"SR\",1,IF(AC3402=\"\",VLOOKUP(AW3402,'CZKEUR Xchange rate'!$D$13:$E$234,2,FALSE),VLOOKUP(AW3402,'CZKEUR Xchange rate'!$A$13:$B$234,2,FALSE)))","v":27.45},0,0,null,null,{"$f":"VLOOKUP(AW3402,'Cenové indexy '!$D$7:$E$200,2,FALSE)","v":99.5},{"$f":"W3402/Y3402*'Cenové indexy '!$E$149","v":0},0,2014,"06","30","2014-06-30",null,null,null,null,null,null,null,null,null,null,null,null,null,null,{"$f":"VLOOKUP(M3402,Adresy!$A$4:$C$156,2,FALSE)","v":"Pardubice"},{"$f":"VLOOKUP(M3402,Adresy!$A$4:$C$156,3,FALSE)","v":"Průmyslová 450"},"M","2014M06",null,null,null,null,null,null,null,1,1,1,1]
["Defibrilátor",null,"Kábel na terapiu pre slim verziu",null,null,null,"Corpuls3 SLIM",null,null,"GS Elektromedizinische Geräte","bez položkovej identifikácie ceny (v rámci sumárnej ceny)",null,"Záchranná služba Košice","SR","Medis Nitra",null,null,null,null,{"$f":"IF(N3417=\"SR\",1,IF(AC3417=\"\",VLOOKUP(AW3417,'CZKEUR Xchange rate'!$D$13:$E$234,2,FALSE),VLOOKUP(AW3417,'CZKEUR Xchange rate'!$A$13:$B$234,2,FALSE)))","v":1},0,0,null,null,{"$f":"VLOOKUP(AW3417,'Cenové indexy '!$D$7:$E$200,2,FALSE)","v":99.82},{"$f":"W3417/Y3417*'Cenové indexy '!$E$149","v":0},0,2015,"05","13","2015-05-13","Áno","Áno","do 60 dní","Nie",null,null,null,"72 hodín",null,null,null,null,null,null,{"$f":"VLOOKUP(M3417,Adresy!$A$4:$C$156,2,FALSE)","v":"Košice"},{"$f":"VLOOKUP(M3417,Adresy!$A$4:$C$156,3,FALSE)","v":"Rastislavova 785/43"},"M","2015M05",null,null,null,null,null,null,null,1,1,1,1]
["Defibrilátor",null,"Čitačka kariet - e záznam",null,null,null,"Corpuls3 SLIM",null,null,"GS Elektromedizinische Geräte","bez položkovej identifikácie ceny (v rámci sumárnej ceny)",null,"Záchranná služba Košice","SR","Medis Nitra",null,null,null,null,{"$f":"IF(N3429=\"SR\",1,IF(AC3429=\"\",VLOOKUP(AW3429,'CZKEUR Xchange rate'!$D$13:$E$234,2,FALSE),VLOOKUP(AW3429,'CZKEUR Xchange rate'!$A$13:$B$234,2,FALSE)))","v":1},0,0,null,null,{"$f":"VLOOKUP(AW3429,'Cenové indexy '!$D$7:$E$200,2,FALSE)","v":99.82},{"$f":"W3429/Y3429*'Cenové indexy '!$E$149","v":0},0,2015,"05","13","2015-05-13","Áno","Áno","do 60 dní","Nie",null,null,null,"72 hodín",null,null,null,null,null,null,{"$f":"VLOOKUP(M3429,Adresy!$A$4:$C$156,2,FALSE)","v":"Košice"},{"$f":"VLOOKUP(M3429,Adresy!$A$4:$C$156,3,FALSE)","v":"Rastislavova 785/43"},"M","2015M05",null,null,null,null,null,null,null,1,1,1,1]
["systém na výrobu a aplikáciu fibrínového lepidla",null,"systém","varianta na prípravu aut. lepidla obsahujúceho fibrín",null,null,"Vivostat","Vivostat",null,"Vivostat A/S Dánsko","bez položkovej identifikácie ceny (v rámci sumárnej ceny)",null,"Stredoslovenský ústav srdcových a cievnych chorôb, a.s.","SR","MEDITRADE spol. s r.o.",17312001,null,null,null,{"$f":"IF(N3454=\"SR\",1,IF(AC3454=\"\",VLOOKUP(AW3454,'CZKEUR Xchange rate'!$D$13:$E$234,2,FALSE),VLOOKUP(AW3454,'CZKEUR Xchange rate'!$A$13:$B$234,2,FALSE)))","v":1},0,0,null,null,{"$f":"VLOOKUP(AW3454,'Cenové indexy '!$D$7:$E$200,2,FALSE)","v":98.35},{"$f":"W3454/Y3454*'Cenové indexy '!$E$149","v":0},0,2013,"04","03","2013-04-03","Áno","Áno",null,"Nie",null,"24 mesiacov",null,"24 hodín","Zmluva 251_AT",null,null,null,null,null,{"$f":"VLOOKUP(M3454,Adresy!$A$4:$C$156,2,FALSE)","v":"Banská Bystrica"},{"$f":"VLOOKUP(M3454,Adresy!$A$4:$C$156,3,FALSE)","v":"Cesta k nemocnici 622/1"},"M","2013M04",null,null,null,null,null,"Banská Bystrica","Cesta k nemocnici 622/1",0,0,0,0]
["počítačový perimeter",null,"celá zostava",null,null,null,"OCTOPUS 900 PRO","OCTOPUS 900 PRO",null,"Haag-Streit","sumárna cena","HW/SW","Vojenská fakultná nemocnica Praha","ČR","CMI s.r.o.",47117320,1,947111,1146004,{"$f":"IF(N3485=\"SR\",1,IF(AC3485=\"\",VLOOKUP(AW3485,'CZKEUR Xchange rate'!$D$13:$E$234,2,FALSE),VLOOKUP(AW3485,'CZKEUR Xchange rate'!$A$13:$B$234,2,FALSE)))","v":27.04},35026.294378698229,42381.804733727811,{"$f":"U3485/Q3485","v":35026.294378698229},{"$f":"V3485/Q3485","v":42381.804733727811},{"$f":"VLOOKUP(AW3485,'Cenové indexy '!$D$7:$E$200,2,FALSE)","v":100.83},{"$f":"W3485/Y3485*'Cenové indexy '!$E$149","v":35825.267671081507},42990.321205297805,2016,"02","17","2016-02-17","Áno","Áno","z vlastných zdrojov","Nie","24 mesiacov",null,"96 mesiacov","72 hodín","Zmluva 179_DD",null,null,null,null,null,{"$f":"VLOOKUP(M3485,Adresy!$A$4:$C$156,2,FALSE)","v":"Praha"},{"$f":"VLOOKUP(M3485,Adresy!$A$4:$C$156,3,FALSE)","v":"U Vojenské nemocnice 1/1200"},"M","2016M02",null,null,null,null,null,"Praha","U Vojenské nemocnice 1/1200",0,0,0,0]
["operačný stôl","elektromechanický ","príslušenstvo","transportér pre operačné dosky",null,null,"ALPHAMAQUET  1150 ","ALPHAMAQUET","operačný stôl pre všetky chirurgické odbory","MAQUET","bez položkovej identifikácie ceny (v rámci sumárnej ceny)",null,"Fakultní nemocnice Plzeň","ČR","MAQUET Medizintechnik Vertrieb und Service GmbH",null,4,null,null,{"$f":"IF(N3501=\"SR\",1,IF(AC3501=\"\",VLOOKUP(AW3501,'CZKEUR Xchange rate'!$D$13:$E$234,2,FALSE),VLOOKUP(AW3501,'CZKEUR Xchange rate'!$A$13:$B$234,2,FALSE)))","v":25.562999999999999},0,0,null,null,{"$f":"VLOOKUP(AW3501,'Cenové indexy '!$D$7:$E$200,2,FALSE)","v":98.79},{"$f":"W3501/Y3501*'Cenové indexy '!$E$149","v":0},0,2013,"01",null,"2012-12-31","Áno","Áno","Neurčené","Nie","48 mesiacov zadarmo",null,null,null,"Zmluva 73_AT",null,null,null,null,null,{"$f":"VLOOKUP(M3501,Adresy!$A$4:$C$156,2,FALSE)","v":"Plzeň"},{"$f":"VLOOKUP(M3501,Adresy!$A$4:$C$156,3,FALSE)","v":"Dr. E. Beneše 1128/13"},"M","2013M01",null,null,null,null,null,"Plzeň","Dr. E. Beneše 1128/13",0,0,0,0]
["operačný stôl","elektrohydraulický ","príslušenstvo","podložka rúk",null,"nastaviteľná vrátane upínacích spon a fixačných pásov","ALVO Serenada 4-04",null,"operačný stôl pre všetky chirurgické odbory (cievna chirurgia, endoskopia,neurochirurgia,uro-gynekológia,traumatológia)","ALVO","položková cena (súčasť sumárnej ceny)","HW","Nemocnice Prachatice a.s","ČR","ENUS Medical s.r.o",null,2,35000,null,{"$f":"IF(N3526=\"SR\",1,IF(AC3526=\"\",VLOOKUP(AW3526,'CZKEUR Xchange rate'!$D$13:$E$234,2,FALSE),VLOOKUP(AW3526,'CZKEUR Xchange rate'!$A$13:$B$234,2,FALSE)))","v":27.105},1291.2746725696366,0,645.63733628481828,null,{"$f":"VLOOKUP(AW3526,'Cenové indexy '!$D$7:$E$200,2,FALSE)","v":100.07},{"$f":"W3526/Y3526*'Cenové indexy '!$E$149","v":665.38001889730492},798.45602267676588,2015,"10",null,"2015-09-30","Áno","Áno","Neurčené","Nie","60 mesiacov zadarmo, potom podľa zmluvy",null,null,null,"Zmluva 74_AT",null,null,null,null,null,{"$f":"VLOOKUP(M3526,Adresy!$A$4:$C$156,2,FALSE)","v":"Prachatice"},{"$f":"VLOOKUP(M3526,Adresy!$A$4:$C$156,3,FALSE)","v":"Nebahovská 1015"},"M","2015M10",null,null,null,null,null,"Prachatice","Nebahovská 1015",0,0,0,0]
["operačný stôl","elektromechanický ","celá zostava","celá zostava",null,null,"MARS 2.03","MARS 2.03","operačný stôl s ortopedicko – traumatologickým príslušenstvom","TRUMPF Medical","sumárna cena","HW","Nemocnice s poliklinikami n.o Nitra - Topoľčany","SR","Nimag spol. s r.o.",null,1,64623,77547.600000000006,{"$f":"IF(N3532=\"SR\",1,IF(AC3532=\"\",VLOOKUP(AW3532,'CZKEUR Xchange rate'!$D$13:$E$234,2,FALSE),VLOOKUP(AW3532,'CZKEUR Xchange rate'!$A$13:$B$234,2,FALSE)))","v":1},64623,77547.600000000006,64623,{"$f":"V3532/Q3532","v":77547.600000000006},{"$f":"VLOOKUP(AW3532,'Cenové indexy '!$D$7:$E$200,2,FALSE)","v":100.14},{"$f":"W3532/Y3532*'Cenové indexy '!$E$149","v":66552.526363091674},79863.031635710009,2015,"11",null,"2015-10-31","Áno","Áno","Neurčené","Nie","24 mesiacov zadarmo",null,null,null,"Zmluva 75_AT",null,null,null,null,null,{"$f":"VLOOKUP(M3532,Adresy!$A$4:$C$156,2,FALSE)","v":"Topoľčany"},{"$f":"VLOOKUP(M3532,Adresy!$A$4:$C$156,3,FALSE)","v":"Pavlovova"},"M","2015M11",null,null,null,null,null,"Topoľčany","Pavlovova",0,0,0,0]
["operačný stôl","elektromechanický ","elektromechanický mobilný operačný stôl","diaľkové ovládanie",null,null,"MARS 2.04",null,null,"TRUMPF Medical","bez položkovej identifikácie ceny (v rámci sumárnej ceny)",null,"Nemocnice na Bulovce","ČR","Hypokramed spol. s r.o.",null,null,null,null,{"$f":"IF(N3553=\"SR\",1,IF(AC3553=\"\",VLOOKUP(AW3553,'CZKEUR Xchange rate'!$D$13:$E$234,2,FALSE),VLOOKUP(AW3553,'CZKEUR Xchange rate'!$A$13:$B$234,2,FALSE)))","v":25.759},0,0,null,null,{"$f":"VLOOKUP(AW3553,'Cenové indexy '!$D$7:$E$200,2,FALSE)","v":98.57},{"$f":"W3553/Y3553*'Cenové indexy '!$E$149","v":0},0,2013,"06",null,"2013-05-31","Áno","Áno","Neurčené","Nie","24 mesiacov zadarmo, potom podľa zmluvy",null,null,null,"Zmluva 71_AT",null,null,null,null,null,{"$f":"VLOOKUP(M3553,Adresy!$A$4:$C$156,2,FALSE)","v":"Praha"},{"$f":"VLOOKUP(M3553,Adresy!$A$4:$C$156,3,FALSE)","v":"Budínova 67/2"},"M","2013M06",null,null,null,null,null,"Praha"," Budínova 67/2",0,1,0,1]
["operačný stôl","elektromechanický ","elektromechanický operačný stôl","pozdĺžny posuv","320 mm",null,"OTESUS 1160",null,"operačný stôl pre všetky chirurgické odbory","MAQUET","bez položkovej identifikácie ceny (v rámci sumárnej ceny)",null,"Nemocnice České Budějovice, a.s.","ČR","TRANSKONTAKT-MEDICAL s.r.o",null,null,null,null,{"$f":"IF(N3578=\"SR\",1,IF(AC3578=\"\",VLOOKUP(AW3578,'CZKEUR Xchange rate'!$D$13:$E$234,2,FALSE),VLOOKUP(AW3578,'CZKEUR Xchange rate'!$A$13:$B$234,2,FALSE)))","v":27.088999999999999},0,0,null,null,{"$f":"VLOOKUP(AW3578,'Cenové indexy '!$D$7:$E$200,2,FALSE)","v":100.14},{"$f":"W3578/Y3578*'Cenové indexy '!$E$149","v":0},0,2015,"09",null,"2015-08-31","Áno","Áno","ERDF","Áno","24 mesiacov zadarmo",null,null,null,"Zmluva 72_AT",null,null,null,null,null,{"$f":"VLOOKUP(M3578,Adresy!$A$4:$C$156,2,FALSE)","v":"České Budějovice "},{"$f":"VLOOKUP(M3578,Adresy!$A$4:$C$156,3,FALSE)","v":"B. Němcové 54"},"M","2015M09",null,null,null,null,null,"České Budějovice ","B. Němcové 54",0,0,0,0]
["operačný stôl","elektromechanický ","elektromechanický operačný stôl","chrbtový segment"," -60°/+70°",null,"OTESUS 1160",null,null,"MAQUET","bez položkovej identifikácie ceny (v rámci sumárnej ceny)","HW","Národný onkologický ústav","SR","Med Partners a.s.",null,null,null,null,{"$f":"IF(N3604=\"SR\",1,IF(AC3604=\"\",VLOOKUP(AW3604,'CZKEUR Xchange rate'!$D$13:$E$234,2,FALSE),VLOOKUP(AW3604,'CZKEUR Xchange rate'!$A$13:$B$234,2,FALSE)))","v":1},0,0,null,null,{"$f":"VLOOKUP(AW3604,'Cenové indexy '!$D$7:$E$200,2,FALSE)","v":99.88},{"$f":"W3604/Y3604*'Cenové indexy '!$E$149","v":0},0,2015,"06",null,"2015-05-31","Áno","Áno","Neurčené","Nie","24 mesiacov zadarmo",null,null,null,"Zmluva 79_AT",null,null,null,null,null,{"$f":"VLOOKUP(M3604,Adresy!$A$4:$C$156,2,FALSE)","v":"Bratislava"},{"$f":"VLOOKUP(M3604,Adresy!$A$4:$C$156,3,FALSE)","v":"Klenová 3019/1"},"M","2015M06",null,null,null,null,null,"Bratislava","Klenová 3019/1",0,0,0,0]
["operačný stôl","elektrohydraulický ","elektrohydraulický operačný stôl","nosnosť","250 kg",null,"CMAX S","STER-CMAX S2L","pre chirurgické operačné sály","STERIS","bez položkovej identifikácie ceny (v rámci sumárnej ceny)",null,"Oblastní nemocnice Náchod, a.s.","ČR","B. Braun Medical s.r.o.",null,1,null,null,{"$f":"IF(N3625=\"SR\",1,IF(AC3625=\"\",VLOOKUP(AW3625,'CZKEUR Xchange rate'!$D$13:$E$234,2,FALSE),VLOOKUP(AW3625,'CZKEUR Xchange rate'!$A$13:$B$234,2,FALSE)))","v":27.608000000000001},{"$f":"R3625/T3625","v":0},{"$f":"S3625/T3625","v":0},null,null,{"$f":"VLOOKUP(AW3625,'Cenové indexy '!$D$7:$E$200,2,FALSE)","v":99.95},{"$f":"W3625/Y3625*'Cenové indexy '!$E$149","v":0},0,2015,"02",null,"2015-01-31","Áno","Áno","Neurčené","Nie","36 mesiacov, pozáručný servis 7 rokov",null,null,null,"Zmluva 67_DG",null,null,null,null,null,{"$f":"VLOOKUP(M3625,Adresy!$A$4:$C$156,2,FALSE)","v":"Náchod"},{"$f":"VLOOKUP(M3625,Adresy!$A$4:$C$156,3,FALSE)","v":"Purkyňova 446"},"M","2015M02",null,null,null,null,null,"Náchod","Purkyňova 446",0,0,0,0]
["operačný stôl","elektrohydraulický ","elektrohydraulický operačný stôl","predlžovacie eurolišty",null,null,"CMAX S",null,"pre ortopedické operačné sály","STERIS","položková cena (súčasť sumárnej ceny)",null,"Ústredná vojenská nemocnica SNP Ružomberok","SR","Med Partners a.s.",null,2,2268,2721.6,{"$f":"IF(N3650=\"SR\",1,IF(AC3650=\"\",VLOOKUP(AW3650,'CZKEUR Xchange rate'!$D$13:$E$234,2,FALSE),VLOOKUP(AW3650,'CZKEUR Xchange rate'!$A$13:$B$234,2,FALSE)))","v":1},2268,2721.6,1134,1360.8,{"$f":"VLOOKUP(AW3650,'Cenové indexy '!$D$7:$E$200,2,FALSE)","v":99.98},{"$f":"W3650/Y3650*'Cenové indexy '!$E$149","v":1169.7281456291257},{"$f":"Z3650*1.2","v":1403.6737747549507},2014,"11",null,"2014-10-31","Áno","Áno","Neurčené","Áno","24 mesiacov zadarmo",null,null,null,"Zmluva 68_DG",null,null,null,null,null,{"$f":"VLOOKUP(M3650,Adresy!$A$4:$C$156,2,FALSE)","v":"Ružomberok"},{"$f":"VLOOKUP(M3650,Adresy!$A$4:$C$156,3,FALSE)","v":"Generála Miloša Vesela 21"},"M","2014M11",null,null,null,null,null,"Ružomberok","Generála Miloša Vesela 21",{"$f":"IF(BC3650<>AT3650,1,0)","v":0},0,0,0]
["operačný stôl","elektrohydraulický ","elektrohydraulický operačný stôl","radiálne svorky pre uchytenie príslušenstva ",null,null,"CMAX S",null,"pre ortopedické operačné sály","STERIS","položková cena (súčasť sumárnej ceny)",null,"Ústredná vojenská nemocnica SNP Ružomberok","SR","Med Partners a.s.",null,14,7560,9072,{"$f":"IF(N3651=\"SR\",1,IF(AC3651=\"\",VLOOKUP(AW3651,'CZKEUR Xchange rate'!$D$13:$E$234,2,FALSE),VLOOKUP(AW3651,'CZKEUR Xchange rate'!$A$13:$B$234,2,FALSE)))","v":1},7560,9072,540,648,{"$f":"VLOOKUP(AW3651,'Cenové indexy '!$D$7:$E$200,2,FALSE)","v":99.98},{"$f":"W3651/Y3651*'Cenové indexy '!$E$149","v":557.01340268053605},668.41608321664319,2014,"11",null,"2014-10-31","Áno","Áno","Neurčené","Áno","24 mesiacov zadarmo",null,null,null,"Zmluva 68_DG",null,null,null,null,null,{"$f":"VLOOKUP(M3651,Adresy!$A$4:$C$156,2,FALSE)","v":"Ružomberok"},{"$f":"VLOOKUP(M3651,Adresy!$A$4:$C$156,3,FALSE)","v":"Generála Miloša Vesela 21"},"M",{"$f":"IF(AC3651=\"\",CONCATENATE(AB3651,AV3651,\"06\"),IF(LEN(AC3651)=1,CONCATENATE(AB3651,AV3651,\"0\"&AC3651),CONCATENATE(AB3651,AV3651,AC3651)))","v":"2014M11"},null,null,null,null,null,"Ružomberok","Generála Miloša Vesela 21",0,0,0,0]
["operačný stôl","elektromechanický ","elektromechanický mobilný operačný stôl","dvojsegmentové podložky nôh",null,null,"Saturn Select 3.02",null,"pre kliniku popálenín","TRUMPF Medical","bez položkovej identifikácie ceny (v rámci sumárnej ceny)",null,"Fakultná nemocnica Kráľovské Vinohrady","ČR","Hypokramed spol. s r.o.",null,1,null,null,{"$f":"IF(N3677=\"SR\",1,IF(AC3677=\"\",VLOOKUP(AW3677,'CZKEUR Xchange rate'!$D$13:$E$234,2,FALSE),VLOOKUP(AW3677,'CZKEUR Xchange rate'!$A$13:$B$234,2,FALSE)))","v":25.513999999999999},0,0,null,null,{"$f":"VLOOKUP(AW3677,'Cenové indexy '!$D$7:$E$200,2,FALSE)","v":92.42},{"$f":"W3677/Y3677*'Cenové indexy '!$E$149","v":0},0,2011,"12",null,"2011-11-30","Áno","Áno","Neurčené","Nie","24 mesiacov zadarmo, pozáručný servis 10 rokov",null,null,null,"Zmluva 70_DG",null,null,null,null,null,{"$f":"VLOOKUP(M3677,Adresy!$A$4:$C$156,2,FALSE)","v":"Praha"},{"$f":"VLOOKUP(M3677,Adresy!$A$4:$C$156,3,FALSE)","v":"Šrobárova 1150/50"},"M","2011M12",null,null,null,null,null,"Praha","Šrobárova 1150/50",0,0,0,0]
["operačný stôl","elektromechanický ","príslušenstvo","zarážka pre nohy pre polohu v stoji",null,null,"OTESUS 1160","Maquet","pre všetky chirurgické odbory","MAQUET","položková cena (súčasť sumárnej ceny)",null,"Fakultní nemocnice Brno","ČR","MAQUET Czech Republic s.r .o",null,5,179390,null,{"$f":"IF(N3702=\"SR\",1,IF(AC3702=\"\",VLOOKUP(AW3702,'CZKEUR Xchange rate'!$D$13:$E$234,2,FALSE),VLOOKUP(AW3702,'CZKEUR Xchange rate'!$A$13:$B$234,2,FALSE)))","v":27.105},6618.3361003504888,0,1328.8148148148148,null,{"$f":"VLOOKUP(AW3702,'Cenové indexy '!$D$7:$E$200,2,FALSE)","v":100.07},{"$f":"W3702/Y3702*'Cenové indexy '!$E$149","v":1369.4481048451269},1643.3377258141522,2015,"10",null,"2015-09-30","Áno","Áno","EFRR","Nie","36 mesiacov zadarmo",null,null,null,"Zmluva 73_DG",null,null,null,null,null,{"$f":"VLOOKUP(M3702,Adresy!$A$4:$C$156,2,FALSE)","v":"Brno"},{"$f":"VLOOKUP(M3702,Adresy!$A$4:$C$156,3,FALSE)","v":"Jihlavská 340/20"},"M","2015M10",null,null,null,null,null,"Brno","Jihlavská 340/20",0,0,0,0]
["operačný stôl","elektromechanický ","elektromechanický mobilný operačný stôl","elektromechanický mobilný operačný stôl",null,null,"True System 7500",null,null,"TRUMPF Medical","bez položkovej identifikácie ceny (v rámci sumárnej ceny)",null,"Fakultní nemocnice Hradec Králové","ČR","Hypokramed spol. s r.o.",null,1,794535,null,{"$f":"IF(N3719=\"SR\",1,IF(AC3719=\"\",VLOOKUP(AW3719,'CZKEUR Xchange rate'!$D$13:$E$234,2,FALSE),VLOOKUP(AW3719,'CZKEUR Xchange rate'!$A$13:$B$234,2,FALSE)))","v":27.039000000000001},29384.777543548207,0,29427.222222222223,null,{"$f":"VLOOKUP(AW3719,'Cenové indexy '!$D$7:$E$200,2,FALSE)","v":100.14},{"$f":"W3719/Y3719*'Cenové indexy '!$E$149","v":30305.866065286376},36367.039278343647,2015,"11",null,"2015-10-31","Áno","Áno","na 2 splátky ","Nie","24 mesiacov zadarmo",null,null,null,"Zmluva 74_DG",null,null,null,null,null,{"$f":"VLOOKUP(M3719,Adresy!$A$4:$C$156,2,FALSE)","v":"Hradec Králové"},{"$f":"VLOOKUP(M3719,Adresy!$A$4:$C$156,3,FALSE)","v":"Sokolská 581"},"M","2015M11",null,null,null,null,null,"Hradec Králové","Sokolská 581",0,0,0,0]
["operačný stôl",null,"operačná doska","operačná doska",null,"elektromotorická, karbónová operačná doska","Carbon X-TRA 7500","Carbon X-TRA 7500",null,"TRUMPF Medical","bez položkovej identifikácie ceny (v rámci sumárnej ceny)",null,"Fakultná nemocnica s poliklinikou F. D. Roosevelta Banská Bystrica","SR","RADIX spol. s r.o.",null,1,null,null,{"$f":"IF(N3749=\"SR\",1,IF(AC3749=\"\",VLOOKUP(AW3749,'CZKEUR Xchange rate'!$D$13:$E$234,2,FALSE),VLOOKUP(AW3749,'CZKEUR Xchange rate'!$A$13:$B$234,2,FALSE)))","v":1},0,0,null,null,{"$f":"VLOOKUP(AW3749,'Cenové indexy '!$D$7:$E$200,2,FALSE)","v":98.57},{"$f":"W3749/Y3749*'Cenové indexy '!$E$149","v":0},0,2013,"06",null,"2013-05-31","Áno","Áno","na 4 spátky","Áno","24 mesiacov zadarmo, pozáručný servis 8 rokov",null,null,null,"Zmluva 76_DG",null,null,null,null,null,{"$f":"VLOOKUP(M3749,Adresy!$A$4:$C$156,2,FALSE)","v":"Banská Bystrica"},{"$f":"VLOOKUP(M3749,Adresy!$A$4:$C$156,3,FALSE)","v":"Námestie Ludvíka Svobodu 6818/4"},"M","2013M06",null,null,null,null,null,{"$error":"#N/A"},{"$error":"#N/A"},{"$error":"#N/A"},{"$error":"#N/A"},{"$error":"#N/A"},{"$error":"#N/A"}]
["operačný stôl","elektromechanický ","príslušenstvo","extenčná podpora na dve nohy",null,null,"MARS 2.03",null,null,"TRUMPF Medical","položková cena (súčasť sumárnej ceny)",null,"Detská fakultná nemocnica s poliklinikou Bratislava","SR","Nimag spol. s r.o.",null,1,3350.7,null,{"$f":"IF(N3770=\"SR\",1,IF(AC3770=\"\",VLOOKUP(AW3770,'CZKEUR Xchange rate'!$D$13:$E$234,2,FALSE),VLOOKUP(AW3770,'CZKEUR Xchange rate'!$A$13:$B$234,2,FALSE)))","v":1},3350.7,0,3350.7,null,{"$f":"VLOOKUP(AW3770,'Cenové indexy '!$D$7:$E$200,2,FALSE)","v":99.98},{"$f":"W3770/Y3770*'Cenové indexy '!$E$149","v":3456.2681636327261},4147.5217963592713,2014,"11",null,"2014-10-31","Áno","Áno","Neurčené","Nie","24 mesiacov zadarmo",null,null,null,"Zmluva 77_DG",null,null,null,null,null,{"$f":"VLOOKUP(M3770,Adresy!$A$4:$C$156,2,FALSE)","v":"Bratislava"},{"$f":"VLOOKUP(M3770,Adresy!$A$4:$C$156,3,FALSE)","v":"Limbová 1"},"M","2014M11",null,null,null,null,null,"Bratislava","Limbová 1",0,0,0,0]
["operačný stôl","elektrohydraulický ","elektrohydraulický mobilný operačný stôl","elektrické nastavenie nožných segmentov"," +105/- 70°",null,"Neurčené","Neurčené",null,"Neurčené","bez položkovej identifikácie ceny (v rámci sumárnej ceny)",null,"Dolnooravská nemocnica s poliklinikou MUDr. L. Nádaši Jégého Dolný Kubín","SR","ULTRAMED s.r.o.",null,1,null,null,{"$f":"IF(N3787=\"SR\",1,IF(AC3787=\"\",VLOOKUP(AW3787,'CZKEUR Xchange rate'!$D$13:$E$234,2,FALSE),VLOOKUP(AW3787,'CZKEUR Xchange rate'!$A$13:$B$234,2,FALSE)))","v":1},0,0,null,null,{"$f":"VLOOKUP(AW3787,'Cenové indexy '!$D$7:$E$200,2,FALSE)","v":100.29},{"$f":"W3787/Y3787*'Cenové indexy '!$E$149","v":0},0,2015,"12",null,"2015-11-30","Áno","Áno","Neurčené","Nie","Neurčené",null,null,null,"Zmluva 78_DG",null,null,null,null,null,{"$f":"VLOOKUP(M3787,Adresy!$A$4:$C$156,2,FALSE)","v":"Dolný Kubín"},{"$f":"VLOOKUP(M3787,Adresy!$A$4:$C$156,3,FALSE)","v":"Nemocničná 1944"},"M","2015M12",null,null,null,null,null,"Dolný Kubín","Nemocničná 1944",0,0,0,0]
["operačný stôl","elektromechanický ","príslušenstvo","podpera bokov",null,null,"Diamond 60",null,"pre traumatológiu a ortopédiu","Schmitz","položková cena (súčasť sumárnej ceny)","HW","Fakultná nemocnica Trenčín","SR","VITALITE s.r.o.",null,2,605.34,726.40800000000002,{"$f":"IF(N3801=\"SR\",1,IF(AC3801=\"\",VLOOKUP(AW3801,'CZKEUR Xchange rate'!$D$13:$E$234,2,FALSE),VLOOKUP(AW3801,'CZKEUR Xchange rate'!$A$13:$B$234,2,FALSE)))","v":1},605.34,726.40800000000002,302.67,363.20400000000001,{"$f":"VLOOKUP(AW3801,'Cenové indexy '!$D$7:$E$200,2,FALSE)","v":100.14},{"$f":"W3801/Y3801*'Cenové indexy '!$E$149","v":311.70718094667467},374.04861713600957,2015,"09",null,"2015-08-31","Áno","Áno","ERDF","Nie","24 mesiacov zadarmo",null,null,null,"Zmluva SM_1",null,null,null,null,null,{"$f":"VLOOKUP(M3801,Adresy!$A$4:$C$156,2,FALSE)","v":"Trenčín"},{"$f":"VLOOKUP(M3801,Adresy!$A$4:$C$156,3,FALSE)","v":"Legionárska 594/2"},"M","2015M09",null,null,null,null,null,"Trenčín","Legionárska 594/2",0,0,0,0]
["operačný stôl","elektromechanický ","elektromechanický mobilný operačný stôl","OKL gelová podložka pod hlavu",null,null,"Saturn select 3.02",null,"pre traumatológiu a ortopédiu","TRUMPF Medical","položková cena (súčasť sumárnej ceny)","HW","Fakultná nemocnica Trnava","SR","Nimag spol. s r.o.",null,1,203.2,243.83999999999997,{"$f":"IF(N3822=\"SR\",1,IF(AC3822=\"\",VLOOKUP(AW3822,'CZKEUR Xchange rate'!$D$13:$E$234,2,FALSE),VLOOKUP(AW3822,'CZKEUR Xchange rate'!$A$13:$B$234,2,FALSE)))","v":1},203.2,243.83999999999997,203.2,243.83999999999997,{"$f":"VLOOKUP(AW3822,'Cenové indexy '!$D$7:$E$200,2,FALSE)","v":100.71},{"$f":"W3822/Y3822*'Cenové indexy '!$E$149","v":208.08277231655245},249.69932677986293,2016,"01",null,"2015-12-31","Áno","Áno","Neurčené","Ne","24 mesiacov zadarmo",null,null,null,"Zmluva SM_2",null,"zľava 36,5%",null,null,null,{"$f":"VLOOKUP(M3822,Adresy!$A$4:$C$156,2,FALSE)","v":"Trnava"},{"$f":"VLOOKUP(M3822,Adresy!$A$4:$C$156,3,FALSE)","v":"Andreja Žarnova 11"},"M","2016M01",null,null,null,null,null,"Trnava","Andreja Žarnova 11",0,0,0,0]
["operačný stôl","elektromechanický ","príslušenstvo","protitahový kolík s polstrom","80mm",null,"Saturn select 3.02",null,"pre traumatológiu a ortopédiu","TRUMPF Medical","položková cena (súčasť sumárnej ceny)","HW","Fakultná nemocnica Trnava","SR","Nimag spol. s r.o.",null,1,165.1,198.11999999999998,{"$f":"IF(N3834=\"SR\",1,IF(AC3834=\"\",VLOOKUP(AW3834,'CZKEUR Xchange rate'!$D$13:$E$234,2,FALSE),VLOOKUP(AW3834,'CZKEUR Xchange rate'!$A$13:$B$234,2,FALSE)))","v":1},165.1,198.11999999999998,165.1,198.11999999999998,{"$f":"VLOOKUP(AW3834,'Cenové indexy '!$D$7:$E$200,2,FALSE)","v":100.71},{"$f":"W3834/Y3834*'Cenové indexy '!$E$149","v":169.06725250719887},202.88070300863865,2016,"01",null,"2015-12-31","Áno","Áno","Neurčené","Ne","24 mesiacov zadarmo",null,null,null,"Zmluva SM_2",null,"zľava 36,5%",null,null,null,{"$f":"VLOOKUP(M3834,Adresy!$A$4:$C$156,2,FALSE)","v":"Trnava"},{"$f":"VLOOKUP(M3834,Adresy!$A$4:$C$156,3,FALSE)","v":"Andreja Žarnova 11"},"M","2016M01",null,null,null,null,null,"Trnava","Andreja Žarnova 11",0,0,0,0]
["operačný stôl","elektrohydraulický ","elektrohydraulický mobilný operačný stôl","pozdĺžny posuv","410 mm",null,"Promerix","Neurčené",null,"Merivaara","bez položkovej identifikácie ceny (v rámci sumárnej ceny)","HW","UPJŠ Košice","SR","HOSPIMED - Slovakia spol. s r.o.",null,null,null,null,{"$f":"IF(N3869=\"SR\",1,IF(AC3869=\"\",VLOOKUP(AW3869,'CZKEUR Xchange rate'!$D$13:$E$234,2,FALSE),VLOOKUP(AW3869,'CZKEUR Xchange rate'!$A$13:$B$234,2,FALSE)))","v":1},0,0,null,null,{"$f":"VLOOKUP(AW3869,'Cenové indexy '!$D$7:$E$200,2,FALSE)","v":98.04},{"$f":"W3869/Y3869*'Cenové indexy '!$E$149","v":0},0,2012,"09",null,"2012-08-31","Áno","Áno","ERDF","Ano","24 mesiacov zadarmo",null,null,null,"Zmluva SM_5",null,null,null,null,null,{"$f":"VLOOKUP(M3869,Adresy!$A$4:$C$156,2,FALSE)","v":"Košice"},{"$f":"VLOOKUP(M3869,Adresy!$A$4:$C$156,3,FALSE)","v":"Moyzesova"},"M","2012M09",null,null,null,null,null,"Košice","Moyzesova",0,0,0,0]
["operačný stôl","elektrohydraulický ","príslušenstvo","základná jednotka pre  upevnenie neurochirurgického DORO príslušenstva",null,null,"Betastar","DORO",null,"MAQUET","bez položkovej identifikácie ceny (v rámci sumárnej ceny)",null,"Vojenská fakultná nemocnica Praha","ČR","MAQUET Czech Republic s.r .o",null,null,null,null,{"$f":"IF(N3894=\"SR\",1,IF(AC3894=\"\",VLOOKUP(AW3894,'CZKEUR Xchange rate'!$D$13:$E$234,2,FALSE),VLOOKUP(AW3894,'CZKEUR Xchange rate'!$A$13:$B$234,2,FALSE)))","v":27.039000000000001},0,0,null,null,{"$f":"VLOOKUP(AW3894,'Cenové indexy '!$D$7:$E$200,2,FALSE)","v":100.14},{"$f":"W3894/Y3894*'Cenové indexy '!$E$149","v":0},0,2015,"11",null,"2015-10-31","Áno","Áno","neurčené","Nie","24 mesiacov zadarmo, potom 10 rokov podľa zmluvy",null,null,null,"Zmluva 156_AT",null,null,null,null,null,{"$f":"VLOOKUP(M3894,Adresy!$A$4:$C$156,2,FALSE)","v":"Praha"},{"$f":"VLOOKUP(M3894,Adresy!$A$4:$C$156,3,FALSE)","v":"U Vojenské nemocnice 1/1200"},"M","2015M11",null,null,null,null,null,{"$error":"#N/A"},{"$error":"#N/A"},{"$error":"#N/A"},{"$error":"#N/A"},{"$error":"#N/A"},{"$error":"#N/A"}]
["operačný stôl","elektromechanický ","elektromechanický mobilný operačný stôl","laterálny náklon"," +/- 25°",null,"Unimax",null,null,"STERIS","bez položkovej identifikácie ceny (v rámci sumárnej ceny)",null,"Univerzita Komenského v Bratislave","SR","Med Partners a.s.",null,null,null,null,{"$f":"IF(N3902=\"SR\",1,IF(AC3902=\"\",VLOOKUP(AW3902,'CZKEUR Xchange rate'!$D$13:$E$234,2,FALSE),VLOOKUP(AW3902,'CZKEUR Xchange rate'!$A$13:$B$234,2,FALSE)))","v":1},0,0,null,null,{"$f":"VLOOKUP(AW3902,'Cenové indexy '!$D$7:$E$200,2,FALSE)","v":99.52},{"$f":"W3902/Y3902*'Cenové indexy '!$E$149","v":0},0,2014,"03",null,"2014-02-28","Áno","Áno","neurčené","Nie","24 mesiacov ",null,null,null,"Zmluva 157_AT",null,null,null,null,null,{"$f":"VLOOKUP(M3902,Adresy!$A$4:$C$156,2,FALSE)","v":"Bratislava"},{"$f":"VLOOKUP(M3902,Adresy!$A$4:$C$156,3,FALSE)","v":"Vajanského nábrežie"},"M","2014M03",null,null,null,null,null,"Bratislava","Vajanského nábrežie",0,0,0,0]
["operačný stôl","elektromechanický ","elektromechanický zabudovaný operačný stôl","chrbtový segment"," +70°/-60°",null,"ALPHAMAQUET  1150 ",null,null,"MAQUET","bez položkovej identifikácie ceny (v rámci sumárnej ceny)",null,"Vysoká škola zdravotníctva a sociálnej práce Sv. Alžbety","SR","Agemsoft a.s.",null,null,null,null,{"$f":"IF(N3921=\"SR\",1,IF(AC3921=\"\",VLOOKUP(AW3921,'CZKEUR Xchange rate'!$D$13:$E$234,2,FALSE),VLOOKUP(AW3921,'CZKEUR Xchange rate'!$A$13:$B$234,2,FALSE)))","v":1},0,0,null,null,{"$f":"VLOOKUP(AW3921,'Cenové indexy '!$D$7:$E$200,2,FALSE)","v":98.57},{"$f":"W3921/Y3921*'Cenové indexy '!$E$149","v":0},0,2013,"06",null,"2013-05-31","Áno","Áno","neurčené","Áno","24 mesiacov",null,null,null,"Zmluva 158_AT",null,null,null,null,null,{"$f":"VLOOKUP(M3921,Adresy!$A$4:$C$156,2,FALSE)","v":"Bratislava"},{"$f":"VLOOKUP(M3921,Adresy!$A$4:$C$156,3,FALSE)","v":"Námestie 1. Mája"},"M","2013M06",null,null,null,null,null,{"$error":"#N/A"},{"$error":"#N/A"},{"$error":"#N/A"},{"$error":"#N/A"},{"$error":"#N/A"},{"$error":"#N/A"}]
["operačný stôl","elektromechanický ","elektromechanický zabudovaný operačný stôl","podložky dolných končatín"," +90°/-90°",null,"ALPHAMAQUET  1150 ",null,null,"MAQUET","bez položkovej identifikácie ceny (v rámci sumárnej ceny)",null,"Univerzitná nemocnica L. Pasteura Košice","SR","MAQUET Medizintechnik Vertrieb und Service GmbH",null,null,null,null,{"$f":"IF(N3946=\"SR\",1,IF(AC3946=\"\",VLOOKUP(AW3946,'CZKEUR Xchange rate'!$D$13:$E$234,2,FALSE),VLOOKUP(AW3946,'CZKEUR Xchange rate'!$A$13:$B$234,2,FALSE)))","v":1},0,0,null,null,{"$f":"VLOOKUP(AW3946,'Cenové indexy '!$D$7:$E$200,2,FALSE)","v":87.74},{"$f":"W3946/Y3946*'Cenové indexy '!$E$149","v":0},0,2009,"11",null,"2009-10-31","Áno","Áno","neurčené","Nie","12 mesiacov",null,null,null,"Zmluva 159_AT",null,null,null,null,null,{"$f":"VLOOKUP(M3946,Adresy!$A$4:$C$156,2,FALSE)","v":"Košice"},{"$f":"VLOOKUP(M3946,Adresy!$A$4:$C$156,3,FALSE)","v":"Trieda SNP 457/1"},"M","2009M11",null,null,null,null,null,"Košice","Trieda SNP 457/1",0,0,0,0]
["operačný stôl","elektromechanický ","elektromechanický zabudovaný operačný stôl","pozdĺžny posuv","320 mm",null,"ALPHAMAQUET  1150 ",null,"pre centrálne operačné sály","MAQUET","bez položkovej identifikácie ceny (v rámci sumárnej ceny)","HW","Národný onkologický ústav","SR","MAQUET Medizintechnik Vertrieb und Service GmbH",null,null,null,null,{"$f":"IF(N3970=\"SR\",1,IF(AC3970=\"\",VLOOKUP(AW3970,'CZKEUR Xchange rate'!$D$13:$E$234,2,FALSE),VLOOKUP(AW3970,'CZKEUR Xchange rate'!$A$13:$B$234,2,FALSE)))","v":1},0,0,null,null,{"$f":"VLOOKUP(AW3970,'Cenové indexy '!$D$7:$E$200,2,FALSE)","v":89.14},{"$f":"W3970/Y3970*'Cenové indexy '!$E$149","v":0},{"$f":"Z3970*1.2","v":0},2011,"03",null,"2011-02-28","Áno","Áno","Neurčené","Nie","24 mesiacov",null,null,null,"Zmluva 160_DG",null,null,null,null,null,{"$f":"VLOOKUP(M3970,Adresy!$A$4:$C$156,2,FALSE)","v":"Bratislava"},{"$f":"VLOOKUP(M3970,Adresy!$A$4:$C$156,3,FALSE)","v":"Klenová 3019/1"},"M","2011M03",null,null,null,null,null,"Bratislava","Klenová 3019/1",{"$f":"IF(BC3970<>AT3970,1,0)","v":0},0,0,0]
["operačný stôl","elektromechanický ","príslušenstvo","IR diaľkové ovládanie",null,null,"Neurčené",null,null,"MAQUET","bez položkovej identifikácie ceny (v rámci sumárnej ceny)",null,"Nemocnice TGM Hodonín, p.o.","ČR","MAQUET Czech Republic s.r .o","03053601",null,null,null,{"$f":"IF(N3993=\"SR\",1,IF(AC3993=\"\",VLOOKUP(AW3993,'CZKEUR Xchange rate'!$D$13:$E$234,2,FALSE),VLOOKUP(AW3993,'CZKEUR Xchange rate'!$A$13:$B$234,2,FALSE)))","v":27.027000000000001},0,0,null,null,{"$f":"VLOOKUP(AW3993,'Cenové indexy '!$D$7:$E$200,2,FALSE)","v":100.71},{"$f":"W3993/Y3993*'Cenové indexy '!$E$149","v":0},0,2016,"01","26","2016-01-26","Áno","Áno","neurčené","Nie",null,"24 mesiacov","8 rokov, podmienky uvedené v zmluve","48 hodín","Zmluva 257_AT",null,null,null,null,null,{"$f":"VLOOKUP(M3993,Adresy!$A$4:$C$156,2,FALSE)","v":"Hodonín"},{"$f":"VLOOKUP(M3993,Adresy!$A$4:$C$156,3,FALSE)","v":"Purkyňova 2731/11"},"M","2016M01",null,null,null,null,null,"Hodonín","Purkyňova 2731/11",0,0,0,0]
["operačný stôl","elektromechanický ","príslušenstvo","podložka pod končatiny",null,null,"Neurčené",null,null,"MAQUET","bez položkovej identifikácie ceny (v rámci sumárnej ceny)",null,"Nemocnice TGM Hodonín, p.o.","ČR","MAQUET Czech Republic s.r .o","03053601",null,null,null,{"$f":"IF(N3998=\"SR\",1,IF(AC3998=\"\",VLOOKUP(AW3998,'CZKEUR Xchange rate'!$D$13:$E$234,2,FALSE),VLOOKUP(AW3998,'CZKEUR Xchange rate'!$A$13:$B$234,2,FALSE)))","v":27.027000000000001},0,0,null,null,{"$f":"VLOOKUP(AW3998,'Cenové indexy '!$D$7:$E$200,2,FALSE)","v":100.71},{"$f":"W3998/Y3998*'Cenové indexy '!$E$149","v":0},0,2016,"01","26","2016-01-26","Áno","Áno","neurčené","Nie",null,"24 mesiacov","8 rokov, podmienky uvedené v zmluve","48 hodín","Zmluva 257_AT",null,null,null,null,null,{"$f":"VLOOKUP(M3998,Adresy!$A$4:$C$156,2,FALSE)","v":"Hodonín"},{"$f":"VLOOKUP(M3998,Adresy!$A$4:$C$156,3,FALSE)","v":"Purkyňova 2731/11"},"M","2016M01",null,null,null,null,null,"Hodonín","Purkyňova 2731/11",0,0,0,0]
["operačný stôl","elektromechanický ","elektromechanický mobilný operačný stôl","elektromechanický mobilný operačný stôl",null,null,"MARS 2.01",387610,null,"TRUMPF Medical","položková cena ","HW","Univerzitná nemocnica Martin","SR","Nimag spol. s r.o.","31337773",1,27049.05,null,{"$f":"IF(N4021=\"SR\",1,IF(AC4021=\"\",VLOOKUP(AW4021,'CZKEUR Xchange rate'!$D$13:$E$234,2,FALSE),VLOOKUP(AW4021,'CZKEUR Xchange rate'!$A$13:$B$234,2,FALSE)))","v":1},27049.05,0,{"$f":"U4021/Q4021","v":27049.05},{"$f":"V4021/Q4021","v":0},{"$f":"VLOOKUP(AW4021,'Cenové indexy '!$D$7:$E$200,2,FALSE)","v":100.83},{"$f":"W4021/Y4021*'Cenové indexy '!$E$149","v":27666.056991966674},33199.268390360005,2016,"02","02","2016-02-02","Áno","Áno","na 4 splátky","Nie",null,"24 mesiacov","neurčené","24 hodín","Zmluva 260_AT",null,"16,9% zľava",null,null,null,{"$f":"VLOOKUP(M4021,Adresy!$A$4:$C$156,2,FALSE)","v":"Martin"},{"$f":"VLOOKUP(M4021,Adresy!$A$4:$C$156,3,FALSE)","v":"Kollárova 2"},"M","2016M02",null,null,null,null,null,"Martin","Kollárova 2",0,0,0,0]
["operačný stôl","elektromechanický ","príslušenstvo","hlavová doska",null,null,"MARS 2.01/MARS 2.03",1789960,null,"TRUMPF Medical","položková cena ",null,"Univerzitná nemocnica Martin","SR","Nimag spol. s r.o.","31337773",2,4254.7199999999993,null,{"$f":"IF(N4045=\"SR\",1,IF(AC4045=\"\",VLOOKUP(AW4045,'CZKEUR Xchange rate'!$D$13:$E$234,2,FALSE),VLOOKUP(AW4045,'CZKEUR Xchange rate'!$A$13:$B$234,2,FALSE)))","v":1},4254.7199999999993,0,2127.3599999999997,0,{"$f":"VLOOKUP(AW4045,'Cenové indexy '!$D$7:$E$200,2,FALSE)","v":100.83},{"$f":"W4045/Y4045*'Cenové indexy '!$E$149","v":2175.8865099672712},2611.0638119607252,2016,"02","02","2016-02-02","Áno","Áno","na 4 splátky","Nie",null,"24 mesiacov","neurčené","24 hodín","Zmluva 260_AT",null,"16,9% zľava",null,null,null,{"$f":"VLOOKUP(M4045,Adresy!$A$4:$C$156,2,FALSE)","v":"Martin"},{"$f":"VLOOKUP(M4045,Adresy!$A$4:$C$156,3,FALSE)","v":"Kollárova 2"},"M","2016M02",null,null,null,null,null,"Martin","Kollárova 2",0,0,0,0]
["operačný stôl","elektrohydraulický ","elektrohydraulický operačný stôl","elektrohydraulický operačný stôl",null,null,"ALPHAMAXX",null,null,"MAQUET","bez položkovej identifikácie ceny (v rámci sumárnej ceny)",null,"Nemocnice Česká Lípa","ČR","MAQUET Czech Republic s.r .o","03053601",null,null,null,{"$f":"IF(N4070=\"SR\",1,IF(AC4070=\"\",VLOOKUP(AW4070,'CZKEUR Xchange rate'!$D$13:$E$234,2,FALSE),VLOOKUP(AW4070,'CZKEUR Xchange rate'!$A$13:$B$234,2,FALSE)))","v":27.396999999999998},0,0,null,null,{"$f":"VLOOKUP(AW4070,'Cenové indexy '!$D$7:$E$200,2,FALSE)","v":99.82},{"$f":"W4070/Y4070*'Cenové indexy '!$E$149","v":0},0,2015,"05","07","2015-05-07","Áno","Áno","EFRR","Áno",null,"24 mesiacov","min. 10 rokov, bude špec.v budúcej zmluve","24 hodín","Zmluva 261_AT",null,null,null,null,null,{"$f":"VLOOKUP(M4070,Adresy!$A$4:$C$156,2,FALSE)","v":"Česká Lípa"},{"$f":"VLOOKUP(M4070,Adresy!$A$4:$C$156,3,FALSE)","v":"Purkyňova 1849"},"M","2015M05",null,null,null,null,null,"Česká Lípa","Purkyňova 1849",0,0,0,0]
["operačný stôl","elektrohydraulický ","elektrohydraulický operačný stôl","trendelenburg/antitrendelenburg","± 30 °",null,"Betastar",null,null,"MAQUET","bez položkovej identifikácie ceny (v rámci sumárnej ceny)",null,"Nemocnice Česká Lípa","ČR","MAQUET Czech Republic s.r .o","03053601",null,null,null,{"$f":"IF(N4089=\"SR\",1,IF(AC4089=\"\",VLOOKUP(AW4089,'CZKEUR Xchange rate'!$D$13:$E$234,2,FALSE),VLOOKUP(AW4089,'CZKEUR Xchange rate'!$A$13:$B$234,2,FALSE)))","v":27.396999999999998},0,0,null,null,{"$f":"VLOOKUP(AW4089,'Cenové indexy '!$D$7:$E$200,2,FALSE)","v":99.82},{"$f":"W4089/Y4089*'Cenové indexy '!$E$149","v":0},0,2015,"05","07","2015-05-07","Áno","Áno","EFRR","Áno",null,"24 mesiacov","min. 10 rokov, bude špec.v budúcej zmluve","24 hodín","Zmluva 261_AT",null,null,null,null,null,{"$f":"VLOOKUP(M4089,Adresy!$A$4:$C$156,2,FALSE)","v":"Česká Lípa"},{"$f":"VLOOKUP(M4089,Adresy!$A$4:$C$156,3,FALSE)","v":"Purkyňova 1849"},"M","2015M05",null,null,null,null,null,"Česká Lípa","Purkyňova 1849",0,0,0,0]
["operačný stôl","elektrohydraulický ","príslušenstvo","bočká opierka staviteľná",null,null,"CMAX S","STER-TAB765","pre všeobecnú chirurgiu","STERIS","položková cena (súčasť sumárnej ceny)","HW","Fakultná nemocnica Nitra","SR","B. Braun Medical s.r.o.",31350780,2,549.25,659.1,{"$f":"IF(N4117=\"SR\",1,IF(AC4117=\"\",VLOOKUP(AW4117,'CZKEUR Xchange rate'!$D$13:$E$234,2,FALSE),VLOOKUP(AW4117,'CZKEUR Xchange rate'!$A$13:$B$234,2,FALSE)))","v":1},549.25,659.1,274.625,329.55,{"$f":"VLOOKUP(AW4117,'Cenové indexy '!$D$7:$E$200,2,FALSE)","v":98.94},{"$f":"W4117/Y4117*'Cenové indexy '!$E$149","v":286.25506620173843},343.5060794420861,2013,"03","18","2013-03-18","Áno","Áno","Neurčené","Ano",null,"24 mesiacov zadarmo",null,null,"Zmluva SM_4",null,null,null,null,null,{"$f":"VLOOKUP(M4117,Adresy!$A$4:$C$156,2,FALSE)","v":"Nitra"},{"$f":"VLOOKUP(M4117,Adresy!$A$4:$C$156,3,FALSE)","v":"Špitálska 6"},"M","2013M03",null,null,null,null,null,"Nitra","Špitálska 6",0,0,0,0]
["operačný stôl","elektrohydraulický ","príslušenstvo","kurt na fixáciu tela",null,null,"CMAX S","STER-TAB213","pre všeobecnú chirurgiu","STERIS","položková cena (súčasť sumárnej ceny)","HW","Fakultná nemocnica Nitra","SR","B. Braun Medical s.r.o.",31350780,1,138.13,165.756,{"$f":"IF(N4122=\"SR\",1,IF(AC4122=\"\",VLOOKUP(AW4122,'CZKEUR Xchange rate'!$D$13:$E$234,2,FALSE),VLOOKUP(AW4122,'CZKEUR Xchange rate'!$A$13:$B$234,2,FALSE)))","v":1},138.13,165.756,138.13,165.756,{"$f":"VLOOKUP(AW4122,'Cenové indexy '!$D$7:$E$200,2,FALSE)","v":98.94},{"$f":"W4122/Y4122*'Cenové indexy '!$E$149","v":143.9796533252476},172.77558399029712,2013,"03","18","2013-03-18","Áno","Áno","Neurčené","Ano",null,"24 mesiacov zadarmo",null,null,"Zmluva SM_4",null,null,null,null,null,{"$f":"VLOOKUP(M4122,Adresy!$A$4:$C$156,2,FALSE)","v":"Nitra"},{"$f":"VLOOKUP(M4122,Adresy!$A$4:$C$156,3,FALSE)","v":"Špitálska 6"},"M","2013M03",null,null,null,null,null,"Nitra","Špitálska 6",0,0,0,0]
["pľúcny ventilátor",null,"zvlhčovač H900",null,null,null,"Hamilton G5",null,null,"Hamilton medical","bez položkovej identifikácie ceny (v rámci sumárnej ceny)",null,"Národný ústav tuberkulózy, pl'úcnych chorôb a hrudníkovej chirurgie Vyšné Hágy","SR","Medis Nitra",36531774,1,null,null,{"$f":"IF(N4157=\"SR\",1,IF(AC4157=\"\",VLOOKUP(AW4157,'CZKEUR Xchange rate'!$D$13:$E$234,2,FALSE),VLOOKUP(AW4157,'CZKEUR Xchange rate'!$A$13:$B$234,2,FALSE)))","v":1},0,0,null,null,{"$f":"VLOOKUP(AW4157,'Cenové indexy '!$D$7:$E$200,2,FALSE)","v":100.71},{"$f":"W4157/Y4157*'Cenové indexy '!$E$149","v":0},0,2016,"01","03","2016-01-03","Áno","Áno","Neurčené","Nie",null,"24 mesiacov","neurčené","48 hodín","Zmluva 262_AT",null,null,null,null,null,{"$f":"VLOOKUP(M4157,Adresy!$A$4:$C$156,2,FALSE)","v":"Vysoké Tatry"},{"$f":"VLOOKUP(M4157,Adresy!$A$4:$C$156,3,FALSE)","v":"Vysoké Tatry 1"},"M","2016M01",null,null,null,null,null,"Vysoké Tatry","Vysoké Tatry 1",0,0,0,0]
["pľúcny ventilátor",null,"jazykový kit",null,null,null,"Hamilton G5",null,null,"Hamilton medical","bez položkovej identifikácie ceny (v rámci sumárnej ceny)",null,"Fakultná nemocnica s poliklinikou F. D. Roosevelta Banská Bystrica","SR","Medis Nitra",36531774,1,null,null,{"$f":"IF(N4169=\"SR\",1,IF(AC4169=\"\",VLOOKUP(AW4169,'CZKEUR Xchange rate'!$D$13:$E$234,2,FALSE),VLOOKUP(AW4169,'CZKEUR Xchange rate'!$A$13:$B$234,2,FALSE)))","v":1},0,0,null,null,{"$f":"VLOOKUP(AW4169,'Cenové indexy '!$D$7:$E$200,2,FALSE)","v":100.83},{"$f":"W4169/Y4169*'Cenové indexy '!$E$149","v":0},0,2016,"02","26","2016-02-26","Áno","Áno","na 6 splátok","Nie",null,"24 mesiacov","8 rokov","24 hodín","Zmluva 263_AT",null,null,null,null,null,{"$f":"VLOOKUP(M4169,Adresy!$A$4:$C$156,2,FALSE)","v":"Banská Bystrica"},{"$f":"VLOOKUP(M4169,Adresy!$A$4:$C$156,3,FALSE)","v":"Námestie Ludvíka Svobodu 6818/4"},"M","2016M02",null,null,null,null,null,"Banská Bystrica","Námestie Ludvíka Svobodu 6818/4",0,0,0,0]
["pľúcny ventilátor",null,"Cart Servo i, w/Drawers, flatpack",null,null,null,"Servo-i",null,null,"Maquet","položková cena (súčasť sumárnej ceny)",null,"Fakultná nemocnica Trenčín","SR","Med Partners a.s.",44851740,2,3208.32,3849.98,{"$f":"IF(N4190=\"SR\",1,IF(AC4190=\"\",VLOOKUP(AW4190,'CZKEUR Xchange rate'!$D$13:$E$234,2,FALSE),VLOOKUP(AW4190,'CZKEUR Xchange rate'!$A$13:$B$234,2,FALSE)))","v":1},3208.32,3849.98,1604.16,1924.99,{"$f":"VLOOKUP(AW4190,'Cenové indexy '!$D$7:$E$200,2,FALSE)","v":99.88},{"$f":"W4190/Y4190*'Cenové indexy '!$E$149","v":1656.3578374048859},1987.6294048858631,2015,"06","29","2015-06-29","Áno","Áno","EFRR","Nie",null,"24 mesiacov","neurčené","33 hodín","Zmluva 264_AT",null,null,null,null,null,{"$f":"VLOOKUP(M4190,Adresy!$A$4:$C$156,2,FALSE)","v":"Trenčín"},{"$f":"VLOOKUP(M4190,Adresy!$A$4:$C$156,3,FALSE)","v":"Legionárska 594/2"},"M","2015M06",null,null,null,null,null,"Trenčín","Legionárska 594/2",0,0,0,0]
["pľúcny ventilátor",null,"Modul analyzátora CO2",null,null,null,"Servo-i",null,null,"Maquet","položková cena (súčasť sumárnej ceny)",null,"Fakultná nemocnica Trenčín","SR","Med Partners a.s.",44851740,2,3407.96,4089.55,{"$f":"IF(N4204=\"SR\",1,IF(AC4204=\"\",VLOOKUP(AW4204,'CZKEUR Xchange rate'!$D$13:$E$234,2,FALSE),VLOOKUP(AW4204,'CZKEUR Xchange rate'!$A$13:$B$234,2,FALSE)))","v":1},3407.96,4089.55,1703.98,2044.7750000000001,{"$f":"VLOOKUP(AW4204,'Cenové indexy '!$D$7:$E$200,2,FALSE)","v":99.88},{"$f":"W4204/Y4204*'Cenové indexy '!$E$149","v":1759.4258850620745},2111.3110620744892,2015,"06","29","2015-06-29","Áno","Áno","EFRR","Nie",null,"24 mesiacov","neurčené","47 hodín","Zmluva 264_AT",null,null,null,null,null,{"$f":"VLOOKUP(M4204,Adresy!$A$4:$C$156,2,FALSE)","v":"Trenčín"},{"$f":"VLOOKUP(M4204,Adresy!$A$4:$C$156,3,FALSE)","v":"Legionárska 594/2"},"M","2015M06",null,null,null,null,null,"Trenčín","Legionárska 594/2",0,0,0,0]
["pľúcny ventilátor",null,"aktívny zvlhčovač",null,null,null,"Hamilton G5",null,null,"Hamilton medical","bez položkovej identifikácie ceny (v rámci sumárnej ceny)",null,"Detská fakultná nemocnica Košice","SR","Medis Nitra",36531774,null,null,null,{"$f":"IF(N4221=\"SR\",1,IF(AC4221=\"\",VLOOKUP(AW4221,'CZKEUR Xchange rate'!$D$13:$E$234,2,FALSE),VLOOKUP(AW4221,'CZKEUR Xchange rate'!$A$13:$B$234,2,FALSE)))","v":1},0,0,null,null,{"$f":"VLOOKUP(AW4221,'Cenové indexy '!$D$7:$E$200,2,FALSE)","v":96.04},{"$f":"W4221/Y4221*'Cenové indexy '!$E$149","v":0},0,2012,"06","20","2012-06-20","Áno","Áno","Neurčené","Nie",null,"24 mesiacov","min. 5 rokov, bude predmetom bud.zmluvy","6 hodín","Zmluva 267_AT",null,null,null,null,null,{"$f":"VLOOKUP(M4221,Adresy!$A$4:$C$156,2,FALSE)","v":"Košice"},{"$f":"VLOOKUP(M4221,Adresy!$A$4:$C$156,3,FALSE)","v":"Trieda SNP 457/1"},"M","2012M06",null,null,null,null,null,"Košice","Trieda SNP 457/1",0,0,0,0]
["EEG systém",null,"stanica (na archiváciu a prezeranie)","UPS",null,null,"TruScan 32 CL",null,null,"Alien Technik","bez položkovej identifikácie ceny (v rámci sumárnej ceny)",null,"Detská fakultná nemocnica s poliklinikou Bratislava","SR","ADAMED s.r.o",34663801,null,null,null,{"$f":"IF(N4242=\"SR\",1,IF(AC4242=\"\",VLOOKUP(AW4242,'CZKEUR Xchange rate'!$D$13:$E$234,2,FALSE),VLOOKUP(AW4242,'CZKEUR Xchange rate'!$A$13:$B$234,2,FALSE)))","v":1},0,0,null,null,{"$f":"VLOOKUP(AW4242,'Cenové indexy '!$D$7:$E$200,2,FALSE)","v":89.07},{"$f":"W4242/Y4242*'Cenové indexy '!$E$149","v":0},0,2011,"02","18","2011-02-18","Áno","Áno","Neurčené","Nie",null,"24 mesiacov","1 x ročne KSP (sadzba viď zmluva)","48 hodín","Zmluva 281_AT",null,null,null,null,null,{"$f":"VLOOKUP(M4242,Adresy!$A$4:$C$156,2,FALSE)","v":"Bratislava"},{"$f":"VLOOKUP(M4242,Adresy!$A$4:$C$156,3,FALSE)","v":"Limbová 1"},"M","2011M02",null,null,null,null,null,"Bratislava","Limbová 1",0,0,0,0]
["EEG systém",null,"stanica (prehliadacia 1)","pacientská databáza",null,null,"neurčené",null,null,"neurčené","bez položkovej identifikácie ceny (v rámci sumárnej ceny)",null,"Fakultná nemocnica Trnava","SR","ZOLS s.r.o.","31420427",null,null,null,{"$f":"IF(N4272=\"SR\",1,IF(AC4272=\"\",VLOOKUP(AW4272,'CZKEUR Xchange rate'!$D$13:$E$234,2,FALSE),VLOOKUP(AW4272,'CZKEUR Xchange rate'!$A$13:$B$234,2,FALSE)))","v":1},0,0,null,null,{"$f":"VLOOKUP(AW4272,'Cenové indexy '!$D$7:$E$200,2,FALSE)","v":100.07},{"$f":"W4272/Y4272*'Cenové indexy '!$E$149","v":0},0,2015,"10","07","2015-10-07","Áno","Áno","Neurčené","Nie",null,"24  mesiacov","neurčené","24 hodín","Zmluva 284_AT",null,null,null,null,null,{"$f":"VLOOKUP(M4272,Adresy!$A$4:$C$156,2,FALSE)","v":"Trnava"},{"$f":"VLOOKUP(M4272,Adresy!$A$4:$C$156,3,FALSE)","v":"Andreja Žarnova 11"},"M","2015M10",null,null,null,null,null,"Trnava","Andreja Žarnova 11",0,0,0,0]
["EEG systém",null,"celá zostava","stacionárny",null,null,"TruScan 32 CL PRO CZ","TruScan 32 CL PRO CZ",null,"Alien Technik","sumárna cena","HW/SW","Vojenská fakultná nemocnica Praha","ČR","Alien technik s.r.o.",25284584,1,255156.8,308739.73,{"$f":"IF(N4289=\"SR\",1,IF(AC4289=\"\",VLOOKUP(AW4289,'CZKEUR Xchange rate'!$D$13:$E$234,2,FALSE),VLOOKUP(AW4289,'CZKEUR Xchange rate'!$A$13:$B$234,2,FALSE)))","v":27.667000000000002},9222.423826218961,11159.132902013227,{"$f":"U4289/Q4289","v":9222.423826218961},{"$f":"V4289/Q4289","v":11159.132902013227},{"$f":"VLOOKUP(AW4289,'Cenové indexy '!$D$7:$E$200,2,FALSE)","v":99.98},{"$f":"W4289/Y4289*'Cenové indexy '!$E$149","v":9512.988289637542},11415.58594756505,2014,"11","14","2014-11-14","Áno","Áno","Neurčené","Nie",null,"36 mesiacov","neurčené","neurčené","Zmluva 288_AT",null,null,null,null,null,{"$f":"VLOOKUP(M4289,Adresy!$A$4:$C$156,2,FALSE)","v":"Praha"},{"$f":"VLOOKUP(M4289,Adresy!$A$4:$C$156,3,FALSE)","v":"U Vojenské nemocnice 1/1200"},"M","2014M11",null,null,null,null,null,"Praha","U Vojenské nemocnice 1/1200",0,0,0,0]
["EEG systém",null,"systém pre záznam video EEG"," \"27 LCD monitor",null,null,"BrainScope",null,null,"M&I","bez položkovej identifikácie ceny (v rámci sumárnej ceny)",null,"Fakultní nemocnice u sv. Anny v Brně","ČR","M&I spol. s r.o.","14888891",null,null,null,{"$f":"IF(N4314=\"SR\",1,IF(AC4314=\"\",VLOOKUP(AW4314,'CZKEUR Xchange rate'!$D$13:$E$234,2,FALSE),VLOOKUP(AW4314,'CZKEUR Xchange rate'!$A$13:$B$234,2,FALSE)))","v":27.105},0,0,null,null,{"$f":"VLOOKUP(AW4314,'Cenové indexy '!$D$7:$E$200,2,FALSE)","v":100.07},{"$f":"W4314/Y4314*'Cenové indexy '!$E$149","v":0},0,2015,"10","09","2015-10-09","Áno","Áno","Neurčené","Nie",null,"36 mesiacov","neurčené","24 hodín","Zmluva 291_AT",null,null,null,null,null,{"$f":"VLOOKUP(M4314,Adresy!$A$4:$C$156,2,FALSE)","v":"Brno"},{"$f":"VLOOKUP(M4314,Adresy!$A$4:$C$156,3,FALSE)","v":"Pekařská 53"},"M","2015M10",null,null,null,null,null,"Brno","Pekařská 53",0,0,0,0]
["EEG systém",null,"stanica snímacia","SW simulačný",null,null,"neurčené",null,null,"neurčené","bez položkovej identifikácie ceny (v rámci sumárnej ceny)",null,"Fakultní nemocnice v Motole","ČR","MUDr. Pavel Čelakovský - lekárska elektronika","10174516",null,null,null,{"$f":"IF(N4339=\"SR\",1,IF(AC4339=\"\",VLOOKUP(AW4339,'CZKEUR Xchange rate'!$D$13:$E$234,2,FALSE),VLOOKUP(AW4339,'CZKEUR Xchange rate'!$A$13:$B$234,2,FALSE)))","v":27.64},0,0,null,null,{"$f":"VLOOKUP(AW4339,'Cenové indexy '!$D$7:$E$200,2,FALSE)","v":99.92},{"$f":"W4339/Y4339*'Cenové indexy '!$E$149","v":0},0,2014,"12","10","2014-12-10","Áno","Áno","Neurčené","Nie",null,"24 mesiacov","min. 5 rokov","48 hodín","Zmluva 293_AT",null,null,null,null,null,{"$f":"VLOOKUP(M4339,Adresy!$A$4:$C$156,2,FALSE)","v":"Praha"},{"$f":"VLOOKUP(M4339,Adresy!$A$4:$C$156,3,FALSE)","v":"V úvalu 84"},"M","2014M12",null,null,null,null,null,"Praha","V úvalu 84",0,0,0,0]
["EEG systém",null,"riadiaci systém EEG stanice","SW na snímanie, popis a archiváciu EEG (vrátane brainmappingu)","1 licencia",null,null,"TruScan 24 CL PRO CZ + SomniPro 19",null,"Alien Technik","bez položkovej identifikácie ceny (v rámci sumárnej ceny)",null,"Fakultní nemocnice Brno","ČR","Alien technik s.r.o.",25284584,null,null,null,{"$f":"IF(N4358=\"SR\",1,IF(AC4358=\"\",VLOOKUP(AW4358,'CZKEUR Xchange rate'!$D$13:$E$234,2,FALSE),VLOOKUP(AW4358,'CZKEUR Xchange rate'!$A$13:$B$234,2,FALSE)))","v":27.04},0,0,null,null,{"$f":"VLOOKUP(AW4358,'Cenové indexy '!$D$7:$E$200,2,FALSE)","v":100.83},{"$f":"W4358/Y4358*'Cenové indexy '!$E$149","v":0},0,2016,"02","11","2016-02-11","Áno","Áno","Neurčené","Nie",null,"24 mesiacov","neurčené","24 hodín","Zmluva 295_AT",null,null,null,null,null,{"$f":"VLOOKUP(M4358,Adresy!$A$4:$C$156,2,FALSE)","v":"Brno"},{"$f":"VLOOKUP(M4358,Adresy!$A$4:$C$156,3,FALSE)","v":"Jihlavská 340/20"},"M","2016M02",null,null,null,null,null,"Brno","Jihlavská 340/20",0,0,0,0]
["EEG systém",null,"riadiaci systém EEG stanice","SW na snímanie, popis a archiváciu EEG (vrátane brainmappingu)","1 licencia",null,null,"TruScan 24 CL PRO CZ ",null,"Alien Technik","bez položkovej identifikácie ceny (v rámci sumárnej ceny)",null,"Fakultní nemocnice Brno","ČR","Alien technik s.r.o.",25284584,null,null,null,{"$f":"IF(N4366=\"SR\",1,IF(AC4366=\"\",VLOOKUP(AW4366,'CZKEUR Xchange rate'!$D$13:$E$234,2,FALSE),VLOOKUP(AW4366,'CZKEUR Xchange rate'!$A$13:$B$234,2,FALSE)))","v":27.04},0,0,null,null,{"$f":"VLOOKUP(AW4366,'Cenové indexy '!$D$7:$E$200,2,FALSE)","v":100.83},{"$f":"W4366/Y4366*'Cenové indexy '!$E$149","v":0},0,2016,"02","11",{"$f":"DATE(AB4366,AC4366,AD4366)","v":"2016-02-11"},"Áno","Áno","Neurčené","Nie",null,"24 mesiacov","neurčené","24 hodín","Zmluva 295_AT",null,null,null,null,null,{"$f":"VLOOKUP(M4366,Adresy!$A$4:$C$156,2,FALSE)","v":"Brno"},{"$f":"VLOOKUP(M4366,Adresy!$A$4:$C$156,3,FALSE)","v":"Jihlavská 340/20"},"M","2016M02",null,null,null,null,null,"Brno","Jihlavská 340/20",0,0,0,0]
["separátor krvných zložiek",null,"sieťový kábel, držiak na ohrievač, zváračka s káblom",null,null,null,"Spectra Optia","Configuration kit 230V",null,"Terumo BCT","bez položkovej identifikácie ceny (v rámci sumárnej ceny)",null,"Ústav hematológie a krvnej transfúzie","ČR","Terumo BCT Europe N.V",413166055,3,null,null,{"$f":"IF(N4391=\"SR\",1,IF(AC4391=\"\",VLOOKUP(AW4391,'CZKEUR Xchange rate'!$D$13:$E$234,2,FALSE),VLOOKUP(AW4391,'CZKEUR Xchange rate'!$A$13:$B$234,2,FALSE)))","v":27.050999999999998},0,0,null,null,{"$f":"VLOOKUP(AW4391,'Cenové indexy '!$D$7:$E$200,2,FALSE)","v":101.08},{"$f":"W4391/Y4391*'Cenové indexy '!$E$149","v":0},0,2016,"03","10","2016-03-10","Áno","Áno","Neurčené","Nie",null,"24 mesiacov","min. 8 rokov","48 hodín","Zmluva 296_AT",null,null,null,null,null,{"$f":"VLOOKUP(M4391,Adresy!$A$4:$C$156,2,FALSE)","v":"Praha"},{"$f":"VLOOKUP(M4391,Adresy!$A$4:$C$156,3,FALSE)","v":"U Nemocnice 1"},"M","2016M03",null,null,null,null,null,"Praha","U Nemocnice 1",0,0,0,0]
["separátor krvných zložiek",null,"sieťový kábel, držiak na ohrievač, zváračka s káblom",null,null,null,"Spectra Optia","Configuration kit 230V",null,"Terumo BCT","bez položkovej identifikácie ceny (v rámci sumárnej ceny)",null,"Fakultní nemocnice Hradec Králové","ČR","Terumo BCT Europe N.V",413166055,null,null,null,{"$f":"IF(N4405=\"SR\",1,IF(AC4405=\"\",VLOOKUP(AW4405,'CZKEUR Xchange rate'!$D$13:$E$234,2,FALSE),VLOOKUP(AW4405,'CZKEUR Xchange rate'!$A$13:$B$234,2,FALSE)))","v":27.050999999999998},0,0,null,null,{"$f":"VLOOKUP(AW4405,'Cenové indexy '!$D$7:$E$200,2,FALSE)","v":101.08},{"$f":"W4405/Y4405*'Cenové indexy '!$E$149","v":0},0,2016,"03","01","2016-03-01","Áno","Áno","Neurčené","Nie",null,"24 mesiacov","neurčené","48 hodín","Zmluva 297_AT",null,null,null,null,null,{"$f":"VLOOKUP(M4405,Adresy!$A$4:$C$156,2,FALSE)","v":"Hradec Králové"},{"$f":"VLOOKUP(M4405,Adresy!$A$4:$C$156,3,FALSE)","v":"Sokolská 581"},"M","2016M03",null,null,null,null,null,"Hradec Králové","Sokolská 581",0,0,0,0]
["separátor krvných zložiek"," ","prístroj","protokoly pre deplečné procedúry  (leukocyty, trombocyty)"," ",null,"Spectra Optia",null,null,"Terumo BCT","bez položkovej identifikácie ceny (v rámci sumárnej ceny)",null,"Fakultní nemocnica Olomouc","ČR","Terumo BCT Europe N.V",413166055,1,null,null,{"$f":"IF(N4438=\"SR\",1,IF(AC4438=\"\",VLOOKUP(AW4438,'CZKEUR Xchange rate'!$D$13:$E$234,2,FALSE),VLOOKUP(AW4438,'CZKEUR Xchange rate'!$A$13:$B$234,2,FALSE)))","v":26.927},0,0,null,null,{"$f":"VLOOKUP(AW4438,'Cenové indexy '!$D$7:$E$200,2,FALSE)","v":99.45},{"$f":"W4438/Y4438*'Cenové indexy '!$E$149","v":0},0,2013,"11","07","2013-11-07","Áno","Áno","Neurčené","Nie",null,"24 mesiacov","neurčené","48 hodín","Zmluva NF_17",null,null,null,null,null,{"$f":"VLOOKUP(M4438,Adresy!$A$4:$C$156,2,FALSE)","v":"Olomouc"},{"$f":"VLOOKUP(M4438,Adresy!$A$4:$C$156,3,FALSE)","v":"I.P. Pavolva 185/6"},"M","2013M11",null,null,null,null,null,"Olomouc ","I.P. Pavlova 185/6",1,1,1,1]
["separátor krvných zložiek"," ","prístroj","protokoly pre liečebné erytrocytaferézy ",null,null,"Spectra Optia",null,null,"Terumo BCT","bez položkovej identifikácie ceny (v rámci sumárnej ceny)",null,"Fakultní nemocnice Plzeň","ČR","Terumo BCT Europe N.V",413166055,null,null,null,{"$f":"IF(N4459=\"SR\",1,IF(AC4459=\"\",VLOOKUP(AW4459,'CZKEUR Xchange rate'!$D$13:$E$234,2,FALSE),VLOOKUP(AW4459,'CZKEUR Xchange rate'!$A$13:$B$234,2,FALSE)))","v":27.061},0,0,null,null,{"$f":"VLOOKUP(AW4459,'Cenové indexy '!$D$7:$E$200,2,FALSE)","v":101.72},{"$f":"W4459/Y4459*'Cenové indexy '!$E$149","v":0},0,2016,"06","10","2016-06-10","Áno","Áno","Neurčené","Nie",null,"24 mesiacov","neurčené","48 hodín","Zmluva NF_19",null,null,null,null,null,{"$f":"VLOOKUP(M4459,Adresy!$A$4:$C$156,2,FALSE)","v":"Plzeň"},{"$f":"VLOOKUP(M4459,Adresy!$A$4:$C$156,3,FALSE)","v":"Dr. E. Beneše 1128/13"},"M","2016M06",null,null,null,null,null,"Plzeň ","Edvarda Beneše 1128/13",1,1,1,1]
["monitorovací systém",null," monitor vitálnych funkcií","meranie teploty",null,null,"ProCare B40",null,null,"GE","bez položkovej identifikácie ceny (v rámci sumárnej ceny)",null,"Nemocnica s poliklinikou Brezno, n.o.","SR","Messer Medical Home Care Slovakia s.r.o.",46378979,null,null,null,{"$f":"IF(N4473=\"SR\",1,IF(AC4473=\"\",VLOOKUP(AW4473,'CZKEUR Xchange rate'!$D$13:$E$234,2,FALSE),VLOOKUP(AW4473,'CZKEUR Xchange rate'!$A$13:$B$234,2,FALSE)))","v":1},0,0,null,null,{"$f":"VLOOKUP(AW4473,'Cenové indexy '!$D$7:$E$200,2,FALSE)","v":101.58},{"$f":"W4473/Y4473*'Cenové indexy '!$E$149","v":0},0,2016,"05","19","2016-05-19","Áno","Áno","na splátky","Nie",null,"36 mesiacov","neurčené","do 24 hodín","Zmluva 225_DG",null,null,null,null,null,{"$f":"VLOOKUP(M4473,Adresy!$A$4:$C$156,2,FALSE)","v":"Brezno"},{"$f":"VLOOKUP(M4473,Adresy!$A$4:$C$156,3,FALSE)","v":"Banisko 1"},"M","2016M05",null,null,null,null,null,"Brezno","Banisko 1",0,0,0,0]
["monitorovací systém",null," monitor vitálnych funkcií","súčasné zobrazenie kriviek",6,null," B40",null,null,"GE","bez položkovej identifikácie ceny (v rámci sumárnej ceny)",null,"Východoslovenský ústav srdcových a cievnych chorôb, a.s.","SR","Messer Medical Home Care Slovakia s.r.o.",46378979,null,null,null,{"$f":"IF(N4490=\"SR\",1,IF(AC4490=\"\",VLOOKUP(AW4490,'CZKEUR Xchange rate'!$D$13:$E$234,2,FALSE),VLOOKUP(AW4490,'CZKEUR Xchange rate'!$A$13:$B$234,2,FALSE)))","v":1},0,0,null,null,{"$f":"VLOOKUP(AW4490,'Cenové indexy '!$D$7:$E$200,2,FALSE)","v":99.87},{"$f":"W4490/Y4490*'Cenové indexy '!$E$149","v":0},0,2014,"08","11","2014-08-11","Áno","Áno","neurčené","Nie",null,"24 mesiacov","neurčené","do 24 hodín","Zmluva 227_DG",null,null,null,null,null,{"$f":"VLOOKUP(M4490,Adresy!$A$4:$C$156,2,FALSE)","v":"Košice"},{"$f":"VLOOKUP(M4490,Adresy!$A$4:$C$156,3,FALSE)","v":"Ondavská č.8"},"M","2014M08",null,null,null,null,null,"Košice","Ondavská č.8",0,0,0,0]
["monitorovací systém",null," monitor vitálnych funkcií","invazívny TK systolický, stredný, diastolický (2x vstup na meranie invazívnych tlakov)",null,null,"Procare B40",null,null,"GE","bez položkovej identifikácie ceny (v rámci sumárnej ceny)",null,"Detská fakultná nemocnica s poliklinikou Banská Bystrica","SR","Messer Medical Home Care Slovakia s.r.o.",46378979,null,null,null,{"$f":"IF(N4511=\"SR\",1,IF(AC4511=\"\",VLOOKUP(AW4511,'CZKEUR Xchange rate'!$D$13:$E$234,2,FALSE),VLOOKUP(AW4511,'CZKEUR Xchange rate'!$A$13:$B$234,2,FALSE)))","v":1},0,0,null,null,{"$f":"VLOOKUP(AW4511,'Cenové indexy '!$D$7:$E$200,2,FALSE)","v":100.03},{"$f":"W4511/Y4511*'Cenové indexy '!$E$149","v":0},0,2015,"03","11","2015-03-11","Áno","Áno","na splátky","Nie",null,"24 mesiacov","neurčené","do 48 hodín","Zmluva 228_DG",null,null,null,null,null,{"$f":"VLOOKUP(M4511,Adresy!$A$4:$C$156,2,FALSE)","v":"Banská Bystrica"},{"$f":"VLOOKUP(M4511,Adresy!$A$4:$C$156,3,FALSE)","v":"Námestie Ludvíka Svobodu 6818/4"},"M","2015M03",null,null,null,null,null,"Banská Bystrica","Námestie Ludvíka Svobodu 6818/4",0,0,0,0]
["monitorovací systém",null," monitor vitálnych funkcií","pulzná oxymetria",null,null,"B650","B650",null,"GE","bez položkovej identifikácie ceny (v rámci sumárnej ceny)",null,"Univerzitná nemocnica L. Pasteura Košice","SR","Messer Medical Home Care Slovakia s.r.o.",46378979,null,null,null,{"$f":"IF(N4541=\"SR\",1,IF(AC4541=\"\",VLOOKUP(AW4541,'CZKEUR Xchange rate'!$D$13:$E$234,2,FALSE),VLOOKUP(AW4541,'CZKEUR Xchange rate'!$A$13:$B$234,2,FALSE)))","v":1},0,0,null,null,{"$f":"VLOOKUP(AW4541,'Cenové indexy '!$D$7:$E$200,2,FALSE)","v":100.11},{"$f":"W4541/Y4541*'Cenové indexy '!$E$149","v":0},0,2015,"08","13","2015-08-13","Áno","Áno","neurčené","Nie",null,"24 mesiacov","neurčené","do 24 hodín","Zmluva 234_DG",null,null,null,null,null,{"$f":"VLOOKUP(M4541,Adresy!$A$4:$C$156,2,FALSE)","v":"Košice"},{"$f":"VLOOKUP(M4541,Adresy!$A$4:$C$156,3,FALSE)","v":"Trieda SNP 457/1"},"M","2015M08",null,null,null,null,null,"Košice","Trieda SNP 457/1",0,0,0,0]
["monitorovací systém",null,"modulárny monitor/defibrilátor/kardiostimulátor","Compact Flash karta","2 GB",null,null,"Corpuls 3",null,"GS Elektromedicinische Geraete GmbH.","položková cena (súčasť sumárnej ceny)",null,"Zdravotnícka záchranná služba Pardubického kraje, p.o.","ČR","CHEIRÓN a.s.",27094987,15,19312.11,23367.65,{"$f":"IF(N4558=\"SR\",1,IF(AC4558=\"\",VLOOKUP(AW4558,'CZKEUR Xchange rate'!$D$13:$E$234,2,FALSE),VLOOKUP(AW4558,'CZKEUR Xchange rate'!$A$13:$B$234,2,FALSE)))","v":27.041},714.17883953995783,864.15628120261829,47.611922635997189,57.610418746841219,{"$f":"VLOOKUP(AW4558,'Cenové indexy '!$D$7:$E$200,2,FALSE)","v":100.11},{"$f":"W4558/Y4558*'Cenové indexy '!$E$149","v":49.048222769457496},58.857867323348991,2015,"08","31","2015-08-31","Áno","Áno","EFRR","Nie",null,"24 mesiacov","neurčené","do 72 hodín","Zmluva 235_DG",null,"zlava 27,67%",null,null,null,{"$f":"VLOOKUP(M4558,Adresy!$A$4:$C$156,2,FALSE)","v":"Pardubice"},{"$f":"VLOOKUP(M4558,Adresy!$A$4:$C$156,3,FALSE)","v":"Průmyslová 450"},"M","2015M08",null,null,null,null,null,"Pardubice","Průmyslová 450",0,0,0,0]
["monitorovací systém",null," monitor vitálnych funkcií","monitor","TFT \"10,4",null,null,"ProCare B20",null,"GE","bez položkovej identifikácie ceny (v rámci sumárnej ceny)",null,"Fakultná nemocnica s poliklinkou Žilina","SR","Messer Medical Home Care Slovakia s.r.o.",46378979,null,null,null,{"$f":"IF(N4583=\"SR\",1,IF(AC4583=\"\",VLOOKUP(AW4583,'CZKEUR Xchange rate'!$D$13:$E$234,2,FALSE),VLOOKUP(AW4583,'CZKEUR Xchange rate'!$A$13:$B$234,2,FALSE)))","v":1},0,0,null,null,{"$f":"VLOOKUP(AW4583,'Cenové indexy '!$D$7:$E$200,2,FALSE)","v":100.71},{"$f":"W4583/Y4583*'Cenové indexy '!$E$149","v":0},0,2016,"01","29","2016-01-29","Áno","Áno","neurčené","Nie",null,"24 mesiacov","neurčené","do 48 hodín","Zmluva 232_AT",null,null,null,null,null,{"$f":"VLOOKUP(M4583,Adresy!$A$4:$C$156,2,FALSE)","v":"Žilina"},{"$f":"VLOOKUP(M4583,Adresy!$A$4:$C$156,3,FALSE)","v":"Vojtecha Spanyola 43"},"M","2016M01",null,null,null,null,null,"Žilina","Vojtecha Spanyola 43",0,0,0,0]
["monitorovací systém",null," monitor vitálnych funkcií","NIBP",null,null,null,"ProCare B20",null,"GE","bez položkovej identifikácie ceny (v rámci sumárnej ceny)",null,"Fakultná nemocnica s poliklinkou Žilina","SR","Messer Medical Home Care Slovakia s.r.o.",46378979,null,null,null,{"$f":"IF(N4588=\"SR\",1,IF(AC4588=\"\",VLOOKUP(AW4588,'CZKEUR Xchange rate'!$D$13:$E$234,2,FALSE),VLOOKUP(AW4588,'CZKEUR Xchange rate'!$A$13:$B$234,2,FALSE)))","v":1},0,0,null,null,{"$f":"VLOOKUP(AW4588,'Cenové indexy '!$D$7:$E$200,2,FALSE)","v":100.71},{"$f":"W4588/Y4588*'Cenové indexy '!$E$149","v":0},0,2016,"01","29","2016-01-29","Áno","Áno","neurčené","Nie",null,"24 mesiacov","neurčené","do 48 hodín","Zmluva 232_AT",null,null,null,null,null,{"$f":"VLOOKUP(M4588,Adresy!$A$4:$C$156,2,FALSE)","v":"Žilina"},{"$f":"VLOOKUP(M4588,Adresy!$A$4:$C$156,3,FALSE)","v":"Vojtecha Spanyola 43"},"M","2016M01",null,null,null,null,null,"Žilina","Vojtecha Spanyola 43",0,0,0,0]
["monitorovací systém",null,"batéria",null,null,null,"BSM 2301K","X062",null,"Nihon Kohden","položková cena (súčasť sumárnej ceny)",null,"Fakultná nemocnica Trenčín","SR","A.M.I. SLOVAKIA s.r.o.",44792301,7,1750,2100,{"$f":"IF(N4610=\"SR\",1,IF(AC4610=\"\",VLOOKUP(AW4610,'CZKEUR Xchange rate'!$D$13:$E$234,2,FALSE),VLOOKUP(AW4610,'CZKEUR Xchange rate'!$A$13:$B$234,2,FALSE)))","v":1},1750,2100,{"$f":"U4610/Q4610","v":250},{"$f":"V4610/Q4610","v":300},{"$f":"VLOOKUP(AW4610,'Cenové indexy '!$D$7:$E$200,2,FALSE)","v":92.25},{"$f":"W4610/Y4610*'Cenové indexy '!$E$149","v":279.48509485094849},{"$f":"Z4610*1.2","v":335.38211382113815},2011,"11","21","2011-11-21","Áno","Áno","Neurčené","Nie",null,"24 mesiacov","neurčené","do 24 hodín","Zmluva 235_AT",null,null,null,null,null,{"$f":"VLOOKUP(M4610,Adresy!$A$4:$C$156,2,FALSE)","v":"Trenčín"},{"$f":"VLOOKUP(M4610,Adresy!$A$4:$C$156,3,FALSE)","v":"Legionárska 594/2"},"M","2011M11",null,null,null,null,null,"Trenčín","Legionárska 594/2",{"$f":"IF(BC4610<>AT4610,1,0)","v":0},0,0,0]
["monitorovací systém",null,"centrálna stanica",null,null,null,"Carescape central station","Carescape central station",null,"GE","sumárna cena","HW/SW","Thomayerova nemocnice","ČR","Medisap s.r.o.",48029360,1,320000,null,{"$f":"IF(N4635=\"SR\",1,IF(AC4635=\"\",VLOOKUP(AW4635,'CZKEUR Xchange rate'!$D$13:$E$234,2,FALSE),VLOOKUP(AW4635,'CZKEUR Xchange rate'!$A$13:$B$234,2,FALSE)))","v":27.030999999999999},11838.259775812956,0,11838.259775812956,null,{"$f":"VLOOKUP(AW4635,'Cenové indexy '!$D$7:$E$200,2,FALSE)","v":101.44},{"$f":"W4635/Y4635*'Cenové indexy '!$E$149","v":12035.486304018041},14442.583564821649,2016,"04","05","2016-04-05","Áno","Áno","Neurčené","Nie",null,"24 mesiacov","neurčené","do 24 hodín","Zmluva 237_AT",null,null,null,null,null,{"$f":"VLOOKUP(M4635,Adresy!$A$4:$C$156,2,FALSE)","v":"Praha"},{"$f":"VLOOKUP(M4635,Adresy!$A$4:$C$156,3,FALSE)","v":"Vídeňská 800"},"M","2016M04",null,null,null,null,null,"Praha","Viedenská 800",0,1,0,1]
["parný sterilizátor",null,"objem komory",null,"453 litrov",null,"Sterivap 669-2",null,null,"BMT","bez položkovej identifikácie ceny (v rámci sumárnej ceny)","HW","Stredoslovenský ústav srdcových a cievnych chorôb, a.s.","SR","BMT s.r.o.",31444571,null,null,null,{"$f":"IF(N4656=\"SR\",1,IF(AC4656=\"\",VLOOKUP(AW4656,'CZKEUR Xchange rate'!$D$13:$E$234,2,FALSE),VLOOKUP(AW4656,'CZKEUR Xchange rate'!$A$13:$B$234,2,FALSE)))","v":1},0,0,null,null,{"$f":"VLOOKUP(AW4656,'Cenové indexy '!$D$7:$E$200,2,FALSE)","v":99.82},{"$f":"W4656/Y4656*'Cenové indexy '!$E$149","v":0},0,2015,"05","23","2015-05-23","Áno","Áno","Neurčené","Nie",null,"neurčené","neurčené","neurčené","Zmluva 50_DG",null,null,null,null,null,{"$f":"VLOOKUP(M4656,Adresy!$A$4:$C$156,2,FALSE)","v":"Banská Bystrica"},{"$f":"VLOOKUP(M4656,Adresy!$A$4:$C$156,3,FALSE)","v":"Cesta k nemocnici 622/1"},"M","2015M05",null,null,null,null,null,"Banská Bystrica","Cesta k nemocnici 622/1",0,0,0,0]
["parný sterilizátor",null,"celá zostava",null,null,null,"Sterivap 6612-2","Sterivap 6612-2",null,"BMT","sumárna cena","HW","Univerzitná nemocnica L. Pasteura Košice","SR","BMT s.r.o.",31444571,1,{"$f":"SUBTOTAL(9,R4683:R4686)","v":92876},{"$f":"SUBTOTAL(9,S4683:S4686)","v":111451.2},{"$f":"IF(N4682=\"SR\",1,IF(AC4682=\"\",VLOOKUP(AW4682,'CZKEUR Xchange rate'!$D$13:$E$234,2,FALSE),VLOOKUP(AW4682,'CZKEUR Xchange rate'!$A$13:$B$234,2,FALSE)))","v":1},92876,111451.2,91076,109291.2,{"$f":"VLOOKUP(AW4682,'Cenové indexy '!$D$7:$E$200,2,FALSE)","v":99.86},{"$f":"W4682/Y4682*'Cenové indexy '!$E$149","v":94058.360504706594},112870.03260564791,2015,"01","16","2015-01-16","Áno","Áno","Neurčené","Áno",null,"24 mesiacov","neurčené","24 hodín","Zmluva 55_AT",null,null,null,null,null,{"$f":"VLOOKUP(M4682,Adresy!$A$4:$C$156,2,FALSE)","v":"Košice"},{"$f":"VLOOKUP(M4682,Adresy!$A$4:$C$156,3,FALSE)","v":"Trieda SNP 457/1"},"M","2015M01",null,null,null,null,null,"Košice","Trieda SNP 457/1",0,0,0,0]
["parný sterilizátor",null,"celá zostava",null,null,null,"Unisteri HP 636-1","Unisteri HP 636-1",null,"BMT","sumárna cena","HW","Fakultná nemocnica Trenčín","SR","BMT s.r.o.",31444571,1,44754,53704.800000000003,{"$f":"IF(N4707=\"SR\",1,IF(AC4707=\"\",VLOOKUP(AW4707,'CZKEUR Xchange rate'!$D$13:$E$234,2,FALSE),VLOOKUP(AW4707,'CZKEUR Xchange rate'!$A$13:$B$234,2,FALSE)))","v":1},44754,53704.800000000003,{"$f":"U4707/Q4707","v":44754},{"$f":"V4707/Q4707","v":53704.800000000003},{"$f":"VLOOKUP(AW4707,'Cenové indexy '!$D$7:$E$200,2,FALSE)","v":99.95},{"$f":"W4707/Y4707*'Cenové indexy '!$E$149","v":46177.889144572284},55413.466973486742,2015,"07","21","2015-07-21","Áno","Áno","Neurčené","Nie",null,"24 mesiacov","predmetom bud.zmluvy","neurčené","Zmluva 57_AT",null,null,null,null,null,{"$f":"VLOOKUP(M4707,Adresy!$A$4:$C$156,2,FALSE)","v":"Trenčín"},{"$f":"VLOOKUP(M4707,Adresy!$A$4:$C$156,3,FALSE)","v":"Legionárska 594/2"},"M","2015M07",null,null,null,null,null,"Trenčín","Legionárska 594/2",0,0,0,0]
["parný sterilizátor",null,"sterilizačný kôš",null,"1 ks",null,"Unisteri HP 336-1",null,null,"BMT","bez položkovej identifikácie ceny (v rámci sumárnej ceny)","HW","Nemocnica s poliklinikou Považská Bystrica","SR","BMT s.r.o.",31444571,1,null,null,{"$f":"IF(N4728=\"SR\",1,IF(AC4728=\"\",VLOOKUP(AW4728,'CZKEUR Xchange rate'!$D$13:$E$234,2,FALSE),VLOOKUP(AW4728,'CZKEUR Xchange rate'!$A$13:$B$234,2,FALSE)))","v":1},0,0,null,null,{"$f":"VLOOKUP(AW4728,'Cenové indexy '!$D$7:$E$200,2,FALSE)","v":99.3},{"$f":"W4728/Y4728*'Cenové indexy '!$E$149","v":0},0,2012,"11","06","2012-11-06","Áno","Áno","Neurčené","Nie",null,"24 mesiacov","predmetom bud.zmluvy","24 hodín","Zmluva 59_AT",null,null,null,null,null,{"$f":"VLOOKUP(M4728,Adresy!$A$4:$C$156,2,FALSE)","v":"Považská Bystrica"},{"$f":"VLOOKUP(M4728,Adresy!$A$4:$C$156,3,FALSE)","v":"Nemocničná"},"M","2012M11",null,null,null,null,null,"Považská Bystrica","Nemocničná",0,0,0,0]
["parný sterilizátor",null,"celá zostava",null,null,null,"Unisteri HP 336-2 ED","Unisteri HP 336-2 ED",null,"BMT","sumárna cena","HW","Fakultní nemocnice Hradec Králové","ČR","BMT Medical Technology s.r.o",46346996,1,529000,640090,{"$f":"IF(N4734=\"SR\",1,IF(AC4734=\"\",VLOOKUP(AW4734,'CZKEUR Xchange rate'!$D$13:$E$234,2,FALSE),VLOOKUP(AW4734,'CZKEUR Xchange rate'!$A$13:$B$234,2,FALSE)))","v":27.379000000000001},19321.377698235872,23378.867014865406,19321.377698235872,23378.867014865406,{"$f":"VLOOKUP(AW4734,'Cenové indexy '!$D$7:$E$200,2,FALSE)","v":100.03},{"$f":"W4734/Y4734*'Cenové indexy '!$E$149","v":19920.160771959065},23904.192926350875,2015,"03","06","2015-03-06","Áno","Áno","Neurčené","Áno",null,"24 mesiacov","predmetom bud.zmluvy","48 hodín","Zmluva 61_AT",null,null,null,null,null,{"$f":"VLOOKUP(M4734,Adresy!$A$4:$C$156,2,FALSE)","v":"Hradec Králové"},{"$f":"VLOOKUP(M4734,Adresy!$A$4:$C$156,3,FALSE)","v":"Sokolská 581"},"M","2015M03",null,null,null,null,null,"Hradec Králové","Sokolská 581",0,0,0,0]
["parný sterilizátor",null,"sterilizačný prístroj",null,"1 ks",null,"Sterivap 6612-2",null,null,"BMT","položková cena (súčasť sumárnej ceny)","HW","Fakultná nemocnica s poliklinikou J.A.Reimana Prešov","SR","BMT s.r.o.",31444571,1,79093.17,94911.8,{"$f":"IF(N4759=\"SR\",1,IF(AC4759=\"\",VLOOKUP(AW4759,'CZKEUR Xchange rate'!$D$13:$E$234,2,FALSE),VLOOKUP(AW4759,'CZKEUR Xchange rate'!$A$13:$B$234,2,FALSE)))","v":1},79093.17,94911.8,79093.17,94911.8,{"$f":"VLOOKUP(AW4759,'Cenové indexy '!$D$7:$E$200,2,FALSE)","v":99.82},{"$f":"W4759/Y4759*'Cenové indexy '!$E$149","v":81715.874795632131},98059.049754758555,2015,"05","06","2015-05-06","Áno","Áno","Neurčené","Nie",null,"neurčené","neurčené","neurčené","Zmluva 54 _DG",null,null,null,null,null,{"$f":"VLOOKUP(M4759,Adresy!$A$4:$C$156,2,FALSE)","v":"Prešov"},{"$f":"VLOOKUP(M4759,Adresy!$A$4:$C$156,3,FALSE)","v":"Jána Hollého"},"M","2015M05",null,null,null,null,null,"Prešov","Jána Hollého",0,0,0,0]
["parný sterilizátor",null,"sterilizačný prístroj",null,null,null,"Unisteri HP 336-2","Unisteri HP 336-2",null,"BMT","bez položkovej identifikácie ceny (v rámci sumárnej ceny)","HW","Špecializovaná nemocnica sv. Svorada Zobor, n.o.","SR","BMT s.r.o.",31444571,null,null,null,{"$f":"IF(N4775=\"SR\",1,IF(AC4775=\"\",VLOOKUP(AW4775,'CZKEUR Xchange rate'!$D$13:$E$234,2,FALSE),VLOOKUP(AW4775,'CZKEUR Xchange rate'!$A$13:$B$234,2,FALSE)))","v":1},0,0,null,null,{"$f":"VLOOKUP(AW4775,'Cenové indexy '!$D$7:$E$200,2,FALSE)","v":{"$error":"#N/A"}},{"$f":"W4775/Y4775*'Cenové indexy '!$E$149","v":{"$error":"#N/A"}},{"$error":"#N/A"},"Neuvedené","Neuvedené","Neuvedené",{"$error":"#VALUE!"},"Áno","Áno","Neurčené","Nie",null,"36 mesiacov","neurčené","72 hodín","Zmluva 56_DG",null,null,null,null,null,{"$f":"VLOOKUP(M4775,Adresy!$A$4:$C$156,2,FALSE)","v":"Nitra"},{"$f":"VLOOKUP(M4775,Adresy!$A$4:$C$156,3,FALSE)","v":"Kláštorská 134"},"M","NeuvedenéMNeuvedené",null,null,null,null,null,"Nitra","Kláštorská 134",0,0,0,0]
["parný sterilizátor",null,"sterilizačné jednotky",null,"3 ks",null,"neurčené",null,null,"neurčené","bez položkovej identifikácie ceny (v rámci sumárnej ceny)",null,"Nemocnica s poliklinikou, n.o. Revúca","SR","INTERTEC s.r.o.","00692972",null,null,null,{"$f":"IF(N4806=\"SR\",1,IF(AC4806=\"\",VLOOKUP(AW4806,'CZKEUR Xchange rate'!$D$13:$E$234,2,FALSE),VLOOKUP(AW4806,'CZKEUR Xchange rate'!$A$13:$B$234,2,FALSE)))","v":1},0,0,null,null,{"$f":"VLOOKUP(AW4806,'Cenové indexy '!$D$7:$E$200,2,FALSE)","v":100.14},{"$f":"W4806/Y4806*'Cenové indexy '!$E$149","v":0},0,2015,"11","12","2015-11-12","Áno","Áno","Neurčené","Nie",null,"24 mesiacov","neurčené","48 hodín","Zmluva 303 _AT",null,null,null,null,null,{"$f":"VLOOKUP(M4806,Adresy!$A$4:$C$156,2,FALSE)","v":"Revúca"},{"$f":"VLOOKUP(M4806,Adresy!$A$4:$C$156,3,FALSE)","v":"Litovelská 25,"},"M","2015M11",null,null,null,null,null,"Revúca","Litovelská 25,",0,0,0,0]
["laser pre oftalmológiu",null,"laserový prístroj","plne integrovaný do štrbinovej lampy bez externých káblov "," ",null,"YAG Laser  Ultra Q ","Ultra Q ","laserový prístroj k operácii glaukómu a sekundárnej katarakty","ELLEX","bez položkovej identifikácie ceny (v rámci sumárnej ceny)","HW/SW","Fakultná nemocnica Trenčín","ČR","CMI s.r.o.",35733853,1,null,null,{"$f":"IF(N4811=\"SR\",1,IF(AC4811=\"\",VLOOKUP(AW4811,'CZKEUR Xchange rate'!$D$13:$E$234,2,FALSE),VLOOKUP(AW4811,'CZKEUR Xchange rate'!$A$13:$B$234,2,FALSE)))","v":25.463999999999999},0,0,null,null,{"$f":"VLOOKUP(AW4811,'Cenové indexy '!$D$7:$E$200,2,FALSE)","v":92.25},{"$f":"W4811/Y4811*'Cenové indexy '!$E$149","v":0},0,2011,"11","03","2011-11-03","Áno","Áno","Neurčené","Nie",null,"24 mesiacov","neurčené","neurčené","Zmluva  NF_20",null,null,null,null,null,{"$f":"VLOOKUP(M4811,Adresy!$A$4:$C$156,2,FALSE)","v":"Trenčín"},{"$f":"VLOOKUP(M4811,Adresy!$A$4:$C$156,3,FALSE)","v":"Legionárska 594/2"},"M","2011M11",null,null,null,null,null,"Trenčín","Legionárska 594/2",0,0,0,0]
["fundus kamera",null,"archivácia snímkov","DVD/CD",null,null,"FF 450+ IR",null,null,"Carl Zeiss","bez položkovej identifikácie ceny (v rámci sumárnej ceny)",null,"Fakultní nemocnice Brno","ČR","První chráněná dílna",28685521,null,null,null,{"$f":"IF(N4843=\"SR\",1,IF(AC4843=\"\",VLOOKUP(AW4843,'CZKEUR Xchange rate'!$D$13:$E$234,2,FALSE),VLOOKUP(AW4843,'CZKEUR Xchange rate'!$A$13:$B$234,2,FALSE)))","v":27.026},0,0,null,null,{"$f":"VLOOKUP(AW4843,'Cenové indexy '!$D$7:$E$200,2,FALSE)","v":101.58},{"$f":"W4843/Y4843*'Cenové indexy '!$E$149","v":0},0,2016,"05","04","2016-05-04","Áno","Áno","na splátky","Nie",null,"24 mesiacov","neurčené","24 hodín","Zmluva 309_AT",null,null,null,null,null,{"$f":"VLOOKUP(M4843,Adresy!$A$4:$C$156,2,FALSE)","v":"Brno"},{"$f":"VLOOKUP(M4843,Adresy!$A$4:$C$156,3,FALSE)","v":"Jihlavská 340/20"},"M","2016M05",null,null,null,null,null,"Brno","Jihlavská 340/20",0,0,0,0]
["fundus kamera",null,"archivácia snímkov","DVD/CD",null,null,"FF 450+ ",null,null,"Carl Zeiss","bez položkovej identifikácie ceny (v rámci sumárnej ceny)",null,"Nemocnice s poliklinikou Karviná","ČR","Carl Zeiss s.r.o.",49356691,null,null,null,{"$f":"IF(N4858=\"SR\",1,IF(AC4858=\"\",VLOOKUP(AW4858,'CZKEUR Xchange rate'!$D$13:$E$234,2,FALSE),VLOOKUP(AW4858,'CZKEUR Xchange rate'!$A$13:$B$234,2,FALSE)))","v":25.042000000000002},0,0,null,null,{"$f":"VLOOKUP(AW4858,'Cenové indexy '!$D$7:$E$200,2,FALSE)","v":92.95},{"$f":"W4858/Y4858*'Cenové indexy '!$E$149","v":0},0,2012,"02","05","2012-02-05","Áno","Áno","Neurčené","Áno",null,"36 mesiacov","neurčené","48 hodín","Zmluva 310_AT",null,null,null,null,null,{"$f":"VLOOKUP(M4858,Adresy!$A$4:$C$156,2,FALSE)","v":"Karviná"},{"$f":"VLOOKUP(M4858,Adresy!$A$4:$C$156,3,FALSE)","v":"Vydmuchov 399/5"},"M","2012M02",null,null,null,null,null,"Karviná","Vydmuchov 399/5",0,0,0,0]
["fundus kamera",null,"uhol snímania dosiahnutý pri dvojnásobnom digitálnom zoome"," ","30 stupňov ",null,"neurčené","neurčené",null,"neurčené","bez položkovej identifikácie ceny (v rámci sumárnej ceny)","HW/SW","Ústredná vojenská nemocnica SNP Ružomberok","SR","CMI s.r.o.",35733853,null,null,null,{"$f":"IF(N4879=\"SR\",1,IF(AC4879=\"\",VLOOKUP(AW4879,'CZKEUR Xchange rate'!$D$13:$E$234,2,FALSE),VLOOKUP(AW4879,'CZKEUR Xchange rate'!$A$13:$B$234,2,FALSE)))","v":1},0,0,null,null,{"$f":"VLOOKUP(AW4879,'Cenové indexy '!$D$7:$E$200,2,FALSE)","v":99.95},{"$f":"W4879/Y4879*'Cenové indexy '!$E$149","v":0},0,2015,"07","08","2015-07-08","Áno","Áno","Neurčené","Nie",null,"neurčené","neurčené","neurčené","Zmluva NF_31",null,null,null,null,null,{"$f":"VLOOKUP(M4879,Adresy!$A$4:$C$156,2,FALSE)","v":"Ružomberok"},{"$f":"VLOOKUP(M4879,Adresy!$A$4:$C$156,3,FALSE)","v":"Generála Miloša Vesela 21"},"M","2015M07",null,null,null,null,null,"Ružomberok","Generála Miloša Vesela 21",0,0,0,0]
["operačný stôl","elektromechanický ","elektromechanický operačný stôl","podložky dolných končatín",null,null,"OTESUS 1160","115053DC",null,"MAQUET","položková cena (súčasť sumárnej ceny)",null,"Fakultní nemocnice u sv. Anny v Brně","ČR","MAQUET Czech Republic s.r .o","03053601",1,69221.25,83757.710000000006,{"$f":"IF(N4911=\"SR\",1,IF(AC4911=\"\",VLOOKUP(AW4911,'CZKEUR Xchange rate'!$D$13:$E$234,2,FALSE),VLOOKUP(AW4911,'CZKEUR Xchange rate'!$A$13:$B$234,2,FALSE)))","v":27.105},2553.8184836745986,3090.1202730123596,2553.8184836745986,3090.1202730123596,{"$f":"VLOOKUP(AW4911,'Cenové indexy '!$D$7:$E$200,2,FALSE)","v":100.07},{"$f":"W4911/Y4911*'Cenové indexy '!$E$149","v":2631.9106647482899},3158.2927976979477,2015,"10","19","2015-10-19","Áno","Áno","zo ŠR","Áno",null,"24 mesiacov","neurčené","48 hodín","Zmluva 314_AT",null,null,null,null,null,{"$f":"VLOOKUP(M4911,Adresy!$A$4:$C$156,2,FALSE)","v":"Brno"},{"$f":"VLOOKUP(M4911,Adresy!$A$4:$C$156,3,FALSE)","v":"Pekařská 53"},"M","2015M10",null,null,null,null,null,{"$f":"VLOOKUP(M4911,Adresy!$A$3:$C$122,2,FALSE)","v":"Brno"},{"$f":"VLOOKUP(M4911,Adresy!$A$3:$C$122,3,FALSE)","v":"Pekařská 53"},0,0,0,0]
["operačný stôl","elektromechanický ","elektromechanický operačný stôl","dobíjacia stanica pre IR diaľkový ovládač",null,null,"OTESUS 1160","100970A0",null,"MAQUET","položková cena (súčasť sumárnej ceny)",null,"Fakultní nemocnice u sv. Anny v Brně","ČR","MAQUET Czech Republic s.r .o","03053601",1,8731.4,10564.99,{"$f":"IF(N4930=\"SR\",1,IF(AC4930=\"\",VLOOKUP(AW4930,'CZKEUR Xchange rate'!$D$13:$E$234,2,FALSE),VLOOKUP(AW4930,'CZKEUR Xchange rate'!$A$13:$B$234,2,FALSE)))","v":27.105},322.13244788784357,389.78011437004244,{"$f":"U4930/Q4930","v":322.13244788784357},{"$f":"V4930/Q4930","v":389.78011437004244},{"$f":"VLOOKUP(AW4930,'Cenové indexy '!$D$7:$E$200,2,FALSE)","v":100.07},{"$f":"W4930/Y4930*'Cenové indexy '!$E$149","v":331.9828055428531},{"$f":"Z4930*1.2","v":398.37936665142371},2015,"10","19","2015-10-19","Áno","Áno","zo ŠR","Áno",null,"24 mesiacov","neurčené","48 hodín","Zmluva 314_AT",null,null,null,null,null,{"$f":"VLOOKUP(M4930,Adresy!$A$4:$C$156,2,FALSE)","v":"Brno"},{"$f":"VLOOKUP(M4930,Adresy!$A$4:$C$156,3,FALSE)","v":"Pekařská 53"},"M","2015M10",null,null,null,null,null,{"$f":"VLOOKUP(M4930,Adresy!$A$3:$C$122,2,FALSE)","v":"Brno"},{"$f":"VLOOKUP(M4930,Adresy!$A$3:$C$122,3,FALSE)","v":"Pekařská 53"},{"$f":"IF(BC4930<>AT4930,1,0)","v":0},0,0,0]
["operačný stôl","elektromechanický ","elektromechanický operačný stôl","transportér pre operačné dosky",null,null,"OTESUS 1160","116060A0",null,"MAQUET","položková cena (súčasť sumárnej ceny)",null,"Fakultní nemocnice u sv. Anny v Brně","ČR","MAQUET Czech Republic s.r .o","03053601",1,92954.25,112474.64,{"$f":"IF(N4951=\"SR\",1,IF(AC4951=\"\",VLOOKUP(AW4951,'CZKEUR Xchange rate'!$D$13:$E$234,2,FALSE),VLOOKUP(AW4951,'CZKEUR Xchange rate'!$A$13:$B$234,2,FALSE)))","v":27.105},3429.4133923630325,4149.590112525364,3429.4133923630325,4149.590112525364,{"$f":"VLOOKUP(AW4951,'Cenové indexy '!$D$7:$E$200,2,FALSE)","v":100.07},{"$f":"W4951/Y4951*'Cenové indexy '!$E$149","v":3534.2800355191321},4241.1360426229585,2015,"10","19","2015-10-19","Áno","Áno","zo ŠR","Áno",null,"24 mesiacov","neurčené","48 hodín","Zmluva 314_AT",null,null,null,null,null,{"$f":"VLOOKUP(M4951,Adresy!$A$4:$C$156,2,FALSE)","v":"Brno"},{"$f":"VLOOKUP(M4951,Adresy!$A$4:$C$156,3,FALSE)","v":"Pekařská 53"},"M","2015M10",null,null,null,null,null,{"$f":"VLOOKUP(M4951,Adresy!$A$3:$C$122,2,FALSE)","v":"Brno"},{"$f":"VLOOKUP(M4951,Adresy!$A$3:$C$122,3,FALSE)","v":"Pekařská 53"},0,0,0,0]
["operačný stôl","elektromechanický ","elektromechanický operačný stôl","podložka paže pre infúziu",null,null,"OTESUS 1160","100144D0",null,"MAQUET","položková cena (súčasť sumárnej ceny)",null,"Fakultní nemocnice u sv. Anny v Brně","ČR","MAQUET Czech Republic s.r .o","03053601",1,26926.7,32581.3,{"$f":"IF(N4958=\"SR\",1,IF(AC4958=\"\",VLOOKUP(AW4958,'CZKEUR Xchange rate'!$D$13:$E$234,2,FALSE),VLOOKUP(AW4958,'CZKEUR Xchange rate'!$A$13:$B$234,2,FALSE)))","v":27.105},993.42187788230956,1202.0402139826599,993.42187788230956,1202.0402139826599,{"$f":"VLOOKUP(AW4958,'Cenové indexy '!$D$7:$E$200,2,FALSE)","v":100.07},{"$f":"W4958/Y4958*'Cenové indexy '!$E$149","v":1023.7993231338322},1228.5591877605987,2015,"10","19","2015-10-19","Áno","Áno","zo ŠR","Áno",null,"24 mesiacov","neurčené","48 hodín","Zmluva 314_AT",null,null,null,null,null,{"$f":"VLOOKUP(M4958,Adresy!$A$4:$C$156,2,FALSE)","v":"Brno"},{"$f":"VLOOKUP(M4958,Adresy!$A$4:$C$156,3,FALSE)","v":"Pekařská 53"},"M","2015M10",null,null,null,null,null,{"$f":"VLOOKUP(M4958,Adresy!$A$3:$C$122,2,FALSE)","v":"Brno"},{"$f":"VLOOKUP(M4958,Adresy!$A$3:$C$122,3,FALSE)","v":"Pekařská 53"},0,0,0,0]
["operačný stôl","elektromechanický ","celá zostava","celá zostava",null,null,"OTESUS 1160","OTESUS 1160","pre traumatológiu ","MAQUET","sumárna cena","HW","Fakultní nemocnice u sv. Anny v Brně","ČR","MAQUET Czech Republic s.r .o","03053601",1,1666488.78,{"$f":"R4978*1.2","v":1999786.5359999998},{"$f":"IF(N4978=\"SR\",1,IF(AC4978=\"\",VLOOKUP(AW4978,'CZKEUR Xchange rate'!$D$13:$E$234,2,FALSE),VLOOKUP(AW4978,'CZKEUR Xchange rate'!$A$13:$B$234,2,FALSE)))","v":27.105},61482.70724958495,73779.248699501928,61482.70724958495,73779.248699501928,{"$f":"VLOOKUP(AW4978,'Cenové indexy '!$D$7:$E$200,2,FALSE)","v":100.07},{"$f":"W4978/Y4978*'Cenové indexy '!$E$149","v":63362.762053059821},76035.314463671777,2015,"10","19","2015-10-19","Áno","Áno","zo ŠR","Áno",null,"24 mesiacov","neurčené","48 hodín","Zmluva 314_AT",null,null,null,null,null,{"$f":"VLOOKUP(M4978,Adresy!$A$4:$C$156,2,FALSE)","v":"Brno"},{"$f":"VLOOKUP(M4978,Adresy!$A$4:$C$156,3,FALSE)","v":"Pekařská 53"},"M","2015M10",null,null,null,null,null,{"$f":"VLOOKUP(M4978,Adresy!$A$3:$C$122,2,FALSE)","v":"Brno"},{"$f":"VLOOKUP(M4978,Adresy!$A$3:$C$122,3,FALSE)","v":"Pekařská 53"},0,0,0,0]
["operačný stôl","elektromechanický ","elektromechanický operačný stôl","laterálna ochrana",null,null,"OTESUS 1160","100415A0",null,"MAQUET","položková cena (súčasť sumárnej ceny)",null,"Fakultní nemocnice u sv. Anny v Brně","ČR","MAQUET Czech Republic s.r .o","03053601",1,26428.6,31978.61,{"$f":"IF(N5003=\"SR\",1,IF(AC5003=\"\",VLOOKUP(AW5003,'CZKEUR Xchange rate'!$D$13:$E$234,2,FALSE),VLOOKUP(AW5003,'CZKEUR Xchange rate'!$A$13:$B$234,2,FALSE)))","v":27.105},975.04519461353982,1179.8048330566317,975.04519461353982,1179.8048330566317,{"$f":"VLOOKUP(AW5003,'Cenové indexy '!$D$7:$E$200,2,FALSE)","v":100.07},{"$f":"W5003/Y5003*'Cenové indexy '!$E$149","v":1004.8607067102464},1205.8328480522957,2015,"10","19","2015-10-19","Áno","Áno","zo ŠR","Áno",null,"24 mesiacov","neurčené","48 hodín","Zmluva 314_AT",null,null,null,null,null,{"$f":"VLOOKUP(M5003,Adresy!$A$4:$C$156,2,FALSE)","v":"Brno"},{"$f":"VLOOKUP(M5003,Adresy!$A$4:$C$156,3,FALSE)","v":"Pekařská 53"},"M","2015M10",null,null,null,null,null,{"$f":"VLOOKUP(M5003,Adresy!$A$3:$C$122,2,FALSE)","v":"Brno"},{"$f":"VLOOKUP(M5003,Adresy!$A$3:$C$122,3,FALSE)","v":"Pekařská 53"},0,0,0,0]
["operačný stôl","elektromechanický ","elektromechanický operačný stôl","základ operačnej dosky",null,null,"OTESUS 1160","115030D0",null,"MAQUET","položková cena (súčasť sumárnej ceny)",null,"Fakultní nemocnice u sv. Anny v Brně","ČR","MAQUET Czech Republic s.r .o","03053601",1,262078.25,317114.68,{"$f":"IF(N5026=\"SR\",1,IF(AC5026=\"\",VLOOKUP(AW5026,'CZKEUR Xchange rate'!$D$13:$E$234,2,FALSE),VLOOKUP(AW5026,'CZKEUR Xchange rate'!$A$13:$B$234,2,FALSE)))","v":27.105},9669.00018446781,11699.490130972144,9669.00018446781,11699.490130972144,{"$f":"VLOOKUP(AW5026,'Cenové indexy '!$D$7:$E$200,2,FALSE)","v":100.07},{"$f":"W5026/Y5026*'Cenové indexy '!$E$149","v":9964.6646250041504},11957.597550004981,2015,"10","19","2015-10-19","Áno","Áno","zo ŠR","Áno",null,"24 mesiacov","neurčené","48 hodín","Zmluva 314_AT",null,null,null,null,null,{"$f":"VLOOKUP(M5026,Adresy!$A$4:$C$156,2,FALSE)","v":"Brno"},{"$f":"VLOOKUP(M5026,Adresy!$A$4:$C$156,3,FALSE)","v":"Pekařská 53"},"M","2015M10",null,null,null,null,null,{"$f":"VLOOKUP(M5026,Adresy!$A$3:$C$122,2,FALSE)","v":"Brno"},{"$f":"VLOOKUP(M5026,Adresy!$A$3:$C$122,3,FALSE)","v":"Pekařská 53"},0,0,0,0]
["operačný stôl","elektromechanický ","elektromechanický operačný stôl","DORO otočný adaptér",null,null,"OTESUS 1160","3002-00",null,"MAQUET","položková cena (súčasť sumárnej ceny)",null,"Fakultní nemocnice u sv. Anny v Brně","ČR","MAQUET Czech Republic s.r .o","03053601",1,21608,26145.68,{"$f":"IF(N5050=\"SR\",1,IF(AC5050=\"\",VLOOKUP(AW5050,'CZKEUR Xchange rate'!$D$13:$E$234,2,FALSE),VLOOKUP(AW5050,'CZKEUR Xchange rate'!$A$13:$B$234,2,FALSE)))","v":27.105},797.19608928242019,964.60726803172849,797.19608928242019,964.60726803172849,{"$f":"VLOOKUP(AW5050,'Cenové indexy '!$D$7:$E$200,2,FALSE)","v":100.07},{"$f":"W5050/Y5050*'Cenové indexy '!$E$149","v":821.57322561902663},985.88787074283186,2015,"10","19","2015-10-19","Áno","Áno","zo ŠR","Áno",null,"24 mesiacov","neurčené","48 hodín","Zmluva 314_AT",null,null,null,null,null,{"$f":"VLOOKUP(M5050,Adresy!$A$4:$C$156,2,FALSE)","v":"Brno"},{"$f":"VLOOKUP(M5050,Adresy!$A$4:$C$156,3,FALSE)","v":"Pekařská 53"},"M","2015M10",null,null,null,null,null,{"$f":"VLOOKUP(M5050,Adresy!$A$3:$C$122,2,FALSE)","v":"Brno"},{"$f":"VLOOKUP(M5050,Adresy!$A$3:$C$122,3,FALSE)","v":"Pekařská 53"},0,0,0,0]
["operačný stôl","elektromechanický ","elektromechanický operačný stôl","DORO Skull Pins Pediatric",null,null,"OTESUS 1160","3004-00",null,"MAQUET","položková cena (súčasť sumárnej ceny)",null,"Fakultní nemocnice u sv. Anny v Brně","ČR","MAQUET Czech Republic s.r .o","03053601",2,18364,22220.44,{"$f":"IF(N5055=\"SR\",1,IF(AC5055=\"\",VLOOKUP(AW5055,'CZKEUR Xchange rate'!$D$13:$E$234,2,FALSE),VLOOKUP(AW5055,'CZKEUR Xchange rate'!$A$13:$B$234,2,FALSE)))","v":27.105},677.51337391625157,819.79118243866435,338.75668695812578,409.89559121933218,{"$f":"VLOOKUP(AW5055,'Cenové indexy '!$D$7:$E$200,2,FALSE)","v":100.07},{"$f":"W5055/Y5055*'Cenové indexy '!$E$149","v":349.11539048657454},418.93846858388946,2015,"10","19","2015-10-19","Áno","Áno","zo ŠR","Áno",null,"24 mesiacov","neurčené","48 hodín","Zmluva 314_AT",null,null,null,null,null,{"$f":"VLOOKUP(M5055,Adresy!$A$4:$C$156,2,FALSE)","v":"Brno"},{"$f":"VLOOKUP(M5055,Adresy!$A$4:$C$156,3,FALSE)","v":"Pekařská 53"},"M","2015M10",null,null,null,null,null,{"$f":"VLOOKUP(M5055,Adresy!$A$3:$C$122,2,FALSE)","v":"Brno"},{"$f":"VLOOKUP(M5055,Adresy!$A$3:$C$122,3,FALSE)","v":"Pekařská 53"},0,0,0,0]
["operačný stôl","elektromechanický ","elektromechanický operačný stôl","DORO disposable pins titanium Adults",null,null,"OTESUS 1160","3006-20",null,"MAQUET","položková cena (súčasť sumárnej ceny)",null,"Fakultní nemocnice u sv. Anny v Brně","ČR","MAQUET Czech Republic s.r .o","03053601",2,40320,48787.199999999997,{"$f":"IF(N5094=\"SR\",1,IF(AC5094=\"\",VLOOKUP(AW5094,'CZKEUR Xchange rate'!$D$13:$E$234,2,FALSE),VLOOKUP(AW5094,'CZKEUR Xchange rate'!$A$13:$B$234,2,FALSE)))","v":27.105},1487.5484228002213,1799.9335915882677,743.77421140011063,899.96679579413387,{"$f":"VLOOKUP(AW5094,'Cenové indexy '!$D$7:$E$200,2,FALSE)","v":100.07},{"$f":"W5094/Y5094*'Cenové indexy '!$E$149","v":766.51778176969538},919.8213381236344,2015,"10","19","2015-10-19","Áno","Áno","zo ŠR","Áno",null,"24 mesiacov","neurčené","48 hodín","Zmluva 314_AT",null,null,null,null,null,{"$f":"VLOOKUP(M5094,Adresy!$A$4:$C$156,2,FALSE)","v":"Brno"},{"$f":"VLOOKUP(M5094,Adresy!$A$4:$C$156,3,FALSE)","v":"Pekařská 53"},"M","2015M10",null,null,null,null,null,{"$f":"VLOOKUP(M5094,Adresy!$A$3:$C$122,2,FALSE)","v":"Brno"},{"$f":"VLOOKUP(M5094,Adresy!$A$3:$C$122,3,FALSE)","v":"Pekařská 53"},0,0,0,0]
["operačný stôl","elektromechanický ","elektromechanický operačný stôl","nosnosť","380 kg",null,"OTESUS 1160",null,null,"MAQUET","bez položkovej identifikácie ceny (v rámci sumárnej ceny)",null,"Fakultní nemocnice u sv. Anny v Brně","ČR","MAQUET Czech Republic s.r .o","03053601",null,null,null,{"$f":"IF(N5102=\"SR\",1,IF(AC5102=\"\",VLOOKUP(AW5102,'CZKEUR Xchange rate'!$D$13:$E$234,2,FALSE),VLOOKUP(AW5102,'CZKEUR Xchange rate'!$A$13:$B$234,2,FALSE)))","v":27.105},0,0,null,null,{"$f":"VLOOKUP(AW5102,'Cenové indexy '!$D$7:$E$200,2,FALSE)","v":100.07},{"$f":"W5102/Y5102*'Cenové indexy '!$E$149","v":0},0,2015,"10","19","2015-10-19","Áno","Áno","zo ŠR","Áno",null,"24 mesiacov","neurčené","48 hodín","Zmluva 314_AT",null,null,null,null,null,{"$f":"VLOOKUP(M5102,Adresy!$A$4:$C$156,2,FALSE)","v":"Brno"},{"$f":"VLOOKUP(M5102,Adresy!$A$4:$C$156,3,FALSE)","v":"Pekařská 53"},"M","2015M10",null,null,null,null,null,{"$f":"VLOOKUP(M5102,Adresy!$A$3:$C$122,2,FALSE)","v":"Brno"},{"$f":"VLOOKUP(M5102,Adresy!$A$3:$C$122,3,FALSE)","v":"Pekařská 53"},0,0,0,0]
["operačný stôl","elektromechanický ","elektromechanický operačný stôl","vankúš  - tunel",null,null,"OTESUS 1160","100077A0",null,"MAQUET","položková cena (súčasť sumárnej ceny)",null,"Fakultní nemocnice u sv. Anny v Brně","ČR","MAQUET Czech Republic s.r .o","03053601",1,4087.35,4945.6899999999996,{"$f":"IF(N5127=\"SR\",1,IF(AC5127=\"\",VLOOKUP(AW5127,'CZKEUR Xchange rate'!$D$13:$E$234,2,FALSE),VLOOKUP(AW5127,'CZKEUR Xchange rate'!$A$13:$B$234,2,FALSE)))","v":27.105},150.79690094078583,182.46412101088359,150.79690094078583,182.46412101088359,{"$f":"VLOOKUP(AW5127,'Cenové indexy '!$D$7:$E$200,2,FALSE)","v":100.07},{"$f":"W5127/Y5127*'Cenové indexy '!$E$149","v":155.40805829942283},186.48966995930741,2015,"10","19","2015-10-19","Áno","Áno","zo ŠR","Áno",null,"24 mesiacov","neurčené","48 hodín","Zmluva 314_AT",null,null,null,null,null,{"$f":"VLOOKUP(M5127,Adresy!$A$4:$C$156,2,FALSE)","v":"Brno"},{"$f":"VLOOKUP(M5127,Adresy!$A$4:$C$156,3,FALSE)","v":"Pekařská 53"},"M","2015M10",null,null,null,null,null,{"$f":"VLOOKUP(M5127,Adresy!$A$3:$C$122,2,FALSE)","v":"Brno"},{"$f":"VLOOKUP(M5127,Adresy!$A$3:$C$122,3,FALSE)","v":"Pekařská 53"},0,0,0,0]
["operačný stôl","elektromechanický ","elektromechanický operačný stôl","adaptér pre podkovu",null,null,"OTESUS 1160","100265A0",null,"MAQUET","položková cena (súčasť sumárnej ceny)",null,"Fakultní nemocnice u sv. Anny v Brně","ČR","MAQUET Czech Republic s.r .o","03053601",1,17111.2,20704.55,{"$f":"IF(N5145=\"SR\",1,IF(AC5145=\"\",VLOOKUP(AW5145,'CZKEUR Xchange rate'!$D$13:$E$234,2,FALSE),VLOOKUP(AW5145,'CZKEUR Xchange rate'!$A$13:$B$234,2,FALSE)))","v":27.105},631.29311935067335,763.8646006271905,631.29311935067335,763.8646006271905,{"$f":"VLOOKUP(AW5145,'Cenové indexy '!$D$7:$E$200,2,FALSE)","v":100.07},{"$f":"W5145/Y5145*'Cenové indexy '!$E$149","v":650.59717596317523},780.71661115581026,2015,"10","19","2015-10-19","Áno","Áno","zo ŠR","Áno",null,"24 mesiacov","neurčené","48 hodín","Zmluva 314_AT",null,null,null,null,null,{"$f":"VLOOKUP(M5145,Adresy!$A$4:$C$156,2,FALSE)","v":"Brno"},{"$f":"VLOOKUP(M5145,Adresy!$A$4:$C$156,3,FALSE)","v":"Pekařská 53"},"M","2015M10",null,null,null,null,null,{"$f":"VLOOKUP(M5145,Adresy!$A$3:$C$122,2,FALSE)","v":"Brno"},{"$f":"VLOOKUP(M5145,Adresy!$A$3:$C$122,3,FALSE)","v":"Pekařská 53"},0,0,0,0]
["operačný stôl","elektromechanický ","elektromechanický operačný stôl","laterálny náklon","±28 °",null,"OTESUS 1160",null,null,"MAQUET","bez položkovej identifikácie ceny (v rámci sumárnej ceny)",null,"Fakultní nemocnice u sv. Anny v Brně","ČR","MAQUET Czech Republic s.r .o","03053601",null,null,null,{"$f":"IF(N5174=\"SR\",1,IF(AC5174=\"\",VLOOKUP(AW5174,'CZKEUR Xchange rate'!$D$13:$E$234,2,FALSE),VLOOKUP(AW5174,'CZKEUR Xchange rate'!$A$13:$B$234,2,FALSE)))","v":27.105},0,0,null,null,{"$f":"VLOOKUP(AW5174,'Cenové indexy '!$D$7:$E$200,2,FALSE)","v":100.07},{"$f":"W5174/Y5174*'Cenové indexy '!$E$149","v":0},0,2015,"10","19","2015-10-19","Áno","Áno","zo ŠR","Áno",null,"24 mesiacov","neurčené","48 hodín","Zmluva 314_AT",null,null,null,null,null,{"$f":"VLOOKUP(M5174,Adresy!$A$4:$C$156,2,FALSE)","v":"Brno"},{"$f":"VLOOKUP(M5174,Adresy!$A$4:$C$156,3,FALSE)","v":"Pekařská 53"},"M","2015M10",null,null,null,null,null,{"$f":"VLOOKUP(M5174,Adresy!$A$3:$C$122,2,FALSE)","v":"Brno"},{"$f":"VLOOKUP(M5174,Adresy!$A$3:$C$122,3,FALSE)","v":"Pekařská 53"},0,0,0,0]
["operačný stôl","elektromechanický ","elektromechanický operačný stôl","podložky dolných končatín ",null,null,"OTESUS 1160","115053DC",null,"MAQUET","položková cena (súčasť sumárnej ceny)",null,"Fakultní nemocnice u sv. Anny v Brně","ČR","MAQUET Czech Republic s.r .o","03053601",1,69221.25,83757.710000000006,{"$f":"IF(N5179=\"SR\",1,IF(AC5179=\"\",VLOOKUP(AW5179,'CZKEUR Xchange rate'!$D$13:$E$234,2,FALSE),VLOOKUP(AW5179,'CZKEUR Xchange rate'!$A$13:$B$234,2,FALSE)))","v":27.105},2553.8184836745986,3090.1202730123596,2553.8184836745986,3090.1202730123596,{"$f":"VLOOKUP(AW5179,'Cenové indexy '!$D$7:$E$200,2,FALSE)","v":100.07},{"$f":"W5179/Y5179*'Cenové indexy '!$E$149","v":2631.9106647482899},3158.2927976979477,2015,"10","19","2015-10-19","Áno","Áno","zo ŠR","Áno",null,"24 mesiacov","neurčené","48 hodín","Zmluva 314_AT",null,null,null,null,null,{"$f":"VLOOKUP(M5179,Adresy!$A$4:$C$156,2,FALSE)","v":"Brno"},{"$f":"VLOOKUP(M5179,Adresy!$A$4:$C$156,3,FALSE)","v":"Pekařská 53"},"M","2015M10",null,null,null,null,null,{"$f":"VLOOKUP(M5179,Adresy!$A$3:$C$122,2,FALSE)","v":"Brno"},{"$f":"VLOOKUP(M5179,Adresy!$A$3:$C$122,3,FALSE)","v":"Pekařská 53"},0,0,0,0]
["operačný stôl","elektromechanický ","elektromechanický operačný stôl","podložka hlavy",null,null,"OTESUS 1160","113053D0",null,"MAQUET","položková cena (súčasť sumárnej ceny)",null,"Fakultní nemocnice u sv. Anny v Brně","ČR","MAQUET Czech Republic s.r .o","03053601",1,23645.1,30525.03,{"$f":"IF(N5213=\"SR\",1,IF(AC5213=\"\",VLOOKUP(AW5213,'CZKEUR Xchange rate'!$D$13:$E$234,2,FALSE),VLOOKUP(AW5213,'CZKEUR Xchange rate'!$A$13:$B$234,2,FALSE)))","v":27.105},872.35196458218036,1126.1770890979524,872.35196458218036,1126.1770890979524,{"$f":"VLOOKUP(AW5213,'Cenové indexy '!$D$7:$E$200,2,FALSE)","v":100.07},{"$f":"W5213/Y5213*'Cenové indexy '!$E$149","v":899.02726199020947},1078.8327143882514,2015,"10","19","2015-10-19","Áno","Áno","zo ŠR","Áno",null,"24 mesiacov","neurčené","48 hodín","Zmluva 314_AT",null,null,null,null,null,{"$f":"VLOOKUP(M5213,Adresy!$A$4:$C$156,2,FALSE)","v":"Brno"},{"$f":"VLOOKUP(M5213,Adresy!$A$4:$C$156,3,FALSE)","v":"Pekařská 53"},"M","2015M10",null,null,null,null,null,{"$f":"VLOOKUP(M5213,Adresy!$A$3:$C$122,2,FALSE)","v":"Brno"},{"$f":"VLOOKUP(M5213,Adresy!$A$3:$C$122,3,FALSE)","v":"Pekařská 53"},0,0,0,0]
["operačný stôl","elektromechanický ","elektromechanický operačný stôl","polster gélový",null,null,"OTESUS 1160",40062400,null,"MAQUET","položková cena (súčasť sumárnej ceny)",null,"Fakultní nemocnice u sv. Anny v Brně","ČR","MAQUET Czech Republic s.r .o","03053601",1,4204.55,5087.51,{"$f":"IF(N5226=\"SR\",1,IF(AC5226=\"\",VLOOKUP(AW5226,'CZKEUR Xchange rate'!$D$13:$E$234,2,FALSE),VLOOKUP(AW5226,'CZKEUR Xchange rate'!$A$13:$B$234,2,FALSE)))","v":27.105},155.12082641579045,187.69636598413578,155.12082641579045,187.69636598413578,{"$f":"VLOOKUP(AW5226,'Cenové indexy '!$D$7:$E$200,2,FALSE)","v":100.07},{"$f":"W5226/Y5226*'Cenové indexy '!$E$149","v":159.8642033402665},191.83704400831979,2015,"10","19","2015-10-19","Áno","Áno","zo ŠR","Áno",null,"24 mesiacov","neurčené","48 hodín","Zmluva 314_AT",null,null,null,null,null,{"$f":"VLOOKUP(M5226,Adresy!$A$4:$C$156,2,FALSE)","v":"Brno"},{"$f":"VLOOKUP(M5226,Adresy!$A$4:$C$156,3,FALSE)","v":"Pekařská 53"},"M","2015M10",null,null,null,null,null,{"$f":"VLOOKUP(M5226,Adresy!$A$3:$C$122,2,FALSE)","v":"Brno"},{"$f":"VLOOKUP(M5226,Adresy!$A$3:$C$122,3,FALSE)","v":"Pekařská 53"},0,0,0,0]
["operačný stôl","elektromechanický ","elektromechanický operačný stôl","polster gélový",null,null,"OTESUS 1160",40062400,null,"MAQUET","položková cena (súčasť sumárnej ceny)",null,"Fakultní nemocnice u sv. Anny v Brně","ČR","MAQUET Czech Republic s.r .o","03053601",1,4204.55,5087.51,{"$f":"IF(N5251=\"SR\",1,IF(AC5251=\"\",VLOOKUP(AW5251,'CZKEUR Xchange rate'!$D$13:$E$234,2,FALSE),VLOOKUP(AW5251,'CZKEUR Xchange rate'!$A$13:$B$234,2,FALSE)))","v":27.105},155.12082641579045,187.69636598413578,155.12082641579045,187.69636598413578,{"$f":"VLOOKUP(AW5251,'Cenové indexy '!$D$7:$E$200,2,FALSE)","v":100.07},{"$f":"W5251/Y5251*'Cenové indexy '!$E$149","v":159.8642033402665},191.83704400831979,2015,"10","19","2015-10-19","Áno","Áno","zo ŠR","Áno",null,"24 mesiacov","neurčené","48 hodín","Zmluva 314_AT",null,null,null,null,null,{"$f":"VLOOKUP(M5251,Adresy!$A$4:$C$156,2,FALSE)","v":"Brno"},{"$f":"VLOOKUP(M5251,Adresy!$A$4:$C$156,3,FALSE)","v":"Pekařská 53"},"M",{"$f":"IF(AC5251=\"\",CONCATENATE(AB5251,AV5251,\"06\"),IF(LEN(AC5251)=1,CONCATENATE(AB5251,AV5251,\"0\"&AC5251),CONCATENATE(AB5251,AV5251,AC5251)))","v":"2015M10"},null,null,null,null,null,{"$f":"VLOOKUP(M5251,Adresy!$A$3:$C$122,2,FALSE)","v":"Brno"},{"$f":"VLOOKUP(M5251,Adresy!$A$3:$C$122,3,FALSE)","v":"Pekařská 53"},0,0,0,0]
["operačný stôl","elektromechanický ","elektromechanický operačný stôl","celokarbónová operačná doska",null,null,"OTESUS 1160","115016B0",null,"MAQUET","položková cena (súčasť sumárnej ceny)",null,"Fakultní nemocnice u sv. Anny v Brně","ČR","MAQUET Czech Republic s.r .o","03053601",1,498208.41,602832.18000000005,{"$f":"IF(N5260=\"SR\",1,IF(AC5260=\"\",VLOOKUP(AW5260,'CZKEUR Xchange rate'!$D$13:$E$234,2,FALSE),VLOOKUP(AW5260,'CZKEUR Xchange rate'!$A$13:$B$234,2,FALSE)))","v":27.105},18380.682899833977,22240.62645268401,18380.682899833977,22240.62645268401,{"$f":"VLOOKUP(AW5260,'Cenové indexy '!$D$7:$E$200,2,FALSE)","v":100.07},{"$f":"W5260/Y5260*'Cenové indexy '!$E$149","v":18942.73835774836},22731.286029298029,2015,"10","19","2015-10-19","Áno","Áno","zo ŠR","Áno",null,"24 mesiacov","neurčené","48 hodín","Zmluva 314_AT",null,null,null,null,null,{"$f":"VLOOKUP(M5260,Adresy!$A$4:$C$156,2,FALSE)","v":"Brno"},{"$f":"VLOOKUP(M5260,Adresy!$A$4:$C$156,3,FALSE)","v":"Pekařská 53"},"M","2015M10",null,null,null,null,null,{"$f":"VLOOKUP(M5260,Adresy!$A$3:$C$122,2,FALSE)","v":"Brno"},{"$f":"VLOOKUP(M5260,Adresy!$A$3:$C$122,3,FALSE)","v":"Pekařská 53"},0,0,0,0]
["operačný stôl","elektromechanický ","základné príslušenstvo k operačným stolom","gelová podložka pod hlavu",null,null,"OTESUS 1160",40062300,null,"MAQUET","položková cena (súčasť sumárnej ceny)","HW","Fakultní nemocnice u sv. Anny v Brně","ČR","MAQUET Czech Republic s.r .o","03053601",12,29534.400000000001,35736.6,{"$f":"IF(N5278=\"SR\",1,IF(AC5278=\"\",VLOOKUP(AW5278,'CZKEUR Xchange rate'!$D$13:$E$234,2,FALSE),VLOOKUP(AW5278,'CZKEUR Xchange rate'!$A$13:$B$234,2,FALSE)))","v":27.105},1089.6292197011621,1318.4504703929163,90.802434975096844,109.87087253274302,{"$f":"VLOOKUP(AW5278,'Cenové indexy '!$D$7:$E$200,2,FALSE)","v":100.07},{"$f":"W5278/Y5278*'Cenové indexy '!$E$149","v":93.579045857716977},112.29485502926038,2015,"10","19","2015-10-19","Áno","Áno","zo ŠR","Áno",null,"24 mesiacov","neurčené","48 hodín","Zmluva 314_AT",null,null,null,null,null,{"$f":"VLOOKUP(M5278,Adresy!$A$4:$C$156,2,FALSE)","v":"Brno"},{"$f":"VLOOKUP(M5278,Adresy!$A$4:$C$156,3,FALSE)","v":"Pekařská 53"},"M","2015M10",null,null,null,null,null,{"$f":"VLOOKUP(M5278,Adresy!$A$3:$C$122,2,FALSE)","v":"Brno"},{"$f":"VLOOKUP(M5278,Adresy!$A$3:$C$122,3,FALSE)","v":"Pekařská 53"},0,0,0,0]
["kontrapulzátor ",null,"farebný dotykový displej",null,null,null,"Cardiosave","neurčené",null,"Maquet","bez položkovej identifikácie ceny (v rámci sumárnej ceny)",null,"Stredoslovenský ústav srdcových a cievnych chorôb, a.s.","SR","Teleflex Medical s.r.o.",34137921,1,null,null,{"$f":"IF(N5299=\"SR\",1,IF(AC5299=\"\",VLOOKUP(AW5299,'CZKEUR Xchange rate'!$D$13:$E$234,2,FALSE),VLOOKUP(AW5299,'CZKEUR Xchange rate'!$A$13:$B$234,2,FALSE)))","v":1},0,0,null,null,{"$f":"VLOOKUP(AW5299,'Cenové indexy '!$D$7:$E$200,2,FALSE)","v":99.95},{"$f":"W5299/Y5299*'Cenové indexy '!$E$149","v":0},0,2015,"07","21","2015-07-21","Áno","Áno","Neurčené","Nie",null,"neurčené","neurčené","neurčené","Zmluva NF_38",null,null,null,null,null,{"$f":"VLOOKUP(M5299,Adresy!$A$4:$C$156,2,FALSE)","v":"Banská Bystrica"},{"$f":"VLOOKUP(M5299,Adresy!$A$4:$C$156,3,FALSE)","v":"Cesta k nemocnici 622/1"},"M","2015M07",null,null,null,null,null,"Banská Bystrica","Cesta k nemocnici 622/1",0,0,0,0]
["ORL vyšetrovacia jednotka",null,"optika 30°",null,"pr.2,7 mm, NL=185 mm",null,"Modula Europa",null,"ORL ambulancia","Heinemann","položková cena (súčasť sumárnej ceny)",null,"Thomayerova nemocnice","ČR","Hospimed spol. s r.o.",676853,1,38547,null,{"$f":"IF(N5328=\"SR\",1,IF(AC5328=\"\",VLOOKUP(AW5328,'CZKEUR Xchange rate'!$D$13:$E$234,2,FALSE),VLOOKUP(AW5328,'CZKEUR Xchange rate'!$A$13:$B$234,2,FALSE)))","v":27.395},1407.081584230699,0,1407.081584230699,0,{"$f":"VLOOKUP(AW5328,'Cenové indexy '!$D$7:$E$200,2,FALSE)","v":99.52},{"$f":"W5328/Y5328*'Cenové indexy '!$E$149","v":1458.1222244946946},1749.7466693936335,2014,"03","20","2014-03-20","Áno","Áno","časť zo štátneho rozpočtu, časť vlastné zdroje","Nie","24 mesiacov",null,null,null,"Zmluva 165_DG",null,null,null,null,null,{"$f":"VLOOKUP(M5328,Adresy!$A$4:$C$156,2,FALSE)","v":"Praha"},{"$f":"VLOOKUP(M5328,Adresy!$A$4:$C$156,3,FALSE)","v":"Vídeňská 800"},"M","2014M03",null,null,null,null,null,"Praha","Vídeňská 800",0,0,0,0]
["ORL vyšetrovacia jednotka",null,"kábel","svetlovodivý",null,null,"Modula Duo",null,"ORL ambulancia","Heinemann","položková cena (súčasť sumárnej ceny)",null,"Fakultní nemocnice Hradec Králové","ČR","Hospimed spol. s r.o.",676853,3,32001,null,{"$f":"IF(N5350=\"SR\",1,IF(AC5350=\"\",VLOOKUP(AW5350,'CZKEUR Xchange rate'!$D$13:$E$234,2,FALSE),VLOOKUP(AW5350,'CZKEUR Xchange rate'!$A$13:$B$234,2,FALSE)))","v":27.395},1168.1328709618545,0,389.3776236539515,0,{"$f":"VLOOKUP(AW5350,'Cenové indexy '!$D$7:$E$200,2,FALSE)","v":99.52},{"$f":"W5350/Y5350*'Cenové indexy '!$E$149","v":403.50195264702592},484.2023431764311,2014,"03","07","2014-03-07","Áno","Áno","Neurčené","Áno","25 mesiacov ",null,null,null,"Zmluva 166_DG",null,null,null,null,null,{"$f":"VLOOKUP(M5350,Adresy!$A$4:$C$156,2,FALSE)","v":"Hradec Králové"},{"$f":"VLOOKUP(M5350,Adresy!$A$4:$C$156,3,FALSE)","v":"Sokolská 581"},"M","2014M03",null,null,null,null,null,"Hradec Králové","Sokolská 581",0,0,0,0]
["ORL vyšetrovacia jednotka",null,"kábel",null,null,null,"Modula Europa",null,"ORL ambulancia","Heinemann","položková cena (súčasť sumárnej ceny)",null,"Fakultní nemocnice Hradec Králové","ČR","Hospimed spol. s r.o.",676853,3,32001,null,{"$f":"IF(N5371=\"SR\",1,IF(AC5371=\"\",VLOOKUP(AW5371,'CZKEUR Xchange rate'!$D$13:$E$234,2,FALSE),VLOOKUP(AW5371,'CZKEUR Xchange rate'!$A$13:$B$234,2,FALSE)))","v":27.395},1168.1328709618545,0,389.3776236539515,0,{"$f":"VLOOKUP(AW5371,'Cenové indexy '!$D$7:$E$200,2,FALSE)","v":99.52},{"$f":"W5371/Y5371*'Cenové indexy '!$E$149","v":403.50195264702592},484.2023431764311,2014,"03","07","2014-03-07","Áno","Áno","Neurčené","Áno","25 mesiacov ",null,null,null,"Zmluva 166_DG",null,null,null,null,null,{"$f":"VLOOKUP(M5371,Adresy!$A$4:$C$156,2,FALSE)","v":"Hradec Králové"},{"$f":"VLOOKUP(M5371,Adresy!$A$4:$C$156,3,FALSE)","v":"Sokolská 581"},"M","2014M03",null,null,null,null,null,"Hradec Králové","Sokolská 581",0,0,0,0]
["ORL vyšetrovacia jednotka",null,"odsávací systém",null,"výkon 40l/min",null,"Modula Europa",null,"ORL ambulancia","Heinemann","bez položkovej identifikácie ceny (v rámci sumárnej ceny)",null,"Královohradecký kraj","ČR","Medisap s.r.o.",48029360,1,null,null,{"$f":"IF(N5396=\"SR\",1,IF(AC5396=\"\",VLOOKUP(AW5396,'CZKEUR Xchange rate'!$D$13:$E$234,2,FALSE),VLOOKUP(AW5396,'CZKEUR Xchange rate'!$A$13:$B$234,2,FALSE)))","v":27.608000000000001},0,0,null,null,{"$f":"VLOOKUP(AW5396,'Cenové indexy '!$D$7:$E$200,2,FALSE)","v":99.95},{"$f":"W5396/Y5396*'Cenové indexy '!$E$149","v":0},0,2015,"02","02","2015-02-02","Áno","Áno","EFRR","Áno","24 mesiacov",null,null,null,"Zmluva 168_DG",null,null,null,null,null,{"$f":"VLOOKUP(M5396,Adresy!$A$4:$C$156,2,FALSE)","v":"Hradec Králové"},{"$f":"VLOOKUP(M5396,Adresy!$A$4:$C$156,3,FALSE)","v":0},"M","2015M02",null,null,null,null,null,"Hradec Králové",100.7099609375,0,1,0,1]
["ORL vyšetrovacia jednotka",null,"lupenlaryngoskop",null,null,null,"Modula Europa",null,"ORL ambulancia","Heinemann","bez položkovej identifikácie ceny (v rámci sumárnej ceny)",null,"Královohradecký kraj","ČR","Medisap s.r.o.",48029360,1,null,null,{"$f":"IF(N5418=\"SR\",1,IF(AC5418=\"\",VLOOKUP(AW5418,'CZKEUR Xchange rate'!$D$13:$E$234,2,FALSE),VLOOKUP(AW5418,'CZKEUR Xchange rate'!$A$13:$B$234,2,FALSE)))","v":27.608000000000001},0,0,null,null,{"$f":"VLOOKUP(AW5418,'Cenové indexy '!$D$7:$E$200,2,FALSE)","v":99.95},{"$f":"W5418/Y5418*'Cenové indexy '!$E$149","v":0},0,2015,"02","02","2015-02-02","Áno","Áno","EFRR","Áno","24 mesiacov",null,null,null,"Zmluva 168_DG",null,null,null,null,null,{"$f":"VLOOKUP(M5418,Adresy!$A$4:$C$156,2,FALSE)","v":"Hradec Králové"},{"$f":"VLOOKUP(M5418,Adresy!$A$4:$C$156,3,FALSE)","v":0},"M","2015M02",null,null,null,null,null,"Hradec Králové",100.7099609375,0,1,0,1]
["ORL vyšetrovacia jednotka",null,"zdroj svetla","LED s dvomi pripojeniami","150 W",null,"Neurčené",null,"ORL ambulancia","","bez položkovej identifikácie ceny (v rámci sumárnej ceny)",null,"Ľubovnianska nemocnica, n.o.","SR","ULTRAMED s.r.o.",37886851,1,null,null,{"$f":"IF(N5423=\"SR\",1,IF(AC5423=\"\",VLOOKUP(AW5423,'CZKEUR Xchange rate'!$D$13:$E$234,2,FALSE),VLOOKUP(AW5423,'CZKEUR Xchange rate'!$A$13:$B$234,2,FALSE)))","v":1},0,0,null,null,{"$f":"VLOOKUP(AW5423,'Cenové indexy '!$D$7:$E$200,2,FALSE)","v":100.83},{"$f":"W5423/Y5423*'Cenové indexy '!$E$149","v":0},0,2016,"02","01","2016-02-01","Áno","Áno","Neurčené","Nie","24 mesiacov",null,null,null,"Zmluva 169_DG",null,null,null,null,null,{"$f":"VLOOKUP(M5423,Adresy!$A$4:$C$156,2,FALSE)","v":"Stará Ľubovňa"},{"$f":"VLOOKUP(M5423,Adresy!$A$4:$C$156,3,FALSE)","v":"Obrancov mieru 3"},"M","2016M02",null,null,null,null,null,"Stará Ľubovňa","Obrancov mieru 3",0,0,0,0]
["ORL vyšetrovacia jednotka",null,"sekrečná nádoba na odpad",null,null,null,"Neurčené",null,"ORL ambulancia","","bez položkovej identifikácie ceny (v rámci sumárnej ceny)",null,"Fakultná nemocnica Trnava","SR","MG - Slovakia s.r.o.",48027073,1,null,null,{"$f":"IF(N5443=\"SR\",1,IF(AC5443=\"\",VLOOKUP(AW5443,'CZKEUR Xchange rate'!$D$13:$E$234,2,FALSE),VLOOKUP(AW5443,'CZKEUR Xchange rate'!$A$13:$B$234,2,FALSE)))","v":1},0,0,null,null,{"$f":"VLOOKUP(AW5443,'Cenové indexy '!$D$7:$E$200,2,FALSE)","v":100.29},{"$f":"W5443/Y5443*'Cenové indexy '!$E$149","v":0},0,2015,"12","10","2015-12-10","Áno","Áno","Neurčené","Nie","Neuvedené",null,null,null,"Zmluva 170_DG",null,null,null,null,null,{"$f":"VLOOKUP(M5443,Adresy!$A$4:$C$156,2,FALSE)","v":"Trnava"},{"$f":"VLOOKUP(M5443,Adresy!$A$4:$C$156,3,FALSE)","v":"Andreja Žarnova 11"},"M",{"$f":"IF(AC5443=\"\",CONCATENATE(AB5443,AV5443,\"06\"),IF(LEN(AC5443)=1,CONCATENATE(AB5443,AV5443,\"0\"&AC5443),CONCATENATE(AB5443,AV5443,AC5443)))","v":"2015M12"},null,null,null,null,null,"Trnava","Andreja Žarnova 11",0,0,0,0]
["ORL vyšetrovacia jednotka",null,"tlakový vzduch",null,null,null,"Modula Europa",null,null,"Heinemann","položková cena (súčasť sumárnej ceny)",null,"Ostrov Zdraví o.p.s.","ČR","Hospimed spol. s r.o.",676853,1,46494,null,{"$f":"IF(N5470=\"SR\",1,IF(AC5470=\"\",VLOOKUP(AW5470,'CZKEUR Xchange rate'!$D$13:$E$234,2,FALSE),VLOOKUP(AW5470,'CZKEUR Xchange rate'!$A$13:$B$234,2,FALSE)))","v":27.379000000000001},1698.162825523211,0,1698.162825523211,null,{"$f":"VLOOKUP(AW5470,'Cenové indexy '!$D$7:$E$200,2,FALSE)","v":100.03},{"$f":"W5470/Y5470*'Cenové indexy '!$E$149","v":1750.7900849366065},2100.9481019239279,2015,"03","12","2015-03-12","Áno","Áno","EFRR","Áno",null,"36 mesiacov","min. 8 rokov, predmetom bud.zmluvy","48 hodín","Zmluva 320_AT",null,null,null,null,null,{"$f":"VLOOKUP(M5470,Adresy!$A$4:$C$156,2,FALSE)","v":"Ostrov"},{"$f":"VLOOKUP(M5470,Adresy!$A$4:$C$156,3,FALSE)","v":"U Nemocnice 1161"},"M","2015M03",null,null,null,null,null,"Ostrov","U Nemocnice 1161",0,0,0,0]
["mamograf",null,"rengenka","tepelná  kapacita anódy","300 kHU",null,"HOLOGIC SELENIA ",null,null,"Hologic","bez položkovej identifikácie ceny (v rámci sumárnej ceny)","HW","Fakultná nemocnica s poliklinikou Nové Zámky","SR","MEDICAL GROUP SK a.s.",null,1,null,null,{"$f":"IF(N5495=\"SR\",1,IF(AC5495=\"\",VLOOKUP(AW5495,'CZKEUR Xchange rate'!$D$13:$E$234,2,FALSE),VLOOKUP(AW5495,'CZKEUR Xchange rate'!$A$13:$B$234,2,FALSE)))","v":1},0,0,null,null,{"$f":"VLOOKUP(AW5495,'Cenové indexy '!$D$7:$E$200,2,FALSE)","v":99.83},{"$f":"W5495/Y5495*'Cenové indexy '!$E$149","v":0},0,2014,"09","18","2014-09-18","Áno","Áno","na splátky","Nie",null,"24 mesiacov","neurčené","24 hodín","Zmluva 9_ DG",null,null,null,null,null,{"$f":"VLOOKUP(M5495,Adresy!$A$4:$C$156,2,FALSE)","v":"Nové Zámky"},{"$f":"VLOOKUP(M5495,Adresy!$A$4:$C$156,3,FALSE)","v":"Slovenská 11"},"M","2014M09",null,null,null,null,null,"Nové Zámky","Slovenská 11",0,0,0,0]
["mamograf",null,"monitor pre pracovnú stanicu",null,null,null,"MAMMOMAT Inspiration ","AWS",null,"Siemens","bez položkovej identifikácie ceny (v rámci sumárnej ceny)","HW","Nemocnice na Bulovce","ČR","Siemens Healthcare s.r.o.","00268577",null,null,null,{"$f":"IF(N5511=\"SR\",1,IF(AC5511=\"\",VLOOKUP(AW5511,'CZKEUR Xchange rate'!$D$13:$E$234,2,FALSE),VLOOKUP(AW5511,'CZKEUR Xchange rate'!$A$13:$B$234,2,FALSE)))","v":25.658999999999999},0,0,null,null,{"$f":"VLOOKUP(AW5511,'Cenové indexy '!$D$7:$E$200,2,FALSE)","v":98.94},{"$f":"W5511/Y5511*'Cenové indexy '!$E$149","v":0},0,2013,"03","10","2013-03-10","Áno","Áno","na splátky","Nie",null,"96 mesiacov ","neurčené","24 hodín","Zmluva 9_AT",null,null,null,null,null,{"$f":"VLOOKUP(M5511,Adresy!$A$4:$C$156,2,FALSE)","v":"Praha"},{"$f":"VLOOKUP(M5511,Adresy!$A$4:$C$156,3,FALSE)","v":"Budínova 67/2"},"M","2013M03",null,null,null,null,null,"Praha"," Budínova 67/2",0,1,0,1]
["mamograf",null,"3D bioptická kompresná doska",null,null,null,"MAMMOMAT Inspiration ",null,null,"Siemens","bez položkovej identifikácie ceny (v rámci sumárnej ceny)","HW","Nemocnice na Bulovce","ČR","Siemens Healthcare s.r.o.","00268577",null,null,null,{"$f":"IF(N5522=\"SR\",1,IF(AC5522=\"\",VLOOKUP(AW5522,'CZKEUR Xchange rate'!$D$13:$E$234,2,FALSE),VLOOKUP(AW5522,'CZKEUR Xchange rate'!$A$13:$B$234,2,FALSE)))","v":25.658999999999999},0,0,null,null,{"$f":"VLOOKUP(AW5522,'Cenové indexy '!$D$7:$E$200,2,FALSE)","v":98.94},{"$f":"W5522/Y5522*'Cenové indexy '!$E$149","v":0},0,2013,"03","10","2013-03-10","Áno","Áno","na splátky","Nie",null,"96 mesiacov ","neurčené","24 hodín","Zmluva 9_AT",null,null,null,null,null,{"$f":"VLOOKUP(M5522,Adresy!$A$4:$C$156,2,FALSE)","v":"Praha"},{"$f":"VLOOKUP(M5522,Adresy!$A$4:$C$156,3,FALSE)","v":"Budínova 67/2"},"M","2013M03",null,null,null,null,null,"Praha"," Budínova 67/2",0,1,0,1]
["mamograf",null,"celá zostava",null,null,null,"Planmed Nuance Excel ","Planmed Nuance Excel ",null,"Planmed Oy ","sumárna cena","HW","Fakultní nemocnice v Motole","ČR","AURA MEDICAL",65412559,1,6500000,7865000,{"$f":"IF(N5547=\"SR\",1,IF(AC5547=\"\",VLOOKUP(AW5547,'CZKEUR Xchange rate'!$D$13:$E$234,2,FALSE),VLOOKUP(AW5547,'CZKEUR Xchange rate'!$A$13:$B$234,2,FALSE)))","v":27.088999999999999},239949.79511979033,290339.25209494628,{"$f":"U5547/Q5547","v":239949.79511979033},{"$f":"V5547/Q5547","v":290339.25209494628},{"$f":"VLOOKUP(AW5547,'Cenové indexy '!$D$7:$E$200,2,FALSE)","v":100.14},{"$f":"W5547/Y5547*'Cenové indexy '!$E$149","v":247114.26373780682},296537.11648536817,2015,"09","15","2015-09-15","Áno","Áno","EFRR","Áno",null,"24 mesiacov","neurčené","24 hodín","Zmluva 12_AT",null,null,null,null,null,{"$f":"VLOOKUP(M5547,Adresy!$A$4:$C$156,2,FALSE)","v":"Praha"},{"$f":"VLOOKUP(M5547,Adresy!$A$4:$C$156,3,FALSE)","v":"V úvalu 84"},"M","2015M09",null,null,null,null,null,"Praha","V úvalu 84",0,0,0,0]
["mamograf",null,"SW pre základnú diagnostiku",null,null,null,"Planmed Nuance Excel ",null,null,"Planmed Oy ","bez položkovej identifikácie ceny (v rámci sumárnej ceny)","HW","Fakultní nemocnice v Motole","ČR","AURA MEDICAL",65412559,1,null,null,{"$f":"IF(N5562=\"SR\",1,IF(AC5562=\"\",VLOOKUP(AW5562,'CZKEUR Xchange rate'!$D$13:$E$234,2,FALSE),VLOOKUP(AW5562,'CZKEUR Xchange rate'!$A$13:$B$234,2,FALSE)))","v":27.088999999999999},0,0,null,null,{"$f":"VLOOKUP(AW5562,'Cenové indexy '!$D$7:$E$200,2,FALSE)","v":100.14},{"$f":"W5562/Y5562*'Cenové indexy '!$E$149","v":0},0,2015,"09","15","2015-09-15","Áno","Áno","EFRR","Áno",null,"24 mesiacov","neurčené","24 hodín","Zmluva 12_AT",null,null,null,null,null,{"$f":"VLOOKUP(M5562,Adresy!$A$4:$C$156,2,FALSE)","v":"Praha"},{"$f":"VLOOKUP(M5562,Adresy!$A$4:$C$156,3,FALSE)","v":"V úvalu 84"},"M","2015M09",null,null,null,null,null,"Praha","V úvalu 84",0,0,0,0]
["mamograf",null,"diagnostická stanica","monitor",null,"4 ks","HOLOGIC SELENIA Stereo Ready",null,null,"Hologic","bez položkovej identifikácie ceny (v rámci sumárnej ceny)","HW","Uherskohradišťská nemocnice","ČR","FOMEI a.s.",46504869,2,null,null,{"$f":"IF(N5594=\"SR\",1,IF(AC5594=\"\",VLOOKUP(AW5594,'CZKEUR Xchange rate'!$D$13:$E$234,2,FALSE),VLOOKUP(AW5594,'CZKEUR Xchange rate'!$A$13:$B$234,2,FALSE)))","v":27.443999999999999},0,0,null,null,{"$f":"VLOOKUP(AW5594,'Cenové indexy '!$D$7:$E$200,2,FALSE)","v":99.52},{"$f":"W5594/Y5594*'Cenové indexy '!$E$149","v":0},0,2014,"02","18","2014-02-18","Áno","Áno","na splátky","Nie",null,"60 mesiacov","predmetom bud.zmluvy","24 hodín","Zmluva 14_AT",null,null,null,null,null,{"$f":"VLOOKUP(M5594,Adresy!$A$4:$C$156,2,FALSE)","v":"Uherské Hradiště"},{"$f":"VLOOKUP(M5594,Adresy!$A$4:$C$156,3,FALSE)","v":"Jana Evangelisty Purkyně 365"},"M","2014M02",null,null,null,null,null,"Uherské Hradiště","Jana Evangelisty Purkyně 365",0,0,0,0]
["mamograf",null,"zaškolenie personálu",null,null,null,"HOLOGIC SELENIA ",null,null,"Hologic","položková cena (súčasť sumárnej ceny)","HW","Masarykov onkologický ústav","ČR","Conrfes spol.s.r.o",60724846,1,12000,14520,{"$f":"IF(N5619=\"SR\",1,IF(AC5619=\"\",VLOOKUP(AW5619,'CZKEUR Xchange rate'!$D$13:$E$234,2,FALSE),VLOOKUP(AW5619,'CZKEUR Xchange rate'!$A$13:$B$234,2,FALSE)))","v":27.484999999999999},436.60178279061307,528.28815717664179,436.60178279061307,528.28815717664179,{"$f":"VLOOKUP(AW5619,'Cenové indexy '!$D$7:$E$200,2,FALSE)","v":99.41},{"$f":"W5619/Y5619*'Cenové indexy '!$E$149","v":452.93976319480868},543.52771583377034,2014,"01","29","2014-01-29","Áno","Áno","Neurčené","Nie",null,"24 mesiacov","neurčené","24 hodín","Zmluva 17_AT",null,null,null,null,null,{"$f":"VLOOKUP(M5619,Adresy!$A$4:$C$156,2,FALSE)","v":"Brno"},{"$f":"VLOOKUP(M5619,Adresy!$A$4:$C$156,3,FALSE)","v":"Žlutý kopec 543/7"},"M","2014M01",null,null,null,null,null,"Brno","Žlutý kopec 543/7",0,0,0,0]
["mamograf",null,"akvizičná stanica",null,null,null,"HOLOGIC SELENIA DIMENSIONS",null,null,"Hologic","bez položkovej identifikácie ceny (v rámci sumárnej ceny)","HW","Univerzitná nemocnica Martin","SR","MEDICAL GROUP SK a.s.",31708030,1,null,null,{"$f":"IF(N5640=\"SR\",1,IF(AC5640=\"\",VLOOKUP(AW5640,'CZKEUR Xchange rate'!$D$13:$E$234,2,FALSE),VLOOKUP(AW5640,'CZKEUR Xchange rate'!$A$13:$B$234,2,FALSE)))","v":1},0,0,null,null,{"$f":"VLOOKUP(AW5640,'Cenové indexy '!$D$7:$E$200,2,FALSE)","v":99.83},{"$f":"W5640/Y5640*'Cenové indexy '!$E$149","v":0},0,2014,"09","26","2014-09-26","Áno","Áno","Neurčené","Áno",null,"24 mesiacov","10 rokov, predmetom bud.zmluvy","24 hodín","Zmluva 20_AT",null,null,null,null,null,{"$f":"VLOOKUP(M5640,Adresy!$A$4:$C$156,2,FALSE)","v":"Martin"},{"$f":"VLOOKUP(M5640,Adresy!$A$4:$C$156,3,FALSE)","v":"Kollárova 2"},"M","2014M09",null,null,null,null,null,"Martin","Kollárova 2",0,0,0,0]
["mamograf",null,"detektor","veľkosť","23,9 x 30,5 cm",null,"Planmed Nuance Excel ",null,null,"Planmed Oy ","bez položkovej identifikácie ceny (v rámci sumárnej ceny)",null,"Vojenská fakultná nemocnica Praha","ČR","AURA MEDICAL",65412559,null,null,null,{"$f":"IF(N5644=\"SR\",1,IF(AC5644=\"\",VLOOKUP(AW5644,'CZKEUR Xchange rate'!$D$13:$E$234,2,FALSE),VLOOKUP(AW5644,'CZKEUR Xchange rate'!$A$13:$B$234,2,FALSE)))","v":27.105},0,0,null,null,{"$f":"VLOOKUP(AW5644,'Cenové indexy '!$D$7:$E$200,2,FALSE)","v":100.07},{"$f":"W5644/Y5644*'Cenové indexy '!$E$149","v":0},0,2015,"10","05","2015-10-05","Áno","Áno","Neurčené","Nie",null,"24 mesiacov","min.10 rokov","48 hodín","Zmluva 321_AT",null,null,null,null,null,{"$f":"VLOOKUP(M5644,Adresy!$A$4:$C$156,2,FALSE)","v":"Praha"},{"$f":"VLOOKUP(M5644,Adresy!$A$4:$C$156,3,FALSE)","v":"U Vojenské nemocnice 1/1200"},"M","2015M10",null,null,null,null,null,"Praha","U Vojenské nemocnice 1/1200",0,0,0,0]
["mamograf",null,"expozičná automatika",null,null,null,"Planmed Nuance Excel ",null,null,"Planmed Oy ","bez položkovej identifikácie ceny (v rámci sumárnej ceny)",null,"Mestská nemocnica Ostrava","ČR","AURA MEDICAL",65412559,null,null,null,{"$f":"IF(N5667=\"SR\",1,IF(AC5667=\"\",VLOOKUP(AW5667,'CZKEUR Xchange rate'!$D$13:$E$234,2,FALSE),VLOOKUP(AW5667,'CZKEUR Xchange rate'!$A$13:$B$234,2,FALSE)))","v":24.939},0,0,null,null,{"$f":"VLOOKUP(AW5667,'Cenové indexy '!$D$7:$E$200,2,FALSE)","v":99.31},{"$f":"W5667/Y5667*'Cenové indexy '!$E$149","v":0},0,2012,"10","09","2012-10-09","Áno","Áno","Neurčené","Nie",null,"24 mesiacov","neurčené","48 hodín","Zmluva 322_AT",null,null,null,null,null,{"$f":"VLOOKUP(M5667,Adresy!$A$4:$C$156,2,FALSE)","v":"Ostrava"},{"$f":"VLOOKUP(M5667,Adresy!$A$4:$C$156,3,FALSE)","v":"Nemocniční 20"},"M","2012M10",null,null,null,null,null,"Ostrava","Nemocniční 20",0,0,0,0]
["mamograf",null,"akvizičná stanica",null,null,null,"HOLOGIC SELENIA DIMENSIONS","HOLOGIC   ",null,"Hologic","položková cena (súčasť sumárnej ceny)",null,"Nemocnice Nové Mesto na Morave","ČR","FOMEI a.s.",46504869,1,4470000,5408700,{"$f":"IF(N5692=\"SR\",1,IF(AC5692=\"\",VLOOKUP(AW5692,'CZKEUR Xchange rate'!$D$13:$E$234,2,FALSE),VLOOKUP(AW5692,'CZKEUR Xchange rate'!$A$13:$B$234,2,FALSE)))","v":27.04},165310.65088757398,200025.88757396452,{"$f":"U5692/Q5692","v":165310.65088757398},{"$f":"V5692/Q5692","v":200025.88757396452},{"$f":"VLOOKUP(AW5692,'Cenové indexy '!$D$7:$E$200,2,FALSE)","v":100.83},{"$f":"W5692/Y5692*'Cenové indexy '!$E$149","v":169081.49782837951},202897.79739405541,2016,"02","01","2016-02-01","Áno","Áno","na splátky","Nie",null,"24 mesiacov","neurčené","neurčené","Zmluva 323_AT",null,null,null,null,null,{"$f":"VLOOKUP(M5692,Adresy!$A$4:$C$156,2,FALSE)","v":"Nové Mesto na Morave"},{"$f":"VLOOKUP(M5692,Adresy!$A$4:$C$156,3,FALSE)","v":"Žďárská 610"},"M","2016M02",null,null,null,null,null,"Nové Mesto na Morave","Žďárská 610",0,0,0,0]
["mamograf",null,"akvizičná stanica","monitor","\"56",null,"Senographe essential Expert","Neurčené",null,"GE","bez položkovej identifikácie ceny (v rámci sumárnej ceny)",null,"Fakultní nemocnica Olomouc","ČR","GE Medical Systems  s.r.o.",63991306,null,null,null,{"$f":"IF(N5712=\"SR\",1,IF(AC5712=\"\",VLOOKUP(AW5712,'CZKEUR Xchange rate'!$D$13:$E$234,2,FALSE),VLOOKUP(AW5712,'CZKEUR Xchange rate'!$A$13:$B$234,2,FALSE)))","v":27.094000000000001},0,0,null,null,{"$f":"VLOOKUP(AW5712,'Cenové indexy '!$D$7:$E$200,2,FALSE)","v":99.95},{"$f":"W5712/Y5712*'Cenové indexy '!$E$149","v":0},0,2015,"07","20","2015-07-20","Áno","Áno","Neurčené","Nie",null,"24 mesiacov","neurčené","24 hodín","Zmluva NF_48",null,null,null,null,null,{"$f":"VLOOKUP(M5712,Adresy!$A$4:$C$156,2,FALSE)","v":"Olomouc"},{"$f":"VLOOKUP(M5712,Adresy!$A$4:$C$156,3,FALSE)","v":"I.P. Pavolva 185/6"},"M","2015M07",null,null,null,null,null,"Olomouc ","I.P. Pavolva 185/6",1,0,1,0]
["fakoemulzifikačný prístroj",null,"fakoemulzifikačný prístroj","riadiaca počítačová jednotka",null,null,"Neurčené",null,"oftalmológia ","neurčené","bez položkovej identifikácie ceny (v rámci sumárnej ceny)",null,"Fakultná nemocnica s poliklinkou Žilina","SR","Medilas s.r.o.",31332528,null,null,null,{"$f":"IF(N5739=\"SR\",1,IF(AC5739=\"\",VLOOKUP(AW5739,'CZKEUR Xchange rate'!$D$13:$E$234,2,FALSE),VLOOKUP(AW5739,'CZKEUR Xchange rate'!$A$13:$B$234,2,FALSE)))","v":1},0,0,null,null,{"$f":"VLOOKUP(AW5739,'Cenové indexy '!$D$7:$E$200,2,FALSE)","v":101.44},{"$f":"W5739/Y5739*'Cenové indexy '!$E$149","v":0},0,2016,"04","18","2016-04-18","Áno","Áno","Neurčené","Nie",null,"24 mesiacov","Neurčené","Neurčené","Zmluva NF_52",null,null,null,null,null,{"$f":"VLOOKUP(M5739,Adresy!$A$4:$C$156,2,FALSE)","v":"Žilina"},{"$f":"VLOOKUP(M5739,Adresy!$A$4:$C$156,3,FALSE)","v":"Vojtecha Spanyola 43"},"M","2016M04",null,null,null,null,null,"Žilina","Vojtecha Spanyola 43",0,0,0,0]
["operačný mikroskop",null,"operačný mikroskop","integrovaný LCD monitor","19\"",null,"OPMI LUMERA 700",null,"operačný mikroskop pre oftalmológiu","Carl Zeiss Meditec AG","bez položkovej identifikácie ceny (v rámci sumárnej ceny)","HW","Fakultná nemocnica Kráľovské Vinohrady","ČR","Carl Zeiss s.r.o.",null,null,null,null,{"$f":"IF(N5764=\"SR\",1,IF(AC5764=\"\",VLOOKUP(AW5764,'CZKEUR Xchange rate'!$D$13:$E$234,2,FALSE),VLOOKUP(AW5764,'CZKEUR Xchange rate'!$A$13:$B$234,2,FALSE)))","v":25.949000000000002},0,0,null,null,{"$f":"VLOOKUP(AW5764,'Cenové indexy '!$D$7:$E$200,2,FALSE)","v":98.57},{"$f":"W5764/Y5764*'Cenové indexy '!$E$149","v":0},0,2013,null,null,"2012-11-30","Áno","Áno","Neurčené","Nie","24 mesiacov zadarmo, potom 10 rokov podľa zmluvy",null,null,null,"Zmluva 63_AT",null,null,null,null,null,{"$f":"VLOOKUP(M5764,Adresy!$A$4:$C$156,2,FALSE)","v":"Praha"},{"$f":"VLOOKUP(M5764,Adresy!$A$4:$C$156,3,FALSE)","v":"Šrobárova 1150/50"},"M","2013M06",null,null,null,null,null,"Praha","Šrobárova 1150/50",0,0,0,0]
["operačný mikroskop",null,"operačný mikroskop","integrovaný delič",null,null,"OPMI LUMERA 700",null,"operačný mikroskop pre oftalmológiu","Carl Zeiss Meditec AG","bez položkovej identifikácie ceny (v rámci sumárnej ceny)","HW","Univerzitná nemocnica L. Pasteura Košice","SR","M E D I L A S spoločnosť s ručením obmedzeným",null,null,null,null,{"$f":"IF(N5780=\"SR\",1,IF(AC5780=\"\",VLOOKUP(AW5780,'CZKEUR Xchange rate'!$D$13:$E$234,2,FALSE),VLOOKUP(AW5780,'CZKEUR Xchange rate'!$A$13:$B$234,2,FALSE)))","v":1},0,0,null,null,{"$f":"VLOOKUP(AW5780,'Cenové indexy '!$D$7:$E$200,2,FALSE)","v":99.88},{"$f":"W5780/Y5780*'Cenové indexy '!$E$149","v":0},0,2015,null,null,"2014-11-30","Áno","Áno","Neurčené","Nie","24 mesiacov",null,null,null,"Zmluva 60_DG",null,null,null,null,null,{"$f":"VLOOKUP(M5780,Adresy!$A$4:$C$156,2,FALSE)","v":"Košice"},{"$f":"VLOOKUP(M5780,Adresy!$A$4:$C$156,3,FALSE)","v":"Trieda SNP 457/1"},"M","2015M06",null,null,null,null,null,"Košice","Trieda SNP 457/1",0,0,0,0]
["operačný mikroskop",null,"operačný mikroskop","integrovaný žltý filter",null,null,"HI-R 900 NEO",null,"operačný mikroskop pre oftalmológiu","Haag Streit Surgical","bez položkovej identifikácie ceny (v rámci sumárnej ceny)","HW","Vojenská fakultná nemocnica Praha","ČR","CMI s.r.o.",null,null,null,null,{"$f":"IF(N5791=\"SR\",1,IF(AC5791=\"\",VLOOKUP(AW5791,'CZKEUR Xchange rate'!$D$13:$E$234,2,FALSE),VLOOKUP(AW5791,'CZKEUR Xchange rate'!$A$13:$B$234,2,FALSE)))","v":27.452999999999999},0,0,null,null,{"$f":"VLOOKUP(AW5791,'Cenové indexy '!$D$7:$E$200,2,FALSE)","v":99.5},{"$f":"W5791/Y5791*'Cenové indexy '!$E$149","v":0},0,2014,null,null,"2013-11-30","Áno","Áno","Neurčené","Nie","36 mesiacov, pozáručný servis 7 rokov podľa aktuálneho cenníka",null,null,null,"Zmluva 61_DG",null,null,null,null,null,{"$f":"VLOOKUP(M5791,Adresy!$A$4:$C$156,2,FALSE)","v":"Praha"},{"$f":"VLOOKUP(M5791,Adresy!$A$4:$C$156,3,FALSE)","v":"U Vojenské nemocnice 1/1200"},"M","2014M06",null,null,null,null,null,"Praha","U Vojenské nemocnice 1/1200",0,0,0,0]
["operačný mikroskop",null,"operačný mikroskop","prístroj",null,null,"OPMI LUMERA 700",null,"operačný mikroskop pre oftalmológiu","Carl Zeiss Meditec AG","bez položkovej identifikácie ceny (v rámci sumárnej ceny)","HW","Fakultní nemocnice Brno","ČR","Carl Zeiss s.r.o.",null,null,null,null,{"$f":"IF(N5816=\"SR\",1,IF(AC5816=\"\",VLOOKUP(AW5816,'CZKEUR Xchange rate'!$D$13:$E$234,2,FALSE),VLOOKUP(AW5816,'CZKEUR Xchange rate'!$A$13:$B$234,2,FALSE)))","v":25.949000000000002},0,0,null,null,{"$f":"VLOOKUP(AW5816,'Cenové indexy '!$D$7:$E$200,2,FALSE)","v":98.57},{"$f":"W5816/Y5816*'Cenové indexy '!$E$149","v":0},0,2013,null,null,"2012-11-30","Áno","Áno","Neurčené","Nie","24 mesiacov zadarmo",null,null,null,"Zmluva 64_AT",null,null,null,null,null,{"$f":"VLOOKUP(M5816,Adresy!$A$4:$C$156,2,FALSE)","v":"Brno"},{"$f":"VLOOKUP(M5816,Adresy!$A$4:$C$156,3,FALSE)","v":"Jihlavská 340/20"},"M","2013M06",null,null,null,null,null,"Brno","Jihlavská 340/20",0,0,0,0]
["operačný mikroskop",null,"operačný mikroskop","možnosť pripojenia intraoperačného OCT",null,null,"Neurčené",null,"operačný mikroskop pre oftalmológiu","neurčené","bez položkovej identifikácie ceny (v rámci sumárnej ceny)",null,"Nemocnice Havlíčkuv Brod","ČR","CMI s.r.o.",null,null,null,null,{"$f":"IF(N5831=\"SR\",1,IF(AC5831=\"\",VLOOKUP(AW5831,'CZKEUR Xchange rate'!$D$13:$E$234,2,FALSE),VLOOKUP(AW5831,'CZKEUR Xchange rate'!$A$13:$B$234,2,FALSE)))","v":25.949000000000002},0,0,null,null,{"$f":"VLOOKUP(AW5831,'Cenové indexy '!$D$7:$E$200,2,FALSE)","v":98.57},{"$f":"W5831/Y5831*'Cenové indexy '!$E$149","v":0},0,2013,null,null,"2012-11-30","Áno","Áno","Neurčené","Nie","36 mesiacov ",null,null,null,"Zmluva 65_AT",null,null,null,null,null,{"$f":"VLOOKUP(M5831,Adresy!$A$4:$C$156,2,FALSE)","v":"Havlíčkův Brod"},{"$f":"VLOOKUP(M5831,Adresy!$A$4:$C$156,3,FALSE)","v":"Husova 2624"},"M","2013M06",null,null,null,null,null,"Havlíčkův Brod","Husova 2624",0,0,0,0]
["operačný mikroskop",null,"operačný mikroskop","podlahový statív",null,null,"Pentero 900",null,"operačný mikroskop pre neurochirurgiu","Carl Zeiss Meditec AG","bez položkovej identifikácie ceny (v rámci sumárnej ceny)",null,"Fakultní nemocnice Hradec Králové","ČR","PROMEDICA PRAHA GROUP a.s.",null,null,null,null,{"$f":"IF(N5863=\"SR\",1,IF(AC5863=\"\",VLOOKUP(AW5863,'CZKEUR Xchange rate'!$D$13:$E$234,2,FALSE),VLOOKUP(AW5863,'CZKEUR Xchange rate'!$A$13:$B$234,2,FALSE)))","v":27.253},0,0,null,null,{"$f":"VLOOKUP(AW5863,'Cenové indexy '!$D$7:$E$200,2,FALSE)","v":99.88},{"$f":"W5863/Y5863*'Cenové indexy '!$E$149","v":0},0,2015,null,null,"2014-11-30","Áno","Áno","ERDF","Nie","36 mesiacov zadarmo, potom podľa zmluvy",null,null,null,"Zmluva 67_AT",null,null,null,null,null,{"$f":"VLOOKUP(M5863,Adresy!$A$4:$C$156,2,FALSE)","v":"Hradec Králové"},{"$f":"VLOOKUP(M5863,Adresy!$A$4:$C$156,3,FALSE)","v":"Sokolská 581"},"M","2015M06",null,null,null,null,null,"Hradec Králové","Sokolská 581",0,0,0,0]
["operačný mikroskop",null,"operačný mikroskop","integrovaný optický delič",null,null,"Pentero 900",null,"operačný mikroskop pre neurochirurgiu","Carl Zeiss Meditec AG","bez položkovej identifikácie ceny (v rámci sumárnej ceny)",null,"Fakultní nemocnice Hradec Králové","ČR","PROMEDICA PRAHA GROUP a.s.",null,null,null,null,{"$f":"IF(N5868=\"SR\",1,IF(AC5868=\"\",VLOOKUP(AW5868,'CZKEUR Xchange rate'!$D$13:$E$234,2,FALSE),VLOOKUP(AW5868,'CZKEUR Xchange rate'!$A$13:$B$234,2,FALSE)))","v":27.253},0,0,null,null,{"$f":"VLOOKUP(AW5868,'Cenové indexy '!$D$7:$E$200,2,FALSE)","v":99.88},{"$f":"W5868/Y5868*'Cenové indexy '!$E$149","v":0},0,2015,null,null,"2014-11-30","Áno","Áno","ERDF","Nie","36 mesiacov zadarmo, potom podľa zmluvy",null,null,null,"Zmluva 67_AT",null,null,null,null,null,{"$f":"VLOOKUP(M5868,Adresy!$A$4:$C$156,2,FALSE)","v":"Hradec Králové"},{"$f":"VLOOKUP(M5868,Adresy!$A$4:$C$156,3,FALSE)","v":"Sokolská 581"},"M","2015M06",null,null,null,null,null,"Hradec Králové","Sokolská 581",0,0,0,0]
["operačný mikroskop",null,"operačný mikroskop","celá zostava","so stropným závesom",null,"LEICA M8221CT40","LEICA M8221CT41","operačný mikroskop pre oftalmológiu","Leica Camera","sumárna cena","HW","Vojenská fakultná nemocnica Praha","ČR","SPIRIT MEDICAL spol. s r.o.",null,1,1894982,2292928.2200000002,{"$f":"IF(N5899=\"SR\",1,IF(AC5899=\"\",VLOOKUP(AW5899,'CZKEUR Xchange rate'!$D$13:$E$234,2,FALSE),VLOOKUP(AW5899,'CZKEUR Xchange rate'!$A$13:$B$234,2,FALSE)))","v":27.088999999999999},69953.929639337002,84644.254863597787,{"$f":"U5899/Q5899","v":69953.929639337002},{"$f":"V5899/Q5899","v":84644.254863597787},{"$f":"VLOOKUP(AW5899,'Cenové indexy '!$D$7:$E$200,2,FALSE)","v":100.14},{"$f":"W5899/Y5899*'Cenové indexy '!$E$149","v":72042.627957907185},86451.153549488619,2015,"09",null,"2015-08-31","Áno","Áno","Neurčené","Nie","24 mesiacov zadarmo, potom 10 rokov podľa zmluvy",null,null,null,"Zmluva 107_AT",null,null,null,null,null,{"$f":"VLOOKUP(M5899,Adresy!$A$4:$C$156,2,FALSE)","v":"Praha"},{"$f":"VLOOKUP(M5899,Adresy!$A$4:$C$156,3,FALSE)","v":"U Vojenské nemocnice 1/1200"},"M","2015M09",null,null,null,null,null,"Praha","U Vojenské nemocnice 1/1200",0,0,0,0]
["operačný mikroskop",null,"endolaser","integrovaný endolaserový modul",null,null,"STELLARIS PC","STELLARIS PC","laser pre oftalmo chirurgiu","Bausch & Lomb","sumárna cena","HW","Masarykova nemocnice v Ústí nad Labem, o.z.","ČR","SPIRIT MEDICAL spol. s r.o.",null,1,728000,880880,{"$f":"IF(N5915=\"SR\",1,IF(AC5915=\"\",VLOOKUP(AW5915,'CZKEUR Xchange rate'!$D$13:$E$234,2,FALSE),VLOOKUP(AW5915,'CZKEUR Xchange rate'!$A$13:$B$234,2,FALSE)))","v":27.64},26338.639652677281,31869.753979739507,{"$f":"U5915/Q5915","v":26338.639652677281},{"$f":"V5915/Q5915","v":31869.753979739507},{"$f":"VLOOKUP(AW5915,'Cenové indexy '!$D$7:$E$200,2,FALSE)","v":99.92},{"$f":"W5915/Y5915*'Cenové indexy '!$E$149","v":27184.786903328739},32621.744283994485,2014,"12",null,"2014-11-30","Áno","Áno","Neurčené","Nie","24 mesiacov zadarmo",null,null,null,"Zmluva 109_AT",null,null,null,null,null,{"$f":"VLOOKUP(M5915,Adresy!$A$4:$C$156,2,FALSE)","v":"Ústí nad Labem"},{"$f":"VLOOKUP(M5915,Adresy!$A$4:$C$156,3,FALSE)","v":"Sociální péčer 12A"},"M","2014M12",null,null,null,null,null,"Ústí nad Labem","Sociální péčer 12A",0,0,0,0]
["operačný mikroskop",null,"operačný mikroskop","prístroj","4 kolieska",null,"OMPI LUMERA i",null,"operačný mikroskop pre oftalmológiu","Neurčené","bez položkovej identifikácie ceny (v rámci sumárnej ceny)",null,"Fakultná nemocnica s poliklinikou F. D. Roosevelta Banská Bystrica","SR","Carl Zeiss s.r.o.",46095969,null,null,null,{"$f":"IF(N5940=\"SR\",1,IF(AC5940=\"\",VLOOKUP(AW5940,'CZKEUR Xchange rate'!$D$13:$E$234,2,FALSE),VLOOKUP(AW5940,'CZKEUR Xchange rate'!$A$13:$B$234,2,FALSE)))","v":1},0,0,null,null,{"$f":"VLOOKUP(AW5940,'Cenové indexy '!$D$7:$E$200,2,FALSE)","v":99.83},{"$f":"W5940/Y5940*'Cenové indexy '!$E$149","v":0},0,2014,"09","18","2014-08-18","Áno","Áno","Neurčené","Nie",null,"12 mesiacov","10 rokov","24 hodín","Zmluva NF_50",null,null,null,null,null,{"$f":"VLOOKUP(M5940,Adresy!$A$4:$C$156,2,FALSE)","v":"Banská Bystrica"},{"$f":"VLOOKUP(M5940,Adresy!$A$4:$C$156,3,FALSE)","v":"Námestie Ludvíka Svobodu 6818/4"},"M","2014M09",null,null,null,null,null,"Banská Bystrica","Námestie Ludvíka Svobodu 6818/4",0,0,0,0]
["podtlakový izolátor",null,"priechodka pre datový kábel",null,null,null,"PharmaGard NU-NTE797-600E","797M383",null,"NuAire","bez položkovej identifikácie ceny (v rámci sumárnej ceny)",null,"Nemocnice Český Krumlov","ČR","ELISABETH PHARMACON spol. s.r.o","26258414",null,null,null,{"$f":"IF(N5967=\"SR\",1,IF(AC5967=\"\",VLOOKUP(AW5967,'CZKEUR Xchange rate'!$D$13:$E$234,2,FALSE),VLOOKUP(AW5967,'CZKEUR Xchange rate'!$A$13:$B$234,2,FALSE)))","v":27.588000000000001},0,0,null,null,{"$f":"VLOOKUP(AW5967,'Cenové indexy '!$D$7:$E$200,2,FALSE)","v":99.94},{"$f":"W5967/Y5967*'Cenové indexy '!$E$149","v":0},0,2014,"10","10","2014-10-10","Áno","Áno","Neurčené","Nie",null,"36 mesiacov","detail v zmluve","Neurčené","Zmluva 326_AT",null,null,null,null,null,{"$f":"VLOOKUP(M5967,Adresy!$A$4:$C$156,2,FALSE)","v":"Český Krumlov"},{"$f":"VLOOKUP(M5967,Adresy!$A$4:$C$156,3,FALSE)","v":"Nemocniční 429"},"M","2014M10",null,null,null,null,null,"Český Krumlov","Nemocniční 429",0,0,0,0]
["RTG",null,"ochrana proti žiareniu","odnímateľná",null,null,"UROSKOP Omnia L",null,null,"Siemens AG","položková cena (súčasť sumárnej ceny)",null,"Fakultní nemocnice Hradec Králové","ČR","MEDIFINE a.s.",27718948,1,126710,null,{"$f":"IF(N5987=\"SR\",1,IF(AC5987=\"\",VLOOKUP(AW5987,'CZKEUR Xchange rate'!$D$13:$E$234,2,FALSE),VLOOKUP(AW5987,'CZKEUR Xchange rate'!$A$13:$B$234,2,FALSE)))","v":25.841000000000001},4903.4480089779809,0,{"$f":"U5987/Q5987","v":4903.4480089779809},null,{"$f":"VLOOKUP(AW5987,'Cenové indexy '!$D$7:$E$200,2,FALSE)","v":98.35},{"$f":"W5987/Y5987*'Cenové indexy '!$E$149","v":5141.7650550676071},6170.1180660811287,2013,"04","12","2013-04-12","Áno","Áno","na splátky","Nie",null,"24 mesiacov","na dobu neurčitú","24 hodín","Zmluva 328_AT",null,null,null,null,null,{"$f":"VLOOKUP(M5987,Adresy!$A$4:$C$156,2,FALSE)","v":"Hradec Králové"},{"$f":"VLOOKUP(M5987,Adresy!$A$4:$C$156,3,FALSE)","v":"Sokolská 581"},"M","2013M04",null,null,null,null,null,"Hradec Králové","Sokolská 581",0,0,0,0]
["RTG","digitálny RTG","monitor","4 ks","\"21,3",null,"Multix Fusion",null,null,"Siemens","bez položkovej identifikácie ceny (v rámci sumárnej ceny)",null,"Nemocnice Jihlava","ČR","BioVentor - Laboratórni medicína",63471507,4,null,null,{"$f":"IF(N6008=\"SR\",1,IF(AC6008=\"\",VLOOKUP(AW6008,'CZKEUR Xchange rate'!$D$13:$E$234,2,FALSE),VLOOKUP(AW6008,'CZKEUR Xchange rate'!$A$13:$B$234,2,FALSE)))","v":27.457999999999998},0,0,null,null,{"$f":"VLOOKUP(AW6008,'Cenové indexy '!$D$7:$E$200,2,FALSE)","v":99.71},{"$f":"W6008/Y6008*'Cenové indexy '!$E$149","v":0},0,2014,"07","30","2014-07-30","Áno","Áno","EFRR","Áno",null,"24 mesiacov","neurčené","24 hodín","Zmluva 330_AT",null,null,null,null,null,{"$f":"VLOOKUP(M6008,Adresy!$A$4:$C$156,2,FALSE)","v":"Jihlava"},{"$f":"VLOOKUP(M6008,Adresy!$A$4:$C$156,3,FALSE)","v":"Vrchlického 59"},"M","2014M07",null,null,null,null,null,"Jihlava","Vrchlického 59",0,0,0,0]
["urologické pracovisko s laserom pre litotripsiu",null,"RTG C-rameno",null,null,null,"SONOLITH I-MOVE","Technix TCA 6S9\"",null,"EDAP TMS","bez položkovej identifikácie ceny (v rámci sumárnej ceny)","HW","Karlovarská krajská  nemocnice a.s","ČR","LaparoTech Instrumensts s.r.o",25622846,null,null,null,{"$f":"IF(N6014=\"SR\",1,IF(AC6014=\"\",VLOOKUP(AW6014,'CZKEUR Xchange rate'!$D$13:$E$234,2,FALSE),VLOOKUP(AW6014,'CZKEUR Xchange rate'!$A$13:$B$234,2,FALSE)))","v":27.105},0,0,null,null,{"$f":"VLOOKUP(AW6014,'Cenové indexy '!$D$7:$E$200,2,FALSE)","v":100.07},{"$f":"W6014/Y6014*'Cenové indexy '!$E$149","v":0},0,2015,"10","16",42293,"Áno","Áno","EFRR","Áno",null,"24 mesiacov","min. 10 rokov, predmetom bud.zmluvy","24 hodín","Zmluva 331_AT",null,null,null,null,null,{"$f":"VLOOKUP(M6014,Adresy!$A$4:$C$156,2,FALSE)","v":"Karlovy Vary"},{"$f":"VLOOKUP(M6014,Adresy!$A$4:$C$156,3,FALSE)","v":"Bezručova 1190/19"},"M","2015M10",null,null,null,null,null,"Karlovy Vary","Bezručova 1190/19",0,0,0,0]
["elektrochirurgický prístroj",null,"monopolárne a bipolárne koagulačné režimy","ľahká koagulácia","výkon 200 W",null,"ERBOTOM ICC 300 D VIO",null,null,"ERBE","bez položkovej identifikácie ceny (v rámci sumárnej ceny)",null,"Univerzitná nemocnica Martin","SR","E-BA spol. s r.o.",31367713,null,null,null,{"$f":"IF(N6039=\"SR\",1,IF(AC6039=\"\",VLOOKUP(AW6039,'CZKEUR Xchange rate'!$D$13:$E$234,2,FALSE),VLOOKUP(AW6039,'CZKEUR Xchange rate'!$A$13:$B$234,2,FALSE)))","v":1},0,0,null,null,{"$f":"VLOOKUP(AW6039,'Cenové indexy '!$D$7:$E$200,2,FALSE)","v":102.96},{"$f":"W6039/Y6039*'Cenové indexy '!$E$149","v":0},0,2016,"10","14","2016-10-14","Áno","Áno","vlastné finančné prostriedky","Nie",null,"24 mesiacov","neurčené","24 hodín","Zmluva 336_AT",null,null,null,null,null,{"$f":"VLOOKUP(M6039,Adresy!$A$4:$C$156,2,FALSE)","v":"Martin"},{"$f":"VLOOKUP(M6039,Adresy!$A$4:$C$156,3,FALSE)","v":"Kollárova 2"},"M","2016M10",null,null,null,null,null,"Martin","Kollárova 2",0,0,0,0]
["infúzna technika",null,"napájací kábel samostanej pumpy",null,null,null,"neurčené","neurčené",null,"neurčené","bez položkovej identifikácie ceny (v rámci sumárnej ceny)",null,"Fakultná nemocnica s poliklinikou F. D. Roosevelta Banská Bystrica","SR","Med Partners a.s.",44851740,null,null,null,{"$f":"IF(N6060=\"SR\",1,IF(AC6060=\"\",VLOOKUP(AW6060,'CZKEUR Xchange rate'!$D$13:$E$234,2,FALSE),VLOOKUP(AW6060,'CZKEUR Xchange rate'!$A$13:$B$234,2,FALSE)))","v":1},0,0,null,null,{"$f":"VLOOKUP(AW6060,'Cenové indexy '!$D$7:$E$200,2,FALSE)","v":103.13},{"$f":"W6060/Y6060*'Cenové indexy '!$E$149","v":0},0,2016,"11","16","2016-11-30","Áno","Áno","Neurčené","Nie",null,"24 mesiacov ","neurčený","48 hodín ","Zmluva 56_NF",null,null,null,null,null,{"$f":"VLOOKUP(M6060,Adresy!$A$4:$C$156,2,FALSE)","v":"Banská Bystrica"},{"$f":"VLOOKUP(M6060,Adresy!$A$4:$C$156,3,FALSE)","v":"Námestie Ludvíka Svobodu 6818/4"},"M","2016M11",null,null,null,null,null,{"$f":"VLOOKUP(M6060,Adresy!$A$3:$C$154,2,FALSE)","v":"Banská Bystrica"},{"$f":"VLOOKUP(M6060,Adresy!$A$3:$C$154,3,FALSE)","v":"Námestie Ludvíka Svobodu 6818/4"},0,0,0,0]
["EEG systém",null,"príslušenstvo","štandardné EEG čiapky ","9 veľkostí ",null,"SD LTM 64 Express",null,null,"Micromed","položková cena (súčasť sumárnej ceny)",null,"Detská fakultná nemocnica Košice","SR","WEGA – MS spol. s.r.o.",30998328,1,1895.3,null,{"$f":"IF(N6082=\"SR\",1,IF(AC6082=\"\",VLOOKUP(AW6082,'CZKEUR Xchange rate'!$D$13:$E$234,2,FALSE),VLOOKUP(AW6082,'CZKEUR Xchange rate'!$A$13:$B$234,2,FALSE)))","v":1},1895.3,0,1895.3,{"$f":"V6082/Q6082","v":0},{"$f":"VLOOKUP(AW6082,'Cenové indexy '!$D$7:$E$200,2,FALSE)","v":100.07},{"$f":"W6082/Y6082*'Cenové indexy '!$E$149","v":1953.2556110722494},{"$f":"Z6082*1.2","v":2343.9067332866994},2015,"10","28","2015-10-28","Áno","Áno ","Neurčené","Nie",null,"neurčené","neurčené","neurčené","Zmluva 61_NF",null,null,null,null,null,{"$f":"VLOOKUP(M6082,Adresy!$A$4:$C$156,2,FALSE)","v":"Košice"},{"$f":"VLOOKUP(M6082,Adresy!$A$4:$C$156,3,FALSE)","v":"Trieda SNP 457/1"},"M","2015M10",null,null,null,null,null,{"$f":"VLOOKUP(M6082,Adresy!$A$3:$C$154,2,FALSE)","v":"Košice"},{"$f":"VLOOKUP(M6082,Adresy!$A$3:$C$154,3,FALSE)","v":"Trieda SNP 457/1"},{"$f":"IF(BC6082<>AT6082,1,0)","v":0},0,0,0]
["gynekologický vyšetrovací systém "," ","Zásuvka typ A1",null,null,null,"ATMOS S41 + OTV-S190",null,null,"neurčené","položková cena (súčasť sumárnej ceny)",null,"Fakultná nemocnica Trenčín","SR","ULTRAMED s.r.o.",36638404,2,400,480,{"$f":"IF(N6107=\"SR\",1,IF(AC6107=\"\",VLOOKUP(AW6107,'CZKEUR Xchange rate'!$D$13:$E$234,2,FALSE),VLOOKUP(AW6107,'CZKEUR Xchange rate'!$A$13:$B$234,2,FALSE)))","v":1},400,480,200,240,{"$f":"VLOOKUP(AW6107,'Cenové indexy '!$D$7:$E$200,2,FALSE)","v":100.07},{"$f":"W6107/Y6107*'Cenové indexy '!$E$149","v":206.11571899670233},247.33886279604278,2015,"10","07","2015-10-07","Áno","Áno","Neurčené","Nie",null,"24 mesiacov ","neurčené","24 hodín ","Zmluva 64_NF",null,null,null,null,null,{"$f":"VLOOKUP(M6107,Adresy!$A$4:$C$156,2,FALSE)","v":"Trenčín"},{"$f":"VLOOKUP(M6107,Adresy!$A$4:$C$156,3,FALSE)","v":"Legionárska 594/2"},"M","2015M10",null,null,null,null,null,{"$f":"VLOOKUP(M6107,Adresy!$A$3:$C$154,2,FALSE)","v":"Trenčín"},{"$f":"VLOOKUP(M6107,Adresy!$A$3:$C$154,3,FALSE)","v":"Legionárska 594/2"},0,0,0,0]
["gynekologický vyšetrovací systém "," ","Funkčná podpora výklopného ramena pre dvojité a trojité vežové skrinky",null,null,null,"ATMOS S41 + OTV-S190",null,null,"neurčené","položková cena (súčasť sumárnej ceny)",null,"Fakultná nemocnica Trenčín","SR","ULTRAMED s.r.o.",36638404,1,1820,2184,{"$f":"IF(N6112=\"SR\",1,IF(AC6112=\"\",VLOOKUP(AW6112,'CZKEUR Xchange rate'!$D$13:$E$234,2,FALSE),VLOOKUP(AW6112,'CZKEUR Xchange rate'!$A$13:$B$234,2,FALSE)))","v":1},1820,2184,1820,2184,{"$f":"VLOOKUP(AW6112,'Cenové indexy '!$D$7:$E$200,2,FALSE)","v":100.07},{"$f":"W6112/Y6112*'Cenové indexy '!$E$149","v":1875.6530428699912},2250.7836514439891,2015,"10","07","2015-10-07","Áno","Áno","Neurčené","Nie",null,"24 mesiacov ","neurčené","24 hodín ","Zmluva 64_NF",null,null,null,null,null,{"$f":"VLOOKUP(M6112,Adresy!$A$4:$C$156,2,FALSE)","v":"Trenčín"},{"$f":"VLOOKUP(M6112,Adresy!$A$4:$C$156,3,FALSE)","v":"Legionárska 594/2"},"M","2015M10",null,null,null,null,null,{"$f":"VLOOKUP(M6112,Adresy!$A$3:$C$154,2,FALSE)","v":"Trenčín"},{"$f":"VLOOKUP(M6112,Adresy!$A$3:$C$154,3,FALSE)","v":"Legionárska 594/2"},0,0,0,0]
["gynekologický vyšetrovací systém ",null,"svetlovod, veľkosť M, 3 m, CF typ",null,null,null,"ATMOS S41 + OTV-S190",null,null,"neurčené","položková cena (súčasť sumárnej ceny)",null,"Fakultná nemocnica Trenčín","SR","ULTRAMED s.r.o.",36638404,1,632.29999999999995,758.76,{"$f":"IF(N6150=\"SR\",1,IF(AC6150=\"\",VLOOKUP(AW6150,'CZKEUR Xchange rate'!$D$13:$E$234,2,FALSE),VLOOKUP(AW6150,'CZKEUR Xchange rate'!$A$13:$B$234,2,FALSE)))","v":1},632.29999999999995,758.76,632.29999999999995,758.76,{"$f":"VLOOKUP(AW6150,'Cenové indexy '!$D$7:$E$200,2,FALSE)","v":100.07},{"$f":"W6150/Y6150*'Cenové indexy '!$E$149","v":651.63484560807433},781.96181472968919,2015,"10","07","2015-10-07","Áno","Áno","Neurčené","Nie",null,"24 mesiacov ","neurčené","24 hodín ","Zmluva 64_NF",null,null,null,null,null,{"$f":"VLOOKUP(M6150,Adresy!$A$4:$C$156,2,FALSE)","v":"Trenčín"},{"$f":"VLOOKUP(M6150,Adresy!$A$4:$C$156,3,FALSE)","v":"Legionárska 594/2"},"M","2015M10",null,null,null,null,null,{"$f":"VLOOKUP(M6150,Adresy!$A$3:$C$154,2,FALSE)","v":"Trenčín"},{"$f":"VLOOKUP(M6150,Adresy!$A$3:$C$154,3,FALSE)","v":"Legionárska 594/2"},0,0,0,0]
["komplexný systém na realizáciu, snímanie, záznam a prenos miniinváznych zákrokov "," ","CMOS Full HD kamera - kamerová jednotka",null,null,null,"Aesculap AG ",null,null,"Braun","položková cena (súčasť sumárnej ceny)",null,"Fakultná nemocnica Trenčín","SR","Med Partners a.s.",44851740,1,10673,12807.6,{"$f":"IF(N6159=\"SR\",1,IF(AC6159=\"\",VLOOKUP(AW6159,'CZKEUR Xchange rate'!$D$13:$E$234,2,FALSE),VLOOKUP(AW6159,'CZKEUR Xchange rate'!$A$13:$B$234,2,FALSE)))","v":1},10673,12807.6,10673,12807.6,{"$f":"VLOOKUP(AW6159,'Cenové indexy '!$D$7:$E$200,2,FALSE)","v":100.07},{"$f":"W6159/Y6159*'Cenové indexy '!$E$149","v":10999.365344259018},13199.238413110821,2015,"10","07","2015-10-07","Áno","Áno","Neurčené","Nie",null,"24 mesiacov ","neurčené","24 hodín ","Zmluva 65_NF",null,null,null,null,null,{"$f":"VLOOKUP(M6159,Adresy!$A$4:$C$156,2,FALSE)","v":"Trenčín"},{"$f":"VLOOKUP(M6159,Adresy!$A$4:$C$156,3,FALSE)","v":"Legionárska 594/2"},"M","2015M10",null,null,null,null,null,{"$f":"VLOOKUP(M6159,Adresy!$A$3:$C$154,2,FALSE)","v":"Trenčín"},{"$f":"VLOOKUP(M6159,Adresy!$A$3:$C$154,3,FALSE)","v":"Legionárska 594/2"},0,0,0,0]
["komplexný systém na realizáciu, snímanie, záznam a prenos miniinváznych zákrokov "," ","AP Safe",null,null,null,"Aesculap AG ",null,null,"Braun","položková cena (súčasť sumárnej ceny)",null,"Fakultná nemocnica Trenčín","SR","Med Partners a.s.",44851740,1,7918.88,9502.66,{"$f":"IF(N6184=\"SR\",1,IF(AC6184=\"\",VLOOKUP(AW6184,'CZKEUR Xchange rate'!$D$13:$E$234,2,FALSE),VLOOKUP(AW6184,'CZKEUR Xchange rate'!$A$13:$B$234,2,FALSE)))","v":1},7918.88,9502.66,7918.88,9502.66,{"$f":"VLOOKUP(AW6184,'Cenové indexy '!$D$7:$E$200,2,FALSE)","v":100.07},{"$f":"W6184/Y6184*'Cenové indexy '!$E$149","v":8161.0282242430303},9793.2338690916367,2015,"10","07","2015-10-07","Áno","Áno","Neurčené","Nie",null,"24 mesiacov ","neurčené","24 hodín ","Zmluva 65_NF",null,null,null,null,null,{"$f":"VLOOKUP(M6184,Adresy!$A$4:$C$156,2,FALSE)","v":"Trenčín"},{"$f":"VLOOKUP(M6184,Adresy!$A$4:$C$156,3,FALSE)","v":"Legionárska 594/2"},"M","2015M10",null,null,null,null,null,{"$f":"VLOOKUP(M6184,Adresy!$A$3:$C$154,2,FALSE)","v":"Trenčín"},{"$f":"VLOOKUP(M6184,Adresy!$A$3:$C$154,3,FALSE)","v":"Legionárska 594/2"},0,0,0,0]
["RTG",null,"celá zostava",null,null,null,"Xstrahl 200","Xstrahl 200",null,"Xstrahl","sumárna cena","HW/SW","Fakultná nemocnica s poliklinikou J.A.Reimana Prešov","SR","CANBERRA-PACKARD s.r.o.",31576303,1,{"$f":"SUM(R6198:R6204)","v":205500},{"$f":"SUM(S6198:S6204)","v":246600},{"$f":"IF(N6197=\"SR\",1,IF(AC6197=\"\",VLOOKUP(AW6197,'CZKEUR Xchange rate'!$D$13:$E$234,2,FALSE),VLOOKUP(AW6197,'CZKEUR Xchange rate'!$A$13:$B$234,2,FALSE)))","v":1},205500,246600,205500,246600,{"$f":"VLOOKUP(AW6197,'Cenové indexy '!$D$7:$E$200,2,FALSE)","v":100.29},{"$f":"W6197/Y6197*'Cenové indexy '!$E$149","v":211319.32396051448},253583.18875261737,2015,"12","22","2015-12-22","Áno","Áno","Neurčené","Nie",null,"24 mesiacov ","neurčené","48 hodín ","Zmluva 67_NF",null,null,null,null,null,{"$f":"VLOOKUP(M6197,Adresy!$A$4:$C$156,2,FALSE)","v":"Prešov"},{"$f":"VLOOKUP(M6197,Adresy!$A$4:$C$156,3,FALSE)","v":"Jána Hollého"},"M","2015M12",null,null,null,null,null,{"$f":"VLOOKUP(M6197,Adresy!$A$3:$C$154,2,FALSE)","v":"Prešov"},{"$f":"VLOOKUP(M6197,Adresy!$A$3:$C$154,3,FALSE)","v":"Jána Hollého"},0,0,0,0]
["systém rotačný aterektomický rotablátor",null,"konzola",null,null,null,"Rotablator System",null,null,"Boston Scientific Corporation","bez položkovej identifikácie ceny (v rámci sumárnej ceny)",null,"Stredoslovenský ústav srdcových a cievnych chorôb, a.s.","SR","InterMedical spol. s r.o.",36547263,null,null,null,{"$f":"IF(N6231=\"SR\",1,IF(AC6231=\"\",VLOOKUP(AW6231,'CZKEUR Xchange rate'!$D$13:$E$234,2,FALSE),VLOOKUP(AW6231,'CZKEUR Xchange rate'!$A$13:$B$234,2,FALSE)))","v":1},0,0,null,null,{"$f":"VLOOKUP(AW6231,'Cenové indexy '!$D$7:$E$200,2,FALSE)","v":100.11},{"$f":"W6231/Y6231*'Cenové indexy '!$E$149","v":0},0,2015,"08","25","2015-08-25","Áno","Áno","Neurčené","Nie",null,"Neurčené","neurčené","neurčené","Zmluva 342_AT",null,null,null,null,null,{"$f":"VLOOKUP(M6231,Adresy!$A$4:$C$156,2,FALSE)","v":"Banská Bystrica"},{"$f":"VLOOKUP(M6231,Adresy!$A$4:$C$156,3,FALSE)","v":"Cesta k nemocnici 622/1"},"M","2015M08",null,null,null,null,null,"Banská Bystrica","Cesta k nemocnici 622/1",0,0,0,0]
["intravaskulárny diagnostický prístroj/systém na optimalizáciu PKI",null,"Wi-Box jednotka pre bezdrôtový prenos tlaku",null,null,null,"ILUMIEN OPTIS System",null,null,"St. Jude Medical","bez položkovej identifikácie ceny (v rámci sumárnej ceny)",null,"Stredoslovenský ústav srdcových a cievnych chorôb, a.s.","SR","Operatívna medicínska spoločnosť s.r.o.",35757329,2,null,null,{"$f":"IF(N6236=\"SR\",1,IF(AC6236=\"\",VLOOKUP(AW6236,'CZKEUR Xchange rate'!$D$13:$E$234,2,FALSE),VLOOKUP(AW6236,'CZKEUR Xchange rate'!$A$13:$B$234,2,FALSE)))","v":1},0,0,null,null,{"$f":"VLOOKUP(AW6236,'Cenové indexy '!$D$7:$E$200,2,FALSE)","v":99.95},{"$f":"W6236/Y6236*'Cenové indexy '!$E$149","v":0},0,2015,"07","20","2015-07-20","Áno","Áno","Neurčené","Nie",null,"Neurčené","neurčené","neurčené","Zmluva 343_AT",null,null,null,null,null,{"$f":"VLOOKUP(M6236,Adresy!$A$4:$C$156,2,FALSE)","v":"Banská Bystrica"},{"$f":"VLOOKUP(M6236,Adresy!$A$4:$C$156,3,FALSE)","v":"Cesta k nemocnici 622/1"},"M","2015M07",null,null,null,null,null,"Banská Bystrica","Cesta k nemocnici 622/1",0,0,0,0]
["parný sterilizátor",null,"prevedenie",null,"jednodverové",null,"Unisteri HP 636-1",null,null,"BMT","bez položkovej identifikácie ceny (v rámci sumárnej ceny)","HW","Národný ústav reumatických chorôb","SR","BMT s.r.o.",31444571,null,null,null,{"$f":"IF(N6269=\"SR\",1,IF(AC6269=\"\",VLOOKUP(AW6269,'CZKEUR Xchange rate'!$D$13:$E$234,2,FALSE),VLOOKUP(AW6269,'CZKEUR Xchange rate'!$A$13:$B$234,2,FALSE)))","v":1},0,0,null,null,{"$f":"VLOOKUP(AW6269,'Cenové indexy '!$D$7:$E$200,2,FALSE)","v":102.96},{"$f":"W6269/Y6269*'Cenové indexy '!$E$149","v":0},0,2016,"10","13","2016-10-13","Áno","Áno","Neurčené","Nie",null,"24 mesiacov","neurčené","neurčené","Zmluva 346_AT",null,null,null,null,null,{"$f":"VLOOKUP(M6269,Adresy!$A$4:$C$156,2,FALSE)","v":"Piešťany"},{"$f":"VLOOKUP(M6269,Adresy!$A$4:$C$156,3,FALSE)","v":"Nábr. I. Krasku 4"},"M","2016M10",null,null,null,null,null,{"$f":"VLOOKUP(M6269,Adresy!$A$3:$C$156,2,FALSE)","v":"Piešťany"},{"$f":"VLOOKUP(M6269,Adresy!$A$3:$C$156,3,FALSE)","v":"Nábr. I. Krasku 4"},0,0,0,0]
["pľúcny ventilátor",null,"expiračná membrána",null,null,null,"Hamilton G5",null,null,"Hamilton medical","bez položkovej identifikácie ceny (v rámci sumárnej ceny)",null,"Národný ústav tuberkulózy, pl'úcnych chorôb a hrudníkovej chirurgie Vyšné Hágy","SR","Medis Nitra",36531774,1,null,null,{"$f":"IF(N6283=\"SR\",1,IF(AC6283=\"\",VLOOKUP(AW6283,'CZKEUR Xchange rate'!$D$13:$E$234,2,FALSE),VLOOKUP(AW6283,'CZKEUR Xchange rate'!$A$13:$B$234,2,FALSE)))","v":1},0,0,null,null,{"$f":"VLOOKUP(AW6283,'Cenové indexy '!$D$7:$E$200,2,FALSE)","v":100.29},{"$f":"W6283/Y6283*'Cenové indexy '!$E$149","v":0},0,2015,"12","17","2015-12-17","Áno","Áno","neurčené","Nie",null,"24 mesiacov","neurčené","45 hodín","Zmluva 349_AT",null,null,null,null,null,{"$f":"VLOOKUP(M6283,Adresy!$A$4:$C$156,2,FALSE)","v":"Vysoké Tatry"},{"$f":"VLOOKUP(M6283,Adresy!$A$4:$C$156,3,FALSE)","v":"Vysoké Tatry 1"},"M","2015M12",null,null,null,null,null,"Vysoké Tatry","Vysoké Tatry 1",0,0,0,0]
["operačný mikroskop",null,"operačný mikroskop","motorizovaný fokus ","70 mm ",null,"OPMI LUMERA 700",null,"operačný mikroskop pre oftalmológiu","Carl Zeiss spol. s.r.o.","bez položkovej identifikácie ceny (v rámci sumárnej ceny)","HW/SW","Nemocnice Znojmo","ČR","Carl Zeiss s.r.o.",49356691,null,null,null,{"$f":"IF(N6308=\"SR\",1,IF(AC6308=\"\",VLOOKUP(AW6308,'CZKEUR Xchange rate'!$D$13:$E$234,2,FALSE),VLOOKUP(AW6308,'CZKEUR Xchange rate'!$A$13:$B$234,2,FALSE)))","v":27.04},0,0,null,null,{"$f":"VLOOKUP(AW6308,'Cenové indexy '!$D$7:$E$200,2,FALSE)","v":100.83},{"$f":"W6308/Y6308*'Cenové indexy '!$E$149","v":0},0,2016,"02","19","2016-02-19","Áno","Áno","neurčené","Nie",null,"24 mesiacov","neurčené","24 hodín ","Zmluva 82_NF ",null,null,null,null,null,{"$f":"VLOOKUP(M6308,Adresy!$A$4:$C$156,2,FALSE)","v":" Znojmo"},{"$f":"VLOOKUP(M6308,Adresy!$A$4:$C$156,3,FALSE)","v":"MUDr. Jana Janského 2675/11"},"M","2016M02",null,null,null,null,null,{"$f":"VLOOKUP(M6308,Adresy!$A$3:$C$154,2,FALSE)","v":" Znojmo"},{"$f":"VLOOKUP(M6308,Adresy!$A$3:$C$154,3,FALSE)","v":"MUDr. Jana Janského 2675/11"},0,0,0,0]
["operačný mikroskop",null,"operačný mikroskop","monitor LCD ","\"24\"",null,"OPMI LUMERA 700",null,"operačný mikroskop pre oftalmológiu","Carl Zeiss spol. s.r.o.","bez položkovej identifikácie ceny (v rámci sumárnej ceny)","HW/SW","Nemocnice Znojmo","ČR","Carl Zeiss s.r.o.",49356691,null,null,null,{"$f":"IF(N6316=\"SR\",1,IF(AC6316=\"\",VLOOKUP(AW6316,'CZKEUR Xchange rate'!$D$13:$E$234,2,FALSE),VLOOKUP(AW6316,'CZKEUR Xchange rate'!$A$13:$B$234,2,FALSE)))","v":27.04},0,0,null,null,{"$f":"VLOOKUP(AW6316,'Cenové indexy '!$D$7:$E$200,2,FALSE)","v":100.83},{"$f":"W6316/Y6316*'Cenové indexy '!$E$149","v":0},0,2016,"02","19","2016-02-19","Áno","Áno","neurčené","Nie",null,"24 mesiacov","neurčené","24 hodín ","Zmluva 82_NF ",null,null,null,null,null,{"$f":"VLOOKUP(M6316,Adresy!$A$4:$C$156,2,FALSE)","v":" Znojmo"},{"$f":"VLOOKUP(M6316,Adresy!$A$4:$C$156,3,FALSE)","v":"MUDr. Jana Janského 2675/11"},"M","2016M02",null,null,null,null,null,{"$f":"VLOOKUP(M6316,Adresy!$A$3:$C$154,2,FALSE)","v":" Znojmo"},{"$f":"VLOOKUP(M6316,Adresy!$A$3:$C$154,3,FALSE)","v":"MUDr. Jana Janského 2675/11"},0,0,0,0]
["EMG",null,"tlačiareň",null,null,null,"TruTrace 8 CL",null,null,"Alien Technik","položková cena (súčasť sumárnej ceny)",null,"Detská fakultná nemocnica s poliklinikou Banská Bystrica","SR","Alien technik s.r.o.",25284588,1,92.5,null,{"$f":"IF(N6335=\"SR\",1,IF(AC6335=\"\",VLOOKUP(AW6335,'CZKEUR Xchange rate'!$D$13:$E$234,2,FALSE),VLOOKUP(AW6335,'CZKEUR Xchange rate'!$A$13:$B$234,2,FALSE)))","v":1},92.5,0,92.5,null,{"$f":"VLOOKUP(AW6335,'Cenové indexy '!$D$7:$E$200,2,FALSE)","v":103.31},{"$f":"W6335/Y6335*'Cenové indexy '!$E$149","v":92.338834575549313},110.80660149065918,2016,"12","08","2016-12-08","Áno","Áno","Neurčené","Nie",null,"24 mesiacov","neurčené","48 hodín","Zmluva 350_AT",null,null,null,null,null,{"$f":"VLOOKUP(M6335,Adresy!$A$4:$C$156,2,FALSE)","v":"Banská Bystrica"},{"$f":"VLOOKUP(M6335,Adresy!$A$4:$C$156,3,FALSE)","v":"Námestie Ludvíka Svobodu 6818/4"},"M","2016M12",null,null,null,null,null,"Banská Bystrica","Námestie Ludvíka Svobodu 6818/4",0,0,0,0]
["navigačný systém "," ","kraniálny softwér","s príslušenstvom"," ",null,"Aimnav",null,null,"MICROMAR","položková cena (súčasť sumárnej ceny)","HW/SW","Fakultná nemocnica s poliklinkou Žilina","SR","GlobalMed a.s.",46630759,1,91444.17,109733,{"$f":"IF(N6356=\"SR\",1,IF(AC6356=\"\",VLOOKUP(AW6356,'CZKEUR Xchange rate'!$D$13:$E$234,2,FALSE),VLOOKUP(AW6356,'CZKEUR Xchange rate'!$A$13:$B$234,2,FALSE)))","v":1},91444.17,109733,91444.17,109733,{"$f":"VLOOKUP(AW6356,'Cenové indexy '!$D$7:$E$200,2,FALSE)","v":100.83},{"$f":"W6356/Y6356*'Cenové indexy '!$E$149","v":93530.072915798868},112236.08749895864,2016,"02","16",42426,"Áno","Áno","pravidelné 12 mesačné splátky ","Nie ",null,"24 mesiacov ","neurčené","neurčené","Zmluva 55_NF",null,null,null,null,null,{"$f":"VLOOKUP(M6356,Adresy!$A$4:$C$156,2,FALSE)","v":"Žilina"},{"$f":"VLOOKUP(M6356,Adresy!$A$4:$C$156,3,FALSE)","v":"Vojtecha Spanyola 43"},"M","2016M02",null,null,null,null,null,{"$f":"VLOOKUP(M6356,Adresy!$A$3:$C$154,2,FALSE)","v":"Žilina"},{"$f":"VLOOKUP(M6356,Adresy!$A$3:$C$154,3,FALSE)","v":"Vojtecha Spanyola 43"},0,0,0,0]
["RTG",null,"žiarič s kolimátorom","irisový kolimátor",null,null,"BV Endura",null,null,"Philips","bez položkovej identifikácie ceny (v rámci sumárnej ceny)",null,"Univerzitná nemocnica L. Pasteura Košice","SR","S&T",31349935,null,null,null,{"$f":"IF(N6384=\"SR\",1,IF(AC6384=\"\",VLOOKUP(AW6384,'CZKEUR Xchange rate'!$D$13:$E$234,2,FALSE),VLOOKUP(AW6384,'CZKEUR Xchange rate'!$A$13:$B$234,2,FALSE)))","v":1},0,0,null,null,{"$f":"VLOOKUP(AW6384,'Cenové indexy '!$D$7:$E$200,2,FALSE)","v":89.51},{"$f":"W6384/Y6384*'Cenové indexy '!$E$149","v":0},0,2011,"06","28","2011-06-28","Áno","Áno","na splátky","Nie",null,"24 mesiacov","neurčené","24 hodín","Zmluva 353_AT",null,null,null,null,null,{"$f":"VLOOKUP(M6384,Adresy!$A$4:$C$156,2,FALSE)","v":"Košice"},{"$f":"VLOOKUP(M6384,Adresy!$A$4:$C$156,3,FALSE)","v":"Trieda SNP 457/1"},"M","2011M06",null,null,null,null,null,"Košice","Trieda SNP 457/1",0,0,0,0]
["elektrokonvulzívny prístroj",null,"celá zostava",null,null,null,"SPECTRUM 5000 Q","SPECTRUM 5000 Q",null,"MECTA","sumárna cena","HW/SW","Fakultná nemocnica s poliklinikou J.A.Reimana Prešov","SR","Techsan spol. s r.o.",44266677,1,18407,22009,{"$f":"IF(N6407=\"SR\",1,IF(AC6407=\"\",VLOOKUP(AW6407,'CZKEUR Xchange rate'!$D$13:$E$234,2,FALSE),VLOOKUP(AW6407,'CZKEUR Xchange rate'!$A$13:$B$234,2,FALSE)))","v":1},18407,22009,{"$f":"U6407/Q6407","v":18407},{"$f":"V6407/Q6407","v":22009},{"$f":"VLOOKUP(AW6407,'Cenové indexy '!$D$7:$E$200,2,FALSE)","v":99.35},{"$f":"W6407/Y6407*'Cenové indexy '!$E$149","v":19107.336789129342},22928.804146955208,2014,"04","09","2014-04-09","Áno","Áno","neurčené","Nie",null,"24 mesiacov","neurčené","72 hodín","Zmluva 357_AT",null,"15% zľava na prístroj",null,null,null,{"$f":"VLOOKUP(M6407,Adresy!$A$4:$C$156,2,FALSE)","v":"Prešov"},{"$f":"VLOOKUP(M6407,Adresy!$A$4:$C$156,3,FALSE)","v":"Jána Hollého"},"M","2014M04",null,null,null,null,null,"Prešov","Jána Hollého",0,0,0,0]
["elektrokonvulzívny prístroj",null,"frekvencia impulzu","max. 120Hz",null,null,"neurčené",null,null,"neurčené","bez položkovej identifikácie ceny (v rámci sumárnej ceny)",null,"Liptovská nemocnica s poliklinikou MUDr. Ivana Stodolu Liptovský Mikuláš","SR","Techsan spol. s r.o.",44266677,null,null,null,{"$f":"IF(N6428=\"SR\",1,IF(AC6428=\"\",VLOOKUP(AW6428,'CZKEUR Xchange rate'!$D$13:$E$234,2,FALSE),VLOOKUP(AW6428,'CZKEUR Xchange rate'!$A$13:$B$234,2,FALSE)))","v":1},0,0,null,null,{"$f":"VLOOKUP(AW6428,'Cenové indexy '!$D$7:$E$200,2,FALSE)","v":99.75},{"$f":"W6428/Y6428*'Cenové indexy '!$E$149","v":0},0,2015,"04","21","2015-04-21","Áno","Áno","neurčené","Nie",null,"24 mesiacov","neurčené","48 hodín","Zmluva 359_AT",null,null,null,null,null,{"$f":"VLOOKUP(M6428,Adresy!$A$4:$C$156,2,FALSE)","v":"Liptovský Mikuláš"},{"$f":"VLOOKUP(M6428,Adresy!$A$4:$C$156,3,FALSE)","v":"Hurbanova"},"M","2015M04",null,null,null,null,null,"Liptovský Mikuláš","Hurbanova",0,0,0,0]
["elektrokonvulzívny prístroj",null,"stimulačný kábel so spúšť.tlačítkom",null,null,null,"SPECTRUM 5000 Q",null,null,"MECTA","bez položkovej identifikácie ceny (v rámci sumárnej ceny)",null,"Psychiatrická liečebňa Havlíčkov Brod","SR","Techsan spol. s r.o.",44266677,1,null,null,{"$f":"IF(N6452=\"SR\",1,IF(AC6452=\"\",VLOOKUP(AW6452,'CZKEUR Xchange rate'!$D$13:$E$234,2,FALSE),VLOOKUP(AW6452,'CZKEUR Xchange rate'!$A$13:$B$234,2,FALSE)))","v":1},0,0,null,null,{"$f":"VLOOKUP(AW6452,'Cenové indexy '!$D$7:$E$200,2,FALSE)","v":96.8},{"$f":"W6452/Y6452*'Cenové indexy '!$E$149","v":0},0,2012,"04","30","2012-04-30","Áno","Áno","neurčené","Nie",null,"24 mesiacov","neurčené","neurčené","Zmluva 361_AT",null,null,null,null,null,{"$f":"VLOOKUP(M6452,Adresy!$A$4:$C$156,2,FALSE)","v":"Havlíčkův Brod"},{"$f":"VLOOKUP(M6452,Adresy!$A$4:$C$156,3,FALSE)","v":"Rozkošská 2322"},"M","2012M04",null,null,null,null,null,"Havlíčkův Brod","Rozkošská 2322",0,0,0,0]
["elektrokonvulzívny prístroj",null,"elektródový gél",null,null,null,"SPECTRUM 5000 Q",null,null,"MECTA","bez položkovej identifikácie ceny (v rámci sumárnej ceny)",null,"Psychiatrická liečebňa Havlíčkov Brod","SR","Techsan spol. s r.o.",44266677,1,null,null,{"$f":"IF(N6459=\"SR\",1,IF(AC6459=\"\",VLOOKUP(AW6459,'CZKEUR Xchange rate'!$D$13:$E$234,2,FALSE),VLOOKUP(AW6459,'CZKEUR Xchange rate'!$A$13:$B$234,2,FALSE)))","v":1},0,0,null,null,{"$f":"VLOOKUP(AW6459,'Cenové indexy '!$D$7:$E$200,2,FALSE)","v":96.8},{"$f":"W6459/Y6459*'Cenové indexy '!$E$149","v":0},0,2012,"04","30","2012-04-30","Áno","Áno","neurčené","Nie",null,"24 mesiacov","neurčené","neurčené","Zmluva 361_AT",null,null,null,null,null,{"$f":"VLOOKUP(M6459,Adresy!$A$4:$C$156,2,FALSE)","v":"Havlíčkův Brod"},{"$f":"VLOOKUP(M6459,Adresy!$A$4:$C$156,3,FALSE)","v":"Rozkošská 2322"},"M","2012M04",null,null,null,null,null,"Havlíčkův Brod","Rozkošská 2322",0,0,0,0]
["urodynamický prístroj",null,"uroflowmeter",null,null,null,"UROMIC JIVE","MU5003",null,"MMT systems","bez položkovej identifikácie ceny (v rámci sumárnej ceny)",null,"Detská fakultná nemocnica s poliklinikou Bratislava","SR","MEDKONSULT SLOVAKIA spol.s.r.o","31441831",null,null,null,{"$f":"IF(N6480=\"SR\",1,IF(AC6480=\"\",VLOOKUP(AW6480,'CZKEUR Xchange rate'!$D$13:$E$234,2,FALSE),VLOOKUP(AW6480,'CZKEUR Xchange rate'!$A$13:$B$234,2,FALSE)))","v":1},0,0,null,null,{"$f":"VLOOKUP(AW6480,'Cenové indexy '!$D$7:$E$200,2,FALSE)","v":89.14},{"$f":"W6480/Y6480*'Cenové indexy '!$E$149","v":0},0,2011,"03","28","2011-03-28","Áno","Áno","neurčené","Nie",null,"24 mesiacov","bližšie predmetom bud.zmluvym, podmienky v tejto","48 hodín","Zmluva 364_AT",null,null,null,null,null,{"$f":"VLOOKUP(M6480,Adresy!$A$4:$C$156,2,FALSE)","v":"Bratislava"},{"$f":"VLOOKUP(M6480,Adresy!$A$4:$C$156,3,FALSE)","v":"Limbová 1"},"M","2011M03",null,null,null,null,null,"Bratislava","Limbová 1",0,0,0,0]
["urodynamický prístroj",null,"celá zostava",null,null,null,"Solar Blue 4T","Solar Blue 4T",null,"MMS","sumárna cena","HW/SW","Fakultná nemocnica s poliklinikou F. D. Roosevelta Banská Bystrica","SR","COMESA spol s.r.o.","18630529",1,11250,11250,{"$f":"IF(N6499=\"SR\",1,IF(AC6499=\"\",VLOOKUP(AW6499,'CZKEUR Xchange rate'!$D$13:$E$234,2,FALSE),VLOOKUP(AW6499,'CZKEUR Xchange rate'!$A$13:$B$234,2,FALSE)))","v":1},11250,11250,{"$f":"U6499/Q6499","v":11250},{"$f":"V6499/Q6499","v":11250},{"$f":"VLOOKUP(AW6499,'Cenové indexy '!$D$7:$E$200,2,FALSE)","v":89.14},{"$f":"W6499/Y6499*'Cenové indexy '!$E$149","v":13015.621494278663},15618.745793134394,2011,"03","28","2011-03-28","Áno","Áno","neurčené","Nie",null,"24 mesiacov","min. 8 rokov, predmetom bud.zmluvy","neurčené","Zmluva 366_AT",null,null,null,null,null,{"$f":"VLOOKUP(M6499,Adresy!$A$4:$C$156,2,FALSE)","v":"Banská Bystrica"},{"$f":"VLOOKUP(M6499,Adresy!$A$4:$C$156,3,FALSE)","v":"Námestie Ludvíka Svobodu 6818/4"},"M","2011M03",null,null,null,null,null,"Banská Bystrica","Námestie Ludvíka Svobodu 6818/4",0,0,0,0]
["urodynamický prístroj",null,"urodynamický modul (8 kanálov)","2 vstupné kanály pre EMG a biofeedback",null,null,"UROMIC QUICKSTEP",null,null,"MMT systems","bez položkovej identifikácie ceny (v rámci sumárnej ceny)",null,"Fakultní nemocnica Olomouc","ČR","MEDKONSULT","47679522",null,null,null,{"$f":"IF(N6527=\"SR\",1,IF(AC6527=\"\",VLOOKUP(AW6527,'CZKEUR Xchange rate'!$D$13:$E$234,2,FALSE),VLOOKUP(AW6527,'CZKEUR Xchange rate'!$A$13:$B$234,2,FALSE)))","v":27.042000000000002},0,0,null,null,{"$f":"VLOOKUP(AW6527,'Cenové indexy '!$D$7:$E$200,2,FALSE)","v":101.77},{"$f":"W6527/Y6527*'Cenové indexy '!$E$149","v":0},0,2016,"07","01","2016-07-01","Áno","Áno","neurčené","Nie",null,"24 mesiacov","neurčené","24 hodín","Zmluva 371_AT",null,null,null,null,null,{"$f":"VLOOKUP(M6527,Adresy!$A$4:$C$156,2,FALSE)","v":"Olomouc"},{"$f":"VLOOKUP(M6527,Adresy!$A$4:$C$156,3,FALSE)","v":"I.P. Pavolva 185/6"},"M","2016M07",null,null,null,null,null,"Olomouc","I.P. Pavolva 185/6",0,0,0,0]
["vŕtací a frézovací motorový systém",null,"frézovací nadstavec","s koncovkou AO ","veľký nadstavec",null,"ACCULAN 3TI","GB655R","pre ortopedickú - traumatologickú kliniku","B.Braun","položková cena (súčasť sumárnej ceny)","HW","Univerzitná nemocnica Martin","SR","B. Braun Medical s.r.o.",null,1,1403.02,1683.62,{"$f":"IF(N6552=\"SR\",1,IF(AC6552=\"\",VLOOKUP(AW6552,'CZKEUR Xchange rate'!$D$13:$E$234,2,FALSE),VLOOKUP(AW6552,'CZKEUR Xchange rate'!$A$13:$B$234,2,FALSE)))","v":1},1403.02,1683.62,1403.02,1683.62,{"$f":"VLOOKUP(AW6552,'Cenové indexy '!$D$7:$E$200,2,FALSE)","v":{"$error":"#N/A"}},{"$f":"W6552/Y6552*'Cenové indexy '!$E$149","v":{"$error":"#N/A"}},{"$error":"#N/A"},null,null,null,{"$error":"#NUM!"},"Áno","Áno","Neurčené","Nie","24 mesiacov zadarmo",null,null,null,"Zmluva 80_DG",null,null,null,null,null,{"$f":"VLOOKUP(M6552,Adresy!$A$4:$C$156,2,FALSE)","v":"Martin"},{"$f":"VLOOKUP(M6552,Adresy!$A$4:$C$156,3,FALSE)","v":"Kollárova 2"},"M","M06",null,null,null,null,null,"Martin","Kollárova 2",0,0,0,0]
["vŕtací a frézovací motorový systém",null,"mini akumulátorová vŕtačka","univerzálne telo GA671",null,null,"ACCULAN 3TI m","Acculant 3Ti GA671","pre potreby ortopédie a úrazovej chirurgie","B.Braun","položková cena (súčasť sumárnej ceny)","HW","Ústredná vojenská nemocnica SNP Ružomberok","SR","Med Partners a.s.",null,1,7930.12,9516.14,{"$f":"IF(N6567=\"SR\",1,IF(AC6567=\"\",VLOOKUP(AW6567,'CZKEUR Xchange rate'!$D$13:$E$234,2,FALSE),VLOOKUP(AW6567,'CZKEUR Xchange rate'!$A$13:$B$234,2,FALSE)))","v":1},7930.12,9516.14,{"$f":"U6567/Q6567","v":7930.12},{"$f":"V6567/Q6567","v":9516.14},{"$f":"VLOOKUP(AW6567,'Cenové indexy '!$D$7:$E$200,2,FALSE)","v":99.5},{"$f":"W6567/Y6567*'Cenové indexy '!$E$149","v":8219.4299055276369},9863.3158866331632,2014,null,null,"2013-11-30","Áno","Áno","Neurčené","Nie","24 mesiacov zadarmo",null,null,null,"Zmluva 80_AT",null,null,null,null,null,{"$f":"VLOOKUP(M6567,Adresy!$A$4:$C$156,2,FALSE)","v":"Ružomberok"},{"$f":"VLOOKUP(M6567,Adresy!$A$4:$C$156,3,FALSE)","v":"Generála Miloša Vesela 21"},"M","2014M06",null,null,null,null,null,"Ružomberok","Generála Miloša Vesela 21",0,0,0,0]
["vŕtací a frézovací motorový systém",null,"akumulátorová vŕtačka s reamerom","univerzálne telo",null,null,"ACCULAN 3TI",null,"pre ortopedické oddelenie","B.Braun","položková cena (súčasť sumárnej ceny)","HW","Fakultná nemocnica s poliklinkou Žilina","SR","B. Braun Medical s.r.o.",null,1,7447.66,8937.19,{"$f":"IF(N6579=\"SR\",1,IF(AC6579=\"\",VLOOKUP(AW6579,'CZKEUR Xchange rate'!$D$13:$E$234,2,FALSE),VLOOKUP(AW6579,'CZKEUR Xchange rate'!$A$13:$B$234,2,FALSE)))","v":1},7447.66,8937.19,7447.66,8937.19,{"$f":"VLOOKUP(AW6579,'Cenové indexy '!$D$7:$E$200,2,FALSE)","v":99.5},{"$f":"W6579/Y6579*'Cenové indexy '!$E$149","v":7719.3686010050242},9263.2423212060294,2014,null,null,"2013-11-30","Áno","Áno","Neurčené","Nie","24 mesiacov zadarmo, na akumulátor 6 mesiacov",null,null,null,"Zmluva 82_DG",null,null,null,null,null,{"$f":"VLOOKUP(M6579,Adresy!$A$4:$C$156,2,FALSE)","v":"Žilina"},{"$f":"VLOOKUP(M6579,Adresy!$A$4:$C$156,3,FALSE)","v":"Vojtecha Spanyola 43"},"M","2014M06",null,null,null,null,null,"Žilina","Vojtecha Spanyola 43",0,0,0,0]
["vŕtací a frézovací motorový systém",null,"vŕtací nadstavec","ZIMMER/HUDSON",null,null,"neurčené",null,null,"","bez položkovej identifikácie ceny (v rámci sumárnej ceny)","HW","Fakultná nemocnica s poliklinikou J.A.Reimana Prešov","SR","Med Partners a.s.",null,1,null,null,{"$f":"IF(N6604=\"SR\",1,IF(AC6604=\"\",VLOOKUP(AW6604,'CZKEUR Xchange rate'!$D$13:$E$234,2,FALSE),VLOOKUP(AW6604,'CZKEUR Xchange rate'!$A$13:$B$234,2,FALSE)))","v":1},0,0,null,null,{"$f":"VLOOKUP(AW6604,'Cenové indexy '!$D$7:$E$200,2,FALSE)","v":99.88},{"$f":"W6604/Y6604*'Cenové indexy '!$E$149","v":0},0,2015,null,null,"2014-11-30","Áno","Áno","Neurčené","Nie","Neuvedené",null,null,null,"Zmluva 85_DG",null,null,null,null,null,{"$f":"VLOOKUP(M6604,Adresy!$A$4:$C$156,2,FALSE)","v":"Prešov"},{"$f":"VLOOKUP(M6604,Adresy!$A$4:$C$156,3,FALSE)","v":"Jána Hollého"},"M","2015M06",null,null,null,null,null,"Prešov","Jána Hollého",0,0,0,0]
["vŕtací a frézovací motorový systém",null,"eccos sada",null,null,null,"ACCULAN 3TI",null,"pre kliniku ortopédie a trumatológie","B.Braun","položková cena (súčasť sumárnej ceny)","HW","Fakultní nemocnice Plzeň","ČR","B. Braun Medical s.r.o.",null,1,10122.5,12248.22,{"$f":"IF(N6635=\"SR\",1,IF(AC6635=\"\",VLOOKUP(AW6635,'CZKEUR Xchange rate'!$D$13:$E$234,2,FALSE),VLOOKUP(AW6635,'CZKEUR Xchange rate'!$A$13:$B$234,2,FALSE)))","v":27.452999999999999},368.7210869486031,446.15233307835206,368.7210869486031,446.15233307835206,{"$f":"VLOOKUP(AW6635,'Cenové indexy '!$D$7:$E$200,2,FALSE)","v":99.5},{"$f":"W6635/Y6635*'Cenové indexy '!$E$149","v":382.17292157798431},458.60750589358116,2014,null,null,{"$f":"DATE(AB6635,AC6635,AD6635)","v":"2013-11-30"},"Áno","Áno","Neurčené","Nie","24 mesiacov zadarmo",null,null,null,"Zmluva 87_DG",null,"Áno",null,null,null,{"$f":"VLOOKUP(M6635,Adresy!$A$4:$C$156,2,FALSE)","v":"Plzeň"},{"$f":"VLOOKUP(M6635,Adresy!$A$4:$C$156,3,FALSE)","v":"Dr. E. Beneše 1128/13"},"M","2014M06",null,null,null,null,null,"Plzeň","Dr. E. Beneše 1128/13",0,0,0,0]
["vŕtací a frézovací motorový systém",null,"frézovací nadstavec","s koncovkou HARRIS",null,null,"ACCULAN 3TI","GB654R",null,"B.Braun","položková cena (súčasť sumárnej ceny)","HW","Fakultní nemocnice u sv. Anny v Brně","ČR","B. Braun Medical s.r.o.",null,2,53822.82,65125.61,{"$f":"IF(N6651=\"SR\",1,IF(AC6651=\"\",VLOOKUP(AW6651,'CZKEUR Xchange rate'!$D$13:$E$234,2,FALSE),VLOOKUP(AW6651,'CZKEUR Xchange rate'!$A$13:$B$234,2,FALSE)))","v":27.253},1974.9319340989982,2389.6675595347301,987.46596704949911,1194.8337797673651,{"$f":"VLOOKUP(AW6651,'Cenové indexy '!$D$7:$E$200,2,FALSE)","v":99.88},{"$f":"W6651/Y6651*'Cenové indexy '!$E$149","v":1019.5971684202526},1223.516602104303,2015,null,null,"2014-11-30","Áno","Áno","zo štátneho rozpočtu","Nie","24 mesiacov zadarmo, potom podľa zmluvy",null,null,null,"Zmluva 82_AT",null,null,null,null,null,{"$f":"VLOOKUP(M6651,Adresy!$A$4:$C$156,2,FALSE)","v":"Brno"},{"$f":"VLOOKUP(M6651,Adresy!$A$4:$C$156,3,FALSE)","v":"Pekařská 53"},"M","2015M06",null,null,null,null,null,"Brno","Pekařská 53",0,0,0,0]
["vŕtací a frézovací motorový systém",null,"vŕtací nadstavec","s koncovkou AO ",null,null,"ACCULAN 3TI",null,"pre ortopédiu","B.Braun","položková cena (súčasť sumárnej ceny)","HW","Nemocnica Poprad, a. s.","SR","B. Braun Medical s.r.o.",null,2,1921.42,2305.6999999999998,{"$f":"IF(N6676=\"SR\",1,IF(AC6676=\"\",VLOOKUP(AW6676,'CZKEUR Xchange rate'!$D$13:$E$234,2,FALSE),VLOOKUP(AW6676,'CZKEUR Xchange rate'!$A$13:$B$234,2,FALSE)))","v":1},1921.42,2305.6999999999998,960.71,1152.8499999999999,{"$f":"VLOOKUP(AW6676,'Cenové indexy '!$D$7:$E$200,2,FALSE)","v":98.57},{"$f":"W6676/Y6676*'Cenové indexy '!$E$149","v":1005.1539241148422},1206.1847089378107,2013,null,null,"2012-11-30","Áno","Áno","Neurčené","Nie","24 mesiacov zadarmo",null,null,null,"Zmluva 85_AT",null,null,null,null,null,{"$f":"VLOOKUP(M6676,Adresy!$A$4:$C$156,2,FALSE)","v":"Poprad"},{"$f":"VLOOKUP(M6676,Adresy!$A$4:$C$156,3,FALSE)","v":"Banícka"},"M","2013M06",null,null,null,null,null,"Poprad","Banícka",0,0,0,0]
["vŕtací a frézovací motorový systém",null,"Power Modul",null,null,null,"TraumaReconSystem",null,"pre traumatológiu a ortopédiu","Synthes","položková cena (súčasť sumárnej ceny)","HW","Fakultní nemocnice Plzeň","ČR","Synthes s.r.o",null,1,26542.400000000001,null,{"$f":"IF(N6686=\"SR\",1,IF(AC6686=\"\",VLOOKUP(AW6686,'CZKEUR Xchange rate'!$D$13:$E$234,2,FALSE),VLOOKUP(AW6686,'CZKEUR Xchange rate'!$A$13:$B$234,2,FALSE)))","v":25.949000000000002},1022.8679332536899,0,1022.8679332536899,null,{"$f":"VLOOKUP(AW6686,'Cenové indexy '!$D$7:$E$200,2,FALSE)","v":98.57},{"$f":"W6686/Y6686*'Cenové indexy '!$E$149","v":1070.1873790854524},1284.2248549025428,2013,null,null,"2012-11-30","Áno","Áno","Neurčené","Áno","24 mesiacov zadarmo",null,null,null,"Zmluva 86_AT",null,null,null,null,null,{"$f":"VLOOKUP(M6686,Adresy!$A$4:$C$156,2,FALSE)","v":"Plzeň"},{"$f":"VLOOKUP(M6686,Adresy!$A$4:$C$156,3,FALSE)","v":"Dr. E. Beneše 1128/13"},"M","2013M06",null,null,null,null,null,"Plzeň","Dr. E. Beneše 1128/13",0,0,0,0]
["vŕtací a frézovací motorový systém",null,"sterilný kryt",null,null,null,"TraumaReconSystem",null,"pre traumatológiu a ortopédiu","Synthes","položková cena (súčasť sumárnej ceny)","HW","Fakultní nemocnice Plzeň","ČR","Synthes s.r.o",null,1,2118.1999999999998,null,{"$f":"IF(N6703=\"SR\",1,IF(AC6703=\"\",VLOOKUP(AW6703,'CZKEUR Xchange rate'!$D$13:$E$234,2,FALSE),VLOOKUP(AW6703,'CZKEUR Xchange rate'!$A$13:$B$234,2,FALSE)))","v":27.521000000000001},76.966679989825948,0,76.966679989825948,null,{"$f":"VLOOKUP(AW6703,'Cenové indexy '!$D$7:$E$200,2,FALSE)","v":99.28},{"$f":"W6703/Y6703*'Cenové indexy '!$E$149","v":79.951387060341958},95.941664472410352,2013,"12",null,"2013-11-30","Áno","Áno","Neurčené","Áno","24 mesiacov zadarmo",null,null,null,"Zmluva 86_AT",null,null,null,null,null,{"$f":"VLOOKUP(M6703,Adresy!$A$4:$C$156,2,FALSE)","v":"Plzeň"},{"$f":"VLOOKUP(M6703,Adresy!$A$4:$C$156,3,FALSE)","v":"Dr. E. Beneše 1128/13"},"M","2013M12",null,null,null,null,null,"Plzeň","Dr. E. Beneše 1128/13",0,0,0,0]
["vŕtací a frézovací motorový systém",null,"sterilizačné sito",null,null,null,"Power Pro","PRO060002T","pre ortopédiu a traumatológiu","Conmed","bez položkovej identifikácie ceny (v rámci sumárnej ceny)","HW","Mestská nemocnica Ostrava","ČR","HSC Indrustry spol. s r.o.",null,2,null,null,{"$f":"IF(N6728=\"SR\",1,IF(AC6728=\"\",VLOOKUP(AW6728,'CZKEUR Xchange rate'!$D$13:$E$234,2,FALSE),VLOOKUP(AW6728,'CZKEUR Xchange rate'!$A$13:$B$234,2,FALSE)))","v":27.588000000000001},0,0,null,null,{"$f":"VLOOKUP(AW6728,'Cenové indexy '!$D$7:$E$200,2,FALSE)","v":99.94},{"$f":"W6728/Y6728*'Cenové indexy '!$E$149","v":0},0,2014,"10",null,"2014-09-30","Áno","Áno","Neurčené","Nie","24 mesiacov zadarmo",null,null,null,"Zmluva 88_DG",null,null,null,null,null,{"$f":"VLOOKUP(M6728,Adresy!$A$4:$C$156,2,FALSE)","v":"Ostrava"},{"$f":"VLOOKUP(M6728,Adresy!$A$4:$C$156,3,FALSE)","v":"Nemocniční 20"},"M","2014M10",null,null,null,null,null,"Ostrava","Nemocniční 20",0,0,0,0]
["vŕtací a frézovací motorový systém",null,"celá zostava",null,null,null,"ACCULAN 3TI","ACCULAN 3TI","pre traumatológiu a ortopédiu","B.Braun","sumárna cena","HW","Fakultná nemocnica s poliklinikou F. D. Roosevelta Banská Bystrica","SR","Med Partners a.s.",44851740,1,29306.460000000003,{"$f":"R6754*1.2","v":35167.752},{"$f":"IF(N6754=\"SR\",1,IF(AC6754=\"\",VLOOKUP(AW6754,'CZKEUR Xchange rate'!$D$13:$E$234,2,FALSE),VLOOKUP(AW6754,'CZKEUR Xchange rate'!$A$13:$B$234,2,FALSE)))","v":1},29306.460000000003,35167.752,29306.460000000003,35167.752,{"$f":"VLOOKUP(AW6754,'Cenové indexy '!$D$7:$E$200,2,FALSE)","v":101.08},{"$f":"W6754/Y6754*'Cenové indexy '!$E$149","v":29900.823306292052},35880.987967550464,2016,"03","07","2016-03-07","Áno","Áno","na splátky","Nie",null,"24 mesiacov","neurčené","48 hodín","Zmluva 393_AT",null,null,null,null,null,{"$f":"VLOOKUP(M6754,Adresy!$A$4:$C$156,2,FALSE)","v":"Banská Bystrica"},{"$f":"VLOOKUP(M6754,Adresy!$A$4:$C$156,3,FALSE)","v":"Námestie Ludvíka Svobodu 6818/4"},"M","2016M03",null,null,null,null,null,"Banská Bystrica","Námestie Ludvíka Svobodu 6818/4",0,0,0,0]
["lekársky mikroskop ",null,"celá zostava",null,null,null,"Eclipse Ci-L",null,null,"Nikon","sumárna cena","HW/SW","Fakultná nemocnica Kráľovské Vinohrady","ČR","NIKON spol. s.r.o.",61509426,1,703960.62,851792.35,{"$f":"IF(N6775=\"SR\",1,IF(AC6775=\"\",VLOOKUP(AW6775,'CZKEUR Xchange rate'!$D$13:$E$234,2,FALSE),VLOOKUP(AW6775,'CZKEUR Xchange rate'!$A$13:$B$234,2,FALSE)))","v":27.45},25645.195628415302,31030.68670309654,25645.195628415302,31030.68670309654,{"$f":"VLOOKUP(AW6775,'Cenové indexy '!$D$7:$E$200,2,FALSE)","v":99.35},{"$f":"W6775/Y6775*'Cenové indexy '!$E$149","v":26620.926272355013},31945.111526826015,2014,"04","07","2014-04-07","Áno","Áno","Neurčené","Nie",null,"36 mesiacov ","neurčené","48 hodín ","Zmluva 84_NF ",null,null,null,null,null,{"$f":"VLOOKUP(M6775,Adresy!$A$4:$C$156,2,FALSE)","v":"Praha"},{"$f":"VLOOKUP(M6775,Adresy!$A$4:$C$156,3,FALSE)","v":"Šrobárova 1150/50"},"M","2014M04",null,null,null,null,null,{"$f":"VLOOKUP(M6775,Adresy!$A$3:$C$154,2,FALSE)","v":"Praha"},{"$f":"VLOOKUP(M6775,Adresy!$A$3:$C$154,3,FALSE)","v":"Šrobárova 1150/50"},0,0,0,0]
["lekársky mikroskop ",null,"objektív","Plan Achromat 4 x ","N.A. 0.2, W.D. 20 mm ",null,"Nikon Eclipse Ni-E",null,null,"Nikon","bez položkovej identifikácie ceny (v rámci sumárnej ceny)",null,"Česká zemědelská univerzita va Prahe ","ČR","NIKON spol. s.r.o.",61509426,1,null,null,{"$f":"IF(N6796=\"SR\",1,IF(AC6796=\"\",VLOOKUP(AW6796,'CZKEUR Xchange rate'!$D$13:$E$234,2,FALSE),VLOOKUP(AW6796,'CZKEUR Xchange rate'!$A$13:$B$234,2,FALSE)))","v":27.088999999999999},0,0,null,null,{"$f":"VLOOKUP(AW6796,'Cenové indexy '!$D$7:$E$200,2,FALSE)","v":100.14},{"$f":"W6796/Y6796*'Cenové indexy '!$E$149","v":0},0,2015,"09","10","2015-09-10","Áno","Áno","Neurčené","Nie ",null,"48 mesiacov ","10 rokov ","5 pracovných dní","Zmluva 86_NF",null,null,null,null,null,{"$f":"VLOOKUP(M6796,Adresy!$A$4:$C$156,2,FALSE)","v":"Praha"},{"$f":"VLOOKUP(M6796,Adresy!$A$4:$C$156,3,FALSE)","v":"Kamýcka 129"},"M","2015M09",null,null,null,null,null,{"$f":"VLOOKUP(M6796,Adresy!$A$3:$C$154,2,FALSE)","v":"Praha"},{"$f":"VLOOKUP(M6796,Adresy!$A$3:$C$154,3,FALSE)","v":"Kamýcka 129"},0,0,0,0]
["lekársky mikroskop ",null,"telo mikroskopu",null,null,null,"Eclipse Ni-U",null,null,"Nikon","bez položkovej identifikácie ceny (v rámci sumárnej ceny)",null,"Virologický ústav SAV","SR","Optoteam s.r.o.",35810840,1,null,null,{"$f":"IF(N6822=\"SR\",1,IF(AC6822=\"\",VLOOKUP(AW6822,'CZKEUR Xchange rate'!$D$13:$E$234,2,FALSE),VLOOKUP(AW6822,'CZKEUR Xchange rate'!$A$13:$B$234,2,FALSE)))","v":1},0,0,null,null,{"$f":"VLOOKUP(AW6822,'Cenové indexy '!$D$7:$E$200,2,FALSE)","v":99.82},{"$f":"W6822/Y6822*'Cenové indexy '!$E$149","v":0},0,2015,"05","27","2015-05-27","Áno","Áno","Neurčené","Nie ",null,"neurčené","neurčené","neurčené","Zmluva 92_NF ",null,null,null,null,null,{"$f":"VLOOKUP(M6822,Adresy!$A$4:$C$156,2,FALSE)","v":"Bratislava "},{"$f":"VLOOKUP(M6822,Adresy!$A$4:$C$156,3,FALSE)","v":"Dúbravská č.9"},"M","2015M05",null,null,null,null,null,{"$f":"VLOOKUP(M6822,Adresy!$A$3:$C$154,2,FALSE)","v":"Bratislava "},{"$f":"VLOOKUP(M6822,Adresy!$A$3:$C$154,3,FALSE)","v":"Dúbravská č.9"},0,0,0,0]
["monitorovací systém",null,"monitor vitálnych funkcií","prístroj",null,null,"GE Carescape B650",null,null,"GE Healthcare","bez položkovej identifikácie ceny (v rámci sumárnej ceny)",null,"Stredoslovenský ústav srdcových a cievnych chorôb, a.s.","SR","Messer Medical Home Care Slovakia s.r.o.",46378979,1,null,null,{"$f":"IF(N6827=\"SR\",1,IF(AC6827=\"\",VLOOKUP(AW6827,'CZKEUR Xchange rate'!$D$13:$E$234,2,FALSE),VLOOKUP(AW6827,'CZKEUR Xchange rate'!$A$13:$B$234,2,FALSE)))","v":1},0,0,null,null,{"$f":"VLOOKUP(AW6827,'Cenové indexy '!$D$7:$E$200,2,FALSE)","v":103.13},{"$f":"W6827/Y6827*'Cenové indexy '!$E$149","v":0},0,2016,"11","25","2016-11-25","Áno","Áno","Neurčené","Nie",null,"24 mesiacov ","neurčené","neurčené ","Zmluva 93_NF ",null,null,null,null,null,{"$f":"VLOOKUP(M6827,Adresy!$A$4:$C$156,2,FALSE)","v":"Banská Bystrica"},{"$f":"VLOOKUP(M6827,Adresy!$A$4:$C$156,3,FALSE)","v":"Cesta k nemocnici 622/1"},"M","2016M11",null,null,null,null,null,{"$f":"VLOOKUP(M6827,Adresy!$A$3:$C$154,2,FALSE)","v":"Banská Bystrica"},{"$f":"VLOOKUP(M6827,Adresy!$A$3:$C$154,3,FALSE)","v":"Cesta k nemocnici 622/1"},0,0,0,0]
["denzitometer","kostný","Software APEX v.5XX",null,null,null,"HOLOGIC Horizon A",null,null,"Hologic","bez položkovej identifikácie ceny (v rámci sumárnej ceny)",null,"Vojenská fakultná nemocnica Praha","ČR","COMFES spol s.r.o.",61383082,null,null,null,{"$f":"IF(N6848=\"SR\",1,IF(AC6848=\"\",VLOOKUP(AW6848,'CZKEUR Xchange rate'!$D$13:$E$234,2,FALSE),VLOOKUP(AW6848,'CZKEUR Xchange rate'!$A$13:$B$234,2,FALSE)))","v":27.588000000000001},0,0,null,null,{"$f":"VLOOKUP(AW6848,'Cenové indexy '!$D$7:$E$200,2,FALSE)","v":99.94},{"$f":"W6848/Y6848*'Cenové indexy '!$E$149","v":0},0,2014,"10","31","2014-10-31","Áno","Áno","Neurčené","Nie",null,"24 mesiacov","neurčené","neurčené","Zmluva 372_AT",null,null,null,null,null,{"$f":"VLOOKUP(M6848,Adresy!$A$4:$C$156,2,FALSE)","v":"Praha"},{"$f":"VLOOKUP(M6848,Adresy!$A$4:$C$156,3,FALSE)","v":"U Vojenské nemocnice 1/1200"},"M","2014M10",null,null,null,null,null,"Praha","U Vojenské nemocnice 1/1200",0,0,0,0]
["denzitometer","kostný","stôl","rozmery","2,63 x 1,10 x 1,27 m ",null,"Lunar Prodigy Advance ",null,null,"GE Health Care","bez položkovej identifikácie ceny (v rámci sumárnej ceny)",null,"Slovenská zdravotnícka univerzita v Bratislave ","SR","INTES Poprad s.r.o.","00165361",null,null,null,{"$f":"IF(N6873=\"SR\",1,IF(AC6873=\"\",VLOOKUP(AW6873,'CZKEUR Xchange rate'!$D$13:$E$234,2,FALSE),VLOOKUP(AW6873,'CZKEUR Xchange rate'!$A$13:$B$234,2,FALSE)))","v":1},0,0,null,null,{"$f":"VLOOKUP(AW6873,'Cenové indexy '!$D$7:$E$200,2,FALSE)","v":92.25},{"$f":"W6873/Y6873*'Cenové indexy '!$E$149","v":0},0,2011,"11","25","2011-11-25","Áno","Áno","Neurčené","Nie",null,"12 mesiacov","neurčené","48 hodín ","Zmluva 94_NF ",null,null,null,null,null,{"$f":"VLOOKUP(M6873,Adresy!$A$4:$C$156,2,FALSE)","v":"Limbová 12"},{"$f":"VLOOKUP(M6873,Adresy!$A$4:$C$156,3,FALSE)","v":"Bratislava"},"M","2011M11",null,null,null,null,null,{"$f":"VLOOKUP(M6873,Adresy!$A$3:$C$154,2,FALSE)","v":"Limbová 12"},{"$f":"VLOOKUP(M6873,Adresy!$A$3:$C$154,3,FALSE)","v":"Bratislava"},0,0,0,0]
["operačný stôl",null,"základné príslušenstvo k operačným stolom","Výškovonastaviteľný držiak na predkolenie",null,null,"ASSO","neurčené",null,"OPT","sumárna cena",null,"Fakultná nemocnica Trenčín","SR","InterMedical spol. s r.o.",36547263,1,3278.19,3278.19,{"$f":"IF(N6883=\"SR\",1,IF(AC6883=\"\",VLOOKUP(AW6883,'CZKEUR Xchange rate'!$D$13:$E$234,2,FALSE),VLOOKUP(AW6883,'CZKEUR Xchange rate'!$A$13:$B$234,2,FALSE)))","v":1},3278.19,3278.19,3278.19,3278.19,{"$f":"VLOOKUP(AW6883,'Cenové indexy '!$D$7:$E$200,2,FALSE)","v":102.96},{"$f":"W6883/Y6883*'Cenové indexy '!$E$149","v":3283.602706876457},3940.3232482517483,2016,"10","12","2016-10-12","Áno","Áno","Neurčené","Nie",null,"24 mesiacov ","neurčené","24 hodín ","Zmluva 98_NF",null,null,null,null,null,{"$f":"VLOOKUP(M6883,Adresy!$A$4:$C$156,2,FALSE)","v":"Trenčín"},{"$f":"VLOOKUP(M6883,Adresy!$A$4:$C$156,3,FALSE)","v":"Legionárska 594/2"},"M","2016M10",null,null,null,null,null,{"$f":"VLOOKUP(M6883,Adresy!$A$3:$C$154,2,FALSE)","v":"Trenčín"},{"$f":"VLOOKUP(M6883,Adresy!$A$3:$C$154,3,FALSE)","v":"Legionárska 594/2"},0,0,0,0]
["lineárny urýchlovač","RTG simulátor pre onkologické oddelenie ","celá zostava",null,null,null,"ACUITY ",null,null,"Varian Medical","sumárna cena","HW/SW","Fakultná nemocnica Trenčín","SR","Amedis spol. s r.o.","00612758",1,460400,552480,{"$f":"IF(N6920=\"SR\",1,IF(AC6920=\"\",VLOOKUP(AW6920,'CZKEUR Xchange rate'!$D$13:$E$234,2,FALSE),VLOOKUP(AW6920,'CZKEUR Xchange rate'!$A$13:$B$234,2,FALSE)))","v":1},460400,552480,{"$f":"U6920/Q6920","v":460400},{"$f":"V6920/Q6920","v":552480},{"$f":"VLOOKUP(AW6920,'Cenové indexy '!$D$7:$E$200,2,FALSE)","v":101.84},{"$f":"W6920/Y6920*'Cenové indexy '!$E$149","v":466231.8538884524},559478.22466614284,2016,"09","28","2016-09-28","Áno","Áno","Neurčené","Nie",null,"24 mesiacov ","neurčené","24 hodín ","Zmluva 104_NF ",null,null,null,null,null,{"$f":"VLOOKUP(M6920,Adresy!$A$4:$C$156,2,FALSE)","v":"Trenčín"},{"$f":"VLOOKUP(M6920,Adresy!$A$4:$C$156,3,FALSE)","v":"Legionárska 594/2"},"M","2016M09",null,null,null,null,null,{"$f":"VLOOKUP(M6920,Adresy!$A$3:$C$154,2,FALSE)","v":"Trenčín"},{"$f":"VLOOKUP(M6920,Adresy!$A$3:$C$154,3,FALSE)","v":"Legionárska 594/2"},0,0,0,0]
["lineárny urýchlovač","RTG simulátor pre onkologické oddelenie ","vyšetrovací stôl","nosnosť ","227 kg ",null,"ACUITY ","EXACT Couch ",null,"Varian Medical","bez položkovej identifikácie ceny (v rámci sumárnej ceny)",null,"Fakultná nemocnica Trenčín","SR","Amedis spol. s r.o.","00612758",null,null,null,{"$f":"IF(N6925=\"SR\",1,IF(AC6925=\"\",VLOOKUP(AW6925,'CZKEUR Xchange rate'!$D$13:$E$234,2,FALSE),VLOOKUP(AW6925,'CZKEUR Xchange rate'!$A$13:$B$234,2,FALSE)))","v":1},0,0,null,null,{"$f":"VLOOKUP(AW6925,'Cenové indexy '!$D$7:$E$200,2,FALSE)","v":101.84},{"$f":"W6925/Y6925*'Cenové indexy '!$E$149","v":0},0,2016,"09","28","2016-09-28","Áno","Áno","Neurčené","Nie",null,"24 mesiacov ","neurčené","24 hodín ","Zmluva 104_NF ",null,null,null,null,null,{"$f":"VLOOKUP(M6925,Adresy!$A$4:$C$156,2,FALSE)","v":"Trenčín"},{"$f":"VLOOKUP(M6925,Adresy!$A$4:$C$156,3,FALSE)","v":"Legionárska 594/2"},"M","2016M09",null,null,null,null,null,{"$f":"VLOOKUP(M6925,Adresy!$A$3:$C$154,2,FALSE)","v":"Trenčín"},{"$f":"VLOOKUP(M6925,Adresy!$A$3:$C$154,3,FALSE)","v":"Legionárska 594/2"},0,0,0,0]
["monitorovací systém",null,"monitory vitálnych funkcií","meranie ST segmentu ",null,null,"B20",null,null,"","bez položkovej identifikácie ceny (v rámci sumárnej ceny)",null,"Nemocnica Poprad, a. s.","SR","Fénix Bratislava spol. s r.o.",36513458,null,null,null,{"$f":"IF(N6955=\"SR\",1,IF(AC6955=\"\",VLOOKUP(AW6955,'CZKEUR Xchange rate'!$D$13:$E$234,2,FALSE),VLOOKUP(AW6955,'CZKEUR Xchange rate'!$A$13:$B$234,2,FALSE)))","v":1},0,0,null,null,{"$f":"VLOOKUP(AW6955,'Cenové indexy '!$D$7:$E$200,2,FALSE)","v":101.08},{"$f":"W6955/Y6955*'Cenové indexy '!$E$149","v":0},0,2016,"03","24","2016-03-24","Áno","Áno","Neurčené","Nie",null,"24 mesiacov ","neurčené","48 hodín ","Zmluva 110_NF",null,null,null,null,null,{"$f":"VLOOKUP(M6955,Adresy!$A$4:$C$156,2,FALSE)","v":"Poprad"},{"$f":"VLOOKUP(M6955,Adresy!$A$4:$C$156,3,FALSE)","v":"Banícka"},"M","2016M03",null,null,null,null,null,{"$f":"VLOOKUP(M6955,Adresy!$A$3:$C$154,2,FALSE)","v":"Poprad"},{"$f":"VLOOKUP(M6955,Adresy!$A$3:$C$154,3,FALSE)","v":"Banícka"},0,0,0,0]
["ultrazvukový chirurgický aspirátor",null,"výkon minimálne 100 W s možnosťou nastavenia po 10%-ách výkonu",null,null,null,"CUSA Excel+ ",null,null,"Integra Life Scientces Ltd.,","bez položkovej identifikácie ceny (v rámci sumárnej ceny)",null,"Fakultná nemocnica s poliklinikou F. D. Roosevelta Banská Bystrica","SR","INAMED s.r.o.","44484275 ",null,null,null,{"$f":"IF(N6972=\"SR\",1,IF(AC6972=\"\",VLOOKUP(AW6972,'CZKEUR Xchange rate'!$D$13:$E$234,2,FALSE),VLOOKUP(AW6972,'CZKEUR Xchange rate'!$A$13:$B$234,2,FALSE)))","v":1},0,0,null,null,{"$f":"VLOOKUP(AW6972,'Cenové indexy '!$D$7:$E$200,2,FALSE)","v":101.77},{"$f":"W6972/Y6972*'Cenové indexy '!$E$149","v":0},0,2016,"07","11","2016-07-11","Áno","Áno","neurčené","Nie ",null,"12 mesiacov ","neurčené","48 hodín ","Zmluva 112_ NF ",null,null,null,null,null,{"$f":"VLOOKUP(M6972,Adresy!$A$4:$C$156,2,FALSE)","v":"Banská Bystrica"},{"$f":"VLOOKUP(M6972,Adresy!$A$4:$C$156,3,FALSE)","v":"Námestie Ludvíka Svobodu 6818/4"},"M","2016M07",null,null,null,null,null,{"$f":"VLOOKUP(M6972,Adresy!$A$3:$C$154,2,FALSE)","v":"Banská Bystrica"},{"$f":"VLOOKUP(M6972,Adresy!$A$3:$C$154,3,FALSE)","v":"Námestie Ludvíka Svobodu 6818/4"},0,0,0,0]
["ultrazvukový chirurgický aspirátor",null,"teflónový kryt",null,"92-112",null,"SONOCA 300",null,null,"SÖRING GmbH","bez položkovej identifikácie ceny (v rámci sumárnej ceny)",null,"Všeobecná fakultní nemocnice Praha","ČR","Ing. Aleš Závorka - Almeda",41147341,null,null,null,{"$f":"IF(N6997=\"SR\",1,IF(AC6997=\"\",VLOOKUP(AW6997,'CZKEUR Xchange rate'!$D$13:$E$234,2,FALSE),VLOOKUP(AW6997,'CZKEUR Xchange rate'!$A$13:$B$234,2,FALSE)))","v":27.021999999999998},0,0,null,null,{"$f":"VLOOKUP(AW6997,'Cenové indexy '!$D$7:$E$200,2,FALSE)","v":102.96},{"$f":"W6997/Y6997*'Cenové indexy '!$E$149","v":0},0,2016,"10","17","2016-10-17","Áno","Áno","neurčené","Nie ",null,"24 mesiacov ","10 rokov ","24 hodín ","Zmluva 114_NF ",null,null,null,null,null,{"$f":"VLOOKUP(M6997,Adresy!$A$4:$C$156,2,FALSE)","v":"Praha "},{"$f":"VLOOKUP(M6997,Adresy!$A$4:$C$156,3,FALSE)","v":"U Nemocnice 2"},"M","2016M10",null,null,null,null,null,{"$f":"VLOOKUP(M6997,Adresy!$A$3:$C$154,2,FALSE)","v":"Praha "},{"$f":"VLOOKUP(M6997,Adresy!$A$3:$C$154,3,FALSE)","v":"U Nemocnice 2"},0,0,0,0]
["angiografický systém",null,"digitány systém akvizície obrazu a zobrazenia","nožný spínač",null,null,"Artis Q Ceiling",null,null,"Siemens","bez položkovej identifikácie ceny (v rámci sumárnej ceny)",null,"Fakultná nemocnica Trenčín","SR","Meditecon s.r.o.",35725273,null,null,null,{"$f":"IF(N7023=\"SR\",1,IF(AC7023=\"\",VLOOKUP(AW7023,'CZKEUR Xchange rate'!$D$13:$E$234,2,FALSE),VLOOKUP(AW7023,'CZKEUR Xchange rate'!$A$13:$B$234,2,FALSE)))","v":1},0,0,null,null,{"$f":"VLOOKUP(AW7023,'Cenové indexy '!$D$7:$E$200,2,FALSE)","v":100.11},{"$f":"W7023/Y7023*'Cenové indexy '!$E$149","v":0},0,2015,"08","21","2015-08-21","Áno","Áno","ERDF","Nie",null,"24 mesiacov","Neurčené","do 24 hodín","Zmluva 185_AT",null,null,null,null,null,{"$f":"VLOOKUP(M7023,Adresy!$A$4:$C$156,2,FALSE)","v":"Trenčín"},{"$f":"VLOOKUP(M7023,Adresy!$A$4:$C$156,3,FALSE)","v":"Legionárska 594/2"},"M","2015M08",null,null,null,null,null,"Trenčín","Legionárska 594/2",0,0,0,0]
["angiografický systém",null,"projekt stavebno-realizačných prác",null,null,null,"Artis Q Ceiling",null,null,"Siemens","bez položkovej identifikácie ceny (v rámci sumárnej ceny)",null,"Fakultná nemocnica Trenčín","SR","Meditecon s.r.o.",35725273,null,null,null,{"$f":"IF(N7044=\"SR\",1,IF(AC7044=\"\",VLOOKUP(AW7044,'CZKEUR Xchange rate'!$D$13:$E$234,2,FALSE),VLOOKUP(AW7044,'CZKEUR Xchange rate'!$A$13:$B$234,2,FALSE)))","v":1},0,0,null,null,{"$f":"VLOOKUP(AW7044,'Cenové indexy '!$D$7:$E$200,2,FALSE)","v":100.11},{"$f":"W7044/Y7044*'Cenové indexy '!$E$149","v":0},0,2015,"08","21","2015-08-21","Áno","Áno","ERDF","Nie",null,"24 mesiacov","Neurčené","do 24 hodín","Zmluva 185_AT",null,null,null,null,null,{"$f":"VLOOKUP(M7044,Adresy!$A$4:$C$156,2,FALSE)","v":"Trenčín"},{"$f":"VLOOKUP(M7044,Adresy!$A$4:$C$156,3,FALSE)","v":"Legionárska 594/2"},"M","2015M08",null,null,null,null,null,"Trenčín","Legionárska 594/2",0,0,0,0]
["angiografický systém",null,"geometria C-ramena","vzdialenosť SID","od 90 - 120 cm",null,"Artis Q   ",null,null,"Siemens","bez položkovej identifikácie ceny (v rámci sumárnej ceny)",null,"Fakultná nemocnica s poliklinikou F. D. Roosevelta Banská Bystrica","SR","AD REM s.r.o.",31103049,null,null,null,{"$f":"IF(N7049=\"SR\",1,IF(AC7049=\"\",VLOOKUP(AW7049,'CZKEUR Xchange rate'!$D$13:$E$234,2,FALSE),VLOOKUP(AW7049,'CZKEUR Xchange rate'!$A$13:$B$234,2,FALSE)))","v":1},0,0,null,null,{"$f":"VLOOKUP(AW7049,'Cenové indexy '!$D$7:$E$200,2,FALSE)","v":101.08},{"$f":"W7049/Y7049*'Cenové indexy '!$E$149","v":0},0,2016,"03","24","2016-03-24","Áno","Áno","na splátky","Nie",null,"12 mesiacov, 60 mesiacov na stavebné úpravy","Neurčené","do 48 hodín","Zmluva 186_AT",null,null,null,null,null,{"$f":"VLOOKUP(M7049,Adresy!$A$4:$C$156,2,FALSE)","v":"Banská Bystrica"},{"$f":"VLOOKUP(M7049,Adresy!$A$4:$C$156,3,FALSE)","v":"Námestie Ludvíka Svobodu 6818/4"},"M","2016M03",null,null,null,null,null,"Banská Bystrica","Námestie Ludvíka Svobodu 6818/4",0,0,0,0]
["angiografický systém",null,"digitány systém akvizície obrazu a zobrazenia","obrazová kapacita systému min. 25.000 obrazov",null,null,"Artis Q   ",null,null,"Siemens","bez položkovej identifikácie ceny (v rámci sumárnej ceny)",null,"Fakultná nemocnica s poliklinikou F. D. Roosevelta Banská Bystrica","SR","AD REM s.r.o.",31103049,null,null,null,{"$f":"IF(N7070=\"SR\",1,IF(AC7070=\"\",VLOOKUP(AW7070,'CZKEUR Xchange rate'!$D$13:$E$234,2,FALSE),VLOOKUP(AW7070,'CZKEUR Xchange rate'!$A$13:$B$234,2,FALSE)))","v":1},0,0,null,null,{"$f":"VLOOKUP(AW7070,'Cenové indexy '!$D$7:$E$200,2,FALSE)","v":101.08},{"$f":"W7070/Y7070*'Cenové indexy '!$E$149","v":0},0,2016,"03","24",{"$f":"DATE(AB7070,AC7070,AD7070)","v":"2016-03-24"},"Áno","Áno","na splátky","Nie",null,"12 mesiacov, 60 mesiacov na stavebné úpravy","Neurčené","do 48 hodín","Zmluva 186_AT",null,null,null,null,null,{"$f":"VLOOKUP(M7070,Adresy!$A$4:$C$156,2,FALSE)","v":"Banská Bystrica"},{"$f":"VLOOKUP(M7070,Adresy!$A$4:$C$156,3,FALSE)","v":"Námestie Ludvíka Svobodu 6818/4"},"M","2016M03",null,null,null,null,null,"Banská Bystrica","Námestie Ludvíka Svobodu 6818/4",0,0,0,0]
["angiografický systém",null,"geometria C-ramena","rýchlosť rotácie pri rotačnej angiografii","60°/sekunda",null,"Artis zee floor",null,null,"Siemens","bez položkovej identifikácie ceny (v rámci sumárnej ceny)",null,"Nemocnice Nový Jičín a.s.","ČR","Siemens Healthcare s.r.o.","00268577",null,null,null,{"$f":"IF(N7096=\"SR\",1,IF(AC7096=\"\",VLOOKUP(AW7096,'CZKEUR Xchange rate'!$D$13:$E$234,2,FALSE),VLOOKUP(AW7096,'CZKEUR Xchange rate'!$A$13:$B$234,2,FALSE)))","v":27.088999999999999},0,0,null,null,{"$f":"VLOOKUP(AW7096,'Cenové indexy '!$D$7:$E$200,2,FALSE)","v":100.14},{"$f":"W7096/Y7096*'Cenové indexy '!$E$149","v":0},0,2015,"09","30","2015-09-30","Áno","Áno","EFRR","Nie",null,"24 mesiacov","6 rokov","do 1 hodiny","Zmluva 187_AT",null,null,null,null,null,{"$f":"VLOOKUP(M7096,Adresy!$A$4:$C$156,2,FALSE)","v":"Nový Jičín"},{"$f":"VLOOKUP(M7096,Adresy!$A$4:$C$156,3,FALSE)","v":"K Nemocnici 76"},"M","2015M09",null,null,null,null,null,"Nový Jičín","K Nemocnici 76",0,0,0,0]
["angiografický systém",null,"DICOM","DICOM WLM, MPPS",null,null,"Artis zee floor",null,null,"Siemens","bez položkovej identifikácie ceny (v rámci sumárnej ceny)",null,"Nemocnice Nový Jičín a.s.","ČR","Siemens Healthcare s.r.o.","00268577",null,null,null,{"$f":"IF(N7117=\"SR\",1,IF(AC7117=\"\",VLOOKUP(AW7117,'CZKEUR Xchange rate'!$D$13:$E$234,2,FALSE),VLOOKUP(AW7117,'CZKEUR Xchange rate'!$A$13:$B$234,2,FALSE)))","v":27.088999999999999},0,0,null,null,{"$f":"VLOOKUP(AW7117,'Cenové indexy '!$D$7:$E$200,2,FALSE)","v":100.14},{"$f":"W7117/Y7117*'Cenové indexy '!$E$149","v":0},0,2015,"09","30","2015-09-30","Áno","Áno","EFRR","Nie",null,"24 mesiacov","6 rokov","do 1 hodiny","Zmluva 187_AT",null,null,null,null,null,{"$f":"VLOOKUP(M7117,Adresy!$A$4:$C$156,2,FALSE)","v":"Nový Jičín"},{"$f":"VLOOKUP(M7117,Adresy!$A$4:$C$156,3,FALSE)","v":"K Nemocnici 76"},"M","2015M09",null,null,null,null,null,"Nový Jičín","K Nemocnici 76",0,0,0,0]
["angiografický systém",null,"RTG generátor, RTG žiarič a kolimátor","generátor vysokofrekvenčný",null,null,"Artis zee floor III",null,null,"Siemens","bez položkovej identifikácie ceny (v rámci sumárnej ceny)",null,"Vojenská fakultná nemocnica Praha","ČR","Siemens Healthcare s.r.o.","00268577",null,null,null,{"$f":"IF(N7138=\"SR\",1,IF(AC7138=\"\",VLOOKUP(AW7138,'CZKEUR Xchange rate'!$D$13:$E$234,2,FALSE),VLOOKUP(AW7138,'CZKEUR Xchange rate'!$A$13:$B$234,2,FALSE)))","v":26.927},0,0,null,null,{"$f":"VLOOKUP(AW7138,'Cenové indexy '!$D$7:$E$200,2,FALSE)","v":99.45},{"$f":"W7138/Y7138*'Cenové indexy '!$E$149","v":0},0,2013,"11","26","2013-11-26","Áno","Áno","Neurčené","Nie",null,"32 mesiacov","Neurčené","do 48 hodín bez ND, do 72 hodín s ND","Zmluva 188_AT",null,null,null,null,null,{"$f":"VLOOKUP(M7138,Adresy!$A$4:$C$156,2,FALSE)","v":"Praha"},{"$f":"VLOOKUP(M7138,Adresy!$A$4:$C$156,3,FALSE)","v":"U Vojenské nemocnice 1/1200"},"M","2013M11",null,null,null,null,null,"Praha","U Vojenské nemocnice 1/1200",0,0,0,0]
["angiografický systém",null,"akvizičná stanica","analýza ľavej komory srdca",null,"vedecká LVA","Artis zee floor III",null,null,"Siemens","bez položkovej identifikácie ceny (v rámci sumárnej ceny)",null,"Vojenská fakultná nemocnica Praha","ČR","Siemens Healthcare s.r.o.","00268577",null,null,null,{"$f":"IF(N7148=\"SR\",1,IF(AC7148=\"\",VLOOKUP(AW7148,'CZKEUR Xchange rate'!$D$13:$E$234,2,FALSE),VLOOKUP(AW7148,'CZKEUR Xchange rate'!$A$13:$B$234,2,FALSE)))","v":26.927},0,0,null,null,{"$f":"VLOOKUP(AW7148,'Cenové indexy '!$D$7:$E$200,2,FALSE)","v":99.45},{"$f":"W7148/Y7148*'Cenové indexy '!$E$149","v":0},0,2013,"11","26","2013-11-26","Áno","Áno","Neurčené","Nie",null,"32 mesiacov","Neurčené","do 48 hodín bez ND, do 72 hodín s ND","Zmluva 188_AT",null,null,null,null,null,{"$f":"VLOOKUP(M7148,Adresy!$A$4:$C$156,2,FALSE)","v":"Praha"},{"$f":"VLOOKUP(M7148,Adresy!$A$4:$C$156,3,FALSE)","v":"U Vojenské nemocnice 1/1200"},"M","2013M11",null,null,null,null,null,"Praha","U Vojenské nemocnice 1/1200",0,0,0,0]
["angiografický systém",null,"katetrizačné laboratórium pre angiolinku","štartovacia sada - tlakové komôrky",null,null,"Artis zee floor III",null,null,"Siemens","bez položkovej identifikácie ceny (v rámci sumárnej ceny)",null,"Vojenská fakultná nemocnica Praha","ČR","Siemens Healthcare s.r.o.","00268577",null,null,null,{"$f":"IF(N7169=\"SR\",1,IF(AC7169=\"\",VLOOKUP(AW7169,'CZKEUR Xchange rate'!$D$13:$E$234,2,FALSE),VLOOKUP(AW7169,'CZKEUR Xchange rate'!$A$13:$B$234,2,FALSE)))","v":26.927},0,0,null,null,{"$f":"VLOOKUP(AW7169,'Cenové indexy '!$D$7:$E$200,2,FALSE)","v":99.45},{"$f":"W7169/Y7169*'Cenové indexy '!$E$149","v":0},0,2013,"11","26","2013-11-26","Áno","Áno","Neurčené","Nie",null,"32 mesiacov","Neurčené","do 48 hodín bez ND, do 72 hodín s ND","Zmluva 188_AT",null,null,null,null,null,{"$f":"VLOOKUP(M7169,Adresy!$A$4:$C$156,2,FALSE)","v":"Praha"},{"$f":"VLOOKUP(M7169,Adresy!$A$4:$C$156,3,FALSE)","v":"U Vojenské nemocnice 1/1200"},"M","2013M11",null,null,null,null,null,"Praha","U Vojenské nemocnice 1/1200",0,0,0,0]
["angiografický systém",null,"softvérové vybavenie vyhodnocovacej stanice","syngo InSpace 3D Flash,syngo iPilot",null,null,"Artis zee ceiling III",null,null,"Siemens","bez položkovej identifikácie ceny (v rámci sumárnej ceny)",null,"Nemocnice Jihlava","ČR","Siemens Healthcare s.r.o.","00268577",null,null,null,{"$f":"IF(N7206=\"SR\",1,IF(AC7206=\"\",VLOOKUP(AW7206,'CZKEUR Xchange rate'!$D$13:$E$234,2,FALSE),VLOOKUP(AW7206,'CZKEUR Xchange rate'!$A$13:$B$234,2,FALSE)))","v":27.088999999999999},0,0,null,null,{"$f":"VLOOKUP(AW7206,'Cenové indexy '!$D$7:$E$200,2,FALSE)","v":100.14},{"$f":"W7206/Y7206*'Cenové indexy '!$E$149","v":0},0,2015,"09","24","2015-09-24","Áno","Áno","EFRR","Áno",null,"24 mesiacov","Neurčené","do 24 hodín","Zmluva 189_AT",null,null,null,null,null,{"$f":"VLOOKUP(M7206,Adresy!$A$4:$C$156,2,FALSE)","v":"Jihlava"},{"$f":"VLOOKUP(M7206,Adresy!$A$4:$C$156,3,FALSE)","v":"Vrchlického 59"},"M","2015M09",null,null,null,null,null,"Jihlava","Vrchlického 59",0,0,0,0]
["angiografický systém",null,"UPS ","pre náradie,stôl,obrazový systém",null,null,"Artis zee ceiling III",null,null,"Siemens","položková cena (súčasť sumárnej ceny)",null,"Nemocnice Jihlava","ČR","Siemens Healthcare s.r.o.","00268577",1,null,290400,{"$f":"IF(N7216=\"SR\",1,IF(AC7216=\"\",VLOOKUP(AW7216,'CZKEUR Xchange rate'!$D$13:$E$234,2,FALSE),VLOOKUP(AW7216,'CZKEUR Xchange rate'!$A$13:$B$234,2,FALSE)))","v":27.088999999999999},0,10720.218538890325,{"$f":"U7216/Q7216","v":0},{"$f":"V7216/Q7216","v":10720.218538890325},{"$f":"VLOOKUP(AW7216,'Cenové indexy '!$D$7:$E$200,2,FALSE)","v":100.14},{"$f":"W7216/Y7216*'Cenové indexy '!$E$149","v":0},0,2015,"09","24","2015-09-24","Áno","Áno","EFRR","Áno",null,"24 mesiacov","Neurčené","do 24 hodín","Zmluva 189_AT",null,null,null,null,null,{"$f":"VLOOKUP(M7216,Adresy!$A$4:$C$156,2,FALSE)","v":"Jihlava"},{"$f":"VLOOKUP(M7216,Adresy!$A$4:$C$156,3,FALSE)","v":"Vrchlického 59"},"M","2015M09",null,null,null,null,null,"Jihlava","Vrchlického 59",0,0,0,0]
["angiografický systém",null,"USG prístroj s príslušenstvom","konvexná sonda",null,null,"Artis zee ceiling ","CH5-2",null,"Siemens","bez položkovej identifikácie ceny (v rámci sumárnej ceny)",null,"Institut klinické a experimentální medicíny","ČR","Siemens Healthcare s.r.o.","00268577",null,null,null,{"$f":"IF(N7241=\"SR\",1,IF(AC7241=\"\",VLOOKUP(AW7241,'CZKEUR Xchange rate'!$D$13:$E$234,2,FALSE),VLOOKUP(AW7241,'CZKEUR Xchange rate'!$A$13:$B$234,2,FALSE)))","v":25.64},0,0,null,null,{"$f":"VLOOKUP(AW7241,'Cenové indexy '!$D$7:$E$200,2,FALSE)","v":96.04},{"$f":"W7241/Y7241*'Cenové indexy '!$E$149","v":0},0,2012,"06","15","2012-06-15","Áno","Áno","IOP","Áno",null,"36 mesiacov","Neurčené","Neurčené","Zmluva 190_AT",null,null,null,null,null,{"$f":"VLOOKUP(M7241,Adresy!$A$4:$C$156,2,FALSE)","v":"Praha"},{"$f":"VLOOKUP(M7241,Adresy!$A$4:$C$156,3,FALSE)","v":"Vídeňská 1959/9"},"M","2012M06",null,null,null,null,null,"Praha","Vídeňská 1959/9",0,0,0,0]
["angiografický systém",null,"softvérové vybavenie vyhodnocovacej stanice","syngo Fused Vision 3D",null,null,"Artis zee ceiling ",null,null,"Siemens","bez položkovej identifikácie ceny (v rámci sumárnej ceny)","SW","Institut klinické a experimentální medicíny","ČR","Siemens Healthcare s.r.o.","00268577",null,null,null,{"$f":"IF(N7253=\"SR\",1,IF(AC7253=\"\",VLOOKUP(AW7253,'CZKEUR Xchange rate'!$D$13:$E$234,2,FALSE),VLOOKUP(AW7253,'CZKEUR Xchange rate'!$A$13:$B$234,2,FALSE)))","v":25.64},0,0,null,null,{"$f":"VLOOKUP(AW7253,'Cenové indexy '!$D$7:$E$200,2,FALSE)","v":96.04},{"$f":"W7253/Y7253*'Cenové indexy '!$E$149","v":0},0,2012,"06","15","2012-06-15","Áno","Áno","IOP","Áno",null,"36 mesiacov","Neurčené","Neurčené","Zmluva 190_AT",null,null,null,null,null,{"$f":"VLOOKUP(M7253,Adresy!$A$4:$C$156,2,FALSE)","v":"Praha"},{"$f":"VLOOKUP(M7253,Adresy!$A$4:$C$156,3,FALSE)","v":"Vídeňská 1959/9"},"M","2012M06",null,null,null,null,null,"Praha","Vídeňská 1959/9",0,0,0,0]
["angiografický systém",null,"akvizičná stanica","EKG trigovaná skiaskopia",null,null,"Artis Q zen floor   ",null,null,"Siemens","bez položkovej identifikácie ceny (v rámci sumárnej ceny)",null,"Fakultní nemocnice Hradec Králové","ČR","Siemens Healthcare s.r.o.","00268577",null,null,null,{"$f":"IF(N7288=\"SR\",1,IF(AC7288=\"\",VLOOKUP(AW7288,'CZKEUR Xchange rate'!$D$13:$E$234,2,FALSE),VLOOKUP(AW7288,'CZKEUR Xchange rate'!$A$13:$B$234,2,FALSE)))","v":27.094000000000001},0,0,null,null,{"$f":"VLOOKUP(AW7288,'Cenové indexy '!$D$7:$E$200,2,FALSE)","v":99.95},{"$f":"W7288/Y7288*'Cenové indexy '!$E$149","v":0},0,2015,"07","17","2015-07-17","Áno","Áno","dotácia MZ","Nie",null,"36 mesiacov","Neurčené","technik k disp. nepretržite (do 24 hodín)","Zmluva 192_AT",null,null,null,null,null,{"$f":"VLOOKUP(M7288,Adresy!$A$4:$C$156,2,FALSE)","v":"Hradec Králové"},{"$f":"VLOOKUP(M7288,Adresy!$A$4:$C$156,3,FALSE)","v":"Sokolská 581"},"M","2015M07",null,null,null,null,null,"Hradec Králové","Sokolská 581",0,0,0,0]
["angiografický systém",null,"dvojité ovládanie systému",null,null,null,"Artis Q zen floor   ",null,null,"Siemens","položková cena (súčasť sumárnej ceny)",null,"Fakultní nemocnice Hradec Králové","ČR","Siemens Healthcare s.r.o.","00268577",1,null,181500,{"$f":"IF(N7293=\"SR\",1,IF(AC7293=\"\",VLOOKUP(AW7293,'CZKEUR Xchange rate'!$D$13:$E$234,2,FALSE),VLOOKUP(AW7293,'CZKEUR Xchange rate'!$A$13:$B$234,2,FALSE)))","v":27.094000000000001},0,6698.9001254890381,{"$f":"U7293/Q7293","v":0},{"$f":"V7293/Q7293","v":6698.9001254890381},{"$f":"VLOOKUP(AW7293,'Cenové indexy '!$D$7:$E$200,2,FALSE)","v":99.95},{"$f":"W7293/Y7293*'Cenové indexy '!$E$149","v":0},0,2015,"07","17","2015-07-17","Áno","Áno","dotácia MZ","Nie",null,"36 mesiacov","Neurčené","technik k disp. nepretržite (do 24 hodín)","Zmluva 192_AT",null,null,null,null,null,{"$f":"VLOOKUP(M7293,Adresy!$A$4:$C$156,2,FALSE)","v":"Hradec Králové"},{"$f":"VLOOKUP(M7293,Adresy!$A$4:$C$156,3,FALSE)","v":"Sokolská 581"},"M","2015M07",null,null,null,null,null,"Hradec Králové","Sokolská 581",0,0,0,0]
["angiografický systém",null,"vedľajšie náklady",null,null,null,null,null,null,"","položková cena (súčasť sumárnej ceny)",null,"Fakultní nemocnice Brno","ČR","Přemysl Veselý stavební a inžinírska činnost",25342100,1,491961,null,{"$f":"IF(N7321=\"SR\",1,IF(AC7321=\"\",VLOOKUP(AW7321,'CZKEUR Xchange rate'!$D$13:$E$234,2,FALSE),VLOOKUP(AW7321,'CZKEUR Xchange rate'!$A$13:$B$234,2,FALSE)))","v":27.094000000000001},18157.562559976377,0,{"$f":"U7321/Q7321","v":18157.562559976377},{"$f":"V7321/Q7321","v":0},{"$f":"VLOOKUP(AW7321,'Cenové indexy '!$D$7:$E$200,2,FALSE)","v":99.95},{"$f":"W7321/Y7321*'Cenové indexy '!$E$149","v":18735.261899053163},22482.314278863796,2015,"07","13","2015-07-13","           -","             -","na 38 splátok","Nie",null,"72 mesiacov (bližšie viď zmluva)","Neurčené","Neurčené","Zmluva 193_AT",null,null,null,null,null,{"$f":"VLOOKUP(M7321,Adresy!$A$4:$C$156,2,FALSE)","v":"Brno"},{"$f":"VLOOKUP(M7321,Adresy!$A$4:$C$156,3,FALSE)","v":"Jihlavská 340/20"},"M","2015M07",null,null,null,null,null,"Brno","Jihlavská 340/20",0,0,0,0]
["angiografický systém",null,"generátor, RTG žiarič, kolimátor","automatický systém kolimácie",null,null,"Allura Xper FD20",null,null,"Philips","bez položkovej identifikácie ceny (v rámci sumárnej ceny)",null,"Univerzitná nemocnica Bratislava","SR","Medleader spol. s r.o.",43835058,null,null,null,{"$f":"IF(N7340=\"SR\",1,IF(AC7340=\"\",VLOOKUP(AW7340,'CZKEUR Xchange rate'!$D$13:$E$234,2,FALSE),VLOOKUP(AW7340,'CZKEUR Xchange rate'!$A$13:$B$234,2,FALSE)))","v":1},0,0,null,null,{"$f":"VLOOKUP(AW7340,'Cenové indexy '!$D$7:$E$200,2,FALSE)","v":99.3},{"$f":"W7340/Y7340*'Cenové indexy '!$E$149","v":0},0,2012,"11","20","2012-11-20","Áno","Áno","neurčené","Áno","najmenej 12 mesiacov","najmenej 12 mesiacov","neurčené","neurčené","Zmluva 173_DG",null,null,null,null,null,{"$f":"VLOOKUP(M7340,Adresy!$A$4:$C$156,2,FALSE)","v":"Bratislava"},{"$f":"VLOOKUP(M7340,Adresy!$A$4:$C$156,3,FALSE)","v":"Ružinovská 4810/6"},"M","2012M11",null,null,null,null,null,"Bratislava","Ružinovská 4810/6",0,0,0,0]
["angiografický systém",null,"geometria C-ramena","LAO/RAO rotácia po stranách pacientského stola ","90°",null,"Allura Xper FD20 Ceiling",null,null,"Philips","bez položkovej identifikácie ceny (v rámci sumárnej ceny)",null,"Fakultná nemocnica s poliklinikou J.A.Reimana Prešov","SR","Meditecon s.r.o.",35725273,null,null,null,{"$f":"IF(N7365=\"SR\",1,IF(AC7365=\"\",VLOOKUP(AW7365,'CZKEUR Xchange rate'!$D$13:$E$234,2,FALSE),VLOOKUP(AW7365,'CZKEUR Xchange rate'!$A$13:$B$234,2,FALSE)))","v":1},0,0,null,null,{"$f":"VLOOKUP(AW7365,'Cenové indexy '!$D$7:$E$200,2,FALSE)","v":99.5},{"$f":"W7365/Y7365*'Cenové indexy '!$E$149","v":0},0,2014,null,null,null,"Áno","Áno","na splátky 48 mesiacov","Áno","24 mesiacov","24 mesiacov","neurčené","do 48 hodín","Zmluva 175_DG",null,null,null,null,null,{"$f":"VLOOKUP(M7365,Adresy!$A$4:$C$156,2,FALSE)","v":"Prešov"},{"$f":"VLOOKUP(M7365,Adresy!$A$4:$C$156,3,FALSE)","v":"Jána Hollého"},"M","2014M06",null,null,null,null,null,"Prešov","Jána Hollého",0,0,0,0]
["angiografický systém",null,"pacientský stôl","nosnosť","250 kg",null,"Allura Xper FD20 Ceiling",null,null,"Philips","bez položkovej identifikácie ceny (v rámci sumárnej ceny)",null,"Fakultná nemocnica s poliklinikou J.A.Reimana Prešov","SR","Meditecon s.r.o.",35725273,null,null,null,{"$f":"IF(N7372=\"SR\",1,IF(AC7372=\"\",VLOOKUP(AW7372,'CZKEUR Xchange rate'!$D$13:$E$234,2,FALSE),VLOOKUP(AW7372,'CZKEUR Xchange rate'!$A$13:$B$234,2,FALSE)))","v":1},0,0,null,null,{"$f":"VLOOKUP(AW7372,'Cenové indexy '!$D$7:$E$200,2,FALSE)","v":99.5},{"$f":"W7372/Y7372*'Cenové indexy '!$E$149","v":0},0,2014,null,null,null,"Áno","Áno","na splátky 48 mesiacov","Áno","24 mesiacov","24 mesiacov","neurčené","do 48 hodín","Zmluva 175_DG",null,null,null,null,null,{"$f":"VLOOKUP(M7372,Adresy!$A$4:$C$156,2,FALSE)","v":"Prešov"},{"$f":"VLOOKUP(M7372,Adresy!$A$4:$C$156,3,FALSE)","v":"Jána Hollého"},"M","2014M06",null,null,null,null,null,"Prešov","Jána Hollého",0,0,0,0]
["angiografický systém",null,"digitálny systém akvizície obrazu a zobrazenia","funkcia pre „3D Roadmapovanie“ vrátane funkcie pre prekrytie živého a referenčného obrazu na jednom obrazovom zdroji spolu s možnosťou využitia iných obrazových zdrojov z CT i MR modalít",null,null,"Allura Xper FD20 Ceiling",null,null,"Philips","bez položkovej identifikácie ceny (v rámci sumárnej ceny)",null,"Fakultná nemocnica s poliklinikou J.A.Reimana Prešov","SR","Meditecon s.r.o.",35725273,null,null,null,{"$f":"IF(N7392=\"SR\",1,IF(AC7392=\"\",VLOOKUP(AW7392,'CZKEUR Xchange rate'!$D$13:$E$234,2,FALSE),VLOOKUP(AW7392,'CZKEUR Xchange rate'!$A$13:$B$234,2,FALSE)))","v":1},0,0,null,null,{"$f":"VLOOKUP(AW7392,'Cenové indexy '!$D$7:$E$200,2,FALSE)","v":99.5},{"$f":"W7392/Y7392*'Cenové indexy '!$E$149","v":0},0,2014,null,null,null,"Áno","Áno","na splátky 48 mesiacov","Áno","24 mesiacov","24 mesiacov","neurčené","do 48 hodín","Zmluva 175_DG",null,null,null,null,null,{"$f":"VLOOKUP(M7392,Adresy!$A$4:$C$156,2,FALSE)","v":"Prešov"},{"$f":"VLOOKUP(M7392,Adresy!$A$4:$C$156,3,FALSE)","v":"Jána Hollého"},"M","2014M06",null,null,null,null,null,"Prešov","Jána Hollého",0,0,0,0]
["angiografický systém",null,"pacientský stôl","katetrizačný stôl s plávajúcou úložnou doskou s možnosťou otáčania","180°/-90°",null,"AlluraXper FD20 biplane model AlluraClarity",null,null,"Philips","bez položkovej identifikácie ceny (v rámci sumárnej ceny)",null,"Univerzitná nemocnica Martin","SR","S&T",31349935,null,null,null,{"$f":"IF(N7417=\"SR\",1,IF(AC7417=\"\",VLOOKUP(AW7417,'CZKEUR Xchange rate'!$D$13:$E$234,2,FALSE),VLOOKUP(AW7417,'CZKEUR Xchange rate'!$A$13:$B$234,2,FALSE)))","v":1},0,0,null,null,{"$f":"VLOOKUP(AW7417,'Cenové indexy '!$D$7:$E$200,2,FALSE)","v":100.29},{"$f":"W7417/Y7417*'Cenové indexy '!$E$149","v":0},0,2015,"12","29","2015-12-29","Áno","Áno","neurčené","Nie","24 mesiacov","24 mesiacov","neurčené","neurčené","Zmluva 176_DG",null,null,null,null,null,{"$f":"VLOOKUP(M7417,Adresy!$A$4:$C$156,2,FALSE)","v":"Martin"},{"$f":"VLOOKUP(M7417,Adresy!$A$4:$C$156,3,FALSE)","v":"Kollárova 2"},"M","2015M12",null,null,null,null,null,"Martin","Kollárova 2",0,0,0,0]
["angiografický systém",null,"softvérové vybavenie vyhodnocovacej stanice","simulácia vizualizáciu uzavretých ciev",null,null,"AlluraXper FD20 biplane model AlluraClarity",null,null,"Philips","bez položkovej identifikácie ceny (v rámci sumárnej ceny)",null,"Univerzitná nemocnica Martin","SR","S&T",31349935,null,null,null,{"$f":"IF(N7440=\"SR\",1,IF(AC7440=\"\",VLOOKUP(AW7440,'CZKEUR Xchange rate'!$D$13:$E$234,2,FALSE),VLOOKUP(AW7440,'CZKEUR Xchange rate'!$A$13:$B$234,2,FALSE)))","v":1},0,0,null,null,{"$f":"VLOOKUP(AW7440,'Cenové indexy '!$D$7:$E$200,2,FALSE)","v":100.29},{"$f":"W7440/Y7440*'Cenové indexy '!$E$149","v":0},0,2015,"12","29","2015-12-29","Áno","Áno","neurčené","Nie","24 mesiacov","24 mesiacov","neurčené","neurčené","Zmluva 176_DG",null,null,null,null,null,{"$f":"VLOOKUP(M7440,Adresy!$A$4:$C$156,2,FALSE)","v":"Martin"},{"$f":"VLOOKUP(M7440,Adresy!$A$4:$C$156,3,FALSE)","v":"Kollárova 2"},"M","2015M12",null,null,null,null,null,"Martin","Kollárova 2",0,0,0,0]
["angiografický systém",null,"digitálny systém akvizície obrazu a zobrazenia","farebný medicínsky LCD HD monitor vo vyšetrovni","1 ks 56\"",null,"FD 10 Allura Clarity Floor",null,null,"Philips","bez položkovej identifikácie ceny (v rámci sumárnej ceny)",null,"Fakultní nemocnice Hradec Králové","ČR","Philips Česká republika s.r.o.",63985306,null,null,null,{"$f":"IF(N7464=\"SR\",1,IF(AC7464=\"\",VLOOKUP(AW7464,'CZKEUR Xchange rate'!$D$13:$E$234,2,FALSE),VLOOKUP(AW7464,'CZKEUR Xchange rate'!$A$13:$B$234,2,FALSE)))","v":27.105},0,0,null,null,{"$f":"VLOOKUP(AW7464,'Cenové indexy '!$D$7:$E$200,2,FALSE)","v":100.07},{"$f":"W7464/Y7464*'Cenové indexy '!$E$149","v":0},0,2015,"10","30","2015-10-30","Áno","Áno","neurčené","Nie","24 mesiacov","24 mesiacov","neurčené","48 hodín","Zmluva 177_DG",null,null,null,null,null,{"$f":"VLOOKUP(M7464,Adresy!$A$4:$C$156,2,FALSE)","v":"Hradec Králové"},{"$f":"VLOOKUP(M7464,Adresy!$A$4:$C$156,3,FALSE)","v":"Sokolská 581"},"M","2015M10",null,null,null,null,null,"Hradec Králové","Sokolská 581",0,0,0,0]
["angiografický systém",null,"geometria C-ramena","kraniálna/kaudálna angulácia","45°",null,"Allura Xper FD20 C",null,null,"Philips","bez položkovej identifikácie ceny (v rámci sumárnej ceny)",null,"Fakultní nemocnice v Motole","ČR","Philips Česká republika s.r.o.",63985306,null,null,null,{"$f":"IF(N7485=\"SR\",1,IF(AC7485=\"\",VLOOKUP(AW7485,'CZKEUR Xchange rate'!$D$13:$E$234,2,FALSE),VLOOKUP(AW7485,'CZKEUR Xchange rate'!$A$13:$B$234,2,FALSE)))","v":27.105},0,0,null,null,{"$f":"VLOOKUP(AW7485,'Cenové indexy '!$D$7:$E$200,2,FALSE)","v":100.07},{"$f":"W7485/Y7485*'Cenové indexy '!$E$149","v":0},0,2015,"10","05","2015-10-05","Áno","Áno","EFRR","Nie","24 mesiacov","24 mesiacov","neurčené","24 hodín","Zmluva 178_DG",null,null,null,null,null,{"$f":"VLOOKUP(M7485,Adresy!$A$4:$C$156,2,FALSE)","v":"Praha"},{"$f":"VLOOKUP(M7485,Adresy!$A$4:$C$156,3,FALSE)","v":"V úvalu 84"},"M","2015M10",null,null,null,null,null,"Praha","V úvalu 84",0,0,0,0]
["angiografický systém",null,"injektor",null,null,"opcia","Allura Xper FD20 C",null,null,"Philips","bez položkovej identifikácie ceny (v rámci sumárnej ceny)",null,"Fakultní nemocnice v Motole","ČR","Philips Česká republika s.r.o.",63985306,null,null,null,{"$f":"IF(N7508=\"SR\",1,IF(AC7508=\"\",VLOOKUP(AW7508,'CZKEUR Xchange rate'!$D$13:$E$234,2,FALSE),VLOOKUP(AW7508,'CZKEUR Xchange rate'!$A$13:$B$234,2,FALSE)))","v":27.105},0,0,null,null,{"$f":"VLOOKUP(AW7508,'Cenové indexy '!$D$7:$E$200,2,FALSE)","v":100.07},{"$f":"W7508/Y7508*'Cenové indexy '!$E$149","v":0},0,2015,"10","05","2015-10-05","Áno","Áno","EFRR","Nie","24 mesiacov","24 mesiacov","neurčené","24 hodín","Zmluva 178_DG",null,null,null,null,null,{"$f":"VLOOKUP(M7508,Adresy!$A$4:$C$156,2,FALSE)","v":"Praha"},{"$f":"VLOOKUP(M7508,Adresy!$A$4:$C$156,3,FALSE)","v":"V úvalu 84"},"M","2015M10",null,null,null,null,null,"Praha","V úvalu 84",0,0,0,0]
["angiografický systém",null,"geometria C-ramena","LAO/RAO rotácia po stranách pacientského stola ","90°",null,"Allura Xper FD20 OR",null,null,"Philips","bez položkovej identifikácie ceny (v rámci sumárnej ceny)",null,"Nemocnice na Homolce","ČR","Philips Česká republika s.r.o.",63985306,null,null,null,{"$f":"IF(N7516=\"SR\",1,IF(AC7516=\"\",VLOOKUP(AW7516,'CZKEUR Xchange rate'!$D$13:$E$234,2,FALSE),VLOOKUP(AW7516,'CZKEUR Xchange rate'!$A$13:$B$234,2,FALSE)))","v":25.818000000000001},0,0,null,null,{"$f":"VLOOKUP(AW7516,'Cenové indexy '!$D$7:$E$200,2,FALSE)","v":98.82},{"$f":"W7516/Y7516*'Cenové indexy '!$E$149","v":0},0,2013,"08","29","2013-08-29","Áno","Áno","neuvedené","Nie","24 mesiacov","24 mesiacov","6 rokov","12 hodín","Zmluva 179_DG",null,null,null,null,null,{"$f":"VLOOKUP(M7516,Adresy!$A$4:$C$156,2,FALSE)","v":"Praha"},{"$f":"VLOOKUP(M7516,Adresy!$A$4:$C$156,3,FALSE)","v":"Roentgenova 37/2"},"M","2013M08",null,null,null,null,null,"Praha","Roentgenova 37/2",0,0,0,0]
["angiografický systém",null,"vyhodnocovacia stanica","farebný dátový LCD  monitor  ","1 ks 19\"",null,"Allura Xper FD20 OR",null,null,"Philips","bez položkovej identifikácie ceny (v rámci sumárnej ceny)",null,"Nemocnice na Homolce","ČR","Philips Česká republika s.r.o.",63985306,null,null,null,{"$f":"IF(N7537=\"SR\",1,IF(AC7537=\"\",VLOOKUP(AW7537,'CZKEUR Xchange rate'!$D$13:$E$234,2,FALSE),VLOOKUP(AW7537,'CZKEUR Xchange rate'!$A$13:$B$234,2,FALSE)))","v":25.818000000000001},0,0,null,null,{"$f":"VLOOKUP(AW7537,'Cenové indexy '!$D$7:$E$200,2,FALSE)","v":98.82},{"$f":"W7537/Y7537*'Cenové indexy '!$E$149","v":0},0,2013,"08","29","2013-08-29","Áno","Áno","neuvedené","Nie","24 mesiacov","24 mesiacov","6 rokov","12 hodín","Zmluva 179_DG",null,null,null,null,null,{"$f":"VLOOKUP(M7537,Adresy!$A$4:$C$156,2,FALSE)","v":"Praha"},{"$f":"VLOOKUP(M7537,Adresy!$A$4:$C$156,3,FALSE)","v":"Roentgenova 37/2"},"M","2013M08",null,null,null,null,null,"Praha","Roentgenova 37/2",0,0,0,0]
["angiografický systém",null,"geometria C-ramena","rotačná rýchlosť","25°/ sekunda",null,"Allura Xper FD 20",null,null,"Philips","bez položkovej identifikácie ceny (v rámci sumárnej ceny)",null,"Fakultná nemocnica Nitra","SR","PURO-KLIMA Slovakia  s. r.o.",35725273,null,null,null,{"$f":"IF(N7555=\"SR\",1,IF(AC7555=\"\",VLOOKUP(AW7555,'CZKEUR Xchange rate'!$D$13:$E$234,2,FALSE),VLOOKUP(AW7555,'CZKEUR Xchange rate'!$A$13:$B$234,2,FALSE)))","v":1},0,0,null,null,{"$f":"VLOOKUP(AW7555,'Cenové indexy '!$D$7:$E$200,2,FALSE)","v":92.79},{"$f":"W7555/Y7555*'Cenové indexy '!$E$149","v":0},0,2012,"01","23","2012-01-23","Áno","Áno","neuvedené","Nie","24 mesiacov","24 mesiacov","neurčené","24 hodín","Zmluva 180_DG",null,null,null,null,null,{"$f":"VLOOKUP(M7555,Adresy!$A$4:$C$156,2,FALSE)","v":"Nitra"},{"$f":"VLOOKUP(M7555,Adresy!$A$4:$C$156,3,FALSE)","v":"Špitálska 6"},"M",{"$f":"IF(AC7555=\"\",CONCATENATE(AB7555,AV7555,\"06\"),IF(LEN(AC7555)=1,CONCATENATE(AB7555,AV7555,\"0\"&AC7555),CONCATENATE(AB7555,AV7555,AC7555)))","v":"2012M01"},null,null,null,null,null,"Nitra","Špitálska 6",0,0,0,0]
["angiografický systém",null,"pacientský stôl","ďalšia záťaž ","110 kg",null,"Innova IGS 540",null,null,"GE","bez položkovej identifikácie ceny (v rámci sumárnej ceny)",null,"Fakultní nemocnica Olomouc","ČR","GE Medical Systems  s.r.o.",63991306,null,null,null,{"$f":"IF(N7588=\"SR\",1,IF(AC7588=\"\",VLOOKUP(AW7588,'CZKEUR Xchange rate'!$D$13:$E$234,2,FALSE),VLOOKUP(AW7588,'CZKEUR Xchange rate'!$A$13:$B$234,2,FALSE)))","v":24.751999999999999},0,0,null,null,{"$f":"VLOOKUP(AW7588,'Cenové indexy '!$D$7:$E$200,2,FALSE)","v":98.04},{"$f":"W7588/Y7588*'Cenové indexy '!$E$149","v":0},0,2012,"09","25","2012-09-25","Áno","Áno","EFRR","Áno","24 mesiacov","24 mesiacov","neurčené","24 hodín","Zmluva 181_DG",null,null,null,null,null,{"$f":"VLOOKUP(M7588,Adresy!$A$4:$C$156,2,FALSE)","v":"Olomouc"},{"$f":"VLOOKUP(M7588,Adresy!$A$4:$C$156,3,FALSE)","v":"I.P. Pavolva 185/6"},"M","2012M09",null,null,null,null,null,"Olomouc","I.P. Pavolva 185/6",0,0,0,0]
["angiografický systém",null,"softvérové vybavenie pre akvizičnú stanicu","vaskulárna kvantitatívna analýza",null,null,"Innova IGS 540",null,null,"GE","bez položkovej identifikácie ceny (v rámci sumárnej ceny)",null,"Fakultní nemocnica Olomouc","ČR","GE Medical Systems  s.r.o.",63991306,null,null,null,{"$f":"IF(N7609=\"SR\",1,IF(AC7609=\"\",VLOOKUP(AW7609,'CZKEUR Xchange rate'!$D$13:$E$234,2,FALSE),VLOOKUP(AW7609,'CZKEUR Xchange rate'!$A$13:$B$234,2,FALSE)))","v":24.751999999999999},0,0,null,null,{"$f":"VLOOKUP(AW7609,'Cenové indexy '!$D$7:$E$200,2,FALSE)","v":98.04},{"$f":"W7609/Y7609*'Cenové indexy '!$E$149","v":0},0,2012,"09","25","2012-09-25","Áno","Áno","EFRR","Áno","24 mesiacov","24 mesiacov","neurčené","24 hodín","Zmluva 181_DG",null,null,null,null,null,{"$f":"VLOOKUP(M7609,Adresy!$A$4:$C$156,2,FALSE)","v":"Olomouc"},{"$f":"VLOOKUP(M7609,Adresy!$A$4:$C$156,3,FALSE)","v":"I.P. Pavolva 185/6"},"M","2012M09",null,null,null,null,null,"Olomouc","I.P. Pavolva 185/6",0,0,0,0]
["angiografický systém",null,"geometria C-ramena","rotačná rýchlosť","15°/ sekunda",null,"Innova IGS 540",null,null,"GE","bez položkovej identifikácie ceny (v rámci sumárnej ceny)",null,"Fakultná nemocnica Trnava","SR","INTES Poprad s.r.o.",36449814,null,null,null,{"$f":"IF(N7623=\"SR\",1,IF(AC7623=\"\",VLOOKUP(AW7623,'CZKEUR Xchange rate'!$D$13:$E$234,2,FALSE),VLOOKUP(AW7623,'CZKEUR Xchange rate'!$A$13:$B$234,2,FALSE)))","v":1},0,0,null,null,{"$f":"VLOOKUP(AW7623,'Cenové indexy '!$D$7:$E$200,2,FALSE)","v":103.93},{"$f":"W7623/Y7623*'Cenové indexy '!$E$149","v":0},0,2017,"03","02","2017-03-02","Áno","Áno",null,"Nie",null,"24 mesiacov","8 rokov","12 hodín","Zmluva 384_AT",null,null,null,null,null,{"$f":"VLOOKUP(M7623,Adresy!$A$4:$C$156,2,FALSE)","v":"Trnava"},{"$f":"VLOOKUP(M7623,Adresy!$A$4:$C$156,3,FALSE)","v":"Andreja Žarnova 11"},"M","2017M03",null,null,null,null,null,"Trnava","Andreja Žarnova 11",0,0,0,0]
["angiografický systém",null,"digitálny systém akvizície obrazu a zobrazenia","TFT-LCD diagnostické monitory","2 ks 19\"",null,"Innova IGS 540",null,null,"GE","bez položkovej identifikácie ceny (v rámci sumárnej ceny)",null,"Fakultná nemocnica Trnava","SR","INTES Poprad s.r.o.",36449814,null,null,null,{"$f":"IF(N7636=\"SR\",1,IF(AC7636=\"\",VLOOKUP(AW7636,'CZKEUR Xchange rate'!$D$13:$E$234,2,FALSE),VLOOKUP(AW7636,'CZKEUR Xchange rate'!$A$13:$B$234,2,FALSE)))","v":1},0,0,null,null,{"$f":"VLOOKUP(AW7636,'Cenové indexy '!$D$7:$E$200,2,FALSE)","v":103.93},{"$f":"W7636/Y7636*'Cenové indexy '!$E$149","v":0},0,2017,"03","02","2017-03-02","Áno","Áno",null,"Nie",null,"24 mesiacov","8 rokov","12 hodín","Zmluva 384_AT",null,null,null,null,null,{"$f":"VLOOKUP(M7636,Adresy!$A$4:$C$156,2,FALSE)","v":"Trnava"},{"$f":"VLOOKUP(M7636,Adresy!$A$4:$C$156,3,FALSE)","v":"Andreja Žarnova 11"},"M","2017M03",null,null,null,null,null,"Trnava","Andreja Žarnova 11",0,0,0,0]
["infúzna technika",null,"infúzna pumpa",null,null,8713050,null,"Infusomat Space ",null,"B.Braun","položková cena (súčasť sumárnej ceny)",null,"Univerzitná nemocnica Martin","SR","Med Partners a.s.",44851740,8,19924.900000000001,23909.88,{"$f":"IF(N7661=\"SR\",1,IF(AC7661=\"\",VLOOKUP(AW7661,'CZKEUR Xchange rate'!$D$13:$E$234,2,FALSE),VLOOKUP(AW7661,'CZKEUR Xchange rate'!$A$13:$B$234,2,FALSE)))","v":1},19924.900000000001,23909.88,2490.6125000000002,2988.7350000000001,{"$f":"VLOOKUP(AW7661,'Cenové indexy '!$D$7:$E$200,2,FALSE)","v":101.77},{"$f":"W7661/Y7661*'Cenové indexy '!$E$149","v":2523.8957170580725},3028.6748604696868,2016,"07","12","2016-07-12","Áno","Áno","neurčené","Nie ",null,"24 mesiacov ","neurčné","24 hodín ","Zmluva 115_NF ",null,null,null,null,null,{"$f":"VLOOKUP(M7661,Adresy!$A$4:$C$156,2,FALSE)","v":"Martin"},{"$f":"VLOOKUP(M7661,Adresy!$A$4:$C$156,3,FALSE)","v":"Kollárova 2"},"M","2016M07",null,null,null,null,null,{"$f":"VLOOKUP(M7661,Adresy!$A$3:$C$154,2,FALSE)","v":"Martin"},{"$f":"VLOOKUP(M7661,Adresy!$A$3:$C$154,3,FALSE)","v":"Kollárova 2"},0,0,0,0]
["OCT tomograf",null,"CRM (Cornea Adaptor Modul) pre predný segment",null,null,null,"Optovue RTVue-XR",null,null,"OptoVue","bez položkovej identifikácie ceny (v rámci sumárnej ceny)",null,"Pardubická krajská nemocnice a.s","ČR","CMI s.r.o.",47117320,null,null,null,{"$f":"IF(N7691=\"SR\",1,IF(AC7691=\"\",VLOOKUP(AW7691,'CZKEUR Xchange rate'!$D$13:$E$234,2,FALSE),VLOOKUP(AW7691,'CZKEUR Xchange rate'!$A$13:$B$234,2,FALSE)))","v":27.395},0,0,null,null,{"$f":"VLOOKUP(AW7691,'Cenové indexy '!$D$7:$E$200,2,FALSE)","v":99.52},{"$f":"W7691/Y7691*'Cenové indexy '!$E$149","v":0},0,2014,"03","05","2014-03-05","Áno","Áno","na splátky  ","Nie",null,"24 mesiacov ","neurčené","48 hodín","Zmluva 387_AT",null,null,null,null,null,{"$f":"VLOOKUP(M7691,Adresy!$A$4:$C$156,2,FALSE)","v":"Pardubice"},{"$f":"VLOOKUP(M7691,Adresy!$A$4:$C$156,3,FALSE)","v":"Kyjevská 44"},"M","2014M03",null,null,null,null,null,"Pardubice","Kyjevská 44",0,0,0,0]
["OCT tomograf",null,"hĺbka skenu",null,"3 mm",null,"Spectralis OCT2",null,null,"Heidelberg","bez položkovej identifikácie ceny (v rámci sumárnej ceny)",null,"Umiverzita Palackého v Olomouci","ČR","Askin&Co",48399965,null,null,null,{"$f":"IF(N7708=\"SR\",1,IF(AC7708=\"\",VLOOKUP(AW7708,'CZKEUR Xchange rate'!$D$13:$E$234,2,FALSE),VLOOKUP(AW7708,'CZKEUR Xchange rate'!$A$13:$B$234,2,FALSE)))","v":27.041},0,0,null,null,{"$f":"VLOOKUP(AW7708,'Cenové indexy '!$D$7:$E$200,2,FALSE)","v":100.11},{"$f":"W7708/Y7708*'Cenové indexy '!$E$149","v":0},0,2015,"08","31","2015-08-31","Áno","Áno","Neurčené","Nie",null,"24 mesiacov","5 rokov","neurčené","Zmluva 390_AT",null,null,null,null,null,{"$f":"VLOOKUP(M7708,Adresy!$A$4:$C$156,2,FALSE)","v":"Olomouc"},{"$f":"VLOOKUP(M7708,Adresy!$A$4:$C$156,3,FALSE)","v":"Křížkovského 8"},"M","2015M08",null,null,null,null,null,"Olomouc","Křížkovského 8",0,0,0,0]
["OCT tomograf",null,"farebné 3D zobrazenie predný aj zadný segment oka",null,null,null,"neurčené",null,null,"neurčené","bez položkovej identifikácie ceny (v rámci sumárnej ceny)",null,"Ústredná vojenská nemocnica SNP Ružomberok","SR","CMI s.r.o.",35733853,null,null,null,{"$f":"IF(N7733=\"SR\",1,IF(AC7733=\"\",VLOOKUP(AW7733,'CZKEUR Xchange rate'!$D$13:$E$234,2,FALSE),VLOOKUP(AW7733,'CZKEUR Xchange rate'!$A$13:$B$234,2,FALSE)))","v":1},0,0,null,null,{"$f":"VLOOKUP(AW7733,'Cenové indexy '!$D$7:$E$200,2,FALSE)","v":103.93},{"$f":"W7733/Y7733*'Cenové indexy '!$E$149","v":0},0,2017,"03","09","2017-03-09","Áno","Áno","Neurčené","Nie",null,"neurčené","neurčené","neurčené","Zmluva 392_AT",null,null,null,null,null,{"$f":"VLOOKUP(M7733,Adresy!$A$4:$C$156,2,FALSE)","v":"Ružomberok"},{"$f":"VLOOKUP(M7733,Adresy!$A$4:$C$156,3,FALSE)","v":"Generála Miloša Vesela 21"},"M","2017M03",null,null,null,null,null,"Ružomberok","Generála Miloša Vesela 21",0,0,0,0]
["OCT tomograf",null,"vyhodnotenie CNV",null,null,null,"neurčené",null,null,"neurčené","bez položkovej identifikácie ceny (v rámci sumárnej ceny)",null,"Ústredná vojenská nemocnica SNP Ružomberok","SR","CMI s.r.o.",35733853,null,null,null,{"$f":"IF(N7738=\"SR\",1,IF(AC7738=\"\",VLOOKUP(AW7738,'CZKEUR Xchange rate'!$D$13:$E$234,2,FALSE),VLOOKUP(AW7738,'CZKEUR Xchange rate'!$A$13:$B$234,2,FALSE)))","v":1},0,0,null,null,{"$f":"VLOOKUP(AW7738,'Cenové indexy '!$D$7:$E$200,2,FALSE)","v":103.93},{"$f":"W7738/Y7738*'Cenové indexy '!$E$149","v":0},0,2017,"03","09","2017-03-09","Áno","Áno","Neurčené","Nie",null,"neurčené","neurčené","neurčené","Zmluva 392_AT",null,null,null,null,null,{"$f":"VLOOKUP(M7738,Adresy!$A$4:$C$156,2,FALSE)","v":"Ružomberok"},{"$f":"VLOOKUP(M7738,Adresy!$A$4:$C$156,3,FALSE)","v":"Generála Miloša Vesela 21"},"M","2017M03",null,null,null,null,null,"Ružomberok","Generála Miloša Vesela 21",0,0,0,0]
["OCT tomograf",null,"celá zostava","kombinovaný s laserovým angiografom ",null,null,"Spectralis OCT + NEURO modul ","Spectralis OCT + NEURO modul ",null,"Heidelberg","sumárna cena","HW/SW","Univerzitná nemocnica Martin","SR","Askin&Co",17323100,1,192990,231588,{"$f":"IF(N7760=\"SR\",1,IF(AC7760=\"\",VLOOKUP(AW7760,'CZKEUR Xchange rate'!$D$13:$E$234,2,FALSE),VLOOKUP(AW7760,'CZKEUR Xchange rate'!$A$13:$B$234,2,FALSE)))","v":1},192990,231588,{"$f":"U7760/Q7760","v":192990},{"$f":"V7760/Q7760","v":231588},{"$f":"VLOOKUP(AW7760,'Cenové indexy '!$D$7:$E$200,2,FALSE)","v":92.79},{"$f":"W7760/Y7760*'Cenové indexy '!$E$149","v":214495.72906563207},257394.87487875848,2012,"01","10","2012-01-10","Áno","Áno","neurčené","Nie ",null,"24 mesiacov ","6 mesiacov ","24 hodín ","Zmluva 119_NF",null,null,null,null,null,{"$f":"VLOOKUP(M7760,Adresy!$A$4:$C$156,2,FALSE)","v":"Martin"},{"$f":"VLOOKUP(M7760,Adresy!$A$4:$C$156,3,FALSE)","v":"Kollárova 2"},"M","2012M01",null,null,null,null,null,{"$f":"VLOOKUP(M7760,Adresy!$A$3:$C$154,2,FALSE)","v":"Martin"},{"$f":"VLOOKUP(M7760,Adresy!$A$3:$C$154,3,FALSE)","v":"Kollárova 2"},0,0,0,0]
["OCT tomograf",null,"tlačiareň","farebná leserová ",null,null,"Spectralis OCT  Blue-Peak Plus ",null,null,"Heidelberg","bez položkovej identifikácie ceny (v rámci sumárnej ceny)",null,"Fakultná nemocnica Trenčín","SR","Askin&Co","00610470",null,null,null,{"$f":"IF(N7785=\"SR\",1,IF(AC7785=\"\",VLOOKUP(AW7785,'CZKEUR Xchange rate'!$D$13:$E$234,2,FALSE),VLOOKUP(AW7785,'CZKEUR Xchange rate'!$A$13:$B$234,2,FALSE)))","v":1},{"$f":"R7785/T7785","v":0},{"$f":"S7785/T7785","v":0},null,null,{"$f":"VLOOKUP(AW7785,'Cenové indexy '!$D$7:$E$200,2,FALSE)","v":96.04},{"$f":"W7785/Y7785*'Cenové indexy '!$E$149","v":0},0,2012,"06","19","2012-06-19","Áno","Áno","10 rovnomerných splátok ","Nie ",null,"24 mesiacov ","neurčené","24 hodín ","Zmluva 121_NF ",null,null,null,null,null,{"$f":"VLOOKUP(M7785,Adresy!$A$4:$C$156,2,FALSE)","v":"Trenčín"},{"$f":"VLOOKUP(M7785,Adresy!$A$4:$C$156,3,FALSE)","v":"Legionárska 594/2"},"M","2012M06",null,null,null,null,null,{"$f":"VLOOKUP(M7785,Adresy!$A$3:$C$154,2,FALSE)","v":"Trenčín"},{"$f":"VLOOKUP(M7785,Adresy!$A$3:$C$154,3,FALSE)","v":"Legionárska 594/2"},0,0,0,0]
["USG prístroj",null,"lineárna sonda","sonda elektronická lineárna multifrekvenčná triplexná ",null,null,"MyLabClassC",null,"sonda na cievy, mammológiu-prsné žľazy GIT, skrótum a ostatné malé časti","Esaote","bez položkovej identifikácie ceny (v rámci sumárnej ceny)","HW","Špecializovaná nemocnica sv. Svorada Zobor, n.o.","SR","WEGA – MS spol. s.r.o.",null,1,null,null,{"$f":"IF(N7810=\"SR\",1,IF(AC7810=\"\",VLOOKUP(AW7810,'CZKEUR Xchange rate'!$D$13:$E$234,2,FALSE),VLOOKUP(AW7810,'CZKEUR Xchange rate'!$A$13:$B$234,2,FALSE)))","v":1},0,0,null,null,{"$f":"VLOOKUP(AW7810,'Cenové indexy '!$D$7:$E$200,2,FALSE)","v":99.36},{"$f":"W7810/Y7810*'Cenové indexy '!$E$149","v":0},{"$f":"Z7810*1.2","v":0},2012,"12",null,"2012-11-30","Áno","Áno","Neurčené","Nie","24 mesiacov zadarmo",null,null,null,"Zmluva 30_AT",null,null,null,null,null,{"$f":"VLOOKUP(M7810,Adresy!$A$4:$C$156,2,FALSE)","v":"Nitra"},{"$f":"VLOOKUP(M7810,Adresy!$A$4:$C$156,3,FALSE)","v":"Kláštorská 134"},"M","2012M12",null,null,null,null,null,"Nitra","Kláštorská 134",{"$f":"IF(BC7810<>AT7810,1,0)","v":0},0,0,0]
["USG prístroj",null,"konvexná sonda",null,null,null,"PROSOUND a7","UST-9130",null,"Hitachi-Aloka","položková cena (súčasť sumárnej ceny)","HW","Fakultní nemocnice Ostrava","ČR","PROMEDICA PRAHA GROUP a.s.",null,1,72603,87849,{"$f":"IF(N7832=\"SR\",1,IF(AC7832=\"\",VLOOKUP(AW7832,'CZKEUR Xchange rate'!$D$13:$E$234,2,FALSE),VLOOKUP(AW7832,'CZKEUR Xchange rate'!$A$13:$B$234,2,FALSE)))","v":27.396999999999998},2650.0346753294157,3206.5189619301386,2650.0346753294157,3206.5189619301386,{"$f":"VLOOKUP(AW7832,'Cenové indexy '!$D$7:$E$200,2,FALSE)","v":99.82},{"$f":"W7832/Y7832*'Cenové indexy '!$E$149","v":2737.9089968615772},3285.4907962338925,2015,"05",null,"2015-04-30","Áno","Áno","Neurčené","Nie","24 mesiacov zadarmo",null,null,null,"Zmluva 39_DG",null,null,null,null,null,{"$f":"VLOOKUP(M7832,Adresy!$A$4:$C$156,2,FALSE)","v":"Ostrava"},{"$f":"VLOOKUP(M7832,Adresy!$A$4:$C$156,3,FALSE)","v":"17. listopadu"},"M","2015M05",null,null,null,null,null,"Ostrava","17. listopadu",0,0,0,0]
["USG prístroj",null,"softvér k prístroju","S2000 GI Base system",10854170,null,"Acuson S2000",null,null,"Siemens","bez položkovej identifikácie ceny (v rámci sumárnej ceny)","HW","Fakultní nemocnice Brno","ČR","Medifine a.s.",null,1,null,null,{"$f":"IF(N7857=\"SR\",1,IF(AC7857=\"\",VLOOKUP(AW7857,'CZKEUR Xchange rate'!$D$13:$E$234,2,FALSE),VLOOKUP(AW7857,'CZKEUR Xchange rate'!$A$13:$B$234,2,FALSE)))","v":25.562999999999999},0,0,null,null,{"$f":"VLOOKUP(AW7857,'Cenové indexy '!$D$7:$E$200,2,FALSE)","v":98.79},{"$f":"W7857/Y7857*'Cenové indexy '!$E$149","v":0},0,2013,"01","15","2013-01-15","Áno","Áno","Neurčené","Nie","24 mesiacov zadarmo",null,null,null,"Zmluva MK_1",null,"chránená dielňa",null,null,null,{"$f":"VLOOKUP(M7857,Adresy!$A$4:$C$156,2,FALSE)","v":"Brno"},{"$f":"VLOOKUP(M7857,Adresy!$A$4:$C$156,3,FALSE)","v":"Jihlavská 340/20"},"M","2013M01",null,null,null,null,null,"Brno","Jihlavská 340/20",0,0,0,0]
["USG prístroj",null,"lineárna sonda",null,null,null,"Vivid S6","Sonda 12L-RS","sonda pre small parts, cievne aplikácie","GE Healthcare","položková cena (súčasť sumárnej ceny)","HW","Fakultní nemocnice Hradec Králové","ČR","EXRAY s.r.o.",null,1,130000,157300,{"$f":"IF(N7878=\"SR\",1,IF(AC7878=\"\",VLOOKUP(AW7878,'CZKEUR Xchange rate'!$D$13:$E$234,2,FALSE),VLOOKUP(AW7878,'CZKEUR Xchange rate'!$A$13:$B$234,2,FALSE)))","v":27.088999999999999},4798.9959023958063,5806.7850418989265,4798.9959023958063,5806.7850418989265,{"$f":"VLOOKUP(AW7878,'Cenové indexy '!$D$7:$E$200,2,FALSE)","v":100.14},{"$f":"W7878/Y7878*'Cenové indexy '!$E$149","v":4942.2852747561365},5930.7423297073638,2015,"09",null,"2015-08-31","Áno","Áno","Neurčené","Nie","36 mesiacov zadarmo",null,null,null,"Zmluva 37_AT",null,null,null,null,null,{"$f":"VLOOKUP(M7878,Adresy!$A$4:$C$156,2,FALSE)","v":"Hradec Králové"},{"$f":"VLOOKUP(M7878,Adresy!$A$4:$C$156,3,FALSE)","v":"Sokolská 581"},"M","2015M09",null,null,null,null,null,"Hradec Králové","Sokolská 581",0,0,0,0]
["USG prístroj",null,"konvexná sonda",null,null,null,"Voluson E8","RIC5-9-D",null,"GE Healthcare","položková cena (súčasť sumárnej ceny)","HW","Fakultní nemocnice Plzeň","ČR","Electric Medical Service s.r.o",null,1,null,null,{"$f":"IF(N7884=\"SR\",1,IF(AC7884=\"\",VLOOKUP(AW7884,'CZKEUR Xchange rate'!$D$13:$E$234,2,FALSE),VLOOKUP(AW7884,'CZKEUR Xchange rate'!$A$13:$B$234,2,FALSE)))","v":27.088999999999999},0,0,null,null,{"$f":"VLOOKUP(AW7884,'Cenové indexy '!$D$7:$E$200,2,FALSE)","v":100.14},{"$f":"W7884/Y7884*'Cenové indexy '!$E$149","v":0},0,2015,"09",null,"2015-08-31","Áno","Áno","Neurčené","Nie","24 mesiacov zadarmo",null,null,null,"Zmluva 38_AT",null,null,null,null,null,{"$f":"VLOOKUP(M7884,Adresy!$A$4:$C$156,2,FALSE)","v":"Plzeň"},{"$f":"VLOOKUP(M7884,Adresy!$A$4:$C$156,3,FALSE)","v":"Dr. E. Beneše 1128/13"},"M","2015M09",null,null,null,null,null,"Plzeň","Dr. E. Beneše 1128/13",0,0,0,0]
["USG prístroj",null,"konvexná sonda",null,null,null,"AFFINITY 70W",null,null,"Philips","bez položkovej identifikácie ceny (v rámci sumárnej ceny)","HW","Vsetínska nemocnice","ČR","První chráněná dílna",null,1,null,null,{"$f":"IF(N7905=\"SR\",1,IF(AC7905=\"\",VLOOKUP(AW7905,'CZKEUR Xchange rate'!$D$13:$E$234,2,FALSE),VLOOKUP(AW7905,'CZKEUR Xchange rate'!$A$13:$B$234,2,FALSE)))","v":27.64},0,0,null,null,{"$f":"VLOOKUP(AW7905,'Cenové indexy '!$D$7:$E$200,2,FALSE)","v":99.92},{"$f":"W7905/Y7905*'Cenové indexy '!$E$149","v":0},0,2014,"12",null,"2014-11-30","Áno","Áno","Neurčené","Nie","36 mesiacov zadarmo",null,null,null,"Zmluva 41_AT",null,null,null,null,null,{"$f":"VLOOKUP(M7905,Adresy!$A$4:$C$156,2,FALSE)","v":"Vsetín"},{"$f":"VLOOKUP(M7905,Adresy!$A$4:$C$156,3,FALSE)","v":"Nemocniční 955"},"M","2014M12",null,null,null,null,null,"Vsetín","Nemocniční 955",0,0,0,0]
["USG prístroj",null,"konvexná sonda",null,null,null,"Arietta V70",null,null,"Hitachi-Aloka","bez položkovej identifikácie ceny (v rámci sumárnej ceny)","HW","Nemocnica s poliklinikou Považská Bystrica","SR","Unique Medical s.r.o.",null,1,null,null,{"$f":"IF(N7925=\"SR\",1,IF(AC7925=\"\",VLOOKUP(AW7925,'CZKEUR Xchange rate'!$D$13:$E$234,2,FALSE),VLOOKUP(AW7925,'CZKEUR Xchange rate'!$A$13:$B$234,2,FALSE)))","v":1},0,0,null,null,{"$f":"VLOOKUP(AW7925,'Cenové indexy '!$D$7:$E$200,2,FALSE)","v":100.14},{"$f":"W7925/Y7925*'Cenové indexy '!$E$149","v":0},0,2015,"11",null,"2015-10-31","Áno","Áno","kapitálové výdavky VUC","Nie","24 mesiacov zadarmo",null,null,null,"Zmluva 42_DG",null,null,null,null,null,{"$f":"VLOOKUP(M7925,Adresy!$A$4:$C$156,2,FALSE)","v":"Považská Bystrica"},{"$f":"VLOOKUP(M7925,Adresy!$A$4:$C$156,3,FALSE)","v":"Nemocničná"},"M","2015M11",null,null,null,null,null,"Považská Bystrica","Nemocničná",0,0,0,0]
["USG prístroj",null,"kontrastné harmonické zobrazenie (CEUS)",null,null,null,"ProFocus Ultraview","UA 2215",null,"BK Medical","položková cena (súčasť sumárnej ceny)",null,"Fakultná nemocnica Kráľovské Vinohrady","ČR","MEDKONSULT",null,1,84479.652892561979,102220.37999999999,{"$f":"IF(N7956=\"SR\",1,IF(AC7956=\"\",VLOOKUP(AW7956,'CZKEUR Xchange rate'!$D$13:$E$234,2,FALSE),VLOOKUP(AW7956,'CZKEUR Xchange rate'!$A$13:$B$234,2,FALSE)))","v":25.530999999999999},3308.9049740535811,4003.7750186048333,3308.9049740535811,4003.7750186048333,{"$f":"VLOOKUP(AW7956,'Cenové indexy '!$D$7:$E$200,2,FALSE)","v":92.79},{"$f":"W7956/Y7956*'Cenové indexy '!$E$149","v":3677.630886670393},4413.1570640044711,2012,"01",null,"2011-12-31","Áno","Áno","Neurčené","Nie","12 mesiacov zadarmo, potom 8 rokov podľa zmluvy",null,null,null,"Zmluva 117_AT",null,"31% zľava ",null,null,null,{"$f":"VLOOKUP(M7956,Adresy!$A$4:$C$156,2,FALSE)","v":"Praha"},{"$f":"VLOOKUP(M7956,Adresy!$A$4:$C$156,3,FALSE)","v":"Šrobárova 1150/50"},"M","2012M01",null,null,null,null,null,"Praha","Šrobárova 1150/50",0,0,0,0]
["USG prístroj",null,"ultrazvukový registračný fantom",null,null,null,"Flex Focus 800",22630,null,"BK Medical","bez položkovej identifikácie ceny (v rámci sumárnej ceny)",null,"Fakultní nemocnice Hradec Králové","ČR","MEDKONSULT",null,null,null,null,{"$f":"IF(N7977=\"SR\",1,IF(AC7977=\"\",VLOOKUP(AW7977,'CZKEUR Xchange rate'!$D$13:$E$234,2,FALSE),VLOOKUP(AW7977,'CZKEUR Xchange rate'!$A$13:$B$234,2,FALSE)))","v":27.379000000000001},{"$f":"R7977/T7977","v":0},{"$f":"S7977/T7977","v":0},null,null,{"$f":"VLOOKUP(AW7977,'Cenové indexy '!$D$7:$E$200,2,FALSE)","v":100.03},{"$f":"W7977/Y7977*'Cenové indexy '!$E$149","v":0},0,2015,"03",null,"2015-02-28","Áno","Áno","EFRR","Nie","36 mesiacov zadarmo",null,null,null,"Zmluva 118_AT",null,null,null,null,null,{"$f":"VLOOKUP(M7977,Adresy!$A$4:$C$156,2,FALSE)","v":"Hradec Králové"},{"$f":"VLOOKUP(M7977,Adresy!$A$4:$C$156,3,FALSE)","v":"Sokolská 581"},"M","2015M03",null,null,null,null,null,"Hradec Králové","Sokolská 581",0,0,0,0]
["USG prístroj",null,"small parts lineárny snímač",null,null,null,"Flex Focus 400",8811,null,"BK Medical","bez položkovej identifikácie ceny (v rámci sumárnej ceny)",null,"Fakultní nemocnice Plzeň","ČR","MEDKONSULT",null,null,null,null,{"$f":"IF(N7993=\"SR\",1,IF(AC7993=\"\",VLOOKUP(AW7993,'CZKEUR Xchange rate'!$D$13:$E$234,2,FALSE),VLOOKUP(AW7993,'CZKEUR Xchange rate'!$A$13:$B$234,2,FALSE)))","v":27.64},0,0,null,null,{"$f":"VLOOKUP(AW7993,'Cenové indexy '!$D$7:$E$200,2,FALSE)","v":99.92},{"$f":"W7993/Y7993*'Cenové indexy '!$E$149","v":0},0,2014,"12",null,"2014-11-30","Áno","Áno","Neurčené","Nie","24 mesiacov zadarmo",null,null,null,"Zmluva 120_AT",null,null,null,null,null,{"$f":"VLOOKUP(M7993,Adresy!$A$4:$C$156,2,FALSE)","v":"Plzeň"},{"$f":"VLOOKUP(M7993,Adresy!$A$4:$C$156,3,FALSE)","v":"Dr. E. Beneše 1128/13"},"M","2014M12",null,null,null,null,null,"Plzeň","Dr. E. Beneše 1128/13",0,0,0,0]
["USG prístroj",null,"abdominálny multifrekvenčný snímač",null,null,null,"Flex Focus 400",8802,null,"BK Medical","bez položkovej identifikácie ceny (v rámci sumárnej ceny)",null,"Fakultní nemocnice Hradec Králové","ČR","MEDKONSULT",null,null,null,null,{"$f":"IF(N8008=\"SR\",1,IF(AC8008=\"\",VLOOKUP(AW8008,'CZKEUR Xchange rate'!$D$13:$E$234,2,FALSE),VLOOKUP(AW8008,'CZKEUR Xchange rate'!$A$13:$B$234,2,FALSE)))","v":27.094000000000001},0,0,null,null,{"$f":"VLOOKUP(AW8008,'Cenové indexy '!$D$7:$E$200,2,FALSE)","v":99.95},{"$f":"W8008/Y8008*'Cenové indexy '!$E$149","v":0},0,2015,"07",null,"2015-06-30","Áno","Áno","Neurčené","Nie","36 mesiacov zadarmo, potom na dobu neurčitú podľa zmluvy",null,null,null,"Zmluva 122_AT",null,null,null,null,null,{"$f":"VLOOKUP(M8008,Adresy!$A$4:$C$156,2,FALSE)","v":"Hradec Králové"},{"$f":"VLOOKUP(M8008,Adresy!$A$4:$C$156,3,FALSE)","v":"Sokolská 581"},"M","2015M07",null,null,null,null,null,"Hradec Králové","Sokolská 581",0,0,0,0]
["USG prístroj",null,"transformátor","oddeľovací",null,null,"Logiq E",null,null,"GE Healthcare","bez položkovej identifikácie ceny (v rámci sumárnej ceny)",null,"Krajská nemocnica T.Bati, a.s.","ČR","Electric Medical Service s.r.o",null,null,null,null,{"$f":"IF(N8029=\"SR\",1,IF(AC8029=\"\",VLOOKUP(AW8029,'CZKEUR Xchange rate'!$D$13:$E$234,2,FALSE),VLOOKUP(AW8029,'CZKEUR Xchange rate'!$A$13:$B$234,2,FALSE)))","v":25.841000000000001},0,0,null,null,{"$f":"VLOOKUP(AW8029,'Cenové indexy '!$D$7:$E$200,2,FALSE)","v":98.35},{"$f":"W8029/Y8029*'Cenové indexy '!$E$149","v":0},0,2013,"04",null,"2013-03-31","Áno","Áno","Neurčené","Nie","24 mesiacov zadarmo",null,null,null,"Zmluva 118_DG",null,null,null,null,null,{"$f":"VLOOKUP(M8029,Adresy!$A$4:$C$156,2,FALSE)","v":"Zlín"},{"$f":"VLOOKUP(M8029,Adresy!$A$4:$C$156,3,FALSE)","v":"Havlíčkovo nábř. 600"},"M","2013M04",null,null,null,null,null,"Zlín","Havlíčkovo nábř. 600",0,0,0,0]
["USG prístroj",null,"sonografický prístroj",null,null,null,"ProSound ALPHA 7",null,null,"Hitachi-Aloka","bez položkovej identifikácie ceny (v rámci sumárnej ceny)",null,"Nemocnice Břeclav","ČR","Hospimed spol. s r.o.",null,null,null,null,{"$f":"IF(N8061=\"SR\",1,IF(AC8061=\"\",VLOOKUP(AW8061,'CZKEUR Xchange rate'!$D$13:$E$234,2,FALSE),VLOOKUP(AW8061,'CZKEUR Xchange rate'!$A$13:$B$234,2,FALSE)))","v":25.818000000000001},0,0,null,null,{"$f":"VLOOKUP(AW8061,'Cenové indexy '!$D$7:$E$200,2,FALSE)","v":98.82},{"$f":"W8061/Y8061*'Cenové indexy '!$E$149","v":0},0,2013,"08",null,"2013-07-31","Áno","Áno","EFRR","Nie","24 mesiacov zadarmo",null,null,null,"Zmluva 125_AT",null,null,null,null,null,{"$f":"VLOOKUP(M8061,Adresy!$A$4:$C$156,2,FALSE)","v":"U Nemocnice 3066/1"},{"$f":"VLOOKUP(M8061,Adresy!$A$4:$C$156,3,FALSE)","v":"Břeclav"},"M","2013M08",null,null,null,null,null,"U Nemocnice 3066/1","Břeclav",0,0,0,0]
["USG prístroj",null,"lineárna sonda",null,null,null,"SonoScape S8","L742",null,"Sonoscape","položková cena (súčasť sumárnej ceny)","HW","Fakultní nemocnice Plzeň","ČR","S&T Plus s.r.o.",null,1,70000,84700,{"$f":"IF(N8076=\"SR\",1,IF(AC8076=\"\",VLOOKUP(AW8076,'CZKEUR Xchange rate'!$D$13:$E$234,2,FALSE),VLOOKUP(AW8076,'CZKEUR Xchange rate'!$A$13:$B$234,2,FALSE)))","v":27.667000000000002},2530.0899989156756,3061.4088986879674,2530.0899989156756,3061.4088986879674,{"$f":"VLOOKUP(AW8076,'Cenové indexy '!$D$7:$E$200,2,FALSE)","v":99.98},{"$f":"W8076/Y8076*'Cenové indexy '!$E$149","v":2609.8037766370635},3131.7645319644762,2014,"11",null,"2014-10-31","Áno","Áno","Neurčené","Nie","24 mesiacov zadarmo",null,null,null,"Zmluva AS_2",null,null,null,null,null,{"$f":"VLOOKUP(M8076,Adresy!$A$4:$C$156,2,FALSE)","v":"Plzeň"},{"$f":"VLOOKUP(M8076,Adresy!$A$4:$C$156,3,FALSE)","v":"Dr. E. Beneše 1128/13"},"M","2014M11",null,null,null,null,null,"Plzeň","Dr. E. Beneše 1128/13",0,0,0,0]
["USG prístroj",null,"konvexná sonda",null,null,null,"Prosound ALPHA 7","UST-9146I",null,"Hitachi-Aloka","bez položkovej identifikácie ceny (v rámci sumárnej ceny)","HW","Fakultní nemocnice Brno","ČR","S&T Plus s.r.o.",null,1,null,null,{"$f":"IF(N8101=\"SR\",1,IF(AC8101=\"\",VLOOKUP(AW8101,'CZKEUR Xchange rate'!$D$13:$E$234,2,FALSE),VLOOKUP(AW8101,'CZKEUR Xchange rate'!$A$13:$B$234,2,FALSE)))","v":27.895},0,0,null,null,{"$f":"VLOOKUP(AW8101,'Cenové indexy '!$D$7:$E$200,2,FALSE)","v":99.86},{"$f":"W8101/Y8101*'Cenové indexy '!$E$149","v":0},0,2015,"01",null,"2014-12-31","Áno","Áno","ERDF","Nie","24 mesiacov zadarmo",null,null,null,"Zmluva AS_7",null,null,null,null,null,{"$f":"VLOOKUP(M8101,Adresy!$A$4:$C$156,2,FALSE)","v":"Brno"},{"$f":"VLOOKUP(M8101,Adresy!$A$4:$C$156,3,FALSE)","v":"Jihlavská 340/20"},"M","2015M01",null,null,null,null,null,"Brno","Jihlavská 340/20",0,0,0,0]
["USG prístroj",null,"lineárna sonda",null,null,null,"CX 50 POC","L12-3",null,"Philips","položková cena (súčasť sumárnej ceny)","HW","Fakultní nemocnice Hradec Králové","ČR","S&T Plus s.r.o.",null,1,162037.20000000001,196065.01200000002,{"$f":"IF(N8108=\"SR\",1,IF(AC8108=\"\",VLOOKUP(AW8108,'CZKEUR Xchange rate'!$D$13:$E$234,2,FALSE),VLOOKUP(AW8108,'CZKEUR Xchange rate'!$A$13:$B$234,2,FALSE)))","v":27.094000000000001},5980.556580792796,7236.4734627592825,5980.556580792796,7236.4734627592825,{"$f":"VLOOKUP(AW8108,'Cenové indexy '!$D$7:$E$200,2,FALSE)","v":99.95},{"$f":"W8108/Y8108*'Cenové indexy '!$E$149","v":6170.83341848085},7405.0001021770195,2015,"07",null,"2015-06-30","Áno","Áno","ERDF","Nie","36 mesiacov zadarmo",null,null,null,"Zmluva AS_8",null,null,null,null,null,{"$f":"VLOOKUP(M8108,Adresy!$A$4:$C$156,2,FALSE)","v":"Hradec Králové"},{"$f":"VLOOKUP(M8108,Adresy!$A$4:$C$156,3,FALSE)","v":"Sokolská 581"},"M","2015M07",null,null,null,null,null,"Hradec Králové","Sokolská 581",0,0,0,0]
["USG prístroj",null,"celá zostava",null,null,null,"Prosound F75",null,null,"Hitachi-Aloka","sumárna cena","HW","Fakultní nemocnice Hradec Králové","ČR","PROMEDICA PRAHA GROUP a.s.",null,1,1487045,1799324.45,{"$f":"IF(N8128=\"SR\",1,IF(AC8128=\"\",VLOOKUP(AW8128,'CZKEUR Xchange rate'!$D$13:$E$234,2,FALSE),VLOOKUP(AW8128,'CZKEUR Xchange rate'!$A$13:$B$234,2,FALSE)))","v":27.094000000000001},54884.660810511552,66410.439580718972,54884.660810511552,66410.439580718972,{"$f":"VLOOKUP(AW8128,'Cenové indexy '!$D$7:$E$200,2,FALSE)","v":99.95},{"$f":"W8128/Y8128*'Cenové indexy '!$E$149","v":56630.866126944027},67957.039352332824,2015,"07",null,"2015-06-30","Áno","Áno","Neurčené","Nie","36 mesiacov zadarmo",null,null,null,"Zmluva AS_12",null,null,null,null,null,{"$f":"VLOOKUP(M8128,Adresy!$A$4:$C$156,2,FALSE)","v":"Hradec Králové"},{"$f":"VLOOKUP(M8128,Adresy!$A$4:$C$156,3,FALSE)","v":"Sokolská 581"},"M","2015M07",null,null,null,null,null,"Hradec Králové","Sokolská 581",0,0,0,0]
["USG prístroj",null,"celá zostava",null,null,null,"Arietta V70",null,null,"Hitachi-Aloka","sumárna cena","HW","MANUS - MED, s.r.o., Prievidza","SR","FUJIFILM Europe GmbH",null,1,110259.2,132311.76,{"$f":"IF(N8153=\"SR\",1,IF(AC8153=\"\",VLOOKUP(AW8153,'CZKEUR Xchange rate'!$D$13:$E$234,2,FALSE),VLOOKUP(AW8153,'CZKEUR Xchange rate'!$A$13:$B$234,2,FALSE)))","v":1},{"$f":"R8153/T8153","v":110259.2},{"$f":"S8153/T8153","v":132311.76},{"$f":"U8153/Q8153","v":110259.2},{"$f":"V8153/Q8153","v":132311.76},{"$f":"VLOOKUP(AW8153,'Cenové indexy '!$D$7:$E$200,2,FALSE)","v":100.07},{"$f":"W8153/Y8153*'Cenové indexy '!$E$149","v":113630.771420006},136356.92570400718,2015,"10","19","2015-10-19","Áno","Áno","EFRR","Áno",null,"24 mesiacov ","neurčené","neurčené","Zmluva NG_16",null,null,null,null,null,{"$f":"VLOOKUP(M8153,Adresy!$A$4:$C$156,2,FALSE)","v":"Prievidza"},{"$f":"VLOOKUP(M8153,Adresy!$A$4:$C$156,3,FALSE)","v":"Štefana Závodníka 41"},"M","2015M10",null,null,null,null,null,"Prievidza","Štefana Závodníka 41",0,0,0,0]
["USG prístroj",null,"sonografický prístroj",null,null,null,"Prosound Alpha6 ","Alpha 6",null,"Hitachi-Aloka","bez položkovej identifikácie ceny (v rámci sumárnej ceny)","HW","PURUS Púchov","SR","Unique Medical s.r.o.",null,1,null,null,{"$f":"IF(N8174=\"SR\",1,IF(AC8174=\"\",VLOOKUP(AW8174,'CZKEUR Xchange rate'!$D$13:$E$234,2,FALSE),VLOOKUP(AW8174,'CZKEUR Xchange rate'!$A$13:$B$234,2,FALSE)))","v":1},0,0,null,null,{"$f":"VLOOKUP(AW8174,'Cenové indexy '!$D$7:$E$200,2,FALSE)","v":100.07},{"$f":"W8174/Y8174*'Cenové indexy '!$E$149","v":0},0,2015,"10","14","2015-10-14","Áno","Áno","ERDF","Áno",null,"24 mesiacov ","36 mesiacov","48 hodín","Zmluva DD_16",null,null,null,null,null,{"$f":"VLOOKUP(M8174,Adresy!$A$4:$C$156,2,FALSE)","v":"Púchov"},{"$f":"VLOOKUP(M8174,Adresy!$A$4:$C$156,3,FALSE)","v":"Pod Lachovcom 1727/55"},"M","2015M10",null,null,null,null,null,"Púchov","Pod Lachovcom 1727/55",0,0,0,0]
["USG prístroj",null,"celá zostava",null,null,null,"F31",null,null,"Hitachi-Aloka","sumárna cena","HW","PURUS Púchov","SR","Unique Medical s.r.o.",null,1,45000,54000,{"$f":"IF(N8194=\"SR\",1,IF(AC8194=\"\",VLOOKUP(AW8194,'CZKEUR Xchange rate'!$D$13:$E$234,2,FALSE),VLOOKUP(AW8194,'CZKEUR Xchange rate'!$A$13:$B$234,2,FALSE)))","v":1},45000,54000,{"$f":"U8194/Q8194","v":45000},{"$f":"V8194/Q8194","v":54000},{"$f":"VLOOKUP(AW8194,'Cenové indexy '!$D$7:$E$200,2,FALSE)","v":100.07},{"$f":"W8194/Y8194*'Cenové indexy '!$E$149","v":46376.03677425802},{"$f":"Z8194*1.2","v":55651.244129109626},2015,"10","14","2015-10-14","Áno","Áno","ERDF","Áno",null,"24 mesiacov ","36 mesiacov","48 hodín","Zmluva DD_16",null,null,null,null,null,{"$f":"VLOOKUP(M8194,Adresy!$A$4:$C$156,2,FALSE)","v":"Púchov"},{"$f":"VLOOKUP(M8194,Adresy!$A$4:$C$156,3,FALSE)","v":"Pod Lachovcom 1727/55"},"M","2015M10",null,null,null,null,null,"Púchov","Pod Lachovcom 1727/55",{"$f":"IF(BC8194<>AT8194,1,0)","v":0},0,0,0]
["USG prístroj",null,"biop. nástavec",null,null,null,"Voluson E8","biopsy kit RIC5-9-D",null,"GE Healthcare","položková cena (súčasť sumárnej ceny)","HW","Pardubická nemocnice ","ČR","Electric Medical Service s.r.o",null,1,23000,27830,{"$f":"IF(N8205=\"SR\",1,IF(AC8205=\"\",VLOOKUP(AW8205,'CZKEUR Xchange rate'!$D$13:$E$234,2,FALSE),VLOOKUP(AW8205,'CZKEUR Xchange rate'!$A$13:$B$234,2,FALSE)))","v":27.050999999999998},850.24583194706304,1028.7974566559462,850.24583194706304,1028.7974566559462,{"$f":"VLOOKUP(AW8205,'Cenové indexy '!$D$7:$E$200,2,FALSE)","v":101.08},{"$f":"W8205/Y8205*'Cenové indexy '!$E$149","v":867.48963839236853},1040.9875660708421,2016,"03","21","2016-03-21","Áno","Áno","Neurčené","Nie",null,"36 mesiacov ","neurčené","48 hodín","Zmluva AD_1",null,null,null,null,null,{"$f":"VLOOKUP(M8205,Adresy!$A$4:$C$156,2,FALSE)","v":"Pardubice"},{"$f":"VLOOKUP(M8205,Adresy!$A$4:$C$156,3,FALSE)","v":"Kyjevská 44"},"M","2016M03",null,null,null,null,null,"Olomouc","P.Pavlova 185/6",1,1,{"$error":"#N/A"},{"$error":"#N/A"}]
["USG prístroj",null,"multifrekvenčná sonda","matrix array","1,5-4 MHz",null,"Vivid S6","M46-RS",null,"GE Healthcare","bez položkovej identifikácie ceny (v rámci sumárnej ceny)",null,"Fakultní nemocnice v Motole","ČR","Electric Medical Service s.r.o",49970267,1,null,null,{"$f":"IF(N8226=\"SR\",1,IF(AC8226=\"\",VLOOKUP(AW8226,'CZKEUR Xchange rate'!$D$13:$E$234,2,FALSE),VLOOKUP(AW8226,'CZKEUR Xchange rate'!$A$13:$B$234,2,FALSE)))","v":27.030999999999999},0,0,null,null,{"$f":"VLOOKUP(AW8226,'Cenové indexy '!$D$7:$E$200,2,FALSE)","v":101.44},{"$f":"W8226/Y8226*'Cenové indexy '!$E$149","v":0},0,2016,"04","07","2016-04-07","Áno","Áno","Neurčené","Nie",null,"24 mesiacov ","min. 5 rokov, predmetom bud.zmluvy","24 hodín","Zmluva 270_AT",null,null,null,null,null,{"$f":"VLOOKUP(M8226,Adresy!$A$4:$C$156,2,FALSE)","v":"Praha"},{"$f":"VLOOKUP(M8226,Adresy!$A$4:$C$156,3,FALSE)","v":"V úvalu 84"},"M","2016M04",null,null,null,null,null,"Praha","V úvalu 84",0,0,0,0]
["USG prístroj",null,"multifrekvenčná abdominálna konvexná sonda",null,null,null,"Logiq P6 PRO","4C",null,"GE Healthcare","položková cena (súčasť sumárnej ceny)","HW","Fakultní nemocnice u sv. Anny v Brně","ČR","Electric Medical Service s.r.o",null,1,92000,111320,{"$f":"IF(N8262=\"SR\",1,IF(AC8262=\"\",VLOOKUP(AW8262,'CZKEUR Xchange rate'!$D$13:$E$234,2,FALSE),VLOOKUP(AW8262,'CZKEUR Xchange rate'!$A$13:$B$234,2,FALSE)))","v":27.050999999999998},3400.9833277882522,4115.1898266237849,3400.9833277882522,4115.1898266237849,{"$f":"VLOOKUP(AW8262,'Cenové indexy '!$D$7:$E$200,2,FALSE)","v":101.08},{"$f":"W8262/Y8262*'Cenové indexy '!$E$149","v":3469.9585535694741},4163.9502642833686,2016,"3","7","2016-03-07","Áno","Áno","Neurčené","Nie",null,"36 mesiacov ","neurčené","24 hodín","Zmluva 5_EF",null,null,null,null,null,{"$f":"VLOOKUP(M8262,Adresy!$A$4:$C$156,2,FALSE)","v":"Brno"},{"$f":"VLOOKUP(M8262,Adresy!$A$4:$C$156,3,FALSE)","v":"Pekařská 53"},"M","2016M03",null,null,null,null,null,"Brno","Pekařská 53",0,0,0,0]
["USG prístroj",null,"multifrekvenčná lineárna sonda",null,null,null,"Logiq P5","11L",null,"GE Healthcare","položková cena (súčasť sumárnej ceny)","HW","Masarykov onkologický ústav","ČR","Electric Medical Service s.r.o",null,1,130000,157300,{"$f":"IF(N8277=\"SR\",1,IF(AC8277=\"\",VLOOKUP(AW8277,'CZKEUR Xchange rate'!$D$13:$E$234,2,FALSE),VLOOKUP(AW8277,'CZKEUR Xchange rate'!$A$13:$B$234,2,FALSE)))","v":25.841000000000001},5030.7650632715449,6087.2257265585695,5030.7650632715449,6087.2257265585695,{"$f":"VLOOKUP(AW8277,'Cenové indexy '!$D$7:$E$200,2,FALSE)","v":98.35},{"$f":"W8277/Y8277*'Cenové indexy '!$E$149","v":5275.2699641605941},6330.3239569927127,2013,"4","5","2013-04-05","Áno","Áno","Neurčené","Nie",null,"24 mesiacov ","neurčené","24 hodín","Zmluva 7_EF",null,null,null,null,null,{"$f":"VLOOKUP(M8277,Adresy!$A$4:$C$156,2,FALSE)","v":"Brno"},{"$f":"VLOOKUP(M8277,Adresy!$A$4:$C$156,3,FALSE)","v":"Žlutý kopec 543/7"},"M","2013M04",null,null,null,null,null,"Brno","Žlutý kopec 543/7",0,0,0,0]
["USG prístroj",null,"software",null,null,null,"Vivid 7",null,null,"GE Healthcare","bez položkovej identifikácie ceny (v rámci sumárnej ceny)","SW","Nemocnice Olomouckého kraje, a.s.","ČR","Electric Medical Service s.r.o",null,1,null,null,{"$f":"IF(N8298=\"SR\",1,IF(AC8298=\"\",VLOOKUP(AW8298,'CZKEUR Xchange rate'!$D$13:$E$234,2,FALSE),VLOOKUP(AW8298,'CZKEUR Xchange rate'!$A$13:$B$234,2,FALSE)))","v":25.888000000000002},0,0,null,null,{"$f":"VLOOKUP(AW8298,'Cenové indexy '!$D$7:$E$200,2,FALSE)","v":98.45},{"$f":"W8298/Y8298*'Cenové indexy '!$E$149","v":0},0,2013,"5","27","2013-05-27","Áno","Áno","Neurčené","Áno",null,"30 mesiacov ","neurčené","neurčené","Zmluva 9_EF",null,null,null,null,null,{"$f":"VLOOKUP(M8298,Adresy!$A$4:$C$156,2,FALSE)","v":"Olomouc"},{"$f":"VLOOKUP(M8298,Adresy!$A$4:$C$156,3,FALSE)","v":"Jeremenkova 1191/40a"},"M","2013M05",null,null,null,null,null,"Olomouc","Jeremenkova 1191/40a",0,0,0,0]
["USG prístroj",null,"sonda kardio",null,null,null,"ProSound Alpha 6 CV","UST-5299",null,"Hitachi-Aloka","bez položkovej identifikácie ceny (v rámci sumárnej ceny)","HW","Národný ústav srdcových a cievnych chorôb, a.s.","SR","Unique Medical s.r.o.",null,1,null,null,{"$f":"IF(N8309=\"SR\",1,IF(AC8309=\"\",VLOOKUP(AW8309,'CZKEUR Xchange rate'!$D$13:$E$234,2,FALSE),VLOOKUP(AW8309,'CZKEUR Xchange rate'!$A$13:$B$234,2,FALSE)))","v":1},0,0,null,null,{"$f":"VLOOKUP(AW8309,'Cenové indexy '!$D$7:$E$200,2,FALSE)","v":99.45},{"$f":"W8309/Y8309*'Cenové indexy '!$E$149","v":0},0,2013,"11","11","2013-11-11","Áno","Áno","50% do 60 dní, 50% do 90 dní","Nie",null,"24 mesiacov ","predemet sam.zmluvy","24 hodín","Zmluva 10_EF",null,null,null,null,null,{"$f":"VLOOKUP(M8309,Adresy!$A$4:$C$156,2,FALSE)","v":"Bratislava"},{"$f":"VLOOKUP(M8309,Adresy!$A$4:$C$156,3,FALSE)","v":"Pod Krásnou hôrkou 1"},"M","2013M11",null,null,null,null,null,"Bratislava","Pod Krásnou hôrkou 1",0,0,0,0]
["USG prístroj",null,"sondy","lineárna sonda ","7-14 MHz , 60 mm",null,"Xario 200","PLT-1005BT",null,"Toshiba","bez položkovej identifikácie ceny (v rámci sumárnej ceny)","HW/SW","Poliklinika Žďár nad Sázavou ","ČR","AUDIOSCAN s.r.o.",40615421,1,null,null,{"$f":"IF(N8345=\"SR\",1,IF(AC8345=\"\",VLOOKUP(AW8345,'CZKEUR Xchange rate'!$D$13:$E$234,2,FALSE),VLOOKUP(AW8345,'CZKEUR Xchange rate'!$A$13:$B$234,2,FALSE)))","v":27.021999999999998},0,0,null,null,{"$f":"VLOOKUP(AW8345,'Cenové indexy '!$D$7:$E$200,2,FALSE)","v":102.96},{"$f":"W8345/Y8345*'Cenové indexy '!$E$149","v":0},0,2016,"10","10","2016-10-10","Áno","Áno ","3 splátky ","Nie",null,"24 mesiacov ","neurčené ","neurčené","Zmluva 54_NF",null,null,null,null,null,{"$f":"VLOOKUP(M8345,Adresy!$A$4:$C$156,2,FALSE)","v":"Žďár nad Sázavou"},{"$f":"VLOOKUP(M8345,Adresy!$A$4:$C$156,3,FALSE)","v":"Studentská 1699/5"},"M","2016M10",null,null,null,null,null,{"$f":"VLOOKUP(M8345,Adresy!$A$3:$C$154,2,FALSE)","v":"Žďár nad Sázavou"},{"$f":"VLOOKUP(M8345,Adresy!$A$3:$C$154,3,FALSE)","v":"Studentská 1699/5"},0,0,0,0]
["USG prístroj",null,"sonografický prístroj","monitor ","\"19\" digitálny ",null,"Aplio 500 Platinum ",null,null,"Toshiba","bez položkovej identifikácie ceny (v rámci sumárnej ceny)",null,"Fakultní nemocnice Plzeň","ČR","AUDIOSCAN s.r.o.",40615421,null,null,null,{"$f":"IF(N8350=\"SR\",1,IF(AC8350=\"\",VLOOKUP(AW8350,'CZKEUR Xchange rate'!$D$13:$E$234,2,FALSE),VLOOKUP(AW8350,'CZKEUR Xchange rate'!$A$13:$B$234,2,FALSE)))","v":27.042000000000002},0,0,null,null,{"$f":"VLOOKUP(AW8350,'Cenové indexy '!$D$7:$E$200,2,FALSE)","v":101.77},{"$f":"W8350/Y8350*'Cenové indexy '!$E$149","v":0},0,2016,"07","13","2016-07-13","Áno","Áno","Neurčené","Nie",null,"24 mesiacov ","neurčené","48 hodín ","Zmluva 57_NF",null,null,null,null,null,{"$f":"VLOOKUP(M8350,Adresy!$A$4:$C$156,2,FALSE)","v":"Plzeň"},{"$f":"VLOOKUP(M8350,Adresy!$A$4:$C$156,3,FALSE)","v":"Dr. E. Beneše 1128/13"},"M","2016M07",null,null,null,null,null,{"$f":"VLOOKUP(M8350,Adresy!$A$3:$C$154,2,FALSE)","v":"Plzeň"},{"$f":"VLOOKUP(M8350,Adresy!$A$3:$C$154,3,FALSE)","v":"Dr. E. Beneše 1128/13"},0,0,0,0]
["USG prístroj",null,"sonda","fázová ","5-1 MHz",null,"HI VISION Ascendus ","EUP S70",null,"Hitachi-Aloka","položková cena (súčasť sumárnej ceny)",null,"Revmatologický ústav","ČR","PROMEDICA PRAHA GROUP a.s.",25099019,1,174792,null,{"$f":"IF(N8377=\"SR\",1,IF(AC8377=\"\",VLOOKUP(AW8377,'CZKEUR Xchange rate'!$D$13:$E$234,2,FALSE),VLOOKUP(AW8377,'CZKEUR Xchange rate'!$A$13:$B$234,2,FALSE)))","v":27.026},6467.5497668911421,0,6467.5497668911421,null,{"$f":"VLOOKUP(AW8377,'Cenové indexy '!$D$7:$E$200,2,FALSE)","v":101.58},{"$f":"W8377/Y8377*'Cenové indexy '!$E$149","v":6566.2375217511662},7879.4850261013989,2016,"05","03","2016-05-03","Áno","Áno","Neurčené","Nie",null,"24 mesiacov ","neurčené","neurčené","Zmluva 60_NF",null,null,null,null,null,{"$f":"VLOOKUP(M8377,Adresy!$A$4:$C$156,2,FALSE)","v":"Praha "},{"$f":"VLOOKUP(M8377,Adresy!$A$4:$C$156,3,FALSE)","v":"Na Slupi 4"},"M","2016M05",null,null,null,null,null,{"$f":"VLOOKUP(M8377,Adresy!$A$3:$C$154,2,FALSE)","v":"Praha "},{"$f":"VLOOKUP(M8377,Adresy!$A$3:$C$154,3,FALSE)","v":"Na Slupi 4"},0,0,0,0]
["USG prístroj",null,"celá zostava",null,null,null,"Voluson E8","Voluson E8",null,"GE Healthcare","sumárna cena","HW/SW","Fakultná nemocnica Trnava","SR","INTES Poprad s.r.o.",31337775,1,100000,120000,{"$f":"IF(N8397=\"SR\",1,IF(AC8397=\"\",VLOOKUP(AW8397,'CZKEUR Xchange rate'!$D$13:$E$234,2,FALSE),VLOOKUP(AW8397,'CZKEUR Xchange rate'!$A$13:$B$234,2,FALSE)))","v":1},100000,120000,{"$f":"U8397/Q8397","v":100000},{"$f":"V8397/Q8397","v":120000},{"$f":"VLOOKUP(AW8397,'Cenové indexy '!$D$7:$E$200,2,FALSE)","v":100.71},{"$f":"W8397/Y8397*'Cenové indexy '!$E$149","v":102402.93913216166},122883.52695859398,2016,"01","12",{"$f":"DATE(AB8397,AC8397,AD8397)","v":"2016-01-12"},"Áno","Áno","neurčené","Nie",null,"24 mesiacov","neurčené","48 hodín","Zmluva 348_AT",null,null,null,null,null,{"$f":"VLOOKUP(M8397,Adresy!$A$4:$C$156,2,FALSE)","v":"Trnava"},{"$f":"VLOOKUP(M8397,Adresy!$A$4:$C$156,3,FALSE)","v":"Andreja Žarnova 11"},"M","2016M01",null,null,null,null,null,"Trnava","Andreja Žarnova 11",0,0,0,0]
["USG prístroj",null,"archivácia  a prenos","DICOM 3.0",null,null,"Sono Scape S50","neurčené",null,"neurčené","položková cena (súčasť sumárnej ceny)",null,"Fakultná nemocnica Nitra","SR","ZOLS s.r.o.",31420427,null,null,null,{"$f":"IF(N8422=\"SR\",1,IF(AC8422=\"\",VLOOKUP(AW8422,'CZKEUR Xchange rate'!$D$13:$E$234,2,FALSE),VLOOKUP(AW8422,'CZKEUR Xchange rate'!$A$13:$B$234,2,FALSE)))","v":1},0,0,null,null,{"$f":"VLOOKUP(AW8422,'Cenové indexy '!$D$7:$E$200,2,FALSE)","v":102.96},{"$f":"W8422/Y8422*'Cenové indexy '!$E$149","v":0},0,2016,"10","10","2016-10-10","Áno","Áno","Neurčené","Nie",null,"24 mesiacov ","neurčené","neurčené ","Zmluva 101_NF ",null,null,null,null,null,{"$f":"VLOOKUP(M8422,Adresy!$A$4:$C$156,2,FALSE)","v":"Nitra"},{"$f":"VLOOKUP(M8422,Adresy!$A$4:$C$156,3,FALSE)","v":"Špitálska 6"},"M","2016M10",null,null,null,null,null,{"$f":"VLOOKUP(M8422,Adresy!$A$3:$C$154,2,FALSE)","v":"Nitra"},{"$f":"VLOOKUP(M8422,Adresy!$A$3:$C$154,3,FALSE)","v":"Špitálska 6"},0,0,0,0]
["USG prístroj",null,"panormatické zobrazenie na L 64, C 251, L55",null,null,null,"Arietta V70",null,null,"Hitachi-Aloka","položková cena (súčasť sumárnej ceny)",null,"Univerzitná nemocnica L. Pasteura Košice","SR","Unique Medical s.r.o.",46729429,1,2300,2760,{"$f":"IF(N8445=\"SR\",1,IF(AC8445=\"\",VLOOKUP(AW8445,'CZKEUR Xchange rate'!$D$13:$E$234,2,FALSE),VLOOKUP(AW8445,'CZKEUR Xchange rate'!$A$13:$B$234,2,FALSE)))","v":1},2300,2760,2300,2760,{"$f":"VLOOKUP(AW8445,'Cenové indexy '!$D$7:$E$200,2,FALSE)","v":103.31},{"$f":"W8445/Y8445*'Cenové indexy '!$E$149","v":2295.9926435001448},2755.1911722001737,2016,"12","09","2016-12-09","Áno","Áno","zo ŠR","Nie",null,"24 mesiacov","neurčené","48 hodín","Zmluva 381_AT",null,null,null,null,null,{"$f":"VLOOKUP(M8445,Adresy!$A$4:$C$156,2,FALSE)","v":"Košice"},{"$f":"VLOOKUP(M8445,Adresy!$A$4:$C$156,3,FALSE)","v":"Trieda SNP 457/1"},"M","2016M12",null,null,null,null,null,"Košice","Trieda SNP 457/1",0,0,0,0]
["USG prístroj",null,"celá zostava",null,null,null,"Apogee 5300 Touch","Apogee 5300 Touch","urológia","SIUI","sumárna cena","HW/SW","Univerzitná nemocnica L. Pasteura Košice","SR","Ing. Miloš Ladický ELMED",30924146,1,57700,69240,{"$f":"IF(N8449=\"SR\",1,IF(AC8449=\"\",VLOOKUP(AW8449,'CZKEUR Xchange rate'!$D$13:$E$234,2,FALSE),VLOOKUP(AW8449,'CZKEUR Xchange rate'!$A$13:$B$234,2,FALSE)))","v":1},57700,69240,57700,69240,{"$f":"VLOOKUP(AW8449,'Cenové indexy '!$D$7:$E$200,2,FALSE)","v":103.31},{"$f":"W8449/Y8449*'Cenové indexy '!$E$149","v":57599.467621721029},69119.361146065232,2016,"12","09","2016-12-09","Áno","Áno","zo ŠR","Nie",null,"24 mesiacov","neurčené","48 hodín","Zmluva 382_AT",null,null,null,null,null,{"$f":"VLOOKUP(M8449,Adresy!$A$4:$C$156,2,FALSE)","v":"Košice"},{"$f":"VLOOKUP(M8449,Adresy!$A$4:$C$156,3,FALSE)","v":"Trieda SNP 457/1"},"M","2016M12",null,null,null,null,null,"Košice","Trieda SNP 457/1",0,0,0,0]
["anesteziologický prístroj",null,"Anesteziologický prístroj",null,null,null,"Aisys CS2","Aisys CS2",null,"GE Healthcare","položková cena (súčasť sumárnej ceny)","HW","Fakultní nemocnice u sv. Anny v Brně","ČR","Medisap s.r.o.",null,6,3000000,3630000,{"$f":"IF(N8474=\"SR\",1,IF(AC8474=\"\",VLOOKUP(AW8474,'CZKEUR Xchange rate'!$D$13:$E$234,2,FALSE),VLOOKUP(AW8474,'CZKEUR Xchange rate'!$A$13:$B$234,2,FALSE)))","v":27.396999999999998},109501.04025988247,132496.2587144578,18248.175182481751,22080.291970802922,{"$f":"VLOOKUP(AW8474,'Cenové indexy '!$D$7:$E$200,2,FALSE)","v":99.82},{"$f":"W8474/Y8474*'Cenové indexy '!$E$149","v":18853.278967835537},22623.934761402645,2015,"05",null,"2015-04-30","Áno","Áno","Neurčené","Nie","24 mesiacov zadarmo",null,null,null,"Zmluva 2_MB",null,null,null,null,null,{"$f":"VLOOKUP(M8474,Adresy!$A$4:$C$156,2,FALSE)","v":"Brno"},{"$f":"VLOOKUP(M8474,Adresy!$A$4:$C$156,3,FALSE)","v":"Pekařská 53"},"M","2015M05",null,null,null,null,null,"Brno","Pekařská 53",0,0,0,0]
["anesteziologický prístroj",null,"anesteziologický prístroj",null,null,null,"Avance CS2","Avance CS2",null,"GE Healthcare","bez položkovej identifikácie ceny (v rámci sumárnej ceny)","HW","Fakultní nemocnice Brno","ČR","Medisap s.r.o.",null,null,null,null,{"$f":"IF(N8496=\"SR\",1,IF(AC8496=\"\",VLOOKUP(AW8496,'CZKEUR Xchange rate'!$D$13:$E$234,2,FALSE),VLOOKUP(AW8496,'CZKEUR Xchange rate'!$A$13:$B$234,2,FALSE)))","v":25.789000000000001},0,0,null,null,{"$f":"VLOOKUP(AW8496,'Cenové indexy '!$D$7:$E$200,2,FALSE)","v":98.71},{"$f":"W8496/Y8496*'Cenové indexy '!$E$149","v":0},0,2013,"09",null,"2013-08-31","Áno","Áno","Neurčené","Nie","24 mesiacov zadarmo",null,null,null,"Zmluva 15_DG",null,null,null,null,null,{"$f":"VLOOKUP(M8496,Adresy!$A$4:$C$156,2,FALSE)","v":"Brno"},{"$f":"VLOOKUP(M8496,Adresy!$A$4:$C$156,3,FALSE)","v":"Jihlavská 340/20"},"M","2013M09",null,null,null,null,null,"Brno","Jihlavská 340/20",0,0,0,0]
["anesteziologický prístroj",null,"monitor vitálnych funkcií",null,null,null,"VENAR Libera",null,null,"Chirana","bez položkovej identifikácie ceny (v rámci sumárnej ceny)","HW","Fakultná nemocnica Nitra","SR","Chirosan s.r.o",null,2,null,null,{"$f":"IF(N8521=\"SR\",1,IF(AC8521=\"\",VLOOKUP(AW8521,'CZKEUR Xchange rate'!$D$13:$E$234,2,FALSE),VLOOKUP(AW8521,'CZKEUR Xchange rate'!$A$13:$B$234,2,FALSE)))","v":1},0,0,null,null,{"$f":"VLOOKUP(AW8521,'Cenové indexy '!$D$7:$E$200,2,FALSE)","v":98.57},{"$f":"W8521/Y8521*'Cenové indexy '!$E$149","v":0},0,2013,"06",null,"2013-05-31","Áno","Áno","Neurčené","Nie","24 mesiacov zadarmo",null,null,null,"Zmluva 43_AT",null,null,null,null,null,{"$f":"VLOOKUP(M8521,Adresy!$A$4:$C$156,2,FALSE)","v":"Nitra"},{"$f":"VLOOKUP(M8521,Adresy!$A$4:$C$156,3,FALSE)","v":"Špitálska 6"},"M","2013M06",null,null,null,null,null,"Nitra","Špitálska 6",0,0,0,0]
["anesteziologický prístroj",null,"anesteziologický prístroj",null,null,null,"Aisys","Aisys",null,"GE Healthcare","bez položkovej identifikácie ceny (v rámci sumárnej ceny)","HW","Národný ústav tuberkulózy, pl'úcnych chorôb a hrudníkovej chirurgie Vyšné Hágy","SR","Messer Medical Home Care Slovakia s.r.o.",null,1,null,null,{"$f":"IF(N8546=\"SR\",1,IF(AC8546=\"\",VLOOKUP(AW8546,'CZKEUR Xchange rate'!$D$13:$E$234,2,FALSE),VLOOKUP(AW8546,'CZKEUR Xchange rate'!$A$13:$B$234,2,FALSE)))","v":1},0,0,null,null,{"$f":"VLOOKUP(AW8546,'Cenové indexy '!$D$7:$E$200,2,FALSE)","v":99.52},{"$f":"W8546/Y8546*'Cenové indexy '!$E$149","v":0},0,2014,"02",null,"2014-01-31","Áno","Áno","Neurčené","Nie","24 mesiacov zadarmo",null,null,null,"Zmluva 48_AT",null,null,null,null,null,{"$f":"VLOOKUP(M8546,Adresy!$A$4:$C$156,2,FALSE)","v":"Vysoké Tatry"},{"$f":"VLOOKUP(M8546,Adresy!$A$4:$C$156,3,FALSE)","v":"Vysoké Tatry 1"},"M","2014M02",null,null,null,null,null,"Vysoké Tatry","Vysoké Tatry 1",0,0,0,0]
["anesteziologický prístroj",null,"anesteziologický prístroj",null,null,null,"Flow-i","Flow-i",null,"Maquet","položková cena (súčasť sumárnej ceny)","HW","Stredoslovenský ústav srdcových a cievnych chorôb, a.s.","SR","Med Partners a.s.",null,1,35021.72,42026.06,{"$f":"IF(N8564=\"SR\",1,IF(AC8564=\"\",VLOOKUP(AW8564,'CZKEUR Xchange rate'!$D$13:$E$234,2,FALSE),VLOOKUP(AW8564,'CZKEUR Xchange rate'!$A$13:$B$234,2,FALSE)))","v":1},35021.72,42026.06,35021.72,42026.06,{"$f":"VLOOKUP(AW8564,'Cenové indexy '!$D$7:$E$200,2,FALSE)","v":99.88},{"$f":"W8564/Y8564*'Cenové indexy '!$E$149","v":36161.293388065678},43393.552065678814,2015,"06",null,"2015-05-31","Áno","Áno","Neurčené","Áno","neurčené",null,null,null,"Zmluva 51_AT",null,null,null,null,null,{"$f":"VLOOKUP(M8564,Adresy!$A$4:$C$156,2,FALSE)","v":"Banská Bystrica"},{"$f":"VLOOKUP(M8564,Adresy!$A$4:$C$156,3,FALSE)","v":"Cesta k nemocnici 622/1"},"M","2015M06",null,null,null,null,null,"Banská Bystrica","Cesta k nemocnici 622/1",0,0,0,0]
["anesteziologický prístroj",null,"odparovač",null,null,null,"Flow-i C20","QUIK FIL",null,"Maquet","položková cena (súčasť sumárnej ceny)","HW","Fakultná nemocnica Trenčín","SR","Med Partners a.s.",null,2,8762.2800000000007,{"$f":"R8573*1.2","v":10514.736000000001},{"$f":"IF(N8573=\"SR\",1,IF(AC8573=\"\",VLOOKUP(AW8573,'CZKEUR Xchange rate'!$D$13:$E$234,2,FALSE),VLOOKUP(AW8573,'CZKEUR Xchange rate'!$A$13:$B$234,2,FALSE)))","v":1},8762.2800000000007,10514.736000000001,{"$f":"U8573/Q8573","v":4381.1400000000003},{"$f":"W8573*1.2","v":5257.3680000000004},{"$f":"VLOOKUP(AW8573,'Cenové indexy '!$D$7:$E$200,2,FALSE)","v":100.14},{"$f":"W8573/Y8573*'Cenové indexy '!$E$149","v":4511.9529478729783},5414.3435374475739,2015,"09",null,"2015-08-31","Áno","Áno","ERDF","Nie","24 mesiacov zadarmo",null,null,null,"Zmluva 48_DG",null,null,null,null,null,{"$f":"VLOOKUP(M8573,Adresy!$A$4:$C$156,2,FALSE)","v":"Trenčín"},{"$f":"VLOOKUP(M8573,Adresy!$A$4:$C$156,3,FALSE)","v":"Legionárska 594/2"},"M","2015M09",null,null,null,null,null,"Trenčín","Legionárska 594/2",0,0,0,0]
["anesteziologický prístroj",null,"anesteziologický prístroj",null,null,"pre ARO","Leon  Plus",null,null,"Heinen + Löwenstein GmbH & Co.","bez položkovej identifikácie ceny (v rámci sumárnej ceny)",null,"Krajská nemocnica T.Bati, a.s.","ČR","A.M.I. Analytical medical instruments s.r.o.",null,2,null,null,{"$f":"IF(N8594=\"SR\",1,IF(AC8594=\"\",VLOOKUP(AW8594,'CZKEUR Xchange rate'!$D$13:$E$234,2,FALSE),VLOOKUP(AW8594,'CZKEUR Xchange rate'!$A$13:$B$234,2,FALSE)))","v":27.64},0,0,null,null,{"$f":"VLOOKUP(AW8594,'Cenové indexy '!$D$7:$E$200,2,FALSE)","v":99.92},{"$f":"W8594/Y8594*'Cenové indexy '!$E$149","v":0},0,2014,"12",null,"2014-11-30","Áno","Áno","Neurčené","Áno","36 mesiacov na techniku",null,null,null,"Zmluva 98_DG",null,null,null,null,null,{"$f":"VLOOKUP(M8594,Adresy!$A$4:$C$156,2,FALSE)","v":"Zlín"},{"$f":"VLOOKUP(M8594,Adresy!$A$4:$C$156,3,FALSE)","v":"Havlíčkovo nábř. 600"},"M","2014M12",null,null,null,null,null,"Zlín","Havlíčkovo nábř. 600",0,0,0,0]
["anesteziologický prístroj",null,"anesteziologický prístroj",null,null,null,"Aestiva/5 MRI","Aestiva/5 MRI","vhodný pre všetky vekové kategórie","GE Healthcare","bez položkovej identifikácie ceny (v rámci sumárnej ceny)",null,"Karlovarská krajská  nemocnice a.s","ČR","Medisap s.r.o.",null,null,null,null,{"$f":"IF(N8611=\"SR\",1,IF(AC8611=\"\",VLOOKUP(AW8611,'CZKEUR Xchange rate'!$D$13:$E$234,2,FALSE),VLOOKUP(AW8611,'CZKEUR Xchange rate'!$A$13:$B$234,2,FALSE)))","v":27.041},0,0,null,null,{"$f":"VLOOKUP(AW8611,'Cenové indexy '!$D$7:$E$200,2,FALSE)","v":100.11},{"$f":"W8611/Y8611*'Cenové indexy '!$E$149","v":0},0,2015,"08",null,"2015-07-31","Áno","Áno","EFRR","Áno","24 mesiacov",null,null,null,"Zmluva 101_DG",null,null,null,null,null,{"$f":"VLOOKUP(M8611,Adresy!$A$4:$C$156,2,FALSE)","v":"Karlovy Vary"},{"$f":"VLOOKUP(M8611,Adresy!$A$4:$C$156,3,FALSE)","v":"Bezručova 1190/19"},"M","2015M08",null,null,null,null,null,"Karlovy Vary","Bezručova 1190/19",0,0,0,0]
["anesteziologický prístroj",null,"anesteziologický prístroj",null,null,null,"Primus","Primus",null,"Dräger","bez položkovej identifikácie ceny (v rámci sumárnej ceny)","HW","Masarykova nemocnice v Ústí nad Labem, o.z.","ČR","Dräger Medical s.r.o.",null,null,null,null,{"$f":"IF(N8645=\"SR\",1,IF(AC8645=\"\",VLOOKUP(AW8645,'CZKEUR Xchange rate'!$D$13:$E$234,2,FALSE),VLOOKUP(AW8645,'CZKEUR Xchange rate'!$A$13:$B$234,2,FALSE)))","v":27.105},0,0,null,null,{"$f":"VLOOKUP(AW8645,'Cenové indexy '!$D$7:$E$200,2,FALSE)","v":100.07},{"$f":"W8645/Y8645*'Cenové indexy '!$E$149","v":0},0,2015,"10",null,"2015-09-30","Áno","Áno","Neurčené","Nie","36 mesiacov",null,null,null,"Zmluva 102_AT",null,null,null,null,null,{"$f":"VLOOKUP(M8645,Adresy!$A$4:$C$156,2,FALSE)","v":"Ústí nad Labem"},{"$f":"VLOOKUP(M8645,Adresy!$A$4:$C$156,3,FALSE)","v":"Sociální péčer 12A"},"M","2015M10",null,null,null,null,null,"Ústí nad Labem","Sociální péčer 12A",0,0,0,0]
["anesteziologický prístroj",null,"rozšírený ventilačný balík","PRVC, SIMV, PS",null,null,"Flow-i C20",null,null,"Maquet","položková cena (súčasť sumárnej ceny)","SW","Fakultná nemocnica Nitra","SR","Med Partners a.s.",null,1,3075,{"$f":"R8666*1.2","v":3690},{"$f":"IF(N8666=\"SR\",1,IF(AC8666=\"\",VLOOKUP(AW8666,'CZKEUR Xchange rate'!$D$13:$E$234,2,FALSE),VLOOKUP(AW8666,'CZKEUR Xchange rate'!$A$13:$B$234,2,FALSE)))","v":1},3075,3690,{"$f":"U8666/Q8666","v":3075},{"$f":"W8666*1.2","v":3690},{"$f":"VLOOKUP(AW8666,'Cenové indexy '!$D$7:$E$200,2,FALSE)","v":99.75},{"$f":"W8666/Y8666*'Cenové indexy '!$E$149","v":3179.1954887218044},3815.0345864661649,2015,"04",null,"2015-03-31","Áno","Áno","Neurčené","Nie","24 mesiacov zadarmo, potom podľa zmluvy",null,null,null,"Zmluva 1_XY",null,null,null,null,null,{"$f":"VLOOKUP(M8666,Adresy!$A$4:$C$156,2,FALSE)","v":"Nitra"},{"$f":"VLOOKUP(M8666,Adresy!$A$4:$C$156,3,FALSE)","v":"Špitálska 6"},"M","2015M04",null,null,null,null,null,"Nitra","Špitálska 6",0,0,0,0]
["anesteziologický prístroj",null,"ventilátor",null,null,null,"Carestation 650",null,null,"GE Healthcare","bez položkovej identifikácie ceny (v rámci sumárnej ceny)",null,"Nemocnice Vyškov","ČR","Medisap s.r.o.",48029360,null,null,null,{"$f":"IF(N8679=\"SR\",1,IF(AC8679=\"\",VLOOKUP(AW8679,'CZKEUR Xchange rate'!$D$13:$E$234,2,FALSE),VLOOKUP(AW8679,'CZKEUR Xchange rate'!$A$13:$B$234,2,FALSE)))","v":27.061},0,0,null,null,{"$f":"VLOOKUP(AW8679,'Cenové indexy '!$D$7:$E$200,2,FALSE)","v":101.72},{"$f":"W8679/Y8679*'Cenové indexy '!$E$149","v":0},0,2016,"06","20","2016-06-20","Áno","Áno","Neurčené","Nie",null,"24 mesiacov","neurčené","24 hodín","Zmluva 271_AT",null,null,null,null,null,{"$f":"VLOOKUP(M8679,Adresy!$A$4:$C$156,2,FALSE)","v":"Vyškov"},{"$f":"VLOOKUP(M8679,Adresy!$A$4:$C$156,3,FALSE)","v":"Purkyňova 36"},"M","2016M06",null,null,null,null,null,"Vyškov","Purkyňova 36",0,0,0,0]
["anesteziologický prístroj",null,"anesteziologický prístroj",null,null,null,"Aespire View","Aespire View",null,"GE Healthcare","sumárna cena","HW","Nemocnice Česká Lípa","ČR","Medisap s.r.o.",48029360,3,1485000,1796850,{"$f":"IF(N8697=\"SR\",1,IF(AC8697=\"\",VLOOKUP(AW8697,'CZKEUR Xchange rate'!$D$13:$E$234,2,FALSE),VLOOKUP(AW8697,'CZKEUR Xchange rate'!$A$13:$B$234,2,FALSE)))","v":27.439},54120.04810670943,65485.258209118409,18040.01603556981,21828.419403039468,{"$f":"VLOOKUP(AW8697,'Cenové indexy '!$D$7:$E$200,2,FALSE)","v":99.75},{"$f":"W8697/Y8697*'Cenové indexy '!$E$149","v":18651.296779431723},22381.556135318067,2015,"04","07","2015-04-07","Áno","Áno","EFRR","Áno",null,"24 mesiacov","10 rokov, bude predmetom bud.zmluvy","24 hodín","Zmluva 273_AT",null,null,null,null,null,{"$f":"VLOOKUP(M8697,Adresy!$A$4:$C$156,2,FALSE)","v":"Česká Lípa"},{"$f":"VLOOKUP(M8697,Adresy!$A$4:$C$156,3,FALSE)","v":"Purkyňova 1849"},"M","2015M04",null,null,null,null,null,"Česká Lípa","Purkyňova 1849",0,0,0,0]
["anesteziologický prístroj",null,"anesteziologický prístroj",null,null,null,"Avance CS2",null,null,"GE Healthcare","bez položkovej identifikácie ceny (v rámci sumárnej ceny)",null,"Svitavská nemocnice","ČR","Medisap s.r.o.",48029360,null,null,null,{"$f":"IF(N8718=\"SR\",1,IF(AC8718=\"\",VLOOKUP(AW8718,'CZKEUR Xchange rate'!$D$13:$E$234,2,FALSE),VLOOKUP(AW8718,'CZKEUR Xchange rate'!$A$13:$B$234,2,FALSE)))","v":27.439},0,0,null,null,{"$f":"VLOOKUP(AW8718,'Cenové indexy '!$D$7:$E$200,2,FALSE)","v":99.75},{"$f":"W8718/Y8718*'Cenové indexy '!$E$149","v":0},0,2015,"04","20",{"$f":"DATE(AB8718,AC8718,AD8718)","v":"2015-04-20"},"Áno","Áno","EFRR","Áno",null,"36 mesiacov","neurčené","48 hodín","Zmluva 276_AT",null,null,null,null,null,{"$f":"VLOOKUP(M8718,Adresy!$A$4:$C$156,2,FALSE)","v":"Svitavy"},{"$f":"VLOOKUP(M8718,Adresy!$A$4:$C$156,3,FALSE)","v":"Kollárova 7"},"M","2015M04",null,null,null,null,null,"Svitavy","Kollárova 7",0,0,0,0]
["anesteziologický prístroj",null,"monitor vitálnych funkcií",null,null,null,"Carestation 650","Carescape B650",null,"GE Healthcare","bez položkovej identifikácie ceny (v rámci sumárnej ceny)",null,"Kysucká nemocnica s poliklinikou Čadca","SR","Messer Medical Home Care Slovakia s.r.o.",46378979,null,null,null,{"$f":"IF(N8747=\"SR\",1,IF(AC8747=\"\",VLOOKUP(AW8747,'CZKEUR Xchange rate'!$D$13:$E$234,2,FALSE),VLOOKUP(AW8747,'CZKEUR Xchange rate'!$A$13:$B$234,2,FALSE)))","v":1},0,0,null,null,{"$f":"VLOOKUP(AW8747,'Cenové indexy '!$D$7:$E$200,2,FALSE)","v":101.72},{"$f":"W8747/Y8747*'Cenové indexy '!$E$149","v":0},0,2016,"06","30","2016-06-30","Áno","Áno","Neurčené","Nie",null,"24 mesiacov","min.10 rokov, predmetom bud.zmluvy","48 hodín","Zmluva 311_AT",null,null,null,null,null,{"$f":"VLOOKUP(M8747,Adresy!$A$4:$C$156,2,FALSE)","v":"Čadca"},{"$f":"VLOOKUP(M8747,Adresy!$A$4:$C$156,3,FALSE)","v":"Športovcov"},"M","2016M06",null,null,null,null,null,"Čadca","Športovcov",0,0,0,0]
["anesteziologický prístroj",null,"príslušenstvo k monitoru","pre meranie EKG, NIBP, SpO2, resp. IBP",null,null,"Fabius plus XL",null,null,"Dräger","bez položkovej identifikácie ceny (v rámci sumárnej ceny)",null,"Fakultná nemocnica Trenčín","SR","VITALITE s.r.o.",46985051,null,null,null,{"$f":"IF(N8765=\"SR\",1,IF(AC8765=\"\",VLOOKUP(AW8765,'CZKEUR Xchange rate'!$D$13:$E$234,2,FALSE),VLOOKUP(AW8765,'CZKEUR Xchange rate'!$A$13:$B$234,2,FALSE)))","v":1},0,0,null,null,{"$f":"VLOOKUP(AW8765,'Cenové indexy '!$D$7:$E$200,2,FALSE)","v":101.08},{"$f":"W8765/Y8765*'Cenové indexy '!$E$149","v":0},0,2016,"03","17","2016-03-17","Áno","Áno","Neurčené","Nie",null,"24 mesiacov","neurčené","24 hodín","Zmluva 352_AT",null,null,null,null,null,{"$f":"VLOOKUP(M8765,Adresy!$A$4:$C$156,2,FALSE)","v":"Trenčín"},{"$f":"VLOOKUP(M8765,Adresy!$A$4:$C$156,3,FALSE)","v":"Legionárska 594/2"},"M","2016M03",null,null,null,null,null,"Trenčín","Legionárska 594/2",0,0,0,0]
["anesteziologický prístroj",null,"dodatočná bočná polička",null,null,null,"Perseus A500",null,null,"Dräger","položková cena (súčasť sumárnej ceny)",null,"Fakultná nemocnica s poliklinikou J.A.Reimana Prešov","SR","Dräger Slovensko s.r.o.",31439446,1,400,480,{"$f":"IF(N8790=\"SR\",1,IF(AC8790=\"\",VLOOKUP(AW8790,'CZKEUR Xchange rate'!$D$13:$E$234,2,FALSE),VLOOKUP(AW8790,'CZKEUR Xchange rate'!$A$13:$B$234,2,FALSE)))","v":1},400,480,400,480,{"$f":"VLOOKUP(AW8790,'Cenové indexy '!$D$7:$E$200,2,FALSE)","v":103.31},{"$f":"W8790/Y8790*'Cenové indexy '!$E$149","v":399.30306843480787},479.1636821217694,2016,"12","14","2016-12-14","Áno","Áno","štátny rozpočet","Nie",null,"24 mesiacov","neurčené","48 hodín","Zmluva 376_AT",null,null,null,null,null,{"$f":"VLOOKUP(M8790,Adresy!$A$4:$C$156,2,FALSE)","v":"Prešov"},{"$f":"VLOOKUP(M8790,Adresy!$A$4:$C$156,3,FALSE)","v":"Jána Hollého"},"M","2016M12",null,null,null,null,null,{"$f":"VLOOKUP(M8790,#REF!,2,FALSE)","v":{"$error":"#REF!"}},{"$f":"VLOOKUP(M8790,#REF!,3,FALSE)","v":{"$error":"#REF!"}},{"$error":"#REF!"},{"$error":"#REF!"},{"$error":"#REF!"},{"$error":"#REF!"}]
["anesteziologický prístroj",null,"docking station",null,null,null,"Perseus A500",null,null,"Dräger","položková cena (súčasť sumárnej ceny)",null,"Fakultná nemocnica s poliklinikou J.A.Reimana Prešov","SR","Dräger Slovensko s.r.o.",31439446,1,150,180,{"$f":"IF(N8794=\"SR\",1,IF(AC8794=\"\",VLOOKUP(AW8794,'CZKEUR Xchange rate'!$D$13:$E$234,2,FALSE),VLOOKUP(AW8794,'CZKEUR Xchange rate'!$A$13:$B$234,2,FALSE)))","v":1},150,180,150,180,{"$f":"VLOOKUP(AW8794,'Cenové indexy '!$D$7:$E$200,2,FALSE)","v":103.31},{"$f":"W8794/Y8794*'Cenové indexy '!$E$149","v":149.73865066305294},179.68638079566352,2016,"12","14","2016-12-14","Áno","Áno","štátny rozpočet","Nie",null,"24 mesiacov","neurčené","48 hodín","Zmluva 376_AT",null,null,null,null,null,{"$f":"VLOOKUP(M8794,Adresy!$A$4:$C$156,2,FALSE)","v":"Prešov"},{"$f":"VLOOKUP(M8794,Adresy!$A$4:$C$156,3,FALSE)","v":"Jána Hollého"},"M","2016M12",null,null,null,null,null,{"$f":"VLOOKUP(M8794,#REF!,2,FALSE)","v":{"$error":"#REF!"}},{"$f":"VLOOKUP(M8794,#REF!,3,FALSE)","v":{"$error":"#REF!"}},{"$error":"#REF!"},{"$error":"#REF!"},{"$error":"#REF!"},{"$error":"#REF!"}]
["anesteziologický prístroj",null,"celá zostava",null,null,null,"Avance CS2",null,null,"GE Healthcare","sumárna cena","HW/SW","Nemocnica Poprad, a. s.","SR","Mepis Healthcare s.r.o.",36605751,2,57990,69580,{"$f":"IF(N8817=\"SR\",1,IF(AC8817=\"\",VLOOKUP(AW8817,'CZKEUR Xchange rate'!$D$13:$E$234,2,FALSE),VLOOKUP(AW8817,'CZKEUR Xchange rate'!$A$13:$B$234,2,FALSE)))","v":1},57990,69580,{"$f":"U8817/Q8817","v":28995},{"$f":"V8817/Q8817","v":34790},{"$f":"VLOOKUP(AW8817,'Cenové indexy '!$D$7:$E$200,2,FALSE)","v":100.71},{"$f":"W8817/Y8817*'Cenové indexy '!$E$149","v":29691.732201370272},35630.078641644322,2016,"01","08",{"$f":"DATE(AB8817,AC8817,AD8817)","v":"2016-01-08"},"Áno","Áno","Neurčené","Nie",null,"24 mesiacov ","neurčené","48 hodín ","Zmluva 109_NF ",null,null,null,null,null,{"$f":"VLOOKUP(M8817,Adresy!$A$4:$C$156,2,FALSE)","v":"Poprad"},{"$f":"VLOOKUP(M8817,Adresy!$A$4:$C$156,3,FALSE)","v":"Banícka"},"M","2016M01",null,null,null,null,null,{"$f":"VLOOKUP(M8817,Adresy!$A$3:$C$154,2,FALSE)","v":"Poprad"},{"$f":"VLOOKUP(M8817,Adresy!$A$3:$C$154,3,FALSE)","v":"Banícka"},0,0,0,0]
["anesteziologický prístroj",null,"odparovač","sevofluran a isofluran",null,null,"neurčené",null,null,"neurčené","bez položkovej identifikácie ceny (v rámci sumárnej ceny)",null,"Fakultná nemocnica s poliklinkou Žilina","SR","CHIRANA s.r.o.",36322300,null,null,null,{"$f":"IF(N8842=\"SR\",1,IF(AC8842=\"\",VLOOKUP(AW8842,'CZKEUR Xchange rate'!$D$13:$E$234,2,FALSE),VLOOKUP(AW8842,'CZKEUR Xchange rate'!$A$13:$B$234,2,FALSE)))","v":1},0,0,null,null,{"$f":"VLOOKUP(AW8842,'Cenové indexy '!$D$7:$E$200,2,FALSE)","v":101.86},{"$f":"W8842/Y8842*'Cenové indexy '!$E$149","v":0},0,2016,"08","15","2016-08-15","Áno","Áno","Neurčené","Nie ",null,"24 mesiacov ","neurčené","neurčené","Zmluva 129_NF ",null,null,null,null,null,{"$f":"VLOOKUP(M8842,Adresy!$A$4:$C$156,2,FALSE)","v":"Žilina"},{"$f":"VLOOKUP(M8842,Adresy!$A$4:$C$156,3,FALSE)","v":"Vojtecha Spanyola 43"},"M","2016M08",null,null,null,null,null,{"$f":"VLOOKUP(M8842,Adresy!$A$3:$C$154,2,FALSE)","v":"Žilina"},{"$f":"VLOOKUP(M8842,Adresy!$A$3:$C$154,3,FALSE)","v":"Vojtecha Spanyola 43"},0,0,0,0]
["anesteziologický prístroj",null,"ventilačný režim","dychová frekvencia ","5, 80",null,"Primus  ",null,null,"Dräger","bez položkovej identifikácie ceny (v rámci sumárnej ceny)","HW/SW","Univerzitná nemocnica Martin","SR","Dräger Slovensko s.r.o."," 31439446 ",null,null,null,{"$f":"IF(N8862=\"SR\",1,IF(AC8862=\"\",VLOOKUP(AW8862,'CZKEUR Xchange rate'!$D$13:$E$234,2,FALSE),VLOOKUP(AW8862,'CZKEUR Xchange rate'!$A$13:$B$234,2,FALSE)))","v":1},0,0,null,null,{"$f":"VLOOKUP(AW8862,'Cenové indexy '!$D$7:$E$200,2,FALSE)","v":103.31},{"$f":"W8862/Y8862*'Cenové indexy '!$E$149","v":0},0,2016,"12","12","2016-12-12","Áno","Áno","neurčené","Nie ",null,"24 mesiacov ","neurčené","24 hodín ","Zmluva 131_NF",null,null,null,null,null,{"$f":"VLOOKUP(M8862,Adresy!$A$4:$C$156,2,FALSE)","v":"Martin"},{"$f":"VLOOKUP(M8862,Adresy!$A$4:$C$156,3,FALSE)","v":"Kollárova 2"},"M","2016M12",null,null,null,null,null,{"$f":"VLOOKUP(M8862,Adresy!$A$3:$C$154,2,FALSE)","v":"Martin"},{"$f":"VLOOKUP(M8862,Adresy!$A$3:$C$154,3,FALSE)","v":"Kollárova 2"},0,0,0,0]
["anesteziologický prístroj",null,"celá zostava",null,null,null,"Aisys CS2","Aisys CS2",null,"GE Healthcare","sumárna cena","HW/SW","Univerzitná nemocnica Martin","SR","Messer Medical Home Care Slovakia s.r.o.",46378979,1,39984,47980.800000000003,{"$f":"IF(N8889=\"SR\",1,IF(AC8889=\"\",VLOOKUP(AW8889,'CZKEUR Xchange rate'!$D$13:$E$234,2,FALSE),VLOOKUP(AW8889,'CZKEUR Xchange rate'!$A$13:$B$234,2,FALSE)))","v":1},39984,47980.800000000003,{"$f":"U8889/Q8889","v":39984},{"$f":"V8889/Q8889","v":47980.800000000003},{"$f":"VLOOKUP(AW8889,'Cenové indexy '!$D$7:$E$200,2,FALSE)","v":103.31},{"$f":"W8889/Y8889*'Cenové indexy '!$E$149","v":39914.334720743391},47897.201664892069,2016,"12","12","2016-12-12","Áno","Áno","Neurčené","Nie",null,"24 mesiacov ","neurčené","48 hodín ","Zmluva 132_NF ",null,null,null,null,null,{"$f":"VLOOKUP(M8889,Adresy!$A$4:$C$156,2,FALSE)","v":"Martin"},{"$f":"VLOOKUP(M8889,Adresy!$A$4:$C$156,3,FALSE)","v":"Kollárova 2"},"M","2016M12",null,null,null,null,null,{"$f":"VLOOKUP(M8889,Adresy!$A$3:$C$154,2,FALSE)","v":"Martin"},{"$f":"VLOOKUP(M8889,Adresy!$A$3:$C$154,3,FALSE)","v":"Kollárova 2"},0,0,0,0]
["operačný stôl","elektromechanický ","elektromechanický operačný stôl","držiak na ruky s kĺbom univerzálny 600T",null,null,"MARS 2.03",1697651,null,"TRUMPF Medical","položková cena (súčasť sumárnej ceny)",null,"Fakultná nemocnica Trnava","SR","Nimag spol. s r.o.",31337775,2,5780,null,{"$f":"IF(N8914=\"SR\",1,IF(AC8914=\"\",VLOOKUP(AW8914,'CZKEUR Xchange rate'!$D$13:$E$234,2,FALSE),VLOOKUP(AW8914,'CZKEUR Xchange rate'!$A$13:$B$234,2,FALSE)))","v":1},5780,0,2890,null,{"$f":"VLOOKUP(AW8914,'Cenové indexy '!$D$7:$E$200,2,FALSE)","v":106.29},{"$f":"W8914/Y8914*'Cenové indexy '!$E$149","v":2804.0803462225986},3364.896415467118,2017,"02","13","2017-02-13","Áno","Áno","Neurčené","Nie",null,"24 mesiacov ","neurčené","48 hodín ","Zmluva 133_NF",null,"zľava 15%",null,null,null,{"$f":"VLOOKUP(M8914,Adresy!$A$4:$C$156,2,FALSE)","v":"Trnava"},{"$f":"VLOOKUP(M8914,Adresy!$A$4:$C$156,3,FALSE)","v":"Andreja Žarnova 11"},"M","2017M02",null,null,null,null,null,{"$f":"VLOOKUP(M8914,Adresy!$A$3:$C$154,2,FALSE)","v":"Trnava"},{"$f":"VLOOKUP(M8914,Adresy!$A$3:$C$154,3,FALSE)","v":"Andreja Žarnova 11"},0,0,0,0]
["operačný stôl","elektromechanický ","elektromechanický operačný stôl","gynekologický držiak bez kĺbu detský",null,null,"MARS 2.01",4544789,null,"TRUMPF","položková cena (súčasť sumárnej ceny)",null,"Univerzitná nemocnica Martin","SR","Nimag spol. s r.o.",31337775,1,623.25,null,{"$f":"IF(N8934=\"SR\",1,IF(AC8934=\"\",VLOOKUP(AW8934,'CZKEUR Xchange rate'!$D$13:$E$234,2,FALSE),VLOOKUP(AW8934,'CZKEUR Xchange rate'!$A$13:$B$234,2,FALSE)))","v":1},623.25,0,623.25,null,{"$f":"VLOOKUP(AW8934,'Cenové indexy '!$D$7:$E$200,2,FALSE)","v":100.83},{"$f":"W8934/Y8934*'Cenové indexy '!$E$149","v":637.46675096697413},764.96010116036894,2016,"02","02","2016-02-02","Áno","Áno","neurčené","Nie ",null,"24 mesiacov ","neurčené","24 hodín ","Zmluva 134_NF",null,null,null,null,null,{"$f":"VLOOKUP(M8934,Adresy!$A$4:$C$156,2,FALSE)","v":"Martin"},{"$f":"VLOOKUP(M8934,Adresy!$A$4:$C$156,3,FALSE)","v":"Kollárova 2"},"M","2016M02",null,null,null,null,null,{"$f":"VLOOKUP(M8934,Adresy!$A$3:$C$154,2,FALSE)","v":"Martin"},{"$f":"VLOOKUP(M8934,Adresy!$A$3:$C$154,3,FALSE)","v":"Kollárova 2"},0,0,0,0]
["operačný stôl","elektromechanický ","elektromechanický operačný stôl","podpera chrbtovej časti",null,null,"MARS 2.01",4544722,null,"TRUMPF","položková cena (súčasť sumárnej ceny)",null,"Univerzitná nemocnica Martin","SR","Nimag spol. s r.o.",31337775,2,389.11,null,{"$f":"IF(N8941=\"SR\",1,IF(AC8941=\"\",VLOOKUP(AW8941,'CZKEUR Xchange rate'!$D$13:$E$234,2,FALSE),VLOOKUP(AW8941,'CZKEUR Xchange rate'!$A$13:$B$234,2,FALSE)))","v":1},389.11,0,194.55500000000001,null,{"$f":"VLOOKUP(AW8941,'Cenové indexy '!$D$7:$E$200,2,FALSE)","v":100.83},{"$f":"W8941/Y8941*'Cenové indexy '!$E$149","v":198.99293017951007},238.79151621541206,2016,"02","02","2016-02-02","Áno","Áno","neurčené","Nie ",null,"24 mesiacov ","neurčené","24 hodín ","Zmluva 134_NF",null,null,null,null,null,{"$f":"VLOOKUP(M8941,Adresy!$A$4:$C$156,2,FALSE)","v":"Martin"},{"$f":"VLOOKUP(M8941,Adresy!$A$4:$C$156,3,FALSE)","v":"Kollárova 2"},"M","2016M02",null,null,null,null,null,{"$f":"VLOOKUP(M8941,Adresy!$A$3:$C$154,2,FALSE)","v":"Martin"},{"$f":"VLOOKUP(M8941,Adresy!$A$3:$C$154,3,FALSE)","v":"Kollárova 2"},0,0,0,0]
["operačný stôl","elektromechanický ","elektromechanický operačný stôl","gynekologický držiak bez kĺbu podľa Goepela ",null,null,"MARS 2.03",4544736,null,"TRUMPF","položková cena (súčasť sumárnej ceny)",null,"Univerzitná nemocnica Martin","SR","Nimag spol. s r.o.",31337775,2,1213.26,null,{"$f":"IF(N8966=\"SR\",1,IF(AC8966=\"\",VLOOKUP(AW8966,'CZKEUR Xchange rate'!$D$13:$E$234,2,FALSE),VLOOKUP(AW8966,'CZKEUR Xchange rate'!$A$13:$B$234,2,FALSE)))","v":1},1213.26,0,606.63,null,{"$f":"VLOOKUP(AW8966,'Cenové indexy '!$D$7:$E$200,2,FALSE)","v":100.83},{"$f":"W8966/Y8966*'Cenové indexy '!$E$149","v":620.46763760785484},744.56116512942583,2016,"02","02","2016-02-02","Áno","Áno","neurčené","Nie ",null,"24 mesiacov ","neurčené","24 hodín ","Zmluva 134_NF",null,null,null,null,null,{"$f":"VLOOKUP(M8966,Adresy!$A$4:$C$156,2,FALSE)","v":"Martin"},{"$f":"VLOOKUP(M8966,Adresy!$A$4:$C$156,3,FALSE)","v":"Kollárova 2"},"M","2016M02",null,null,null,null,null,{"$f":"VLOOKUP(M8966,Adresy!$A$3:$C$154,2,FALSE)","v":"Martin"},{"$f":"VLOOKUP(M8966,Adresy!$A$3:$C$154,3,FALSE)","v":"Kollárova 2"},0,0,0,0]
["operačný stôl",null,0,"výškové nastavenie ","440 mm ",null,"neurčené","neurčené",null,"neurčené","bez položkovej identifikácie ceny (v rámci sumárnej ceny)",null,"Univerzitná nemocnica Martin","SR","Surgitech s. r. o.",50197975,null,null,null,{"$f":"IF(N8981=\"SR\",1,IF(AC8981=\"\",VLOOKUP(AW8981,'CZKEUR Xchange rate'!$D$13:$E$234,2,FALSE),VLOOKUP(AW8981,'CZKEUR Xchange rate'!$A$13:$B$234,2,FALSE)))","v":1},0,0,null,null,{"$f":"VLOOKUP(AW8981,'Cenové indexy '!$D$7:$E$200,2,FALSE)","v":103.65},{"$f":"W8981/Y8981*'Cenové indexy '!$E$149","v":0},0,2017,"04","27","2017-04-27","Áno","Áno","neurčené","Nie ",null,"24 mesiacov ","neurčené","24 hodín ","Zmluva 135_NF",null,null,null,null,null,{"$f":"VLOOKUP(M8981,Adresy!$A$4:$C$156,2,FALSE)","v":"Martin"},{"$f":"VLOOKUP(M8981,Adresy!$A$4:$C$156,3,FALSE)","v":"Kollárova 2"},"M","2017M04",null,null,null,null,null,{"$f":"VLOOKUP(M8981,Adresy!$A$3:$C$154,2,FALSE)","v":"Martin"},{"$f":"VLOOKUP(M8981,Adresy!$A$3:$C$154,3,FALSE)","v":"Kollárova 2"},0,0,0,0]
["urologické pracovisko s laserom pre litotripsiu",null,"DICOM 3.0 Level 1",null,null,null,"Sonolith I-Sys ",null,null,"neurčené","bez položkovej identifikácie ceny (v rámci sumárnej ceny)",null,"Nemocnice České Budějovice, a.s.","ČR","MEDKONSULT",47679522,null,null,null,{"$f":"IF(N9013=\"SR\",1,IF(AC9013=\"\",VLOOKUP(AW9013,'CZKEUR Xchange rate'!$D$13:$E$234,2,FALSE),VLOOKUP(AW9013,'CZKEUR Xchange rate'!$A$13:$B$234,2,FALSE)))","v":27.021000000000001},0,0,null,null,{"$f":"VLOOKUP(AW9013,'Cenové indexy '!$D$7:$E$200,2,FALSE)","v":106.29},{"$f":"W9013/Y9013*'Cenové indexy '!$E$149","v":0},0,2017,"02","13","2017-02-13","Áno","Áno","neurčené","Nie",null,"24 mesiacov ","8 rokov ","48 hodín ","Zmluva 137_NF",null,null,null,null,null,{"$f":"VLOOKUP(M9013,Adresy!$A$4:$C$156,2,FALSE)","v":"České Budějovice "},{"$f":"VLOOKUP(M9013,Adresy!$A$4:$C$156,3,FALSE)","v":"B. Němcové 54"},"M","2017M02",null,null,null,null,null,{"$f":"VLOOKUP(M9013,Adresy!$A$3:$C$154,2,FALSE)","v":"České Budějovice "},{"$f":"VLOOKUP(M9013,Adresy!$A$3:$C$154,3,FALSE)","v":"B. Němcové 54"},0,0,0,0]
["RTG","digitálny skiagrafický systém","skiaskopický RTG prístroj s C-ramenom",null,null,null,"Cios Connect",14443449,null,"Siemens","bez položkovej identifikácie ceny (v rámci sumárnej ceny)",null,"Nemocnice Šternberk","ČR","Siemens Healthcare s.r.o.","04179960",1,null,null,{"$f":"IF(N9034=\"SR\",1,IF(AC9034=\"\",VLOOKUP(AW9034,'CZKEUR Xchange rate'!$D$13:$E$234,2,FALSE),VLOOKUP(AW9034,'CZKEUR Xchange rate'!$A$13:$B$234,2,FALSE)))","v":27.021999999999998},0,0,null,null,{"$f":"VLOOKUP(AW9034,'Cenové indexy '!$D$7:$E$200,2,FALSE)","v":101.84},{"$f":"W9034/Y9034*'Cenové indexy '!$E$149","v":0},0,2016,"09","05","2016-09-05","Áno","Áno","Neurčené","Nie",null,"24 mesiacov","10 rokov","48 hodín ","Zmluva 139_NF",null,null,null,null,null,{"$f":"VLOOKUP(M9034,Adresy!$A$4:$C$156,2,FALSE)","v":"Šternberk"},{"$f":"VLOOKUP(M9034,Adresy!$A$4:$C$156,3,FALSE)","v":"Jivavaská 20"},"M","2016M09",null,null,null,null,null,{"$f":"VLOOKUP(M9034,Adresy!$A$3:$C$154,2,FALSE)","v":"Šternberk"},{"$f":"VLOOKUP(M9034,Adresy!$A$3:$C$154,3,FALSE)","v":"Jivavaská 20"},0,0,0,0]
["RTG","digitálny skiagrafický systém","RTG prístroj s C-ramenom","ľahko ovládateľný",null,null,"Cios Connect",null,null,"Siemens","bez položkovej identifikácie ceny (v rámci sumárnej ceny)",null,"Nemocnice s poliklinikou Karviná","ČR","První chráněná dílna",28685521,1,null,null,{"$f":"IF(N9049=\"SR\",1,IF(AC9049=\"\",VLOOKUP(AW9049,'CZKEUR Xchange rate'!$D$13:$E$234,2,FALSE),VLOOKUP(AW9049,'CZKEUR Xchange rate'!$A$13:$B$234,2,FALSE)))","v":27.030999999999999},0,0,null,null,{"$f":"VLOOKUP(AW9049,'Cenové indexy '!$D$7:$E$200,2,FALSE)","v":103.31},{"$f":"W9049/Y9049*'Cenové indexy '!$E$149","v":0},0,2016,"12","15","2016-12-15","Áno","Áno","Neurčené","Nie",null,"36 mesiacov","neurčené","48 hodín ","Zmluva 140_NF",null,null,null,null,null,{"$f":"VLOOKUP(M9049,Adresy!$A$4:$C$156,2,FALSE)","v":"Karviná"},{"$f":"VLOOKUP(M9049,Adresy!$A$4:$C$156,3,FALSE)","v":"Vydmuchov 399/5"},"M","2016M12",null,null,null,null,null,{"$f":"VLOOKUP(M9049,Adresy!$A$3:$C$154,2,FALSE)","v":"Karviná"},{"$f":"VLOOKUP(M9049,Adresy!$A$3:$C$154,3,FALSE)","v":"Vydmuchov 399/5"},0,0,0,0]
["RTG","digitálny skiagrafický systém","DICOM 3.0",null,null,null,"Cios Connect",null,null,"Siemens","bez položkovej identifikácie ceny (v rámci sumárnej ceny)",null,"Nemocnice s poliklinikou Karviná","ČR","První chráněná dílna",28685521,1,null,null,{"$f":"IF(N9065=\"SR\",1,IF(AC9065=\"\",VLOOKUP(AW9065,'CZKEUR Xchange rate'!$D$13:$E$234,2,FALSE),VLOOKUP(AW9065,'CZKEUR Xchange rate'!$A$13:$B$234,2,FALSE)))","v":27.030999999999999},0,0,null,null,{"$f":"VLOOKUP(AW9065,'Cenové indexy '!$D$7:$E$200,2,FALSE)","v":103.31},{"$f":"W9065/Y9065*'Cenové indexy '!$E$149","v":0},0,2016,"12","15","2016-12-15","Áno","Áno","Neurčené","Nie",null,"36 mesiacov","neurčené","48 hodín ","Zmluva 140_NF",null,null,null,null,null,{"$f":"VLOOKUP(M9065,Adresy!$A$4:$C$156,2,FALSE)","v":"Karviná"},{"$f":"VLOOKUP(M9065,Adresy!$A$4:$C$156,3,FALSE)","v":"Vydmuchov 399/5"},"M","2016M12",null,null,null,null,null,{"$f":"VLOOKUP(M9065,Adresy!$A$3:$C$154,2,FALSE)","v":"Karviná"},{"$f":"VLOOKUP(M9065,Adresy!$A$3:$C$154,3,FALSE)","v":"Vydmuchov 399/5"},0,0,0,0]
["operačná lampa",null,"stropná operačná lampa","kamera s ovládacou jednotkou ",null,1809276," iLED 3/3K ","TrueVidia 3D 5000",null,"TRUMPF","položková cena (súčasť sumárnej ceny)",null,"Univerzitná nemocnica Martin","SR","Nimag spol. s r.o.",31337775,1,28222,null,{"$f":"IF(N9086=\"SR\",1,IF(AC9086=\"\",VLOOKUP(AW9086,'CZKEUR Xchange rate'!$D$13:$E$234,2,FALSE),VLOOKUP(AW9086,'CZKEUR Xchange rate'!$A$13:$B$234,2,FALSE)))","v":1},28222,0,28222,null,{"$f":"VLOOKUP(AW9086,'Cenové indexy '!$D$7:$E$200,2,FALSE)","v":101.86},{"$f":"W9086/Y9086*'Cenové indexy '!$E$149","v":28573.874533673668},34288.649440408401,2016,"08","05","2016-08-05","Áno","Áno","neurčené","Nie ",null,"24 mesiacov ","neurčené","24 hodín ","Zmluva 141_NF ",null,"16 % zľava ",null,null,null,{"$f":"VLOOKUP(M9086,Adresy!$A$4:$C$156,2,FALSE)","v":"Martin"},{"$f":"VLOOKUP(M9086,Adresy!$A$4:$C$156,3,FALSE)","v":"Kollárova 2"},"M","2016M08",null,null,null,null,null,{"$f":"VLOOKUP(M9086,Adresy!$A$3:$C$154,2,FALSE)","v":"Martin"},{"$f":"VLOOKUP(M9086,Adresy!$A$3:$C$154,3,FALSE)","v":"Kollárova 2"},0,0,0,0]
["endoskopické zostavy","gastroendoskopická výbava","celá zostava",null,null,null,"neurčené","neurčené",null,"neurčené","sumárna cena","HW","Nemocnica Košice-Šaca a.s. 1. súkromná nemocnica","SR","Perfect Distribution a. s.",null,1,146833.32999999999,176200,{"$f":"IF(N9117=\"SR\",1,IF(AC9117=\"\",VLOOKUP(AW9117,'CZKEUR Xchange rate'!$D$13:$E$234,2,FALSE),VLOOKUP(AW9117,'CZKEUR Xchange rate'!$A$13:$B$234,2,FALSE)))","v":1},146833.32999999999,176200,146833.32999999999,176200,{"$f":"VLOOKUP(AW9117,'Cenové indexy '!$D$7:$E$200,2,FALSE)","v":100.14},{"$f":"W9117/Y9117*'Cenové indexy '!$E$149","v":151217.50871679647},181461.01046015575,2015,"11",null,"2015-10-31","Áno","Áno","ERDF","Nie","24 mesiacov zadarmo, potom (?)",null,null,null,"Zmluva 5_AT","x",null,null,null,null,{"$f":"VLOOKUP(M9117,Adresy!$A$4:$C$156,2,FALSE)","v":"Košice"},{"$f":"VLOOKUP(M9117,Adresy!$A$4:$C$156,3,FALSE)","v":"Košice-Šaca"},"M","2015M11",null,null,null,null,null,"Košice","Košice-Šaca",0,0,0,0]
["endoskopické zostavy","gastroendoskopická výbava","pracovná stanica / endoskopický vozík",null,null,null,"neurčené","WM-NP2","Hepatologicko-gastroenterologické oddelenie","Olympus","položková cena (súčasť sumárnej ceny)","HW","Fakultná nemocnica s poliklinikou F. D. Roosevelta Banská Bystrica","SR","ULTRAMED s.r.o.",null,1,6986.9833333333327,8384.3799999999992,{"$f":"IF(N9137=\"SR\",1,IF(AC9137=\"\",VLOOKUP(AW9137,'CZKEUR Xchange rate'!$D$13:$E$234,2,FALSE),VLOOKUP(AW9137,'CZKEUR Xchange rate'!$A$13:$B$234,2,FALSE)))","v":1},6986.9833333333327,8384.3799999999992,6986.9833333333327,8384.3799999999992,{"$f":"VLOOKUP(AW9137,'Cenové indexy '!$D$7:$E$200,2,FALSE)","v":99.75},{"$f":"W9137/Y9137*'Cenové indexy '!$E$149","v":7223.7352497911443},8668.482299749372,2015,"04",null,"2015-03-31","Áno","Áno","Neurčené","Nie","24 mesiacov zadarmo, potom (?)",null,null,null,"Zmluva 15_MS",null,null,null,null,null,{"$f":"VLOOKUP(M9137,Adresy!$A$4:$C$156,2,FALSE)","v":"Banská Bystrica"},{"$f":"VLOOKUP(M9137,Adresy!$A$4:$C$156,3,FALSE)","v":"Námestie Ludvíka Svobodu 6818/4"},"M","2015M04",null,null,null,null,null,"Banská Bystrica","Námestie Ludvíka Svobodu 6818/4",0,0,0,0]
["endoskopické zostavy","gastroendoskopická výbava","elektrochirurgická jednotka",null,null,null,"Olympus EVIS EXERA III","bez informácií","Gastroenterologická ambulancia","Olympus","bez položkovej identifikácie ceny (v rámci sumárnej ceny)","HW","Nemocnica s poliklinikou Myjava","SR","ULTRAMED s.r.o.",null,1,null,null,{"$f":"IF(N9158=\"SR\",1,IF(AC9158=\"\",VLOOKUP(AW9158,'CZKEUR Xchange rate'!$D$13:$E$234,2,FALSE),VLOOKUP(AW9158,'CZKEUR Xchange rate'!$A$13:$B$234,2,FALSE)))","v":1},0,0,null,null,{"$f":"VLOOKUP(AW9158,'Cenové indexy '!$D$7:$E$200,2,FALSE)","v":98.82},{"$f":"W9158/Y9158*'Cenové indexy '!$E$149","v":0},0,2013,"08",null,"2013-07-31","Áno","Áno","Neurčené","Nie","24 mesiacov zadarmo, potom (?)",null,null,null,"Zmluva 17_MS",null,null,null,null,null,{"$f":"VLOOKUP(M9158,Adresy!$A$4:$C$156,2,FALSE)","v":"Myjava"},{"$f":"VLOOKUP(M9158,Adresy!$A$4:$C$156,3,FALSE)","v":"Staromyjavská 59"},"M","2013M08",null,null,null,null,null,"Myjava","Staromyjavská 59",0,0,0,0]
["endoskopické zostavy","gastroendoskopická výbava","celá zostava",null,null,null,"Olympus EVIS EXERA 165","","Gastroenterologická ambulancia","Olympus","sumárna cena","HW","Nemocnica s poliklinikou Považská Bystrica","SR","ULTRAMED s.r.o.",null,1,68213.8,81840,{"$f":"IF(N9164=\"SR\",1,IF(AC9164=\"\",VLOOKUP(AW9164,'CZKEUR Xchange rate'!$D$13:$E$234,2,FALSE),VLOOKUP(AW9164,'CZKEUR Xchange rate'!$A$13:$B$234,2,FALSE)))","v":1},68213.8,81840,68213.8,81840,{"$f":"VLOOKUP(AW9164,'Cenové indexy '!$D$7:$E$200,2,FALSE)","v":96.86},{"$f":"W9164/Y9164*'Cenové indexy '!$E$149","v":72629.456886227548},87155.348263473061,2012,"05",null,"2012-04-30","Áno","Áno","Neurčené","Nie","24 mesiacov zadarmo, potom (?)",null,null,null,"Zmluva 18_MS",null,null,null,null,null,{"$f":"VLOOKUP(M9164,Adresy!$A$4:$C$156,2,FALSE)","v":"Považská Bystrica"},{"$f":"VLOOKUP(M9164,Adresy!$A$4:$C$156,3,FALSE)","v":"Nemocničná"},"M","2012M05",null,null,null,null,null,"Považská Bystrica","Nemocničná",0,0,0,0]
["endoskopické zostavy","gastroendoskopická výbava","elektrochirurgická jednotka",null,null,null,"neurčené","ERBOTOM ICC 200",null,"Olympus","položková cena (súčasť sumárnej ceny)","HW","Fakultná nemocnica s poliklinikou J.A.Reimana Prešov","SR","",null,1,11162.2,13394.64,{"$f":"IF(N9185=\"SR\",1,IF(AC9185=\"\",VLOOKUP(AW9185,'CZKEUR Xchange rate'!$D$13:$E$234,2,FALSE),VLOOKUP(AW9185,'CZKEUR Xchange rate'!$A$13:$B$234,2,FALSE)))","v":1},11162.2,13394.64,11162.2,13394.64,{"$f":"VLOOKUP(AW9185,'Cenové indexy '!$D$7:$E$200,2,FALSE)","v":84.79},{"$f":"W9185/Y9185*'Cenové indexy '!$E$149","v":13576.573723316429},16291.888467979714,2009,"06",null,"2009-05-31","Áno","Áno","Neurčené","Nie","24 mesiacov zadarmo, potom (?)",null,null,null,"Zmluva 20_MS",null,null,null,null,null,{"$f":"VLOOKUP(M9185,Adresy!$A$4:$C$156,2,FALSE)","v":"Prešov"},{"$f":"VLOOKUP(M9185,Adresy!$A$4:$C$156,3,FALSE)","v":"Jána Hollého"},"M","2009M06",null,null,null,null,null,"Prešov","Jána Hollého",0,0,0,0]
["endoskopické zostavy","gastroendoskopická výbava","svetelný zdroj",null,null,null,"neurčené","CLV-190",null,"Olympus","položková cena (súčasť sumárnej ceny)","HW","Fakultná nemocnica Nitra","SR","ULTRAMED s.r.o.",null,1,9390.7750000000015,11268.93,{"$f":"IF(N9210=\"SR\",1,IF(AC9210=\"\",VLOOKUP(AW9210,'CZKEUR Xchange rate'!$D$13:$E$234,2,FALSE),VLOOKUP(AW9210,'CZKEUR Xchange rate'!$A$13:$B$234,2,FALSE)))","v":1},9390.7750000000015,11268.93,9390.7750000000015,11268.93,{"$f":"VLOOKUP(AW9210,'Cenové indexy '!$D$7:$E$200,2,FALSE)","v":100.14},{"$f":"W9210/Y9210*'Cenové indexy '!$E$149","v":9671.1666242260853},11605.399949071301,2015,"11",null,"2015-10-31","Áno","Áno","Neurčené","Nie","24 mesiacov zadarmo, potom (?)",null,null,null,"Zmluva 32_MS",null,null,null,null,null,{"$f":"VLOOKUP(M9210,Adresy!$A$4:$C$156,2,FALSE)","v":"Nitra"},{"$f":"VLOOKUP(M9210,Adresy!$A$4:$C$156,3,FALSE)","v":"Špitálska 6"},"M","2015M11",null,null,null,null,null,"Nitra","Špitálska 6",0,0,0,0]
["endoskopické zostavy","gastroendoskopická výbava","videogastroskop",null,null,null,"neurčené","CF-H185",null,"Olympus","položková cena (súčasť sumárnej ceny)","HW","Nemocnice Tábor","ČR","Olympus Czech Group s.r.o.",null,1,258299.99999999997,312543,{"$f":"IF(N9232=\"SR\",1,IF(AC9232=\"\",VLOOKUP(AW9232,'CZKEUR Xchange rate'!$D$13:$E$234,2,FALSE),VLOOKUP(AW9232,'CZKEUR Xchange rate'!$A$13:$B$234,2,FALSE)))","v":27.443999999999999},9411.8933100131162,11388.390905115873,9291.3669064748192,11242.553956834532,{"$f":"VLOOKUP(AW9232,'Cenové indexy '!$D$7:$E$200,2,FALSE)","v":99.52},{"$f":"W9232/Y9232*'Cenové indexy '!$E$149","v":9628.4030251682889},11554.083630201947,2014,"02",null,"2014-01-31","Áno","Áno","Neurčené","Áno","24 mesiacov zadarmo, potom10 rokov podľa zmluvy",null,null,null,"Zmluva 7_AT",null,"59% zľava",null,null,null,{"$f":"VLOOKUP(M9232,Adresy!$A$4:$C$156,2,FALSE)","v":"Tábor"},{"$f":"VLOOKUP(M9232,Adresy!$A$4:$C$156,3,FALSE)","v":"Kpt. Jaroše 2000"},"M","2014M02",null,null,null,null,null,"Tábor","Kpt. Jaroše 2000",0,0,0,0]
["endoskopické zostavy","gastroendoskopická výbava","káble / hadice / držiaky","kábel k elektrokolagulačnej jednotke pre pripojenie HF inštrumentov",null,null,"Olympus EVIS EXERA III 190","MH-969 A","Gastroenterologické oddelenie","Olympus","položková cena (súčasť sumárnej ceny)","HW","Fakultná nemocnica s poliklinikou J.A.Reimana Prešov","SR","ULTRAMED s.r.o.",null,1,96.865752168034447,116.23890260164133,{"$f":"IF(N9257=\"SR\",1,IF(AC9257=\"\",VLOOKUP(AW9257,'CZKEUR Xchange rate'!$D$13:$E$234,2,FALSE),VLOOKUP(AW9257,'CZKEUR Xchange rate'!$A$13:$B$234,2,FALSE)))","v":1},96.865752168034447,116.23890260164133,96.865752168034447,116.23890260164133,{"$f":"VLOOKUP(AW9257,'Cenové indexy '!$D$7:$E$200,2,FALSE)","v":99.86},{"$f":"W9257/Y9257*'Cenové indexy '!$E$149","v":100.03770299508705},120.04524359410445,2015,"01",null,"2014-12-31","Áno","Áno","Neurčené","Áno","24 mesiacov ",null,null,null,"Zmluva 27_MS",null,"1,15% zľava",null,null,null,{"$f":"VLOOKUP(M9257,Adresy!$A$4:$C$156,2,FALSE)","v":"Prešov"},{"$f":"VLOOKUP(M9257,Adresy!$A$4:$C$156,3,FALSE)","v":"Jána Hollého"},"M","2015M01",null,null,null,null,null,"Prešov","Jána Hollého",0,0,0,0]
["endoskopické zostavy","gastroendoskopická výbava","jednorázové sáčky"," /30 ks. v bal./",null,null,"Olympus EVIS EXERA III 190","bez informácií","Gastroenterologické oddelenie","Olympus","položková cena (súčasť sumárnej ceny)","HW","Fakultná nemocnica s poliklinikou J.A.Reimana Prešov","SR","ULTRAMED s.r.o.",null,5,1339.3172876294559,1607.180745155347,{"$f":"IF(N9262=\"SR\",1,IF(AC9262=\"\",VLOOKUP(AW9262,'CZKEUR Xchange rate'!$D$13:$E$234,2,FALSE),VLOOKUP(AW9262,'CZKEUR Xchange rate'!$A$13:$B$234,2,FALSE)))","v":1},1339.3172876294559,1607.180745155347,267.86345752589119,321.43614903106942,{"$f":"VLOOKUP(AW9262,'Cenové indexy '!$D$7:$E$200,2,FALSE)","v":99.86},{"$f":"W9262/Y9262*'Cenové indexy '!$E$149","v":276.63487256804683},331.96184708165617,2015,"01",null,"2014-12-31","Áno","Áno","Neurčené","Áno","24 mesiacov ",null,null,null,"Zmluva 27_MS",null,"1,15% zľava",null,null,null,{"$f":"VLOOKUP(M9262,Adresy!$A$4:$C$156,2,FALSE)","v":"Prešov"},{"$f":"VLOOKUP(M9262,Adresy!$A$4:$C$156,3,FALSE)","v":"Jána Hollého"},"M","2015M01",null,null,null,null,null,"Prešov","Jána Hollého",0,0,0,0]
["endoskopické zostavy","gastroendoskopická výbava","celá zostava",null,null,null,"Olympus EVIS EXERA III 190",null,null,"Olympus","sumárna cena","HW","Fakultní nemocnice u sv. Anny v Brně","ČR","Olympus Czech Group s.r.o.",null,1,1730000,2093300,{"$f":"IF(N9283=\"SR\",1,IF(AC9283=\"\",VLOOKUP(AW9283,'CZKEUR Xchange rate'!$D$13:$E$234,2,FALSE),VLOOKUP(AW9283,'CZKEUR Xchange rate'!$A$13:$B$234,2,FALSE)))","v":27.484999999999999},62943.423685646718,76161.542659632527,62156.433011173787,75209.283943520291,{"$f":"VLOOKUP(AW9283,'Cenové indexy '!$D$7:$E$200,2,FALSE)","v":99.41},{"$f":"W9283/Y9283*'Cenové indexy '!$E$149","v":64482.37537916057},77378.850454992687,2014,"01",null,"2013-12-31","Áno","Áno","ERDF","Nie","24 mesiacov ",null,null,null,"Zmluva 29_MS",null,"18,1% zľava",null,null,null,{"$f":"VLOOKUP(M9283,Adresy!$A$4:$C$156,2,FALSE)","v":"Brno"},{"$f":"VLOOKUP(M9283,Adresy!$A$4:$C$156,3,FALSE)","v":"Pekařská 53"},"M",{"$f":"IF(AC9283=\"\",CONCATENATE(AB9283,AV9283,\"06\"),IF(LEN(AC9283)=1,CONCATENATE(AB9283,AV9283,\"0\"&AC9283),CONCATENATE(AB9283,AV9283,AC9283)))","v":"2014M01"},null,null,null,null,null,"Brno","Pekařská 53",0,0,0,0]
["endoskopické zostavy","gastroendoskopická výbava","káble / hadice / držiaky","vysokotlaková hadica pre UCR C02",null,null,"neurčené","MAJ-1081",null,"Olympus","položková cena (bez sumárnej ceny)","HW","Fakultní nemocnice Ostrava","ČR","Olympus Czech Group s.r.o.",null,1,8621.4393143286252,10431.941570337636,{"$f":"IF(N9309=\"SR\",1,IF(AC9309=\"\",VLOOKUP(AW9309,'CZKEUR Xchange rate'!$D$13:$E$234,2,FALSE),VLOOKUP(AW9309,'CZKEUR Xchange rate'!$A$13:$B$234,2,FALSE)))","v":27.105},318.07560650539108,384.8714838715232,318.3222313664387,385.16989995339082,{"$f":"VLOOKUP(AW9309,'Cenové indexy '!$D$7:$E$200,2,FALSE)","v":100.07},{"$f":"W9309/Y9309*'Cenové indexy '!$E$149","v":328.05607795364068},393.66729354436882,2015,"10",null,"2015-09-30","Áno","Áno","ERDF","Nie","24 mesiacov ",null,null,null,"Zmluva 31_MS",null,"35,9% zľava",null,null,null,{"$f":"VLOOKUP(M9309,Adresy!$A$4:$C$156,2,FALSE)","v":"Ostrava"},{"$f":"VLOOKUP(M9309,Adresy!$A$4:$C$156,3,FALSE)","v":"17. listopadu"},"M","2015M10",null,null,null,null,null,"Ostrava","17. listopadu",0,0,0,0]
["endoskopické zostavy","gastroendoskopická výbava","videoprocesor",null,null,null,"Olympus EVIS EXERA III 190","CV-190",null,"Olympus","položková cena (súčasť sumárnej ceny)","HW","Nemocnice TGM Hodonín, p.o.","ČR","Olympus Czech Group s.r.o.",null,1,267143.83858013677,323244.04468196549,{"$f":"IF(N9334=\"SR\",1,IF(AC9334=\"\",VLOOKUP(AW9334,'CZKEUR Xchange rate'!$D$13:$E$234,2,FALSE),VLOOKUP(AW9334,'CZKEUR Xchange rate'!$A$13:$B$234,2,FALSE)))","v":27.039000000000001},9879.9452117362616,11954.733706200876,9885.4291955349599,11961.369326597302,{"$f":"VLOOKUP(AW9334,'Cenové indexy '!$D$7:$E$200,2,FALSE)","v":100.14},{"$f":"W9334/Y9334*'Cenové indexy '!$E$149","v":10180.590302931099},12216.708363517319,2015,"11",null,"2015-10-31","Áno","Áno","neurčené","Nie","24 mesiacov",null,null,null,"Zmluva  51_MS",null,"41% zlava",null,null,null,{"$f":"VLOOKUP(M9334,Adresy!$A$4:$C$156,2,FALSE)","v":"Hodonín"},{"$f":"VLOOKUP(M9334,Adresy!$A$4:$C$156,3,FALSE)","v":"Purkyňova 2731/11"},"M","2015M11",null,null,null,null,null,"Hodonín","Purkyňova 2731/11",0,0,0,0]
["endoskopické zostavy","gastroendoskopická výbava","káble / hadice / držiaky","pre C02 tlakovú flašku",null,null,"Olympus EVIS EXERA III 190","MAJ-1614",null,"Olympus","položková cena (súčasť sumárnej ceny)","HW","Nemocnice TGM Hodonín, p.o.","ČR","Olympus Czech Group s.r.o.",null,1,2884.559803690855,3490.3173624659344,{"$f":"IF(N9351=\"SR\",1,IF(AC9351=\"\",VLOOKUP(AW9351,'CZKEUR Xchange rate'!$D$13:$E$234,2,FALSE),VLOOKUP(AW9351,'CZKEUR Xchange rate'!$A$13:$B$234,2,FALSE)))","v":27.039000000000001},106.68145285294777,129.0845579520668,106.74066769134306,129.15620790652511,{"$f":"VLOOKUP(AW9351,'Cenové indexy '!$D$7:$E$200,2,FALSE)","v":100.14},{"$f":"W9351/Y9351*'Cenové indexy '!$E$149","v":109.92775173764937},131.91330208517925,2015,"11",null,"2015-10-31","Áno","Áno","neurčené","Nie","24 mesiacov",null,null,null,"Zmluva  51_MS",null,"41% zlava",null,null,null,{"$f":"VLOOKUP(M9351,Adresy!$A$4:$C$156,2,FALSE)","v":"Hodonín"},{"$f":"VLOOKUP(M9351,Adresy!$A$4:$C$156,3,FALSE)","v":"Purkyňova 2731/11"},"M","2015M11",null,null,null,null,null,"Hodonín","Purkyňova 2731/11",0,0,0,0]
["endoskopické zostavy","laparoskopická zostava","uretro-renoskop",null,null,null,"neurčené","FLEX-X C",null,"Karl STORZ","položková cena (bez sumárnej ceny)","HW","Fakultná nemocnica s poliklinikou F. D. Roosevelta Banská Bystrica","SR","RADIX spol. s r.o.",null,1,21822,26186.399999999998,{"$f":"IF(N9381=\"SR\",1,IF(AC9381=\"\",VLOOKUP(AW9381,'CZKEUR Xchange rate'!$D$13:$E$234,2,FALSE),VLOOKUP(AW9381,'CZKEUR Xchange rate'!$A$13:$B$234,2,FALSE)))","v":1},21822,26186.399999999998,21822,26186.399999999998,{"$f":"VLOOKUP(AW9381,'Cenové indexy '!$D$7:$E$200,2,FALSE)","v":98.57},{"$f":"W9381/Y9381*'Cenové indexy '!$E$149","v":22831.519326367052},27397.823191640462,2013,"06",null,"2013-05-31","Áno","Áno","neurčené","Áno","24 mesiacov",null,null,null,"Zmluva 53_MS",null,null,null,null,null,{"$f":"VLOOKUP(M9381,Adresy!$A$4:$C$156,2,FALSE)","v":"Banská Bystrica"},{"$f":"VLOOKUP(M9381,Adresy!$A$4:$C$156,3,FALSE)","v":"Námestie Ludvíka Svobodu 6818/4"},"M","2013M06",null,null,null,null,null,"Banská Bystrica","Námestie Ludvíka Svobodu 6818/4",0,0,0,0]
["endoskopické zostavy","laparoskopická zostava","monitor",null,"24 palcov, HD",null,"HD laparoskop","bez informácií",null,"Karl STORZ","položková cena (súčasť sumárnej ceny)","HW","Univerzita Komenského v Bratislave","SR","RADIX spol. s r.o.",null,1,6407.6,7689.12,{"$f":"IF(N9386=\"SR\",1,IF(AC9386=\"\",VLOOKUP(AW9386,'CZKEUR Xchange rate'!$D$13:$E$234,2,FALSE),VLOOKUP(AW9386,'CZKEUR Xchange rate'!$A$13:$B$234,2,FALSE)))","v":1},6407.6,7689.12,6407.6,7689.12,{"$f":"VLOOKUP(AW9386,'Cenové indexy '!$D$7:$E$200,2,FALSE)","v":89.42},{"$f":"W9386/Y9386*'Cenové indexy '!$E$149","v":7390.022232162828},8868.0266785953936,2011,"05",null,"2011-04-30","Áno","Áno","neurčené","Áno","24 mesiacov",null,null,null,"Zmluva 54_MS",null,null,null,null,null,{"$f":"VLOOKUP(M9386,Adresy!$A$4:$C$156,2,FALSE)","v":"Bratislava"},{"$f":"VLOOKUP(M9386,Adresy!$A$4:$C$156,3,FALSE)","v":"Vajanského nábrežie"},"M","2011M05",null,null,null,null,null,"Bratislava","Vajanského nábrežie",0,0,0,0]
["endoskopické zostavy","laparoskopická zostava","pracovná stanica / endoskopický vozík","úzky",null,null,"HD laparoskop",null,"chirurgické oddelenie","Aesculap","položková cena (súčasť sumárnej ceny)","HW","Fakultná nemocnica Trenčín","SR","Med Partners a.s.",null,1,5214.72,6257.6639999999998,{"$f":"IF(N9407=\"SR\",1,IF(AC9407=\"\",VLOOKUP(AW9407,'CZKEUR Xchange rate'!$D$13:$E$234,2,FALSE),VLOOKUP(AW9407,'CZKEUR Xchange rate'!$A$13:$B$234,2,FALSE)))","v":1},5214.72,6257.6639999999998,5214.72,6257.6639999999998,{"$f":"VLOOKUP(AW9407,'Cenové indexy '!$D$7:$E$200,2,FALSE)","v":100.07},{"$f":"W9407/Y9407*'Cenové indexy '!$E$149","v":5374.1788108324172},6449.0145729989008,2015,"10",null,"2015-09-30","Áno","Áno","ERDF","Áno","24 mesiacov",null,null,null,"Zmluva 55_MS",null,null,null,null,null,{"$f":"VLOOKUP(M9407,Adresy!$A$4:$C$156,2,FALSE)","v":"Trenčín"},{"$f":"VLOOKUP(M9407,Adresy!$A$4:$C$156,3,FALSE)","v":"Legionárska 594/2"},"M","2015M10",null,null,null,null,null,"Trenčín","Legionárska 594/2",0,0,0,0]
["endoskopické zostavy","laparoskopická zostava","Tablet",null,null,null,"HD laparoskop",null,"chirurgické oddelenie","Aesculap","položková cena (súčasť sumárnej ceny)","HW","Fakultná nemocnica Trenčín","SR","Med Partners a.s.",null,4,5016,6019.2,{"$f":"IF(N9433=\"SR\",1,IF(AC9433=\"\",VLOOKUP(AW9433,'CZKEUR Xchange rate'!$D$13:$E$234,2,FALSE),VLOOKUP(AW9433,'CZKEUR Xchange rate'!$A$13:$B$234,2,FALSE)))","v":1},5016,6019.2,1254,1504.8,{"$f":"VLOOKUP(AW9433,'Cenové indexy '!$D$7:$E$200,2,FALSE)","v":100.07},{"$f":"W9433/Y9433*'Cenové indexy '!$E$149","v":1292.3455581093235},1550.8146697311881,2015,"10",null,"2015-09-30","Áno","Áno","ERDF","Áno","24 mesiacov",null,null,null,"Zmluva 55_MS",null,null,null,null,null,{"$f":"VLOOKUP(M9433,Adresy!$A$4:$C$156,2,FALSE)","v":"Trenčín"},{"$f":"VLOOKUP(M9433,Adresy!$A$4:$C$156,3,FALSE)","v":"Legionárska 594/2"},"M","2015M10",null,null,null,null,null,"Trenčín","Legionárska 594/2",0,0,0,0]
["endoskopické zostavy","laparoskopická zostava","zobrazovací procesor - klávesnica",null,null,null,"HD laparoskop ","MAJ-1922",null,"Olympus","položková cena (súčasť sumárnej ceny)","HW","Nemocnica Poprad, a. s.","SR","ULTRAMED s.r.o.",null,1,1447,1736.3999999999999,{"$f":"IF(N9454=\"SR\",1,IF(AC9454=\"\",VLOOKUP(AW9454,'CZKEUR Xchange rate'!$D$13:$E$234,2,FALSE),VLOOKUP(AW9454,'CZKEUR Xchange rate'!$A$13:$B$234,2,FALSE)))","v":1},1447,1736.3999999999999,1447,1736.3999999999999,{"$f":"VLOOKUP(AW9454,'Cenové indexy '!$D$7:$E$200,2,FALSE)","v":100.71},{"$f":"W9454/Y9454*'Cenové indexy '!$E$149","v":1481.7705292423791},1778.1246350908548,2016,"01",null,"2015-12-31","Áno","Áno","neurčené","Nie","24 mesiacov",null,null,null,"Zmluva 58_MS",null,null,null,null,null,{"$f":"VLOOKUP(M9454,Adresy!$A$4:$C$156,2,FALSE)","v":"Poprad"},{"$f":"VLOOKUP(M9454,Adresy!$A$4:$C$156,3,FALSE)","v":"Banícka"},"M","2016M01",null,null,null,null,null,"Poprad","Banícka",0,0,0,0]
["endoskopické zostavy","laparoskopická zostava","monitor",null,"32 palcov, 3D",null,"3D laparoskopická veža","bez informácií","pre gynekológiu","Karl STORZ","položková cena (súčasť sumárnej ceny)","HW","Masarykova nemocnice v Ústí nad Labem, o.z.","ČR","RADIX CZ s.r.o.",null,1,220599,266924.78999999998,{"$f":"IF(N9479=\"SR\",1,IF(AC9479=\"\",VLOOKUP(AW9479,'CZKEUR Xchange rate'!$D$13:$E$234,2,FALSE),VLOOKUP(AW9479,'CZKEUR Xchange rate'!$A$13:$B$234,2,FALSE)))","v":27.105},8138.6828998339788,9847.806308799114,8137.7822045152725,9846.7164674634787,{"$f":"VLOOKUP(AW9479,'Cenové indexy '!$D$7:$E$200,2,FALSE)","v":100.07},{"$f":"W9479/Y9479*'Cenové indexy '!$E$149","v":8386.6241506111728},10063.948980733407,2015,"10",null,"2015-09-30","Áno","Áno","ERDF","Áno","36 mesiacov ",null,null,null,"Zmluva 59_MS",null,null,null,null,null,{"$f":"VLOOKUP(M9479,Adresy!$A$4:$C$156,2,FALSE)","v":"Ústí nad Labem"},{"$f":"VLOOKUP(M9479,Adresy!$A$4:$C$156,3,FALSE)","v":"Sociální péčer 12A"},"M","2015M10",null,null,null,null,null,"Ústí nad Labem","Sociální péčer 12A",0,0,0,0]
["endoskopické zostavy","laparoskopická zostava","káble / hadice / držiaky","držiak pre UNIMAT",null,null,"3D laparoskopická veža","bez informácií","pre gynekológiu","Karl STORZ","položková cena (súčasť sumárnej ceny)","HW","Masarykova nemocnice v Ústí nad Labem, o.z.","ČR","RADIX CZ s.r.o.",null,1,3476,4205.96,{"$f":"IF(N9501=\"SR\",1,IF(AC9501=\"\",VLOOKUP(AW9501,'CZKEUR Xchange rate'!$D$13:$E$234,2,FALSE),VLOOKUP(AW9501,'CZKEUR Xchange rate'!$A$13:$B$234,2,FALSE)))","v":27.105},128.24202176720163,155.17284633831397,128.22782942304855,155.15567360188874,{"$f":"VLOOKUP(AW9501,'Cenové indexy '!$D$7:$E$200,2,FALSE)","v":100.07},{"$f":"W9501/Y9501*'Cenové indexy '!$E$149","v":132.14885628459075},158.57862754150889,2015,"10",null,"2015-09-30","Áno","Áno","ERDF","Áno","36 mesiacov ",null,null,null,"Zmluva 59_MS",null,null,null,null,null,{"$f":"VLOOKUP(M9501,Adresy!$A$4:$C$156,2,FALSE)","v":"Ústí nad Labem"},{"$f":"VLOOKUP(M9501,Adresy!$A$4:$C$156,3,FALSE)","v":"Sociální péčer 12A"},"M","2015M10",null,null,null,null,null,"Ústí nad Labem","Sociální péčer 12A",0,0,0,0]
["endoskopické zostavy","laparoskopická zostava","káble / hadice / držiaky",null,null,null,"3D laparoskopická veža","bez informácií",null,"Aesculap","položková cena (súčasť sumárnej ceny)","HW","Fakultní nemocnice u sv. Anny v Brně","ČR","B. Braun medical s.r.o.",null,1,8029.52,9715.7191999999995,{"$f":"IF(N9506=\"SR\",1,IF(AC9506=\"\",VLOOKUP(AW9506,'CZKEUR Xchange rate'!$D$13:$E$234,2,FALSE),VLOOKUP(AW9506,'CZKEUR Xchange rate'!$A$13:$B$234,2,FALSE)))","v":27.484999999999999},292.14189557940699,353.49169365108241,292.95195008938674,354.4718596081579,{"$f":"VLOOKUP(AW9506,'Cenové indexy '!$D$7:$E$200,2,FALSE)","v":99.41},{"$f":"W9506/Y9506*'Cenové indexy '!$E$149","v":303.91444133103766},364.69732959724519,2014,"01",null,"2013-12-31","Áno","Áno","neurčené","Nie","60 mesiacov",null,null,null,"Zmluva 60_MS",null,null,null,null,null,{"$f":"VLOOKUP(M9506,Adresy!$A$4:$C$156,2,FALSE)","v":"Brno"},{"$f":"VLOOKUP(M9506,Adresy!$A$4:$C$156,3,FALSE)","v":"Pekařská 53"},"M","2014M01",null,null,null,null,null,"Brno","Pekařská 53",0,0,0,0]
["endoskopické zostavy","gastroendoskopická výbava","celá zostava",null,null,null,"Olympus EVIS EXERA III 190",null,"gastroenterológia","Olympus","sumárna cena","HW","Masarykova nemocnice v Ústí nad Labem, o.z.","ČR","COMMEDITECH s.r.o",null,1,9099000,11009790,{"$f":"IF(N9531=\"SR\",1,IF(AC9531=\"\",VLOOKUP(AW9531,'CZKEUR Xchange rate'!$D$13:$E$234,2,FALSE),VLOOKUP(AW9531,'CZKEUR Xchange rate'!$A$13:$B$234,2,FALSE)))","v":27.895},326187.48879727552,394686.86144470336,336725.63096735993,407438.01347050554,{"$f":"VLOOKUP(AW9531,'Cenové indexy '!$D$7:$E$200,2,FALSE)","v":99.86},{"$f":"W9531/Y9531*'Cenové indexy '!$E$149","v":347751.99601105374},417302.39521326445,2015,"01",null,"2014-12-31","Áno","Áno","ERDF","Áno","36 mesiacov ",null,null,null,"Zmluva 61_MS",null,null,null,null,null,{"$f":"VLOOKUP(M9531,Adresy!$A$4:$C$156,2,FALSE)","v":"Ústí nad Labem"},{"$f":"VLOOKUP(M9531,Adresy!$A$4:$C$156,3,FALSE)","v":"Sociální péčer 12A"},"M","2015M01",null,null,null,null,null,"Ústí nad Labem","Sociální péčer 12A",0,0,0,0]
["endoskopické zostavy","bronchoskopická výbava","svetelný zdroj",null,null,null,"Olympus EVIS EXERA III 190","CLV-190","plúcne oddelenie","Olympus","položková cena (súčasť sumárnej ceny)","HW","Masarykova nemocnice v Ústí nad Labem, o.z.","ČR","COMMEDITECH s.r.o",null,1,193184.74,233753.53539999999,{"$f":"IF(N9548=\"SR\",1,IF(AC9548=\"\",VLOOKUP(AW9548,'CZKEUR Xchange rate'!$D$13:$E$234,2,FALSE),VLOOKUP(AW9548,'CZKEUR Xchange rate'!$A$13:$B$234,2,FALSE)))","v":27.895},6925.4253450439146,8379.7646675031374,7149.1651247131967,8650.4898009029675,{"$f":"VLOOKUP(AW9548,'Cenové indexy '!$D$7:$E$200,2,FALSE)","v":99.86},{"$f":"W9548/Y9548*'Cenové indexy '!$E$149","v":7383.2705719174037},8859.9246863008848,2015,"01",null,"2014-12-31","Áno","Áno","ERDF","Áno","36 mesiacov ",null,null,null,"Zmluva 61_MS",null,null,null,null,null,{"$f":"VLOOKUP(M9548,Adresy!$A$4:$C$156,2,FALSE)","v":"Ústí nad Labem"},{"$f":"VLOOKUP(M9548,Adresy!$A$4:$C$156,3,FALSE)","v":"Sociální péčer 12A"},"M","2015M01",null,null,null,null,null,"Ústí nad Labem","Sociální péčer 12A",0,0,0,0]
["endoskopické zostavy","gastroendoskopická výbava","videoprocesor",null,null,null,"Olympus EVIS EXERA III 190","CV-190","interné oddelenie","Olympus","položková cena (súčasť sumárnej ceny)","HW","Nemocnice Chomutov, o.z.","ČR","COMMEDITECH s.r.o",null,1,330218.36,399564.2156,{"$f":"IF(N9578=\"SR\",1,IF(AC9578=\"\",VLOOKUP(AW9578,'CZKEUR Xchange rate'!$D$13:$E$234,2,FALSE),VLOOKUP(AW9578,'CZKEUR Xchange rate'!$A$13:$B$234,2,FALSE)))","v":27.895},11837.905000896217,14323.865051084424,12220.352305528828,14786.626289689882,{"$f":"VLOOKUP(AW9578,'Cenové indexy '!$D$7:$E$200,2,FALSE)","v":99.86},{"$f":"W9578/Y9578*'Cenové indexy '!$E$149","v":12620.518057973042},15144.62166956765,2015,"01",null,"2014-12-31","Áno","Áno","ERDF","Áno","36 mesiacov ",null,null,null,"Zmluva 61_MS",null,null,null,null,null,{"$f":"VLOOKUP(M9578,Adresy!$A$4:$C$156,2,FALSE)","v":"Chomutov"},{"$f":"VLOOKUP(M9578,Adresy!$A$4:$C$156,3,FALSE)","v":"Kochova 1185"},"M","2015M01",null,null,null,null,null,"Chomutov","Kochova 1185",0,0,0,0]
["endoskopické zostavy","laparoskopická zostava","elektróda",null,null,null,"HD laparoskop ",null,"traumatologické oddelenie","Olympus","položková cena (súčasť sumárnej ceny)","HW","Masarykova nemocnice v Ústí nad Labem, o.z.","ČR","Olympus Czech Group s.r.o.",null,1,3773.9817986720982,4566.5179763932383,{"$f":"IF(N9603=\"SR\",1,IF(AC9603=\"\",VLOOKUP(AW9603,'CZKEUR Xchange rate'!$D$13:$E$234,2,FALSE),VLOOKUP(AW9603,'CZKEUR Xchange rate'!$A$13:$B$234,2,FALSE)))","v":27.105},139.23563175325947,168.47511442144395,139.34873532001987,168.61196973722403,{"$f":"VLOOKUP(AW9603,'Cenové indexy '!$D$7:$E$200,2,FALSE)","v":100.07},{"$f":"W9603/Y9603*'Cenové indexy '!$E$149","v":143.60982385883531},172.33178863060238,2015,"10",null,"2015-09-30","Áno","Áno","ERDF","Áno","36 mesiacov ",null,null,null,"Zmluva 62_MS",null,"42% zľava",null,null,null,{"$f":"VLOOKUP(M9603,Adresy!$A$4:$C$156,2,FALSE)","v":"Ústí nad Labem"},{"$f":"VLOOKUP(M9603,Adresy!$A$4:$C$156,3,FALSE)","v":"Sociální péčer 12A"},"M",{"$f":"IF(AC9603=\"\",CONCATENATE(AB9603,AV9603,\"06\"),IF(LEN(AC9603)=1,CONCATENATE(AB9603,AV9603,\"0\"&AC9603),CONCATENATE(AB9603,AV9603,AC9603)))","v":"2015M10"},null,null,null,null,null,"Ústí nad Labem","Sociální péčer 12A",0,0,0,0]
["endoskopické zostavy","laparoskopická zostava","káble / hadice / držiaky",null,null,null,"3D laparoskopická veža","MAJ-1081",null,"Olympus","položková cena (súčasť sumárnej ceny)","HW","Institut klinické a experimentální medicíny","ČR","Olympus Czech Group s.r.o.",null,1,13430,16250.3,{"$f":"IF(N9620=\"SR\",1,IF(AC9620=\"\",VLOOKUP(AW9620,'CZKEUR Xchange rate'!$D$13:$E$234,2,FALSE),VLOOKUP(AW9620,'CZKEUR Xchange rate'!$A$13:$B$234,2,FALSE)))","v":27.039000000000001},496.68996634490918,600.99485927734008,496.96566015393722,601.32844878626406,{"$f":"VLOOKUP(AW9620,'Cenové indexy '!$D$7:$E$200,2,FALSE)","v":100.14},{"$f":"W9620/Y9620*'Cenové indexy '!$E$149","v":511.80415949346462},614.1649913921575,2015,"11",null,"2015-10-31","Áno","Áno","neurčené","Nie","24 mesiacov",null,null,null,"Zmluva 64_MS",null,null,null,null,null,{"$f":"VLOOKUP(M9620,Adresy!$A$4:$C$156,2,FALSE)","v":"Praha"},{"$f":"VLOOKUP(M9620,Adresy!$A$4:$C$156,3,FALSE)","v":"Vídeňská 1959/9"},"M","2015M11",null,null,null,null,null,"Praha","Vídeňská 1959/9",0,0,0,0]
["endoskopické zostavy","laparoskopická zostava","odsávacia pumpa",null,null,null,"3D laparoskopická veža","KV-6",null,"Olympus","položková cena (súčasť sumárnej ceny)","HW","Institut klinické a experimentální medicíny","ČR","Olympus Czech Group s.r.o.",null,1,90000,108900,{"$f":"IF(N9630=\"SR\",1,IF(AC9630=\"\",VLOOKUP(AW9630,'CZKEUR Xchange rate'!$D$13:$E$234,2,FALSE),VLOOKUP(AW9630,'CZKEUR Xchange rate'!$A$13:$B$234,2,FALSE)))","v":27.039000000000001},3328.5254632197934,4027.5158104959501,3330.3730017761986,4029.7513321492006,{"$f":"VLOOKUP(AW9630,'Cenové indexy '!$D$7:$E$200,2,FALSE)","v":100.14},{"$f":"W9630/Y9630*'Cenové indexy '!$E$149","v":3429.8119400157711},4115.7743280189252,2015,"11",null,"2015-10-31","Áno","Áno","neurčené","Nie","24 mesiacov",null,null,null,"Zmluva 64_MS",null,null,null,null,null,{"$f":"VLOOKUP(M9630,Adresy!$A$4:$C$156,2,FALSE)","v":"Praha"},{"$f":"VLOOKUP(M9630,Adresy!$A$4:$C$156,3,FALSE)","v":"Vídeňská 1959/9"},"M","2015M11",null,null,null,null,null,"Praha","Vídeňská 1959/9",0,0,0,0]
["endoskopické zostavy","laparoskopická zostava","zobrazovací procesor - kamerová jednotka",null,null,null,"3D laparoskopická veža","Einsteinvision","chirurgické oddelenie","Aesculap","bez položkovej identifikácie ceny (v rámci sumárnej ceny)","HW","Nemocnice Chomutov, o.z.","ČR","B. Braun medical s.r.o.",null,1,null,null,{"$f":"IF(N9655=\"SR\",1,IF(AC9655=\"\",VLOOKUP(AW9655,'CZKEUR Xchange rate'!$D$13:$E$234,2,FALSE),VLOOKUP(AW9655,'CZKEUR Xchange rate'!$A$13:$B$234,2,FALSE)))","v":27.105},0,0,null,null,{"$f":"VLOOKUP(AW9655,'Cenové indexy '!$D$7:$E$200,2,FALSE)","v":100.07},{"$f":"W9655/Y9655*'Cenové indexy '!$E$149","v":0},0,2015,"10",null,"2015-09-30","Áno","Áno","ERDF","Áno","36 mesiacov ",null,null,null,"Zmluva 66_MS",null,null,null,null,null,{"$f":"VLOOKUP(M9655,Adresy!$A$4:$C$156,2,FALSE)","v":"Chomutov"},{"$f":"VLOOKUP(M9655,Adresy!$A$4:$C$156,3,FALSE)","v":"Kochova 1185"},"M","2015M10",null,null,null,null,null,"Chomutov","Kochova 1185",0,0,0,0]
["endoskopické zostavy","laparoskopická zostava","zobrazovací procesor - prepájací modul",null,null,null,"3D laparoskopická veža","IMAGE1 D3-LINK","chirurgické oddelenie","Karl Storz","položková cena (súčasť sumárnej ceny)","HW","Nemocnice Děčín","ČR","RADIX CZ s.r.o.",null,1,174922,211655.62,{"$f":"IF(N9688=\"SR\",1,IF(AC9688=\"\",VLOOKUP(AW9688,'CZKEUR Xchange rate'!$D$13:$E$234,2,FALSE),VLOOKUP(AW9688,'CZKEUR Xchange rate'!$A$13:$B$234,2,FALSE)))","v":27.039000000000001},6469.2481230814747,7827.7902289285839,6469.2481230814747,7827.7902289285839,{"$f":"VLOOKUP(AW9688,'Cenové indexy '!$D$7:$E$200,2,FALSE)","v":100.14},{"$f":"W9688/Y9688*'Cenové indexy '!$E$149","v":6662.4082178289646},7994.8898613947567,2015,"11",null,"2015-10-31","Áno","Áno","ERDF","Áno","36 mesiacov ",null,null,null,"Zmluva 68_MS",null,null,null,null,null,{"$f":"VLOOKUP(M9688,Adresy!$A$4:$C$156,2,FALSE)","v":"Dečín"},{"$f":"VLOOKUP(M9688,Adresy!$A$4:$C$156,3,FALSE)","v":"U Nemocnice 604/1"},"M","2015M11",null,null,null,null,null,"Dečín","U Nemocnice 604/1",0,0,0,0]
["endoskopické zostavy","laparoskopická zostava","odsávacia pumpa",null,null,null,"3D laparoskopická veža","UNIMAT 30","chirurgické oddelenie","Karl Storz","položková cena (súčasť sumárnej ceny)","HW","Nemocnice Děčín","ČR","RADIX CZ s.r.o.",null,1,45636,55219.56,{"$f":"IF(N9702=\"SR\",1,IF(AC9702=\"\",VLOOKUP(AW9702,'CZKEUR Xchange rate'!$D$13:$E$234,2,FALSE),VLOOKUP(AW9702,'CZKEUR Xchange rate'!$A$13:$B$234,2,FALSE)))","v":27.039000000000001},1687.7843115499832,2042.2190169754797,1687.7843115499832,2042.2190169754797,{"$f":"VLOOKUP(AW9702,'Cenové indexy '!$D$7:$E$200,2,FALSE)","v":100.14},{"$f":"W9702/Y9702*'Cenové indexy '!$E$149","v":1738.1785105866763},2085.8142127040114,2015,"11",null,"2015-10-31","Áno","Áno","ERDF","Áno","36 mesiacov ",null,null,null,"Zmluva 68_MS",null,null,null,null,null,{"$f":"VLOOKUP(M9702,Adresy!$A$4:$C$156,2,FALSE)","v":"Dečín"},{"$f":"VLOOKUP(M9702,Adresy!$A$4:$C$156,3,FALSE)","v":"U Nemocnice 604/1"},"M","2015M11",null,null,null,null,null,"Dečín","U Nemocnice 604/1",0,0,0,0]
["endoskopické zostavy","laparoskopická zostava","sterilizačný kontajner kamerovej hlavy","drátený ôš pre čistenie a uchovávanie endoskopu",null,null,"3D laparoskopická veža",null,null,"Karl Storz","bez položkovej identifikácie ceny (v rámci sumárnej ceny)","HW","Univerzita Komenského v Bratislave","SR","RADIX spol. s r.o.",null,2,null,null,{"$f":"IF(N9723=\"SR\",1,IF(AC9723=\"\",VLOOKUP(AW9723,'CZKEUR Xchange rate'!$D$13:$E$234,2,FALSE),VLOOKUP(AW9723,'CZKEUR Xchange rate'!$A$13:$B$234,2,FALSE)))","v":1},0,0,null,null,{"$f":"VLOOKUP(AW9723,'Cenové indexy '!$D$7:$E$200,2,FALSE)","v":99.94},{"$f":"W9723/Y9723*'Cenové indexy '!$E$149","v":0},0,2014,"10",null,"2014-09-30","Áno","Áno","Vlastné prostriedky univerzity","Áno","24 mesiacov",null,null,null,"Zmluva 14_MS",null,null,null,null,null,{"$f":"VLOOKUP(M9723,Adresy!$A$4:$C$156,2,FALSE)","v":"Bratislava"},{"$f":"VLOOKUP(M9723,Adresy!$A$4:$C$156,3,FALSE)","v":"Vajanského nábrežie"},"M","2014M10",null,null,null,null,null,"Bratislava","Vajanského nábrežie",0,0,0,0]
["endoskopické zostavy","laparoskopická zostava","zobrazovací procesor - kamerová jednotka",null,null,null,"HD laparoskop","Image 1 H3-Z full HD",null,"Karl Storz","bez položkovej identifikácie ceny (v rámci sumárnej ceny)","HW","Fakultná nemocnica Trnava","SR","RADIX spol. s r.o.","00 615 803",1,null,null,{"$f":"IF(N9735=\"SR\",1,IF(AC9735=\"\",VLOOKUP(AW9735,'CZKEUR Xchange rate'!$D$13:$E$234,2,FALSE),VLOOKUP(AW9735,'CZKEUR Xchange rate'!$A$13:$B$234,2,FALSE)))","v":1},0,0,null,null,{"$f":"VLOOKUP(AW9735,'Cenové indexy '!$D$7:$E$200,2,FALSE)","v":99.5},{"$f":"W9735/Y9735*'Cenové indexy '!$E$149","v":0},0,2014,"06","01","2014-06-01","Áno","Áno","Neurčené","Nie","24 mesiacov",null,null,null,"Zmluva 3_BB",null,null,null,null,null,{"$f":"VLOOKUP(M9735,Adresy!$A$4:$C$156,2,FALSE)","v":"Trnava"},{"$f":"VLOOKUP(M9735,Adresy!$A$4:$C$156,3,FALSE)","v":"Andreja Žarnova 11"},"M","2014M06",null,null,null,null,null,"Trnava","Andreja Žarnova 11",0,0,0,0]
["endoskopické zostavy","laparoskopická zostava","inštrumentárium","Palica a preparačná elektróda","veľkosť 5, tvar L",null,"HD laparoskop",null,null,"Karl Storz","bez položkovej identifikácie ceny (v rámci sumárnej ceny)","HW","Fakultná nemocnica Trnava","SR","RADIX spol. s r.o.","00 615 803",1,null,null,{"$f":"IF(N9754=\"SR\",1,IF(AC9754=\"\",VLOOKUP(AW9754,'CZKEUR Xchange rate'!$D$13:$E$234,2,FALSE),VLOOKUP(AW9754,'CZKEUR Xchange rate'!$A$13:$B$234,2,FALSE)))","v":1},0,0,null,null,{"$f":"VLOOKUP(AW9754,'Cenové indexy '!$D$7:$E$200,2,FALSE)","v":99.5},{"$f":"W9754/Y9754*'Cenové indexy '!$E$149","v":0},0,2014,"06","01","2014-06-01","Áno","Áno","Neurčené","Nie","24 mesiacov",null,null,null,"Zmluva 3_BB",null,null,null,null,null,{"$f":"VLOOKUP(M9754,Adresy!$A$4:$C$156,2,FALSE)","v":"Trnava"},{"$f":"VLOOKUP(M9754,Adresy!$A$4:$C$156,3,FALSE)","v":"Andreja Žarnova 11"},"M","2014M06",null,null,null,null,null,"Trnava","Andreja Žarnova 11",0,0,0,0]
["endoskopické zostavy","laparoskopická zostava","elektrochirurgická jednotka",null,null,null,"HD laparoskop",null,null,"Aesculap","položková cena (súčasť sumárnej ceny)","HW","Fakultná nemocnica s poliklinikou Nové Zámky","SR","Med Partners a.s.","00 44 851 740",1,19023.939999999999,22828.727999999999,{"$f":"IF(N9775=\"SR\",1,IF(AC9775=\"\",VLOOKUP(AW9775,'CZKEUR Xchange rate'!$D$13:$E$234,2,FALSE),VLOOKUP(AW9775,'CZKEUR Xchange rate'!$A$13:$B$234,2,FALSE)))","v":1},19023.939999999999,22828.727999999999,19023.939999999999,22828.727999999999,{"$f":"VLOOKUP(AW9775,'Cenové indexy '!$D$7:$E$200,2,FALSE)","v":100.29},{"$f":"W9775/Y9775*'Cenové indexy '!$E$149","v":19562.657614916738},23475.189137900084,2015,"12","09","2015-12-09","Áno","Áno","Neurčené","Nie","24 mesiacov",null,null,null,"Zmluva 4_BB",null,null,null,null,null,{"$f":"VLOOKUP(M9775,Adresy!$A$4:$C$156,2,FALSE)","v":"Nové Zámky"},{"$f":"VLOOKUP(M9775,Adresy!$A$4:$C$156,3,FALSE)","v":"Slovenská 11"},"M","2015M12",null,null,null,null,null,"Nové Zámky","Slovenská 11",0,0,0,0]
["endoskopické zostavy","laparoskopická zostava","oplachová pumpa",null,null,null,"HD laparoskop","ECOPUMP",null,"Olympus","položková cena (súčasť sumárnej ceny)","HW","Karlovarská krajská  nemocnice a.s","ČR","Olympus Czech Group s.r.o.","270 686 41",1,33018.085205846604,39951.883099074388,{"$f":"IF(N9803=\"SR\",1,IF(AC9803=\"\",VLOOKUP(AW9803,'CZKEUR Xchange rate'!$D$13:$E$234,2,FALSE),VLOOKUP(AW9803,'CZKEUR Xchange rate'!$A$13:$B$234,2,FALSE)))","v":27.588000000000001},1196.8277949052706,1448.1616318353772,14959.38618171087,18100.857279870153,{"$f":"VLOOKUP(AW9803,'Cenové indexy '!$D$7:$E$200,2,FALSE)","v":99.94},{"$f":"W9803/Y9803*'Cenové indexy '!$E$149","v":15436.877095455693},18524.252514546832,2014,"10","11","2014-10-11","Áno","Áno","ERDF","Áno","24 mesiacov",null,null,null,"Zmluva 5_BB",null,"45% zľava",null,null,null,{"$f":"VLOOKUP(M9803,Adresy!$A$4:$C$156,2,FALSE)","v":"Karlovy Vary"},{"$f":"VLOOKUP(M9803,Adresy!$A$4:$C$156,3,FALSE)","v":"Bezručova 1190/19"},"M","2014M10",null,null,null,null,null,"Karlovy Vary","Bezručova 1190/19",0,0,0,0]
["endoskopické zostavy","laparoskopická zostava","pracovná stanica / endoskopický vozík",null,null,null,"3D laparoskopická veža",null,null,"Aesculap","položková cena (súčasť sumárnej ceny)","HW","Fakultní nemocnice Brno","ČR","B. Braun medical s.r.o.",31350780,1,191847.06,230216.47199999998,{"$f":"IF(N9826=\"SR\",1,IF(AC9826=\"\",VLOOKUP(AW9826,'CZKEUR Xchange rate'!$D$13:$E$234,2,FALSE),VLOOKUP(AW9826,'CZKEUR Xchange rate'!$A$13:$B$234,2,FALSE)))","v":27.039000000000001},7095.1980472650612,8514.2376567180727,7095.1980472650612,8514.2376567180727,{"$f":"VLOOKUP(AW9826,'Cenové indexy '!$D$7:$E$200,2,FALSE)","v":100.14},{"$f":"W9826/Y9826*'Cenové indexy '!$E$149","v":7307.0478791136975},8768.457454936437,2015,11,25,"2015-11-25","Áno","Áno","Neurčené","Nie","24 mesiacov",null,null,null,"Zmluva 6_BB",null,null,null,null,null,{"$f":"VLOOKUP(M9826,Adresy!$A$4:$C$156,2,FALSE)","v":"Brno"},{"$f":"VLOOKUP(M9826,Adresy!$A$4:$C$156,3,FALSE)","v":"Jihlavská 340/20"},"M","2015M11",null,null,null,null,null,"Brno","Jihlavská 340/20",0,0,0,0]
["endoskopické zostavy","gastroendoskopická výbava","videobronchoskop",null,null,null,"Olympus EVIS EXERA III","BF-1T180",null,"Olympus","položková cena (súčasť sumárnej ceny)","HW","Fakultná nemocnica s poliklinikou F. D. Roosevelta Banská Bystrica","SR","ULTRAMED s.r.o.",null,1,29298.959999999999,35158.752,{"$f":"IF(N9847=\"SR\",1,IF(AC9847=\"\",VLOOKUP(AW9847,'CZKEUR Xchange rate'!$D$13:$E$234,2,FALSE),VLOOKUP(AW9847,'CZKEUR Xchange rate'!$A$13:$B$234,2,FALSE)))","v":1},29298.959999999999,35158.752,29298.959999999999,35158.752,{"$f":"VLOOKUP(AW9847,'Cenové indexy '!$D$7:$E$200,2,FALSE)","v":99.42},{"$f":"W9847/Y9847*'Cenové indexy '!$E$149","v":30392.29274592637},36470.751295111644,2014,"05","12","2014-05-12","Áno","Áno","18 mesačných splátok","Nie",null,"24 mesiacov","96 mesiacov (dodatočne spoplatnené)","24 / 72 hodín","Zmluva 2_UM",null,null,null,null,null,{"$f":"VLOOKUP(M9847,Adresy!$A$4:$C$156,2,FALSE)","v":"Banská Bystrica"},{"$f":"VLOOKUP(M9847,Adresy!$A$4:$C$156,3,FALSE)","v":"Námestie Ludvíka Svobodu 6818/4"},"M","2014M05",null,null,null,null,null,"Banská Bystrica","Námestie Ludvíka Svobodu 6818/4",0,0,0,0]
["endoskopické zostavy","laparoskopická zostava","príslušenstvo k elektrochirurg.jednotke",null,null,null,"HD laparoskopická veža",null,null,"Gimmi","položková cena (súčasť sumárnej ceny)",null,"Masarykova nemocnice v Ústí nad Labem, o.z.","ČR","COMMEDITECH s.r.o",24165841,1,{"$f":"30630.61+10114+11050+30056.01+9854","v":91704.62},null,{"$f":"IF(N9871=\"SR\",1,IF(AC9871=\"\",VLOOKUP(AW9871,'CZKEUR Xchange rate'!$D$13:$E$234,2,FALSE),VLOOKUP(AW9871,'CZKEUR Xchange rate'!$A$13:$B$234,2,FALSE)))","v":27.088999999999999},3385.3084277751118,0,3385.3084277751118,0,{"$f":"VLOOKUP(AW9871,'Cenové indexy '!$D$7:$E$200,2,FALSE)","v":100.14},{"$f":"W9871/Y9871*'Cenové indexy '!$E$149","v":3486.3876388700546},4183.6651666440657,2015,"09","03","2015-09-03","Áno","Áno","EFRR","Áno",null,"36 mesiacov","neurčené","24 hodín","Zmluva 244_AT",null,null,null,null,null,{"$f":"VLOOKUP(M9871,Adresy!$A$4:$C$156,2,FALSE)","v":"Ústí nad Labem"},{"$f":"VLOOKUP(M9871,Adresy!$A$4:$C$156,3,FALSE)","v":"Sociální péčer 12A"},"M","2015M09",null,null,null,null,null,"Ústí nad Labem","Sociální péčer 12A",0,0,0,0]
["endoskopické zostavy","laparoskopická zostava","oplachová pumpa",null,null,null,"HD laparoskopická veža","ALPHAPURGATOR",null,"Gimmi","položková cena (súčasť sumárnej ceny)",null,"Masarykova nemocnice v Ústí nad Labem, o.z.","ČR","COMMEDITECH s.r.o",24165841,2,63723.41,null,{"$f":"IF(N9874=\"SR\",1,IF(AC9874=\"\",VLOOKUP(AW9874,'CZKEUR Xchange rate'!$D$13:$E$234,2,FALSE),VLOOKUP(AW9874,'CZKEUR Xchange rate'!$A$13:$B$234,2,FALSE)))","v":27.088999999999999},2352.3721805899077,0,1176.1860902949538,0,{"$f":"VLOOKUP(AW9874,'Cenové indexy '!$D$7:$E$200,2,FALSE)","v":100.14},{"$f":"W9874/Y9874*'Cenové indexy '!$E$149","v":1211.3048880778767},1453.565865693452,2015,"09","03","2015-09-03","Áno","Áno","EFRR","Áno",null,"36 mesiacov","neurčené","24 hodín","Zmluva 244_AT",null,null,null,null,null,{"$f":"VLOOKUP(M9874,Adresy!$A$4:$C$156,2,FALSE)","v":"Ústí nad Labem"},{"$f":"VLOOKUP(M9874,Adresy!$A$4:$C$156,3,FALSE)","v":"Sociální péčer 12A"},"M","2015M09",null,null,null,null,null,"Ústí nad Labem","Sociální péčer 12A",0,0,0,0]
["endoskopické zostavy","laparoskopická zostava","laparoskopická optika",null,null,null,"laparoskopická veža",null,"centrálne operačné sály","Olympus","bez položkovej identifikácie ceny (v rámci sumárnej ceny)",null,"Nemocnice s poliklinikou Karviná","ČR","Olympus Czech Group s.r.o.","270 686 41",null,null,null,{"$f":"IF(N9899=\"SR\",1,IF(AC9899=\"\",VLOOKUP(AW9899,'CZKEUR Xchange rate'!$D$13:$E$234,2,FALSE),VLOOKUP(AW9899,'CZKEUR Xchange rate'!$A$13:$B$234,2,FALSE)))","v":25.888000000000002},0,0,null,null,{"$f":"VLOOKUP(AW9899,'Cenové indexy '!$D$7:$E$200,2,FALSE)","v":98.45},{"$f":"W9899/Y9899*'Cenové indexy '!$E$149","v":0},0,2013,"05","21","2013-05-21","Áno","Áno","Neurčené","Nie",null,"36 mesiacov ","neurčené","72 hodín","Zmluva 236_DG",null,null,null,null,null,{"$f":"VLOOKUP(M9899,Adresy!$A$4:$C$156,2,FALSE)","v":"Karviná"},{"$f":"VLOOKUP(M9899,Adresy!$A$4:$C$156,3,FALSE)","v":"Vydmuchov 399/5"},"M","2013M05",null,null,null,null,null,"Karviná","Vydmuchov 399/5",0,0,0,0]
["endoskopické zostavy",null,"celá zostava",null,null,null,"neurčené",null,null,"","sumárna cena","HW/SW","Nemocnice Teplice","ČR","ENUS MEDICAL s.r.o",25551701,1,6752210,8170174,{"$f":"IF(N9918=\"SR\",1,IF(AC9918=\"\",VLOOKUP(AW9918,'CZKEUR Xchange rate'!$D$13:$E$234,2,FALSE),VLOOKUP(AW9918,'CZKEUR Xchange rate'!$A$13:$B$234,2,FALSE)))","v":27.088999999999999},249260.21632396916,301604.85806046735,{"$f":"U9918/Q9918","v":249260.21632396916},{"$f":"V9918/Q9918","v":301604.85806046735},{"$f":"VLOOKUP(AW9918,'Cenové indexy '!$D$7:$E$200,2,FALSE)","v":100.14},{"$f":"W9918/Y9918*'Cenové indexy '!$E$149","v":256702.67734662411},308043.21281594894,2015,"09","01","2015-09-01","Áno","Áno","EFRR","Áno",null,"36 mesiacov","neurčené","24 hodín","Zmluva 301_AT",null,null,null,null,null,{"$f":"VLOOKUP(M9918,Adresy!$A$4:$C$156,2,FALSE)","v":"Teplice"},{"$f":"VLOOKUP(M9918,Adresy!$A$4:$C$156,3,FALSE)","v":"Duchovská 53"},"M","2015M09",null,null,null,null,null,"Teplice","Duchovská 53",0,0,0,0]
["endoskopické zostavy","gastroendoskopická výbava","videobronchoskop",null,null,null,"EB-1970UK","neurčené",null,"Pentax","bez položkovej identifikácie ceny (v rámci sumárnej ceny)","HW/SW","Fakultní nemocnice Hradec Králové","ČR","Medinet s.r.o.",47538198,null,null,null,{"$f":"IF(N9946=\"SR\",1,IF(AC9946=\"\",VLOOKUP(AW9946,'CZKEUR Xchange rate'!$D$13:$E$234,2,FALSE),VLOOKUP(AW9946,'CZKEUR Xchange rate'!$A$13:$B$234,2,FALSE)))","v":27.379000000000001},0,0,null,null,{"$f":"VLOOKUP(AW9946,'Cenové indexy '!$D$7:$E$200,2,FALSE)","v":100.03},{"$f":"W9946/Y9946*'Cenové indexy '!$E$149","v":0},0,2015,"03","05","2015-03-05","Áno","Áno","Neurčené","Nie",null,"36 mesiacov","neurčené","24 hodín ","Zmluva NF_25",null,"zľava 16,63 % "," ",null,null,{"$f":"VLOOKUP(M9946,Adresy!$A$4:$C$156,2,FALSE)","v":"Hradec Králové"},{"$f":"VLOOKUP(M9946,Adresy!$A$4:$C$156,3,FALSE)","v":"Sokolská 581"},"M","2015M03",null,null,null,null,null,"Hradec Králové","Sokolská 581",0,0,0,0]
["endoskopické zostavy","gastroendoskopická výbava","generátor",null,"300 W",null,"neurčené","The HALO Flex",null,"Pentax","bez položkovej identifikácie ceny (v rámci sumárnej ceny)","HW/SW","Vojenská fakultná nemocnica Praha","ČR","Medinet s.r.o.",47538198,1,null,null,{"$f":"IF(N9971=\"SR\",1,IF(AC9971=\"\",VLOOKUP(AW9971,'CZKEUR Xchange rate'!$D$13:$E$234,2,FALSE),VLOOKUP(AW9971,'CZKEUR Xchange rate'!$A$13:$B$234,2,FALSE)))","v":27.588000000000001},0,0,null,null,{"$f":"VLOOKUP(AW9971,'Cenové indexy '!$D$7:$E$200,2,FALSE)","v":99.94},{"$f":"W9971/Y9971*'Cenové indexy '!$E$149","v":0},0,2014,"10","15","2014-10-15","Áno","Áno","Neurčené","Nie",null,"24 mesiacov","neurčené","48 hodín ","Zmluva NF_27",null,null,null,null,null,{"$f":"VLOOKUP(M9971,Adresy!$A$4:$C$156,2,FALSE)","v":"Praha"},{"$f":"VLOOKUP(M9971,Adresy!$A$4:$C$156,3,FALSE)","v":"U Vojenské nemocnice 1/1200"},"M","2014M10",null,null,null,null,null,"Praha","U Vojenské nemocnice 1/1200",0,0,0,0]
["endoskopické zostavy","hysteroskop","hysteroskop","bipolárny kábel","4 m",null,"neurčené","neurčené",null,"Karl STORZ","bez položkovej identifikácie ceny (v rámci sumárnej ceny)",null,"Klatovská nemocnice","ČR","Radix CZ s.r.o.",26774321,null,null,null,{"$f":"IF(N9986=\"SR\",1,IF(AC9986=\"\",VLOOKUP(AW9986,'CZKEUR Xchange rate'!$D$13:$E$234,2,FALSE),VLOOKUP(AW9986,'CZKEUR Xchange rate'!$A$13:$B$234,2,FALSE)))","v":27.04},0,0,null,null,{"$f":"VLOOKUP(AW9986,'Cenové indexy '!$D$7:$E$200,2,FALSE)","v":100.83},{"$f":"W9986/Y9986*'Cenové indexy '!$E$149","v":0},{"$f":"Z9986*1.2","v":0},2016,"02","12","2016-02-12","Áno","Áno","Neurčené","Nie",null,"24 mesiacov","neurčené","24 hodín","Zmluva 316_AT",null,null,null,null,null,{"$f":"VLOOKUP(M9986,Adresy!$A$4:$C$156,2,FALSE)","v":"Klatov"},{"$f":"VLOOKUP(M9986,Adresy!$A$4:$C$156,3,FALSE)","v":"Plzeňská 929"},"M","2016M02",null,null,null,null,null,"Klatov","Plzeňská 929",{"$f":"IF(BC9986<>AT9986,1,0)","v":0},0,0,0]
["endoskopické zostavy","hysteroskop","hysteroskop","bioptické kliešte","priemer 5 mm","vyšetrovací hysteroskop","neurčené","neurčené",null,"neurčené","bez položkovej identifikácie ceny (v rámci sumárnej ceny)"," ","Nemocnica s poliklinikou Prievidza so sídlom v Bojniciach","SR","RADIX spol. s r.o.","00615803",1,null,null,{"$f":"IF(N9998=\"SR\",1,IF(AC9998=\"\",VLOOKUP(AW9998,'CZKEUR Xchange rate'!$D$13:$E$234,2,FALSE),VLOOKUP(AW9998,'CZKEUR Xchange rate'!$A$13:$B$234,2,FALSE)))","v":1},0,0,null,null,{"$f":"VLOOKUP(AW9998,'Cenové indexy '!$D$7:$E$200,2,FALSE)","v":100.11},{"$f":"W9998/Y9998*'Cenové indexy '!$E$149","v":0},0,2015,"08","06","2015-08-06","Áno","Áno","Neurčené","Nie",null,"neurčené","neurčené","neurčené","Zmluva NF_43",null,null,null,null,null,{"$f":"VLOOKUP(M9998,Adresy!$A$4:$C$156,2,FALSE)","v":"Bojnice"},{"$f":"VLOOKUP(M9998,Adresy!$A$4:$C$156,3,FALSE)","v":"Nemocničná"},"M","2015M08",null,null,null,null,null,"Bojnice","Nemocničná",0,0,0,0]
["endoskopické zostavy","laparoskopická zostava ","bipolárny kábel","vysokofrekvenčný ","300 cm ",null,"Karl Storz ","neurčené","chirurgické oddelenie ","Karl Storz","položková cena (súčasť sumárnej ceny)",null,"Nemocnice Česká Lípa","ČR","RADIX CZ s.r.o.",26774321,1,1666,null,{"$f":"IF(N10023=\"SR\",1,IF(AC10023=\"\",VLOOKUP(AW10023,'CZKEUR Xchange rate'!$D$13:$E$234,2,FALSE),VLOOKUP(AW10023,'CZKEUR Xchange rate'!$A$13:$B$234,2,FALSE)))","v":27.306999999999999},61.009997436554734,0,61.009997436554734,null,{"$f":"VLOOKUP(AW10023,'Cenové indexy '!$D$7:$E$200,2,FALSE)","v":99.88},{"$f":"W10023/Y10023*'Cenové indexy '!$E$149","v":62.99520460184111},75.594245522209334,2015,"06","26","2015-06-26","Áno","Áno","Neurčené","Nie",null,"24 mesiacov ","6 mesiacov ","72 hodín ","Zmluva NF_34",null,null,null,null,null,{"$f":"VLOOKUP(M10023,Adresy!$A$4:$C$156,2,FALSE)","v":"Česká Lípa"},{"$f":"VLOOKUP(M10023,Adresy!$A$4:$C$156,3,FALSE)","v":"Purkyňova 1849"},"M","2015M06",null,null,null,null,null,"Česká Lípa","Purkyňova 1849",0,0,0,0]
["endoskopické zostavy","laparoskopická zostava ","monitor",null,"27 placov Full HD",null,"Karl Storz ","neurčené","chirurgické oddelenie ","Karl Storz","položková cena (súčasť sumárnej ceny)",null,"Nemocnice Česká Lípa","ČR","RADIX CZ s.r.o.",26774321,1,81099.5,null,{"$f":"IF(N10037=\"SR\",1,IF(AC10037=\"\",VLOOKUP(AW10037,'CZKEUR Xchange rate'!$D$13:$E$234,2,FALSE),VLOOKUP(AW10037,'CZKEUR Xchange rate'!$A$13:$B$234,2,FALSE)))","v":27.306999999999999},2969.9161387190097,0,2969.9161387190097,null,{"$f":"VLOOKUP(AW10037,'Cenové indexy '!$D$7:$E$200,2,FALSE)","v":99.88},{"$f":"W10037/Y10037*'Cenové indexy '!$E$149","v":3066.5543791158539},3679.8652549390245,2015,"06","26","2015-06-26","Áno","Áno","Neurčené","Nie",null,"24 mesiacov ","6 mesiacov ","72 hodín ","Zmluva NF_34",null,null,null,null,null,{"$f":"VLOOKUP(M10037,Adresy!$A$4:$C$156,2,FALSE)","v":"Česká Lípa"},{"$f":"VLOOKUP(M10037,Adresy!$A$4:$C$156,3,FALSE)","v":"Purkyňova 1849"},"M","2015M06",null,null,null,null,null,"Česká Lípa","Purkyňova 1849",0,0,0,0]
["endoskopické zostavy","laparoskopická zostava ","Image 1 H3-Link",null,"1920x1080 pixelov",null,"Karl Storz ","neurčené","pre urológiu","Karl Storz","položková cena (súčasť sumárnej ceny)",null,"Nemocnice Česká Lípa","ČR","RADIX CZ s.r.o.",26774321,1,83116,null,{"$f":"IF(N10070=\"SR\",1,IF(AC10070=\"\",VLOOKUP(AW10070,'CZKEUR Xchange rate'!$D$13:$E$234,2,FALSE),VLOOKUP(AW10070,'CZKEUR Xchange rate'!$A$13:$B$234,2,FALSE)))","v":27.306999999999999},3043.7616728311423,0,3043.7616728311423,null,{"$f":"VLOOKUP(AW10070,'Cenové indexy '!$D$7:$E$200,2,FALSE)","v":99.88},{"$f":"W10070/Y10070*'Cenové indexy '!$E$149","v":3142.8027765225843},3771.3633318271009,2015,"06","26","2015-06-26","Áno","Áno","Neurčené","Nie",null,"24 mesiacov ","6 mesiacov ","72 hodín ","Zmluva NF_34",null,null,null,null,null,{"$f":"VLOOKUP(M10070,Adresy!$A$4:$C$156,2,FALSE)","v":"Česká Lípa"},{"$f":"VLOOKUP(M10070,Adresy!$A$4:$C$156,3,FALSE)","v":"Purkyňova 1849"},"M","2015M06",null,null,null,null,null,"Česká Lípa","Purkyňova 1849",0,0,0,0]
["endoskopické zostavy","laparoskopická zostava ","svetlovodný kábel","250 cm ","priemer 4,8 mm",null,"Karl Storz ","neurčené","pre urológiu","Karl Storz","položková cena (súčasť sumárnej ceny)",null,"Nemocnice Česká Lípa","ČR","RADIX CZ s.r.o.",26774321,2,16939,null,{"$f":"IF(N10075=\"SR\",1,IF(AC10075=\"\",VLOOKUP(AW10075,'CZKEUR Xchange rate'!$D$13:$E$234,2,FALSE),VLOOKUP(AW10075,'CZKEUR Xchange rate'!$A$13:$B$234,2,FALSE)))","v":27.306999999999999},620.31713480060057,0,310.15856740030029,null,{"$f":"VLOOKUP(AW10075,'Cenové indexy '!$D$7:$E$200,2,FALSE)","v":99.88},{"$f":"W10075/Y10075*'Cenové indexy '!$E$149","v":320.25083155779907},384.30099786935887,2015,"06","26","2015-06-26","Áno","Áno","Neurčené","Nie",null,"24 mesiacov ","6 mesiacov ","72 hodín ","Zmluva NF_34",null,null,null,null,null,{"$f":"VLOOKUP(M10075,Adresy!$A$4:$C$156,2,FALSE)","v":"Česká Lípa"},{"$f":"VLOOKUP(M10075,Adresy!$A$4:$C$156,3,FALSE)","v":"Purkyňova 1849"},"M","2015M06",null,null,null,null,null,"Česká Lípa","Purkyňova 1849",0,0,0,0]
["endoskopické zostavy","laparoskopická zostava ","elektrochirurgická jednotka - neutrálna elektróda","jednorázová",null,null,"neurčené","MAJ-897",null,"Olympus","položková cena (súčasť sumárnej ceny)",null,"Nemocnica Poprad, a. s.","SR","ULTRAMED s.r.o.",36638404,1,89.862399999999994,null,{"$f":"IF(N10105=\"SR\",1,IF(AC10105=\"\",VLOOKUP(AW10105,'CZKEUR Xchange rate'!$D$13:$E$234,2,FALSE),VLOOKUP(AW10105,'CZKEUR Xchange rate'!$A$13:$B$234,2,FALSE)))","v":1},89.862399999999994,0,89.862399999999994,null,{"$f":"VLOOKUP(AW10105,'Cenové indexy '!$D$7:$E$200,2,FALSE)","v":100.71},{"$f":"W10105/Y10105*'Cenové indexy '!$E$149","v":92.021738774699628},110.42608652963955,2016,"01","04","2016-01-04","Áno","Áno","Neurčené","Nie",null,"24 mesiacov","neurčené","neurčené","Zmluva 68_NF",null,null,null,null,null,{"$f":"VLOOKUP(M10105,Adresy!$A$4:$C$156,2,FALSE)","v":"Poprad"},{"$f":"VLOOKUP(M10105,Adresy!$A$4:$C$156,3,FALSE)","v":"Banícka"},"M","2016M01",null,null,null,null,null,"Poprad","Banícka",0,0,0,0]
["endoskopické zostavy","laparoskopická zostava ","endoskopický vozík","s izolačným transformátorom ",null,null,"neurčené","WM-NP2",null,"Olympus","bez položkovej identifikácie ceny (v rámci sumárnej ceny)",null,"Nemocnice Znojmo","ČR","Olympus Czech Group s.r.o.",27068641,null,null,null,{"$f":"IF(N10122=\"SR\",1,IF(AC10122=\"\",VLOOKUP(AW10122,'CZKEUR Xchange rate'!$D$13:$E$234,2,FALSE),VLOOKUP(AW10122,'CZKEUR Xchange rate'!$A$13:$B$234,2,FALSE)))","v":27.050999999999998},0,0,null,null,{"$f":"VLOOKUP(AW10122,'Cenové indexy '!$D$7:$E$200,2,FALSE)","v":101.08},{"$f":"W10122/Y10122*'Cenové indexy '!$E$149","v":0},0,2016,"03","17","2016-03-17","Áno","Áno","neurčené","Nie",null,"24 mesiacov ","neurčené","neurčené","Zmluva 75_NF",null,null,null,null,null,{"$f":"VLOOKUP(M10122,Adresy!$A$4:$C$156,2,FALSE)","v":" Znojmo"},{"$f":"VLOOKUP(M10122,Adresy!$A$4:$C$156,3,FALSE)","v":"MUDr. Jana Janského 2675/11"},"M","2016M03",null,null,null,null,null," Znojmo","MUDr. Jana Janského 2675/11",0,0,0,0]
["endoskopické zostavy",null,"monitor",null,"26 palcov, LCD",null,"neurčené","NDS Radiance G LED",null,"neurčené","položková cena (súčasť sumárnej ceny)",null,"Oblastní nemocnice Kolín, a.s.","ČR","Suppmed s.r.o.",24170675,2,330000,399300,{"$f":"IF(N10143=\"SR\",1,IF(AC10143=\"\",VLOOKUP(AW10143,'CZKEUR Xchange rate'!$D$13:$E$234,2,FALSE),VLOOKUP(AW10143,'CZKEUR Xchange rate'!$A$13:$B$234,2,FALSE)))","v":27.094000000000001},12179.818409980069,14737.580276075883,6089.9092049900346,7368.7901380379417,{"$f":"VLOOKUP(AW10143,'Cenové indexy '!$D$7:$E$200,2,FALSE)","v":99.95},{"$f":"W10143/Y10143*'Cenové indexy '!$E$149","v":6283.665195704074},7540.3982348448881,2015,"07","20","2015-07-20","Áno","Áno","neurčené","Nie",null,"36 mesiacov","neurčené","48 hodín ","Zmluva 78_NF",null,null,null,null,null,{"$f":"VLOOKUP(M10143,Adresy!$A$4:$C$156,2,FALSE)","v":"Kolín"},{"$f":"VLOOKUP(M10143,Adresy!$A$4:$C$156,3,FALSE)","v":"Žižkova 146"},"M","2015M07",null,null,null,null,null,"Kolín","Žižkova 146",0,0,0,0]
["endoskopické zostavy","videoendoskopická zostava","monitor",null,"24 palcov, LCD",null,"EVIS EXERA III","LMD-2451MD/HD",null,"Olympus","položková cena (súčasť sumárnej ceny)",null,"Fakultná nemocnica s poliklinikou Nové Zámky","SR","ULTRAMED s.r.o.",36638404,2,11558.56,null,{"$f":"IF(N10173=\"SR\",1,IF(AC10173=\"\",VLOOKUP(AW10173,'CZKEUR Xchange rate'!$D$13:$E$234,2,FALSE),VLOOKUP(AW10173,'CZKEUR Xchange rate'!$A$13:$B$234,2,FALSE)))","v":1},11558.56,0,5779.28,null,{"$f":"VLOOKUP(AW10173,'Cenové indexy '!$D$7:$E$200,2,FALSE)","v":{"$error":"#N/A"}},{"$f":"W10173/Y10173*'Cenové indexy '!$E$149","v":{"$error":"#N/A"}},{"$error":"#N/A"},2016,"22","12","2016-12-22","Áno","Áno","4 splátky ","Nie",null,"24 mesiacov","7 rokov ","48 hodín ","Zmluva 83_NF",null,null,null,null,null,{"$f":"VLOOKUP(M10173,Adresy!$A$4:$C$156,2,FALSE)","v":"Nové Zámky"},{"$f":"VLOOKUP(M10173,Adresy!$A$4:$C$156,3,FALSE)","v":"Slovenská 11"},"M","2016M22",null,null,null,null,null,"Nové Zámky","Slovenská 11",0,0,0,0]
["endoskopické zostavy","gastroendoskopická výbava","videogastroskop","dĺžka ","1350-1400 mm",null,"EVIS EXERA III","GIF-H185",null,"Olympus","položková cena (súčasť sumárnej ceny)",null,"Fakultná nemocnica Trenčín","SR","ULTRAMED s.r.o.",36638404,1,21923.09,26307.707999999999,{"$f":"IF(N10194=\"SR\",1,IF(AC10194=\"\",VLOOKUP(AW10194,'CZKEUR Xchange rate'!$D$13:$E$234,2,FALSE),VLOOKUP(AW10194,'CZKEUR Xchange rate'!$A$13:$B$234,2,FALSE)))","v":1},21923.09,26307.707999999999,21923.09,26307.707999999999,{"$f":"VLOOKUP(AW10194,'Cenové indexy '!$D$7:$E$200,2,FALSE)","v":103.31},{"$f":"W10194/Y10194*'Cenové indexy '!$E$149","v":21884.89276643113},26261.871319717357,2016,"12","07","2016-12-07","Áno","Áno","kapitálové výdavky štátneho rozpočtu","Nie",null,"24 mesiacov","neurčené","24 hodín","Zmluva 96_NF",null,null,null,null,null,{"$f":"VLOOKUP(M10194,Adresy!$A$4:$C$156,2,FALSE)","v":"Trenčín"},{"$f":"VLOOKUP(M10194,Adresy!$A$4:$C$156,3,FALSE)","v":"Legionárska 594/2"},"M","2016M12",null,null,null,null,null,"Trenčín","Legionárska 594/2",0,0,0,0]
["endoskopické zostavy","laparoskopická zostava ","infúzny stojan",null,null,null,"EVIS EXERA ","MAJ-1642",null,"Olympus","položková cena (súčasť sumárnej ceny)",null,"Nemocnica Poprad, a. s.","SR","ULTRAMED s.r.o.",36638404,1,326.38919999999996,null,{"$f":"IF(N10215=\"SR\",1,IF(AC10215=\"\",VLOOKUP(AW10215,'CZKEUR Xchange rate'!$D$13:$E$234,2,FALSE),VLOOKUP(AW10215,'CZKEUR Xchange rate'!$A$13:$B$234,2,FALSE)))","v":1},326.38919999999996,0,326.38919999999996,null,{"$f":"VLOOKUP(AW10215,'Cenové indexy '!$D$7:$E$200,2,FALSE)","v":103.13},{"$f":"W10215/Y10215*'Cenové indexy '!$E$149","v":326.38919999999996},391.66703999999993,2016,"11","14","2016-11-14","Áno","Áno","Neurčené","Nie",null,"24 mesiacov ","neurčené","48 hodín ","Zmluva 106_NF",null,"zľava 6 %",null,null,null,{"$f":"VLOOKUP(M10215,Adresy!$A$4:$C$156,2,FALSE)","v":"Poprad"},{"$f":"VLOOKUP(M10215,Adresy!$A$4:$C$156,3,FALSE)","v":"Banícka"},"M","2016M11",null,null,null,null,null,"Poprad","Banícka",0,0,0,0]
["endoskopické zostavy","laparoskopická zostava ","kábel k jednorázovej neutrálnej elektróde",null,null,null,"EVIS EXERA ",null,null,"Olympus","položková cena (súčasť sumárnej ceny)",null,"Nemocnica Poprad, a. s.","SR","ULTRAMED s.r.o.",36638404,1,372.34629999999999,null,{"$f":"IF(N10220=\"SR\",1,IF(AC10220=\"\",VLOOKUP(AW10220,'CZKEUR Xchange rate'!$D$13:$E$234,2,FALSE),VLOOKUP(AW10220,'CZKEUR Xchange rate'!$A$13:$B$234,2,FALSE)))","v":1},372.34629999999999,0,372.34629999999999,null,{"$f":"VLOOKUP(AW10220,'Cenové indexy '!$D$7:$E$200,2,FALSE)","v":103.13},{"$f":"W10220/Y10220*'Cenové indexy '!$E$149","v":372.34629999999999},446.81555999999995,2016,"11","14","2016-11-14","Áno","Áno","Neurčené","Nie",null,"24 mesiacov ","neurčené","48 hodín ","Zmluva 106_NF",null,"zľava 6 %",null,null,null,{"$f":"VLOOKUP(M10220,Adresy!$A$4:$C$156,2,FALSE)","v":"Poprad"},{"$f":"VLOOKUP(M10220,Adresy!$A$4:$C$156,3,FALSE)","v":"Banícka"},"M","2016M11",null,null,null,null,null,"Poprad","Banícka",0,0,0,0]
["echokardiograf",null,"multifrekvenčná sonda",null,null,null,"Vivid E95","12S-D",null,"GE Healthcare","bez položkovej identifikácie ceny (v rámci sumárnej ceny)","HW","Fakultní nemocnice Brno","ČR","Electric Medical Service s.r.o",null,1,null,null,{"$f":"IF(N10246=\"SR\",1,IF(AC10246=\"\",VLOOKUP(AW10246,'CZKEUR Xchange rate'!$D$13:$E$234,2,FALSE),VLOOKUP(AW10246,'CZKEUR Xchange rate'!$A$13:$B$234,2,FALSE)))","v":27.026},0,0,null,null,{"$f":"VLOOKUP(AW10246,'Cenové indexy '!$D$7:$E$200,2,FALSE)","v":101.58},{"$f":"W10246/Y10246*'Cenové indexy '!$E$149","v":0},0,2016,"05","30","2016-05-30","Áno","Áno","20 splátok","Nie",null,"24 mesiacov ","neurčené","24 hodín","Zmluva 1_EF",null,null,null,null,null,{"$f":"VLOOKUP(M10246,Adresy!$A$4:$C$156,2,FALSE)","v":"Brno"},{"$f":"VLOOKUP(M10246,Adresy!$A$4:$C$156,3,FALSE)","v":"Jihlavská 340/20"},"M","2016M05",null,null,null,null,null,"Brno","Jihlavská 340/20",0,0,0,0]
["echokardiograf",null,"sondy","lineárna sonda",null,null,"Philips EPIQ 7/Philips CX50 MATRIX","L15-7IO",null,"Philips","bez položkovej identifikácie ceny (v rámci sumárnej ceny)",null,"Institut klinické a experimentální medicíny","ČR","MEDIFINE a.s.",27718948,null,null,null,{"$f":"IF(N10267=\"SR\",1,IF(AC10267=\"\",VLOOKUP(AW10267,'CZKEUR Xchange rate'!$D$13:$E$234,2,FALSE),VLOOKUP(AW10267,'CZKEUR Xchange rate'!$A$13:$B$234,2,FALSE)))","v":27.608000000000001},0,0,null,null,{"$f":"VLOOKUP(AW10267,'Cenové indexy '!$D$7:$E$200,2,FALSE)","v":99.95},{"$f":"W10267/Y10267*'Cenové indexy '!$E$149","v":0},0,2015,"02","20","2015-02-20","Áno","Áno","Neurčené","Nie",null,"12 mesiacov","neurčené","48 hodín","Zmluva NF_1",null,null,null,null,null,{"$f":"VLOOKUP(M10267,Adresy!$A$4:$C$156,2,FALSE)","v":"Praha"},{"$f":"VLOOKUP(M10267,Adresy!$A$4:$C$156,3,FALSE)","v":"Vídeňská 1959/9"},"M","2015M02",null,null,null,null,null,"Praha","Vídeňská 1959/9",0,0,0,0]
["echokardiograf",null,"sondy","sektorová kardiologická sonda","1-5 MHz",null,"Philips iE33",null,null,"Philips","bez položkovej identifikácie ceny (v rámci sumárnej ceny)",null,"Fakultná nemocnica Trenčín","SR","S&T",31349935,null,null,null,{"$f":"IF(N10288=\"SR\",1,IF(AC10288=\"\",VLOOKUP(AW10288,'CZKEUR Xchange rate'!$D$13:$E$234,2,FALSE),VLOOKUP(AW10288,'CZKEUR Xchange rate'!$A$13:$B$234,2,FALSE)))","v":1},0,0,null,null,{"$f":"VLOOKUP(AW10288,'Cenové indexy '!$D$7:$E$200,2,FALSE)","v":92.03},{"$f":"W10288/Y10288*'Cenové indexy '!$E$149","v":0},0,2011,"10","07","2011-10-07","Áno","Áno","Neurčené","Nie",null,"24 mesiacov","neurčené","24 hodín","Zmluva NF_2",null,null,null,null,null,{"$f":"VLOOKUP(M10288,Adresy!$A$4:$C$156,2,FALSE)","v":"Trenčín"},{"$f":"VLOOKUP(M10288,Adresy!$A$4:$C$156,3,FALSE)","v":"Legionárska 594/2"},"M","2011M10",null,null,null,null,null,"Trenčín","Legionárska 594/2",0,0,0,0]
["echokardiograf",null,"sondy","transezofageálna sonda","2-7 MHz",null,"Philips iE33",null,null,"Philips","bez položkovej identifikácie ceny (v rámci sumárnej ceny)",null,"Národný ústav srdcových a cievnych chorôb, a.s.","SR","S&T",31349935,null,null,null,{"$f":"IF(N10314=\"SR\",1,IF(AC10314=\"\",VLOOKUP(AW10314,'CZKEUR Xchange rate'!$D$13:$E$234,2,FALSE),VLOOKUP(AW10314,'CZKEUR Xchange rate'!$A$13:$B$234,2,FALSE)))","v":1},0,0,null,null,{"$f":"VLOOKUP(AW10314,'Cenové indexy '!$D$7:$E$200,2,FALSE)","v":92.95},{"$f":"W10314/Y10314*'Cenové indexy '!$E$149","v":0},0,2012,"02","08","2012-02-08","Áno","Áno","50 % do 45 dní,  50% do 120 dní","Nie",null,"24 mesiacov","neurčené","24 hodín","Zmluva NF_3",null,null,null,null,null,{"$f":"VLOOKUP(M10314,Adresy!$A$4:$C$156,2,FALSE)","v":"Bratislava"},{"$f":"VLOOKUP(M10314,Adresy!$A$4:$C$156,3,FALSE)","v":"Pod Krásnou hôrkou 1"},"M","2012M02",null,null,null,null,null,"Bratislava","Pod Krásnou hôrkou 1",0,0,0,0]
["echokardiograf",null,"architektúra systému","príjmacie a vysielacie digitálne kanály na jeden snímok",57000,null,"Philips iE33",null,null,"Philips","bez položkovej identifikácie ceny (v rámci sumárnej ceny)",null,"Univerzitná nemocnica Martin","SR","S&T",31349935,null,null,null,{"$f":"IF(N10319=\"SR\",1,IF(AC10319=\"\",VLOOKUP(AW10319,'CZKEUR Xchange rate'!$D$13:$E$234,2,FALSE),VLOOKUP(AW10319,'CZKEUR Xchange rate'!$A$13:$B$234,2,FALSE)))","v":1},0,0,null,null,{"$f":"VLOOKUP(AW10319,'Cenové indexy '!$D$7:$E$200,2,FALSE)","v":90.78},{"$f":"W10319/Y10319*'Cenové indexy '!$E$149","v":0},0,2011,"07","05","2011-07-05","Áno","Áno","10 splátok","Nie",null,"24 mesiacov","neurčené","24 hodín","Zmluva NF_4",null,null,null,null,null,{"$f":"VLOOKUP(M10319,Adresy!$A$4:$C$156,2,FALSE)","v":"Martin"},{"$f":"VLOOKUP(M10319,Adresy!$A$4:$C$156,3,FALSE)","v":"Kollárova 2"},"M","2011M07",null,null,null,null,null,"Martin","Kollárova 2",0,0,0,0]
["echokardiograf",null,"zobrazovacie režimy","Live Color Compare režim",null,null,"Philips CX 50",null,null,"Philips","bez položkovej identifikácie ceny (v rámci sumárnej ceny)",null,"Národný ústav srdcových a cievnych chorôb, a.s.","SR","S&T",31349935,null,null,null,{"$f":"IF(N10356=\"SR\",1,IF(AC10356=\"\",VLOOKUP(AW10356,'CZKEUR Xchange rate'!$D$13:$E$234,2,FALSE),VLOOKUP(AW10356,'CZKEUR Xchange rate'!$A$13:$B$234,2,FALSE)))","v":1},0,0,null,null,{"$f":"VLOOKUP(AW10356,'Cenové indexy '!$D$7:$E$200,2,FALSE)","v":99.28},{"$f":"W10356/Y10356*'Cenové indexy '!$E$149","v":0},0,2013,"12","07","2013-12-07","Áno","Áno","3 splátky. 40% do 60 dní, 30% do 90 dní, 30% do 120 dní ","Nie",null,"24 mesiacov","predemet sam.zmluvy","24 hodín","Zmluva NF_5",null,null,null,null,null,{"$f":"VLOOKUP(M10356,Adresy!$A$4:$C$156,2,FALSE)","v":"Bratislava"},{"$f":"VLOOKUP(M10356,Adresy!$A$4:$C$156,3,FALSE)","v":"Pod Krásnou hôrkou 1"},"M","2013M12",null,null,null,null,null,"Bratislava","Pod Krásnou hôrkou 1",0,0,0,0]
["echokardiograf",null,"archivácia a prenos","VGA a DVI výstup",null,null,"Philips CX 50",null,null,"Philips","bez položkovej identifikácie ceny (v rámci sumárnej ceny)",null,"Národný ústav srdcových a cievnych chorôb, a.s.","SR","S&T",31349935,null,null,null,{"$f":"IF(N10366=\"SR\",1,IF(AC10366=\"\",VLOOKUP(AW10366,'CZKEUR Xchange rate'!$D$13:$E$234,2,FALSE),VLOOKUP(AW10366,'CZKEUR Xchange rate'!$A$13:$B$234,2,FALSE)))","v":1},0,0,null,null,{"$f":"VLOOKUP(AW10366,'Cenové indexy '!$D$7:$E$200,2,FALSE)","v":99.28},{"$f":"W10366/Y10366*'Cenové indexy '!$E$149","v":0},0,2013,"12","07","2013-12-07","Áno","Áno","3 splátky. 40% do 60 dní, 30% do 90 dní, 30% do 120 dní ","Nie",null,"24 mesiacov","predemet sam.zmluvy","24 hodín","Zmluva NF_5",null,null,null,null,null,{"$f":"VLOOKUP(M10366,Adresy!$A$4:$C$156,2,FALSE)","v":"Bratislava"},{"$f":"VLOOKUP(M10366,Adresy!$A$4:$C$156,3,FALSE)","v":"Pod Krásnou hôrkou 1"},"M","2013M12",null,null,null,null,null,"Bratislava","Pod Krásnou hôrkou 1",0,0,0,0]
["echokardiograf",null,"archivácia a prenos","čiernobiela termocitlivá tlačiareň",null,null,"Philips iE33",null,null,"Philips","bez položkovej identifikácie ceny (v rámci sumárnej ceny)",null,"Národný ústav srdcových a cievnych chorôb, a.s.","SR","S&T",31349935,null,null,null,{"$f":"IF(N10391=\"SR\",1,IF(AC10391=\"\",VLOOKUP(AW10391,'CZKEUR Xchange rate'!$D$13:$E$234,2,FALSE),VLOOKUP(AW10391,'CZKEUR Xchange rate'!$A$13:$B$234,2,FALSE)))","v":1},0,0,null,null,{"$f":"VLOOKUP(AW10391,'Cenové indexy '!$D$7:$E$200,2,FALSE)","v":89.14},{"$f":"W10391/Y10391*'Cenové indexy '!$E$149","v":0},0,2011,"03","10","2011-03-10","Áno","Áno","2 splátky, 50% do 45 dní, 50% do 120 dní","Nie",null,"24 mesiacov","predemet sam.zmluvy","24 hodín","Zmluva NF_6",null,null,null,null,null,{"$f":"VLOOKUP(M10391,Adresy!$A$4:$C$156,2,FALSE)","v":"Bratislava"},{"$f":"VLOOKUP(M10391,Adresy!$A$4:$C$156,3,FALSE)","v":"Pod Krásnou hôrkou 1"},"M","2011M03",null,null,null,null,null,"Bratislava","Pod Krásnou hôrkou 1",0,0,0,0]
["echokardiograf",null,"zobrazovacie režimy","tkanivový doppler",null,null,"Vivid E9 XD Clear 4D Expert",null,null,"GE Healthcare","bez položkovej identifikácie ceny (v rámci sumárnej ceny)",null,"Institut klinické a experimentální medicíny","ČR","Electric Medical Service s.r.o","49970267",null,null,null,{"$f":"IF(N10407=\"SR\",1,IF(AC10407=\"\",VLOOKUP(AW10407,'CZKEUR Xchange rate'!$D$13:$E$234,2,FALSE),VLOOKUP(AW10407,'CZKEUR Xchange rate'!$A$13:$B$234,2,FALSE)))","v":27.457999999999998},0,0,null,null,{"$f":"VLOOKUP(AW10407,'Cenové indexy '!$D$7:$E$200,2,FALSE)","v":99.71},{"$f":"W10407/Y10407*'Cenové indexy '!$E$149","v":0},0,2014,"07","10","2014-07-10","Áno","Áno","Neurčené","Nie",null,"24 mesiacov ","neurčné","24 hodín","Zmluva NF_7",null,null,null,null,null,{"$f":"VLOOKUP(M10407,Adresy!$A$4:$C$156,2,FALSE)","v":"Praha"},{"$f":"VLOOKUP(M10407,Adresy!$A$4:$C$156,3,FALSE)","v":"Vídeňská 1959/9"},"M","2014M07",null,null,null,null,null,"Praha","Vídeňská 1959/9",0,0,0,0]
["echokardiograf",null,"sondy","3D/4D transezofageálna ",null,null,"Vivid E95",null,null,"GE Healthcare","bez položkovej identifikácie ceny (v rámci sumárnej ceny)",null,"Institut klinické a experimentální medicíny","ČR","Electric Medical Service s.r.o",49970267,null,null,null,{"$f":"IF(N10438=\"SR\",1,IF(AC10438=\"\",VLOOKUP(AW10438,'CZKEUR Xchange rate'!$D$13:$E$234,2,FALSE),VLOOKUP(AW10438,'CZKEUR Xchange rate'!$A$13:$B$234,2,FALSE)))","v":27.042000000000002},0,0,null,null,{"$f":"VLOOKUP(AW10438,'Cenové indexy '!$D$7:$E$200,2,FALSE)","v":101.77},{"$f":"W10438/Y10438*'Cenové indexy '!$E$149","v":0},0,2016,"07","28","2016-07-28","Áno","Áno","Neurčené","Nie",null,"36 mesiacov","8 rokov","24 hodín","Zmluva NF_8",null,null,null,null,null,{"$f":"VLOOKUP(M10438,Adresy!$A$4:$C$156,2,FALSE)","v":"Praha"},{"$f":"VLOOKUP(M10438,Adresy!$A$4:$C$156,3,FALSE)","v":"Vídeňská 1959/9"},"M","2016M07",null,null,null,null,null,"Praha","Vídeňská 1959/9",0,0,0,0]
["echokardiograf",null,"architektúra systému","softwér kardiologický, vaskulárny a abdominálny "," ",null,"VIVID i ICE",null,null,"GE Healthcare","bez položkovej identifikácie ceny (v rámci sumárnej ceny)",null,"Institut klinické a experimentální medicíny","ČR","Electric Medical Service s.r.o",49970267,null,null,null,{"$f":"IF(N10443=\"SR\",1,IF(AC10443=\"\",VLOOKUP(AW10443,'CZKEUR Xchange rate'!$D$13:$E$234,2,FALSE),VLOOKUP(AW10443,'CZKEUR Xchange rate'!$A$13:$B$234,2,FALSE)))","v":27.039000000000001},0,0,null,null,{"$f":"VLOOKUP(AW10443,'Cenové indexy '!$D$7:$E$200,2,FALSE)","v":100.14},{"$f":"W10443/Y10443*'Cenové indexy '!$E$149","v":0},0,2015,"11","12","2015-11-12","Áno","Áno","Neurčené","Nie",null,"24 mesiacov","8 rokov","6 hodin ","Zmluva NF_9",null,null,null,null,null,{"$f":"VLOOKUP(M10443,Adresy!$A$4:$C$156,2,FALSE)","v":"Praha"},{"$f":"VLOOKUP(M10443,Adresy!$A$4:$C$156,3,FALSE)","v":"Vídeňská 1959/9"},"M","2015M11",null,null,null,null,null,"Praha","Vídeňská 1959/9",0,0,0,0]
["echokardiograf",null,"archivácia a prenos","čiernobiela termocitlivá tlačiareň",null,null,"Philips CX 50",null,null,"Philips","bez položkovej identifikácie ceny (v rámci sumárnej ceny)",null,"Stredoslovenský ústav srdcových a cievnych chorôb, a.s.","SR","Med Partners a.s.",44851740,null,null,null,{"$f":"IF(N10475=\"SR\",1,IF(AC10475=\"\",VLOOKUP(AW10475,'CZKEUR Xchange rate'!$D$13:$E$234,2,FALSE),VLOOKUP(AW10475,'CZKEUR Xchange rate'!$A$13:$B$234,2,FALSE)))","v":1},0,0,null,null,{"$f":"VLOOKUP(AW10475,'Cenové indexy '!$D$7:$E$200,2,FALSE)","v":99.82},{"$f":"W10475/Y10475*'Cenové indexy '!$E$149","v":0},0,2015,"05","29","2015-05-29","Áno","Áno","Neurčené","Nie",null,"neurčené","Neurčené","neurčené","Zmluva NF_10",null,null,null,null,null,{"$f":"VLOOKUP(M10475,Adresy!$A$4:$C$156,2,FALSE)","v":"Banská Bystrica"},{"$f":"VLOOKUP(M10475,Adresy!$A$4:$C$156,3,FALSE)","v":"Cesta k nemocnici 622/1"},"M","2015M05",null,null,null,null,null,"Bratislava","Gorkého 5",1,1,1,1]
["echokardiograf",null,"zobrazovacie režimy","kontinuálny doppler",null,null,"neurčené",null,null,"neurčené","bez položkovej identifikácie ceny (v rámci sumárnej ceny)",null,"Nemocnica s poliklinikou Myjava","SR","S&T",31349935,null,null,null,{"$f":"IF(N10490=\"SR\",1,IF(AC10490=\"\",VLOOKUP(AW10490,'CZKEUR Xchange rate'!$D$13:$E$234,2,FALSE),VLOOKUP(AW10490,'CZKEUR Xchange rate'!$A$13:$B$234,2,FALSE)))","v":1},0,0,null,null,{"$f":"VLOOKUP(AW10490,'Cenové indexy '!$D$7:$E$200,2,FALSE)","v":101.08},{"$f":"W10490/Y10490*'Cenové indexy '!$E$149","v":0},0,2016,"03","08","2016-03-08","Áno","Áno","Neurčené","Nie",null,"neurčené","neurčené","48 hodín","Zmluva NF_11",null,null,null,null,null,{"$f":"VLOOKUP(M10490,Adresy!$A$4:$C$156,2,FALSE)","v":"Myjava"},{"$f":"VLOOKUP(M10490,Adresy!$A$4:$C$156,3,FALSE)","v":"Staromyjavská 59"},"M","2016M03",null,null,null,null,null,"Myjava","Staromyjavská 60",0,1,0,1]
["echokardiograf",null,"zobrazovacie režimy","kontinuálny doppler",null,null,"Philips EPIQ 7",null,null,"Philips","bez položkovej identifikácie ceny (v rámci sumárnej ceny)",null,"Východoslovenský ústav srdcových a cievnych chorôb, a.s.","SR","S&T",31349935,null,null,null,{"$f":"IF(N10515=\"SR\",1,IF(AC10515=\"\",VLOOKUP(AW10515,'CZKEUR Xchange rate'!$D$13:$E$234,2,FALSE),VLOOKUP(AW10515,'CZKEUR Xchange rate'!$A$13:$B$234,2,FALSE)))","v":1},0,0,null,null,{"$f":"VLOOKUP(AW10515,'Cenové indexy '!$D$7:$E$200,2,FALSE)","v":100.07},{"$f":"W10515/Y10515*'Cenové indexy '!$E$149","v":0},0,2015,"10","12","2015-10-12","Áno","Áno","Neurčené","Nie",null,"24 mesiacov","neurčené","neurčené","Zmluva NF_13",null,null,null,null,null,{"$f":"VLOOKUP(M10515,Adresy!$A$4:$C$156,2,FALSE)","v":"Košice"},{"$f":"VLOOKUP(M10515,Adresy!$A$4:$C$156,3,FALSE)","v":"Ondavská č.8"},"M","2015M10",null,null,null,null,null,"Košice","Ondavská č.8",0,0,0,0]
["echokardiograf",null,"archivácia a prenos","čiernobiela termocitlivá tlačiareň",null,null,"Philips EPIQ 7",null,null,"Philips","bez položkovej identifikácie ceny (v rámci sumárnej ceny)",null,"Východoslovenský ústav srdcových a cievnych chorôb, a.s.","SR","S&T",31349935,null,null,null,{"$f":"IF(N10522=\"SR\",1,IF(AC10522=\"\",VLOOKUP(AW10522,'CZKEUR Xchange rate'!$D$13:$E$234,2,FALSE),VLOOKUP(AW10522,'CZKEUR Xchange rate'!$A$13:$B$234,2,FALSE)))","v":1},0,0,null,null,{"$f":"VLOOKUP(AW10522,'Cenové indexy '!$D$7:$E$200,2,FALSE)","v":100.07},{"$f":"W10522/Y10522*'Cenové indexy '!$E$149","v":0},0,2015,"10","12","2015-10-12","Áno","Áno","Neurčené","Nie",null,"24 mesiacov","neurčené","neurčené","Zmluva NF_13",null,null,null,null,null,{"$f":"VLOOKUP(M10522,Adresy!$A$4:$C$156,2,FALSE)","v":"Košice"},{"$f":"VLOOKUP(M10522,Adresy!$A$4:$C$156,3,FALSE)","v":"Ondavská č.8"},"M","2015M10",null,null,null,null,null,"Košice","Ondavská č.8",0,0,0,0]
["echokardiograf",null,"archivácia a prenos","interný HDD s kapacitou ","min. 160 GB",null,"MyLab Seven",null,null,"Esaote","bez položkovej identifikácie ceny (v rámci sumárnej ceny)",null,"Východoslovenský ústav srdcových a cievnych chorôb, a.s.","SR","WEGA – MS spol. s.r.o.",30998328,null,null,null,{"$f":"IF(N10562=\"SR\",1,IF(AC10562=\"\",VLOOKUP(AW10562,'CZKEUR Xchange rate'!$D$13:$E$234,2,FALSE),VLOOKUP(AW10562,'CZKEUR Xchange rate'!$A$13:$B$234,2,FALSE)))","v":1},0,0,null,null,{"$f":"VLOOKUP(AW10562,'Cenové indexy '!$D$7:$E$200,2,FALSE)","v":99.88},{"$f":"W10562/Y10562*'Cenové indexy '!$E$149","v":0},{"$f":"Z10562*1.2","v":0},2015,"06","01","2015-06-01","Áno","Áno","Neurčené","Nie",null,"24  mesiacov","neurčené","48  hodín","Zmluva NF_16",null,null,null,null,null,{"$f":"VLOOKUP(M10562,Adresy!$A$4:$C$156,2,FALSE)","v":"Košice"},{"$f":"VLOOKUP(M10562,Adresy!$A$4:$C$156,3,FALSE)","v":"Ondavská č.8"},"M","2015M06",null,null,null,null,null,"Košice","Ondavská č.8",{"$f":"IF(BC10562<>AT10562,1,0)","v":0},0,0,0]
["echokardiograf",null,"archivácia a prenos","pripojenie k sieti LAN a WiFi",null,null,"MyLab Seven",null,null,"Esaote","bez položkovej identifikácie ceny (v rámci sumárnej ceny)",null,"Východoslovenský ústav srdcových a cievnych chorôb, a.s.","SR","WEGA – MS spol. s.r.o.",30998328,null,null,null,{"$f":"IF(N10563=\"SR\",1,IF(AC10563=\"\",VLOOKUP(AW10563,'CZKEUR Xchange rate'!$D$13:$E$234,2,FALSE),VLOOKUP(AW10563,'CZKEUR Xchange rate'!$A$13:$B$234,2,FALSE)))","v":1},0,0,null,null,{"$f":"VLOOKUP(AW10563,'Cenové indexy '!$D$7:$E$200,2,FALSE)","v":99.88},{"$f":"W10563/Y10563*'Cenové indexy '!$E$149","v":0},0,2015,"06","01","2015-06-01","Áno","Áno","Neurčené","Nie",null,"24  mesiacov","neurčené","48  hodín","Zmluva NF_16",null,null,null,null,null,{"$f":"VLOOKUP(M10563,Adresy!$A$4:$C$156,2,FALSE)","v":"Košice"},{"$f":"VLOOKUP(M10563,Adresy!$A$4:$C$156,3,FALSE)","v":"Ondavská č.8"},"M",{"$f":"IF(AC10563=\"\",CONCATENATE(AB10563,AV10563,\"06\"),IF(LEN(AC10563)=1,CONCATENATE(AB10563,AV10563,\"0\"&AC10563),CONCATENATE(AB10563,AV10563,AC10563)))","v":"2015M06"},null,null,null,null,null,"Košice","Ondavská č.8",0,0,0,0]
["echokardiograf",null,"sondy","matrixová sonda ",null,"pre zobrazenie srdca ","Philips EPIQ 7C XMATRIX","X7-2T",null,"Philips","položková cena (súčasť sumárnej ceny)",null,"Fakultní nemocnice Hradec Králové","ČR","S&T Plus s.r.o.",25701576,1,548103,663205,{"$f":"IF(N10590=\"SR\",1,IF(AC10590=\"\",VLOOKUP(AW10590,'CZKEUR Xchange rate'!$D$13:$E$234,2,FALSE),VLOOKUP(AW10590,'CZKEUR Xchange rate'!$A$13:$B$234,2,FALSE)))","v":27.45},19967.322404371585,24160.47358834244,{"$f":"U10590/Q10590","v":19967.322404371585},{"$f":"V10590/Q10590","v":24160.47358834244},{"$f":"VLOOKUP(AW10590,'Cenové indexy '!$D$7:$E$200,2,FALSE)","v":99.35},{"$f":"W10590/Y10590*'Cenové indexy '!$E$149","v":20727.025259817226},24872.43031178067,2014,"04","11","2016-04-11","Áno","Áno","50 % do 30 dní, 50% do 60 dní","Nie ",null,"24 mesiacov","neurčené","24 hodín ","Zmluva NF_28",null,null,null,null,null,{"$f":"VLOOKUP(M10590,Adresy!$A$4:$C$156,2,FALSE)","v":"Hradec Králové"},{"$f":"VLOOKUP(M10590,Adresy!$A$4:$C$156,3,FALSE)","v":"Sokolská 581"},"M","2014M04",null,null,null,null,null,"Hradec Králové","Sokolská 581",0,0,0,0]
["echokardiograf",null,"archivácia a prenos","DICOM 3.0 pripojenie",null," ","Philips EPIQ 7",null,null,"Philips","bez položkovej identifikácie ceny (v rámci sumárnej ceny)",null,"Fakultní nemocnice v Motole","ČR","S&T Plus s.r.o.",25701576,null,null,null,{"$f":"IF(N10614=\"SR\",1,IF(AC10614=\"\",VLOOKUP(AW10614,'CZKEUR Xchange rate'!$D$13:$E$234,2,FALSE),VLOOKUP(AW10614,'CZKEUR Xchange rate'!$A$13:$B$234,2,FALSE)))","v":27.379000000000001},0,0,null,null,{"$f":"VLOOKUP(AW10614,'Cenové indexy '!$D$7:$E$200,2,FALSE)","v":100.03},{"$f":"W10614/Y10614*'Cenové indexy '!$E$149","v":0},0,2015,"03","02","2015-03-02","Áno","Áno","Neurčené","Nie",null,"24 mesiacov","neurčené","96 hodín","Zmluva NF_29",null,null,null,null,null,{"$f":"VLOOKUP(M10614,Adresy!$A$4:$C$156,2,FALSE)","v":"Praha"},{"$f":"VLOOKUP(M10614,Adresy!$A$4:$C$156,3,FALSE)","v":"V úvalu 84"},"M","2015M03",null,null,null,null,null,"Praha ","V úvalu 84",1,0,1,0]
["echokardiograf",null,"zobrazovacie režimy","SW kardiologický s meraniami a kalkuláciami",null," ","Philips EPIQ 7",null,null,"Philips","bez položkovej identifikácie ceny (v rámci sumárnej ceny)",null,"Národný ústav srdcových a cievnych chorôb, a.s.","SR","S&T",31349935,null,null,null,{"$f":"IF(N10635=\"SR\",1,IF(AC10635=\"\",VLOOKUP(AW10635,'CZKEUR Xchange rate'!$D$13:$E$234,2,FALSE),VLOOKUP(AW10635,'CZKEUR Xchange rate'!$A$13:$B$234,2,FALSE)))","v":1},0,0,null,null,{"$f":"VLOOKUP(AW10635,'Cenové indexy '!$D$7:$E$200,2,FALSE)","v":100.14},{"$f":"W10635/Y10635*'Cenové indexy '!$E$149","v":0},0,2015,"09","03","2015-09-03","neurčené ","neurčené","Neurčené","Nie",null,"12 mesiacov","neurčené","24 hodín","Zmluva 339_AT",null,null,null,null,null,{"$f":"VLOOKUP(M10635,Adresy!$A$4:$C$156,2,FALSE)","v":"Bratislava"},{"$f":"VLOOKUP(M10635,Adresy!$A$4:$C$156,3,FALSE)","v":"Pod Krásnou hôrkou 1"},"M","2015M09",null,null,null,null,null,"Bratislava","Pod Krásnou hôrkou 1",0,0,0,0]
["echokardiograf",null,"architektúra systému","monitor","\"19",null,"Vivid E9 XDclear",null,null,"GE Healthcare","bez položkovej identifikácie ceny (v rámci sumárnej ceny)",null,"Stredoslovenský ústav srdcových a cievnych chorôb, a.s.","SR","INTES Poprad s.r.o.",36449816,null,null,null,{"$f":"IF(N10658=\"SR\",1,IF(AC10658=\"\",VLOOKUP(AW10658,'CZKEUR Xchange rate'!$D$13:$E$234,2,FALSE),VLOOKUP(AW10658,'CZKEUR Xchange rate'!$A$13:$B$234,2,FALSE)))","v":1},0,0,null,null,{"$f":"VLOOKUP(AW10658,'Cenové indexy '!$D$7:$E$200,2,FALSE)","v":100.14},{"$f":"W10658/Y10658*'Cenové indexy '!$E$149","v":0},0,2015,"09","09","2015-09-09","neurčené ","neurčené","Neurčené","nie",null,"24 mesiacov","neurčené","24 hodín","Zmluva 341_AT",null,null,null,null,null,{"$f":"VLOOKUP(M10658,Adresy!$A$4:$C$156,2,FALSE)","v":"Banská Bystrica"},{"$f":"VLOOKUP(M10658,Adresy!$A$4:$C$156,3,FALSE)","v":"Cesta k nemocnici 622/1"},"M","2015M09",null,null,null,null,null,"Banská Bystrica","Cesta k nemocnici 622/1",0,0,0,0]
["echokardiograf",null,"zobrazovacie režimy","pulzný doppler",null,null,"Vivid E9 XDclear",null,null,"GE Healthcare","bez položkovej identifikácie ceny (v rámci sumárnej ceny)",null,"Stredoslovenský ústav srdcových a cievnych chorôb, a.s.","SR","INTES Poprad s.r.o.",36449823,null,null,null,{"$f":"IF(N10665=\"SR\",1,IF(AC10665=\"\",VLOOKUP(AW10665,'CZKEUR Xchange rate'!$D$13:$E$234,2,FALSE),VLOOKUP(AW10665,'CZKEUR Xchange rate'!$A$13:$B$234,2,FALSE)))","v":1},0,0,null,null,{"$f":"VLOOKUP(AW10665,'Cenové indexy '!$D$7:$E$200,2,FALSE)","v":100.14},{"$f":"W10665/Y10665*'Cenové indexy '!$E$149","v":0},0,2015,"09","09","2015-09-09","neurčené ","neurčené","Neurčené","nie",null,"24 mesiacov","neurčené","24 hodín","Zmluva 341_AT",null,null,null,null,null,{"$f":"VLOOKUP(M10665,Adresy!$A$4:$C$156,2,FALSE)","v":"Banská Bystrica"},{"$f":"VLOOKUP(M10665,Adresy!$A$4:$C$156,3,FALSE)","v":"Cesta k nemocnici 622/1"},"M","2015M09",null,null,null,null,null,"Banská Bystrica","Cesta k nemocnici 622/1",0,0,0,0]
["echokardiograf",null,"zobrazovacie režimy","duplexný a triplexný režim",null,null,"Vivid E9 XDclear",null,null,"GE Healthcare","bez položkovej identifikácie ceny (v rámci sumárnej ceny)",null,"Stredoslovenský ústav srdcových a cievnych chorôb, a.s.","SR","INTES Poprad s.r.o.",36449824,null,null,null,{"$f":"IF(N10666=\"SR\",1,IF(AC10666=\"\",VLOOKUP(AW10666,'CZKEUR Xchange rate'!$D$13:$E$234,2,FALSE),VLOOKUP(AW10666,'CZKEUR Xchange rate'!$A$13:$B$234,2,FALSE)))","v":1},0,0,null,null,{"$f":"VLOOKUP(AW10666,'Cenové indexy '!$D$7:$E$200,2,FALSE)","v":100.14},{"$f":"W10666/Y10666*'Cenové indexy '!$E$149","v":0},0,2015,"09","09","2015-09-09","neurčené ","neurčené","Neurčené","nie",null,"24 mesiacov","neurčené","24 hodín","Zmluva 341_AT",null,null,null,null,null,{"$f":"VLOOKUP(M10666,Adresy!$A$4:$C$156,2,FALSE)","v":"Banská Bystrica"},{"$f":"VLOOKUP(M10666,Adresy!$A$4:$C$156,3,FALSE)","v":"Cesta k nemocnici 622/1"},"M","2015M09",null,null,null,null,null,"Banská Bystrica","Cesta k nemocnici 622/1",0,0,0,0]
["echokardiograf",null,"zobrazovacie režimy","SW pre vyhladzovanie šumu",null,null,"Vivid E9 XDclear",null,null,"GE Healthcare","bez položkovej identifikácie ceny (v rámci sumárnej ceny)",null,"Stredoslovenský ústav srdcových a cievnych chorôb, a.s.","SR","INTES Poprad s.r.o.",36449825,null,null,null,{"$f":"IF(N10667=\"SR\",1,IF(AC10667=\"\",VLOOKUP(AW10667,'CZKEUR Xchange rate'!$D$13:$E$234,2,FALSE),VLOOKUP(AW10667,'CZKEUR Xchange rate'!$A$13:$B$234,2,FALSE)))","v":1},0,0,null,null,{"$f":"VLOOKUP(AW10667,'Cenové indexy '!$D$7:$E$200,2,FALSE)","v":100.14},{"$f":"W10667/Y10667*'Cenové indexy '!$E$149","v":0},0,2015,"09","09","2015-09-09","neurčené ","neurčené","Neurčené","nie",null,"24 mesiacov","neurčené","24 hodín","Zmluva 341_AT",null,null,null,null,null,{"$f":"VLOOKUP(M10667,Adresy!$A$4:$C$156,2,FALSE)","v":"Banská Bystrica"},{"$f":"VLOOKUP(M10667,Adresy!$A$4:$C$156,3,FALSE)","v":"Cesta k nemocnici 622/1"},"M","2015M09",null,null,null,null,null,"Banská Bystrica","Cesta k nemocnici 622/1",0,0,0,0]
["echokardiograf",null,"zobrazovacie režimy","SW pre zobrazovanie synchrónnosti pohybu myokardu",null,null,"Vivid E9 XDclear",null,null,"GE Healthcare","bez položkovej identifikácie ceny (v rámci sumárnej ceny)",null,"Stredoslovenský ústav srdcových a cievnych chorôb, a.s.","SR","INTES Poprad s.r.o.",36449826,null,null,null,{"$f":"IF(N10668=\"SR\",1,IF(AC10668=\"\",VLOOKUP(AW10668,'CZKEUR Xchange rate'!$D$13:$E$234,2,FALSE),VLOOKUP(AW10668,'CZKEUR Xchange rate'!$A$13:$B$234,2,FALSE)))","v":1},0,0,null,null,{"$f":"VLOOKUP(AW10668,'Cenové indexy '!$D$7:$E$200,2,FALSE)","v":100.14},{"$f":"W10668/Y10668*'Cenové indexy '!$E$149","v":0},0,2015,"09","09","2015-09-09","neurčené ","neurčené","Neurčené","nie",null,"24 mesiacov","neurčené","24 hodín","Zmluva 341_AT",null,null,null,null,null,{"$f":"VLOOKUP(M10668,Adresy!$A$4:$C$156,2,FALSE)","v":"Banská Bystrica"},{"$f":"VLOOKUP(M10668,Adresy!$A$4:$C$156,3,FALSE)","v":"Cesta k nemocnici 622/1"},"M","2015M09",null,null,null,null,null,"Banská Bystrica","Cesta k nemocnici 622/1",0,0,0,0]
["echokardiograf",null,"zobrazovacie režimy","SW pre kvantitatívnu analýzu TVI ",null,null,"Vivid E9 XDclear",null,null,"GE Healthcare","bez položkovej identifikácie ceny (v rámci sumárnej ceny)",null,"Stredoslovenský ústav srdcových a cievnych chorôb, a.s.","SR","INTES Poprad s.r.o.",36449827,null,null,null,{"$f":"IF(N10669=\"SR\",1,IF(AC10669=\"\",VLOOKUP(AW10669,'CZKEUR Xchange rate'!$D$13:$E$234,2,FALSE),VLOOKUP(AW10669,'CZKEUR Xchange rate'!$A$13:$B$234,2,FALSE)))","v":1},0,0,null,null,{"$f":"VLOOKUP(AW10669,'Cenové indexy '!$D$7:$E$200,2,FALSE)","v":100.14},{"$f":"W10669/Y10669*'Cenové indexy '!$E$149","v":0},0,2015,"09","09","2015-09-09","neurčené ","neurčené","Neurčené","nie",null,"24 mesiacov","neurčené","24 hodín","Zmluva 341_AT",null,null,null,null,null,{"$f":"VLOOKUP(M10669,Adresy!$A$4:$C$156,2,FALSE)","v":"Banská Bystrica"},{"$f":"VLOOKUP(M10669,Adresy!$A$4:$C$156,3,FALSE)","v":"Cesta k nemocnici 622/1"},"M","2015M09",null,null,null,null,null,"Banská Bystrica","Cesta k nemocnici 622/1",0,0,0,0]
["echokardiograf",null,"zobrazovacie režimy","SW na automatický výpočet ejekčnej frakcie",null,null,"Vivid E9 XDclear",null,null,"GE Healthcare","bez položkovej identifikácie ceny (v rámci sumárnej ceny)",null,"Stredoslovenský ústav srdcových a cievnych chorôb, a.s.","SR","INTES Poprad s.r.o.",36449828,null,null,null,{"$f":"IF(N10670=\"SR\",1,IF(AC10670=\"\",VLOOKUP(AW10670,'CZKEUR Xchange rate'!$D$13:$E$234,2,FALSE),VLOOKUP(AW10670,'CZKEUR Xchange rate'!$A$13:$B$234,2,FALSE)))","v":1},0,0,null,null,{"$f":"VLOOKUP(AW10670,'Cenové indexy '!$D$7:$E$200,2,FALSE)","v":100.14},{"$f":"W10670/Y10670*'Cenové indexy '!$E$149","v":0},0,2015,"09","09","2015-09-09","neurčené ","neurčené","Neurčené","nie",null,"24 mesiacov","neurčené","24 hodín","Zmluva 341_AT",null,null,null,null,null,{"$f":"VLOOKUP(M10670,Adresy!$A$4:$C$156,2,FALSE)","v":"Banská Bystrica"},{"$f":"VLOOKUP(M10670,Adresy!$A$4:$C$156,3,FALSE)","v":"Cesta k nemocnici 622/1"},"M","2015M09",null,null,null,null,null,"Banská Bystrica","Cesta k nemocnici 622/1",0,0,0,0]
["echokardiograf",null,"zobrazovacie režimy","SW pre analýzu deformácie tkaniva 2D obrazu",null,null,"Vivid E9 XDclear",null,null,"GE Healthcare","bez položkovej identifikácie ceny (v rámci sumárnej ceny)",null,"Stredoslovenský ústav srdcových a cievnych chorôb, a.s.","SR","INTES Poprad s.r.o.",36449829,null,null,null,{"$f":"IF(N10671=\"SR\",1,IF(AC10671=\"\",VLOOKUP(AW10671,'CZKEUR Xchange rate'!$D$13:$E$234,2,FALSE),VLOOKUP(AW10671,'CZKEUR Xchange rate'!$A$13:$B$234,2,FALSE)))","v":1},0,0,null,null,{"$f":"VLOOKUP(AW10671,'Cenové indexy '!$D$7:$E$200,2,FALSE)","v":100.14},{"$f":"W10671/Y10671*'Cenové indexy '!$E$149","v":0},0,2015,"09","09","2015-09-09","neurčené ","neurčené","Neurčené","nie",null,"24 mesiacov","neurčené","24 hodín","Zmluva 341_AT",null,null,null,null,null,{"$f":"VLOOKUP(M10671,Adresy!$A$4:$C$156,2,FALSE)","v":"Banská Bystrica"},{"$f":"VLOOKUP(M10671,Adresy!$A$4:$C$156,3,FALSE)","v":"Cesta k nemocnici 622/1"},"M","2015M09",null,null,null,null,null,"Banská Bystrica","Cesta k nemocnici 622/1",0,0,0,0]
["echokardiograf",null,"archivácia a prenos","archivácia obrázkov a skučiek",null,null,"Vivid E9 XDclear",null,null,"GE Healthcare","bez položkovej identifikácie ceny (v rámci sumárnej ceny)",null,"Stredoslovenský ústav srdcových a cievnych chorôb, a.s.","SR","INTES Poprad s.r.o.",36449830,null,null,null,{"$f":"IF(N10672=\"SR\",1,IF(AC10672=\"\",VLOOKUP(AW10672,'CZKEUR Xchange rate'!$D$13:$E$234,2,FALSE),VLOOKUP(AW10672,'CZKEUR Xchange rate'!$A$13:$B$234,2,FALSE)))","v":1},0,0,null,null,{"$f":"VLOOKUP(AW10672,'Cenové indexy '!$D$7:$E$200,2,FALSE)","v":100.14},{"$f":"W10672/Y10672*'Cenové indexy '!$E$149","v":0},0,2015,"09","09","2015-09-09","neurčené ","neurčené","Neurčené","nie",null,"24 mesiacov","neurčené","24 hodín","Zmluva 341_AT",null,null,null,null,null,{"$f":"VLOOKUP(M10672,Adresy!$A$4:$C$156,2,FALSE)","v":"Banská Bystrica"},{"$f":"VLOOKUP(M10672,Adresy!$A$4:$C$156,3,FALSE)","v":"Cesta k nemocnici 622/1"},"M","2015M09",null,null,null,null,null,"Banská Bystrica","Cesta k nemocnici 622/1",0,0,0,0]
["echokardiograf",null,"archivácia a prenos","čiernobiela termocitlivá tlačiareň",null,null,"Vivid E9 XDclear",null,null,"GE Healthcare","bez položkovej identifikácie ceny (v rámci sumárnej ceny)",null,"Stredoslovenský ústav srdcových a cievnych chorôb, a.s.","SR","INTES Poprad s.r.o.",36449831,null,null,null,{"$f":"IF(N10673=\"SR\",1,IF(AC10673=\"\",VLOOKUP(AW10673,'CZKEUR Xchange rate'!$D$13:$E$234,2,FALSE),VLOOKUP(AW10673,'CZKEUR Xchange rate'!$A$13:$B$234,2,FALSE)))","v":1},0,0,null,null,{"$f":"VLOOKUP(AW10673,'Cenové indexy '!$D$7:$E$200,2,FALSE)","v":100.14},{"$f":"W10673/Y10673*'Cenové indexy '!$E$149","v":0},0,2015,"09","09","2015-09-09","neurčené ","neurčené","Neurčené","nie",null,"24 mesiacov","neurčené","24 hodín","Zmluva 341_AT",null,null,null,null,null,{"$f":"VLOOKUP(M10673,Adresy!$A$4:$C$156,2,FALSE)","v":"Banská Bystrica"},{"$f":"VLOOKUP(M10673,Adresy!$A$4:$C$156,3,FALSE)","v":"Cesta k nemocnici 622/1"},"M","2015M09",null,null,null,null,null,"Banská Bystrica","Cesta k nemocnici 622/1",0,0,0,0]
["echokardiograf",null,"archivácia a prenos","DICOM 3.0 pripojenie",null,null,"Vivid E9 XDclear",null,null,"GE Healthcare","bez položkovej identifikácie ceny (v rámci sumárnej ceny)",null,"Stredoslovenský ústav srdcových a cievnych chorôb, a.s.","SR","INTES Poprad s.r.o.",36449832,null,null,null,{"$f":"IF(N10674=\"SR\",1,IF(AC10674=\"\",VLOOKUP(AW10674,'CZKEUR Xchange rate'!$D$13:$E$234,2,FALSE),VLOOKUP(AW10674,'CZKEUR Xchange rate'!$A$13:$B$234,2,FALSE)))","v":1},0,0,null,null,{"$f":"VLOOKUP(AW10674,'Cenové indexy '!$D$7:$E$200,2,FALSE)","v":100.14},{"$f":"W10674/Y10674*'Cenové indexy '!$E$149","v":0},0,2015,"09","09","2015-09-09","neurčené ","neurčené","Neurčené","nie",null,"24 mesiacov","neurčené","24 hodín","Zmluva 341_AT",null,null,null,null,null,{"$f":"VLOOKUP(M10674,Adresy!$A$4:$C$156,2,FALSE)","v":"Banská Bystrica"},{"$f":"VLOOKUP(M10674,Adresy!$A$4:$C$156,3,FALSE)","v":"Cesta k nemocnici 622/1"},"M","2015M09",null,null,null,null,null,"Banská Bystrica","Cesta k nemocnici 622/1",0,0,0,0]
["echokardiograf",null,"sondy","sektorová sonda",null,null,"Vivid E9 XDclear","M5Sc-D",null,"GE Healthcare","bez položkovej identifikácie ceny (v rámci sumárnej ceny)",null,"Stredoslovenský ústav srdcových a cievnych chorôb, a.s.","SR","INTES Poprad s.r.o.",36449833,null,null,null,{"$f":"IF(N10675=\"SR\",1,IF(AC10675=\"\",VLOOKUP(AW10675,'CZKEUR Xchange rate'!$D$13:$E$234,2,FALSE),VLOOKUP(AW10675,'CZKEUR Xchange rate'!$A$13:$B$234,2,FALSE)))","v":1},0,0,null,null,{"$f":"VLOOKUP(AW10675,'Cenové indexy '!$D$7:$E$200,2,FALSE)","v":100.14},{"$f":"W10675/Y10675*'Cenové indexy '!$E$149","v":0},0,2015,"09","09","2015-09-09","neurčené ","neurčené","Neurčené","nie",null,"24 mesiacov","neurčené","24 hodín","Zmluva 341_AT",null,null,null,null,null,{"$f":"VLOOKUP(M10675,Adresy!$A$4:$C$156,2,FALSE)","v":"Banská Bystrica"},{"$f":"VLOOKUP(M10675,Adresy!$A$4:$C$156,3,FALSE)","v":"Cesta k nemocnici 622/1"},"M","2015M09",null,null,null,null,null,"Banská Bystrica","Cesta k nemocnici 622/1",0,0,0,0]
["echokardiograf",null,"celá zostava",null,null,null,"Philips EPIQ 7C ","Philips EPIQ 7C ",null,"Philips","sumárna cena","HW/SW","Centrum kardiovaskulárni a transplantační chirurgie","ČR","S&T Plus s.r.o.",25701576,null,3342786,4044771,{"$f":"IF(N10676=\"SR\",1,IF(AC10676=\"\",VLOOKUP(AW10676,'CZKEUR Xchange rate'!$D$13:$E$234,2,FALSE),VLOOKUP(AW10676,'CZKEUR Xchange rate'!$A$13:$B$234,2,FALSE)))","v":27.026},123687.78213572117,149662.21416413825,121999.4890510949,147619.37956204382,{"$f":"VLOOKUP(AW10676,'Cenové indexy '!$D$7:$E$200,2,FALSE)","v":101.58},{"$f":"W10676/Y10676*'Cenové indexy '!$E$149","v":123861.06818113227},148633.28181735871,2016,"05","31",{"$f":"DATE(AB10676,AC10676,AD10676)","v":"2016-05-31"},"Áno","Áno","neurčené","Nie",null,"24 mesiacov","neurčené","48 hodín ","Zmluva 80_NF",null,null,null,null,null,{"$f":"VLOOKUP(M10676,Adresy!$A$4:$C$156,2,FALSE)","v":"Brno"},{"$f":"VLOOKUP(M10676,Adresy!$A$4:$C$156,3,FALSE)","v":"Pekařská 664/53"},"M","2016M05",null,null,null,null,null,"Brno","Pekařská 664/53",0,0,0,0]
["echokardiograf",null,"architektúra systému","prístroj ",null,null,"Philips EPIQ 7C ",null,null,"Philips","položková cena (súčasť sumárnej ceny)","HW/SW","Centrum kardiovaskulárni a transplantační chirurgie","ČR","S&T Plus s.r.o.",25701576,1,1669796,2020453,{"$f":"IF(N10677=\"SR\",1,IF(AC10677=\"\",VLOOKUP(AW10677,'CZKEUR Xchange rate'!$D$13:$E$234,2,FALSE),VLOOKUP(AW10677,'CZKEUR Xchange rate'!$A$13:$B$234,2,FALSE)))","v":27.026},61784.799822393252,74759.60186487087,{"$f":"U10677/Q10677","v":61784.799822393252},{"$f":"V10677/Q10677","v":74759.60186487087},{"$f":"VLOOKUP(AW10677,'Cenové indexy '!$D$7:$E$200,2,FALSE)","v":101.58},{"$f":"W10677/Y10677*'Cenové indexy '!$E$149","v":62727.56847493026},75273.082169916306,2016,"05","31",{"$f":"DATE(AB10677,AC10677,AD10677)","v":"2016-05-31"},"Áno","Áno","neurčené","Nie",null,"24 mesiacov","neurčené","48 hodín ","Zmluva 80_NF",null,null,null,null,null,{"$f":"VLOOKUP(M10677,Adresy!$A$4:$C$156,2,FALSE)","v":"Brno"},{"$f":"VLOOKUP(M10677,Adresy!$A$4:$C$156,3,FALSE)","v":"Pekařská 664/53"},"M","2016M05",null,null,null,null,null,"Brno","Pekařská 664/53",0,0,0,0]
["echokardiograf",null,"architektúra systému","monitor ",null,null,"Philips EPIQ 7C ",null,null,"Philips","bez položkovej identifikácie ceny (v rámci sumárnej ceny)","HW/SW","Centrum kardiovaskulárni a transplantační chirurgie","ČR","S&T Plus s.r.o.",25701576,null,null,null,{"$f":"IF(N10678=\"SR\",1,IF(AC10678=\"\",VLOOKUP(AW10678,'CZKEUR Xchange rate'!$D$13:$E$234,2,FALSE),VLOOKUP(AW10678,'CZKEUR Xchange rate'!$A$13:$B$234,2,FALSE)))","v":27.026},0,0,null,null,{"$f":"VLOOKUP(AW10678,'Cenové indexy '!$D$7:$E$200,2,FALSE)","v":101.58},{"$f":"W10678/Y10678*'Cenové indexy '!$E$149","v":0},0,2016,"05","31",{"$f":"DATE(AB10678,AC10678,AD10678)","v":"2016-05-31"},"Áno","Áno","neurčené","Nie",null,"24 mesiacov","neurčené","48 hodín ","Zmluva 80_NF",null,null,null,null,null,{"$f":"VLOOKUP(M10678,Adresy!$A$4:$C$156,2,FALSE)","v":"Brno"},{"$f":"VLOOKUP(M10678,Adresy!$A$4:$C$156,3,FALSE)","v":"Pekařská 664/53"},"M","2016M05",null,null,null,null,null,"Brno","Pekařská 664/53",0,0,0,0]
["echokardiograf",null,"zobrazovacie režimy","modul pre 3D/4D zobrazenie ",null,null,"Philips EPIQ 7C ",null,null,"Philips","položková cena (súčasť sumárnej ceny)","HW/SW","Centrum kardiovaskulárni a transplantační chirurgie","ČR","S&T Plus s.r.o.",25701576,1,593121,717676,{"$f":"IF(N10679=\"SR\",1,IF(AC10679=\"\",VLOOKUP(AW10679,'CZKEUR Xchange rate'!$D$13:$E$234,2,FALSE),VLOOKUP(AW10679,'CZKEUR Xchange rate'!$A$13:$B$234,2,FALSE)))","v":27.026},21946.310959816474,26555.021090801452,{"$f":"U10679/Q10679","v":21946.310959816474},{"$f":"V10679/Q10679","v":26555.021090801452},{"$f":"VLOOKUP(AW10679,'Cenové indexy '!$D$7:$E$200,2,FALSE)","v":101.58},{"$f":"W10679/Y10679*'Cenové indexy '!$E$149","v":22281.187726775672},26737.425272130804,2016,"05","31",{"$f":"DATE(AB10679,AC10679,AD10679)","v":"2016-05-31"},"Áno","Áno","neurčené","Nie",null,"24 mesiacov","neurčené","48 hodín ","Zmluva 80_NF",null,null,null,null,null,{"$f":"VLOOKUP(M10679,Adresy!$A$4:$C$156,2,FALSE)","v":"Brno"},{"$f":"VLOOKUP(M10679,Adresy!$A$4:$C$156,3,FALSE)","v":"Pekařská 664/53"},"M","2016M05",null,null,null,null,null,"Brno","Pekařská 664/53",0,0,0,0]
["echokardiograf",null,"zobrazovacie režimy","modul pre 3D kvantifikáciu ",null,null,"Philips EPIQ 7C ",null,null,"Philips","položková cena (súčasť sumárnej ceny)","HW/SW","Centrum kardiovaskulárni a transplantační chirurgie","ČR","S&T Plus s.r.o.",25701576,1,173937,210464,{"$f":"IF(N10680=\"SR\",1,IF(AC10680=\"\",VLOOKUP(AW10680,'CZKEUR Xchange rate'!$D$13:$E$234,2,FALSE),VLOOKUP(AW10680,'CZKEUR Xchange rate'!$A$13:$B$234,2,FALSE)))","v":27.026},6435.913564715459,7787.4639236290977,{"$f":"U10680/Q10680","v":6435.913564715459},{"$f":"V10680/Q10680","v":7787.4639236290977},{"$f":"VLOOKUP(AW10680,'Cenové indexy '!$D$7:$E$200,2,FALSE)","v":101.58},{"$f":"W10680/Y10680*'Cenové indexy '!$E$149","v":6534.1185856379725},7840.9423027655666,2016,"05","31",{"$f":"DATE(AB10680,AC10680,AD10680)","v":"2016-05-31"},"Áno","Áno","neurčené","Nie",null,"24 mesiacov","neurčené","48 hodín ","Zmluva 80_NF",null,null,null,null,null,{"$f":"VLOOKUP(M10680,Adresy!$A$4:$C$156,2,FALSE)","v":"Brno"},{"$f":"VLOOKUP(M10680,Adresy!$A$4:$C$156,3,FALSE)","v":"Pekařská 664/53"},"M","2016M05",null,null,null,null,null,"Brno","Pekařská 664/53",0,0,0,0]
["echokardiograf",null,"zobrazovacie režimy","modul pre 2D kvantifikáciu ",null,null,"Philips EPIQ 7C ",null,null,"Philips","položková cena (súčasť sumárnej ceny)","HW/SW","Centrum kardiovaskulárni a transplantační chirurgie","ČR","S&T Plus s.r.o.",25701576,1,238556,288653,{"$f":"IF(N10681=\"SR\",1,IF(AC10681=\"\",VLOOKUP(AW10681,'CZKEUR Xchange rate'!$D$13:$E$234,2,FALSE),VLOOKUP(AW10681,'CZKEUR Xchange rate'!$A$13:$B$234,2,FALSE)))","v":27.026},8826.9074224820542,10680.566861540739,{"$f":"U10681/Q10681","v":8826.9074224820542},{"$f":"V10681/Q10681","v":10680.566861540739},{"$f":"VLOOKUP(AW10681,'Cenové indexy '!$D$7:$E$200,2,FALSE)","v":101.58},{"$f":"W10681/Y10681*'Cenové indexy '!$E$149","v":8961.5964016595208},10753.915681991424,2016,"05","31","2016-05-31","Áno","Áno","neurčené","Nie",null,"24 mesiacov","neurčené","48 hodín ","Zmluva 80_NF",null,null,null,null,null,{"$f":"VLOOKUP(M10681,Adresy!$A$4:$C$156,2,FALSE)","v":"Brno"},{"$f":"VLOOKUP(M10681,Adresy!$A$4:$C$156,3,FALSE)","v":"Pekařská 664/53"},"M","2016M05",null,null,null,null,null,"Brno","Pekařská 664/53",0,0,0,0]
["echokardiograf",null,"archivácia a prenos","DICOM 3.0",null,null,"Philips EPIQ 7C ",null,null,"Philips","bez položkovej identifikácie ceny (v rámci sumárnej ceny)","HW/SW","Centrum kardiovaskulárni a transplantační chirurgie","ČR","S&T Plus s.r.o.",25701576,null,null,null,{"$f":"IF(N10682=\"SR\",1,IF(AC10682=\"\",VLOOKUP(AW10682,'CZKEUR Xchange rate'!$D$13:$E$234,2,FALSE),VLOOKUP(AW10682,'CZKEUR Xchange rate'!$A$13:$B$234,2,FALSE)))","v":27.026},0,0,null,null,{"$f":"VLOOKUP(AW10682,'Cenové indexy '!$D$7:$E$200,2,FALSE)","v":101.58},{"$f":"W10682/Y10682*'Cenové indexy '!$E$149","v":0},0,2016,"05","31","2016-05-31","Áno","Áno","neurčené","Nie",null,"24 mesiacov","neurčené","48 hodín ","Zmluva 80_NF",null,null,null,null,null,{"$f":"VLOOKUP(M10682,Adresy!$A$4:$C$156,2,FALSE)","v":"Brno"},{"$f":"VLOOKUP(M10682,Adresy!$A$4:$C$156,3,FALSE)","v":"Pekařská 664/53"},"M","2016M05",null,null,null,null,null,"Brno","Pekařská 664/53",0,0,0,0]
["echokardiograf",null,"archivácia a prenos","čierno biletlačiareň ",null,null,"Philips EPIQ 7C ",null,null,"Philips","položková cena (súčasť sumárnej ceny)","HW/SW","Centrum kardiovaskulárni a transplantační chirurgie","ČR","S&T Plus s.r.o.",25701576,1,19894,24072,{"$f":"IF(N10683=\"SR\",1,IF(AC10683=\"\",VLOOKUP(AW10683,'CZKEUR Xchange rate'!$D$13:$E$234,2,FALSE),VLOOKUP(AW10683,'CZKEUR Xchange rate'!$A$13:$B$234,2,FALSE)))","v":27.026},736.10597202693702,890.69784651816769,{"$f":"U10683/Q10683","v":736.10597202693702},{"$f":"V10683/Q10683","v":890.69784651816769},{"$f":"VLOOKUP(AW10683,'Cenové indexy '!$D$7:$E$200,2,FALSE)","v":101.58},{"$f":"W10683/Y10683*'Cenové indexy '!$E$149","v":747.33814624077581},896.80577548893098,2016,"05","31","2016-05-31","Áno","Áno","neurčené","Nie",null,"24 mesiacov","neurčené","48 hodín ","Zmluva 80_NF",null,null,null,null,null,{"$f":"VLOOKUP(M10683,Adresy!$A$4:$C$156,2,FALSE)","v":"Brno"},{"$f":"VLOOKUP(M10683,Adresy!$A$4:$C$156,3,FALSE)","v":"Pekařská 664/53"},"M","2016M05",null,null,null,null,null,"Brno","Pekařská 664/53",0,0,0,0]
["echokardiograf",null,"sondy","TEE sonda ","2-7 MHz",null,"Philips EPIQ 7C ","X7-2T",null,"Philips","položková cena (súčasť sumárnej ceny)","HW/SW","Centrum kardiovaskulárni a transplantační chirurgie","ČR","S&T Plus s.r.o.",25701576,1,647482,783453,{"$f":"IF(N10684=\"SR\",1,IF(AC10684=\"\",VLOOKUP(AW10684,'CZKEUR Xchange rate'!$D$13:$E$234,2,FALSE),VLOOKUP(AW10684,'CZKEUR Xchange rate'!$A$13:$B$234,2,FALSE)))","v":27.026},23957.744394286983,28988.862576777919,{"$f":"U10684/Q10684","v":23957.744394286983},{"$f":"V10684/Q10684","v":28988.862576777919},{"$f":"VLOOKUP(AW10684,'Cenové indexy '!$D$7:$E$200,2,FALSE)","v":101.58},{"$f":"W10684/Y10684*'Cenové indexy '!$E$149","v":24323.313441453203},29187.976129743842,2016,"05","31","2016-05-31","Áno","Áno","neurčené","Nie",null,"24 mesiacov","neurčené","48 hodín ","Zmluva 80_NF",null,null,null,null,null,{"$f":"VLOOKUP(M10684,Adresy!$A$4:$C$156,2,FALSE)","v":"Brno"},{"$f":"VLOOKUP(M10684,Adresy!$A$4:$C$156,3,FALSE)","v":"Pekařská 664/53"},"M","2016M05",null,null,null,null,null,"Brno","Pekařská 664/53",0,0,0,0]
["echokardiograf",null,"celá zostava","prenosný",null,null,"Philips CX 50","Philips CX 50",null,"Philips","sumárna cena","HW/SW","Stredoslovenský ústav srdcových a cievnych chorôb, a.s.","SR","VITALITE s.r.o.",46985051,1,160896.89000000001,193076.27,{"$f":"IF(N10685=\"SR\",1,IF(AC10685=\"\",VLOOKUP(AW10685,'CZKEUR Xchange rate'!$D$13:$E$234,2,FALSE),VLOOKUP(AW10685,'CZKEUR Xchange rate'!$A$13:$B$234,2,FALSE)))","v":1},160896.89000000001,193076.27,{"$f":"U10685/Q10685","v":160896.89000000001},{"$f":"V10685/Q10685","v":193076.27},{"$f":"VLOOKUP(AW10685,'Cenové indexy '!$D$7:$E$200,2,FALSE)","v":103.13},{"$f":"W10685/Y10685*'Cenové indexy '!$E$149","v":160896.89000000001},193076.26800000001,2016,"11","04","2016-11-04","Áno","Áno","Neurčené","Nie",null,"24 mesiacov","neurčené","48 hodín ","Zmluva 395_AT",null,null,null,null,null,{"$f":"VLOOKUP(M10685,Adresy!$A$4:$C$156,2,FALSE)","v":"Banská Bystrica"},{"$f":"VLOOKUP(M10685,Adresy!$A$4:$C$156,3,FALSE)","v":"Cesta k nemocnici 622/1"},"M","2016M11",null,null,null,null,null,"Banská Bystrica","Cesta k nemocnici 622/1",0,0,0,0]
["echokardiograf",null,"architektúra systému","prístroj",null,null,"Philips CX 50",null,null,"Philips","bez položkovej identifikácie ceny (v rámci sumárnej ceny)",null,"Stredoslovenský ústav srdcových a cievnych chorôb, a.s.","SR","VITALITE s.r.o.",46985051,null,null,null,{"$f":"IF(N10686=\"SR\",1,IF(AC10686=\"\",VLOOKUP(AW10686,'CZKEUR Xchange rate'!$D$13:$E$234,2,FALSE),VLOOKUP(AW10686,'CZKEUR Xchange rate'!$A$13:$B$234,2,FALSE)))","v":1},0,0,null,null,{"$f":"VLOOKUP(AW10686,'Cenové indexy '!$D$7:$E$200,2,FALSE)","v":103.13},{"$f":"W10686/Y10686*'Cenové indexy '!$E$149","v":0},0,2016,"11","04","2016-11-04","Áno","Áno","Neurčené","Nie",null,"24 mesiacov","neurčené","48 hodín ","Zmluva 395_AT",null,null,null,null,null,{"$f":"VLOOKUP(M10686,Adresy!$A$4:$C$156,2,FALSE)","v":"Banská Bystrica"},{"$f":"VLOOKUP(M10686,Adresy!$A$4:$C$156,3,FALSE)","v":"Cesta k nemocnici 622/1"},"M","2016M11",null,null,null,null,null,"Banská Bystrica","Cesta k nemocnici 622/1",0,0,0,0]
["echokardiograf",null,"architektúra systému","monitor","\"15 LCD TFT",null,"Philips CX 50",null,null,"Philips","bez položkovej identifikácie ceny (v rámci sumárnej ceny)",null,"Stredoslovenský ústav srdcových a cievnych chorôb, a.s.","SR","VITALITE s.r.o.",46985051,null,null,null,{"$f":"IF(N10687=\"SR\",1,IF(AC10687=\"\",VLOOKUP(AW10687,'CZKEUR Xchange rate'!$D$13:$E$234,2,FALSE),VLOOKUP(AW10687,'CZKEUR Xchange rate'!$A$13:$B$234,2,FALSE)))","v":1},0,0,null,null,{"$f":"VLOOKUP(AW10687,'Cenové indexy '!$D$7:$E$200,2,FALSE)","v":103.13},{"$f":"W10687/Y10687*'Cenové indexy '!$E$149","v":0},0,2016,"11","04","2016-11-04","Áno","Áno","Neurčené","Nie",null,"24 mesiacov","neurčené","48 hodín ","Zmluva 395_AT",null,null,null,null,null,{"$f":"VLOOKUP(M10687,Adresy!$A$4:$C$156,2,FALSE)","v":"Banská Bystrica"},{"$f":"VLOOKUP(M10687,Adresy!$A$4:$C$156,3,FALSE)","v":"Cesta k nemocnici 622/1"},"M","2016M11",null,null,null,null,null,"Banská Bystrica","Cesta k nemocnici 622/1",0,0,0,0]
["echokardiograf",null,"architektúra systému","automatická optimalizácia 2D obrazu ",null,null,"Philips CX 50",null,null,"Philips","bez položkovej identifikácie ceny (v rámci sumárnej ceny)",null,"Stredoslovenský ústav srdcových a cievnych chorôb, a.s.","SR","VITALITE s.r.o.",46985051,null,null,null,{"$f":"IF(N10688=\"SR\",1,IF(AC10688=\"\",VLOOKUP(AW10688,'CZKEUR Xchange rate'!$D$13:$E$234,2,FALSE),VLOOKUP(AW10688,'CZKEUR Xchange rate'!$A$13:$B$234,2,FALSE)))","v":1},0,0,null,null,{"$f":"VLOOKUP(AW10688,'Cenové indexy '!$D$7:$E$200,2,FALSE)","v":103.13},{"$f":"W10688/Y10688*'Cenové indexy '!$E$149","v":0},0,2016,"11","04","2016-11-04","Áno","Áno","Neurčené","Nie",null,"24 mesiacov","neurčené","48 hodín ","Zmluva 395_AT",null,null,null,null,null,{"$f":"VLOOKUP(M10688,Adresy!$A$4:$C$156,2,FALSE)","v":"Banská Bystrica"},{"$f":"VLOOKUP(M10688,Adresy!$A$4:$C$156,3,FALSE)","v":"Cesta k nemocnici 622/1"},"M","2016M11",null,null,null,null,null,"Banská Bystrica","Cesta k nemocnici 622/1",0,0,0,0]
["echokardiograf",null,"architektúra systému","automatická optimalizácia živej Dopplerovskej krivky",null,null,"Philips CX 50",null,null,"Philips","bez položkovej identifikácie ceny (v rámci sumárnej ceny)",null,"Stredoslovenský ústav srdcových a cievnych chorôb, a.s.","SR","VITALITE s.r.o.",46985051,null,null,null,{"$f":"IF(N10689=\"SR\",1,IF(AC10689=\"\",VLOOKUP(AW10689,'CZKEUR Xchange rate'!$D$13:$E$234,2,FALSE),VLOOKUP(AW10689,'CZKEUR Xchange rate'!$A$13:$B$234,2,FALSE)))","v":1},0,0,null,null,{"$f":"VLOOKUP(AW10689,'Cenové indexy '!$D$7:$E$200,2,FALSE)","v":103.13},{"$f":"W10689/Y10689*'Cenové indexy '!$E$149","v":0},0,2016,"11","04","2016-11-04","Áno","Áno","Neurčené","Nie",null,"24 mesiacov","neurčené","48 hodín ","Zmluva 395_AT",null,null,null,null,null,{"$f":"VLOOKUP(M10689,Adresy!$A$4:$C$156,2,FALSE)","v":"Banská Bystrica"},{"$f":"VLOOKUP(M10689,Adresy!$A$4:$C$156,3,FALSE)","v":"Cesta k nemocnici 622/1"},"M","2016M11",null,null,null,null,null,"Banská Bystrica","Cesta k nemocnici 622/1",0,0,0,0]
["echokardiograf",null,"architektúra systému","harmonické zobrazenie tkaniva",null,null,"Philips CX 50",null,null,"Philips","bez položkovej identifikácie ceny (v rámci sumárnej ceny)",null,"Stredoslovenský ústav srdcových a cievnych chorôb, a.s.","SR","VITALITE s.r.o.",46985051,null,null,null,{"$f":"IF(N10690=\"SR\",1,IF(AC10690=\"\",VLOOKUP(AW10690,'CZKEUR Xchange rate'!$D$13:$E$234,2,FALSE),VLOOKUP(AW10690,'CZKEUR Xchange rate'!$A$13:$B$234,2,FALSE)))","v":1},0,0,null,null,{"$f":"VLOOKUP(AW10690,'Cenové indexy '!$D$7:$E$200,2,FALSE)","v":103.13},{"$f":"W10690/Y10690*'Cenové indexy '!$E$149","v":0},{"$f":"Z10690*1.2","v":0},2016,"11","04","2016-11-04","Áno","Áno","Neurčené","Nie",null,"24 mesiacov","neurčené","48 hodín ","Zmluva 395_AT",null,null,null,null,null,{"$f":"VLOOKUP(M10690,Adresy!$A$4:$C$156,2,FALSE)","v":"Banská Bystrica"},{"$f":"VLOOKUP(M10690,Adresy!$A$4:$C$156,3,FALSE)","v":"Cesta k nemocnici 622/1"},"M","2016M11",null,null,null,null,null,"Banská Bystrica","Cesta k nemocnici 622/1",{"$f":"IF(BC10690<>AT10690,1,0)","v":0},0,0,0]
["echokardiograf",null,"architektúra systému","možnosť nastavenia min. 30 ind. presetov",null,null,"Philips CX 50",null,null,"Philips","bez položkovej identifikácie ceny (v rámci sumárnej ceny)",null,"Stredoslovenský ústav srdcových a cievnych chorôb, a.s.","SR","VITALITE s.r.o.",46985051,null,null,null,{"$f":"IF(N10691=\"SR\",1,IF(AC10691=\"\",VLOOKUP(AW10691,'CZKEUR Xchange rate'!$D$13:$E$234,2,FALSE),VLOOKUP(AW10691,'CZKEUR Xchange rate'!$A$13:$B$234,2,FALSE)))","v":1},0,0,null,null,{"$f":"VLOOKUP(AW10691,'Cenové indexy '!$D$7:$E$200,2,FALSE)","v":103.13},{"$f":"W10691/Y10691*'Cenové indexy '!$E$149","v":0},0,2016,"11","04","2016-11-04","Áno","Áno","Neurčené","Nie",null,"24 mesiacov","neurčené","48 hodín ","Zmluva 395_AT",null,null,null,null,null,{"$f":"VLOOKUP(M10691,Adresy!$A$4:$C$156,2,FALSE)","v":"Banská Bystrica"},{"$f":"VLOOKUP(M10691,Adresy!$A$4:$C$156,3,FALSE)","v":"Cesta k nemocnici 622/1"},"M",{"$f":"IF(AC10691=\"\",CONCATENATE(AB10691,AV10691,\"06\"),IF(LEN(AC10691)=1,CONCATENATE(AB10691,AV10691,\"0\"&AC10691),CONCATENATE(AB10691,AV10691,AC10691)))","v":"2016M11"},null,null,null,null,null,"Banská Bystrica","Cesta k nemocnici 622/1",0,0,0,0]
["echokardiograf",null,"zobrazovacie režimy","2D",null,null,"Philips CX 50",null,null,"Philips","bez položkovej identifikácie ceny (v rámci sumárnej ceny)",null,"Stredoslovenský ústav srdcových a cievnych chorôb, a.s.","SR","VITALITE s.r.o.",46985051,null,null,null,{"$f":"IF(N10692=\"SR\",1,IF(AC10692=\"\",VLOOKUP(AW10692,'CZKEUR Xchange rate'!$D$13:$E$234,2,FALSE),VLOOKUP(AW10692,'CZKEUR Xchange rate'!$A$13:$B$234,2,FALSE)))","v":1},0,0,null,null,{"$f":"VLOOKUP(AW10692,'Cenové indexy '!$D$7:$E$200,2,FALSE)","v":103.13},{"$f":"W10692/Y10692*'Cenové indexy '!$E$149","v":0},0,2016,"11","04","2016-11-04","Áno","Áno","Neurčené","Nie",null,"24 mesiacov","neurčené","48 hodín ","Zmluva 395_AT",null,null,null,null,null,{"$f":"VLOOKUP(M10692,Adresy!$A$4:$C$156,2,FALSE)","v":"Banská Bystrica"},{"$f":"VLOOKUP(M10692,Adresy!$A$4:$C$156,3,FALSE)","v":"Cesta k nemocnici 622/1"},"M","2016M11",null,null,null,null,null,"Banská Bystrica","Cesta k nemocnici 622/1",0,0,0,0]
["echokardiograf",null,"zobrazovacie režimy","farebný Doppler (CFM)",null,null,"Philips CX 50",null,null,"Philips","bez položkovej identifikácie ceny (v rámci sumárnej ceny)",null,"Stredoslovenský ústav srdcových a cievnych chorôb, a.s.","SR","VITALITE s.r.o.",46985051,null,null,null,{"$f":"IF(N10693=\"SR\",1,IF(AC10693=\"\",VLOOKUP(AW10693,'CZKEUR Xchange rate'!$D$13:$E$234,2,FALSE),VLOOKUP(AW10693,'CZKEUR Xchange rate'!$A$13:$B$234,2,FALSE)))","v":1},0,0,null,null,{"$f":"VLOOKUP(AW10693,'Cenové indexy '!$D$7:$E$200,2,FALSE)","v":103.13},{"$f":"W10693/Y10693*'Cenové indexy '!$E$149","v":0},0,2016,"11","04","2016-11-04","Áno","Áno","Neurčené","Nie",null,"24 mesiacov","neurčené","48 hodín ","Zmluva 395_AT",null,null,null,null,null,{"$f":"VLOOKUP(M10693,Adresy!$A$4:$C$156,2,FALSE)","v":"Banská Bystrica"},{"$f":"VLOOKUP(M10693,Adresy!$A$4:$C$156,3,FALSE)","v":"Cesta k nemocnici 622/1"},"M","2016M11",null,null,null,null,null,"Banská Bystrica","Cesta k nemocnici 622/1",0,0,0,0]
["echokardiograf",null,"zobrazovacie režimy","pulzný Doppler (PW)",null,null,"Philips CX 50",null,null,"Philips","bez položkovej identifikácie ceny (v rámci sumárnej ceny)",null,"Stredoslovenský ústav srdcových a cievnych chorôb, a.s.","SR","VITALITE s.r.o.",46985051,null,null,null,{"$f":"IF(N10694=\"SR\",1,IF(AC10694=\"\",VLOOKUP(AW10694,'CZKEUR Xchange rate'!$D$13:$E$234,2,FALSE),VLOOKUP(AW10694,'CZKEUR Xchange rate'!$A$13:$B$234,2,FALSE)))","v":1},0,0,null,null,{"$f":"VLOOKUP(AW10694,'Cenové indexy '!$D$7:$E$200,2,FALSE)","v":103.13},{"$f":"W10694/Y10694*'Cenové indexy '!$E$149","v":0},0,2016,"11","04","2016-11-04","Áno","Áno","Neurčené","Nie",null,"24 mesiacov","neurčené","48 hodín ","Zmluva 395_AT",null,null,null,null,null,{"$f":"VLOOKUP(M10694,Adresy!$A$4:$C$156,2,FALSE)","v":"Banská Bystrica"},{"$f":"VLOOKUP(M10694,Adresy!$A$4:$C$156,3,FALSE)","v":"Cesta k nemocnici 622/1"},"M","2016M11",null,null,null,null,null,"Banská Bystrica","Cesta k nemocnici 622/1",0,0,0,0]
["echokardiograf",null,"zobrazovacie režimy","kontinuálny Doppler (CW)",null,null,"Philips CX 50",null,null,"Philips","bez položkovej identifikácie ceny (v rámci sumárnej ceny)",null,"Stredoslovenský ústav srdcových a cievnych chorôb, a.s.","SR","VITALITE s.r.o.",46985051,null,null,null,{"$f":"IF(N10695=\"SR\",1,IF(AC10695=\"\",VLOOKUP(AW10695,'CZKEUR Xchange rate'!$D$13:$E$234,2,FALSE),VLOOKUP(AW10695,'CZKEUR Xchange rate'!$A$13:$B$234,2,FALSE)))","v":1},0,0,null,null,{"$f":"VLOOKUP(AW10695,'Cenové indexy '!$D$7:$E$200,2,FALSE)","v":103.13},{"$f":"W10695/Y10695*'Cenové indexy '!$E$149","v":0},0,2016,"11","04","2016-11-04","Áno","Áno","Neurčené","Nie",null,"24 mesiacov","neurčené","48 hodín ","Zmluva 395_AT",null,null,null,null,null,{"$f":"VLOOKUP(M10695,Adresy!$A$4:$C$156,2,FALSE)","v":"Banská Bystrica"},{"$f":"VLOOKUP(M10695,Adresy!$A$4:$C$156,3,FALSE)","v":"Cesta k nemocnici 622/1"},"M","2016M11",null,null,null,null,null,"Banská Bystrica","Cesta k nemocnici 622/1",0,0,0,0]
["echokardiograf",null,"zobrazovacie režimy","možnosť kontinuálneho steeringu",null,null,"Philips CX 50",null,null,"Philips","bez položkovej identifikácie ceny (v rámci sumárnej ceny)",null,"Stredoslovenský ústav srdcových a cievnych chorôb, a.s.","SR","VITALITE s.r.o.",46985051,null,null,null,{"$f":"IF(N10696=\"SR\",1,IF(AC10696=\"\",VLOOKUP(AW10696,'CZKEUR Xchange rate'!$D$13:$E$234,2,FALSE),VLOOKUP(AW10696,'CZKEUR Xchange rate'!$A$13:$B$234,2,FALSE)))","v":1},0,0,null,null,{"$f":"VLOOKUP(AW10696,'Cenové indexy '!$D$7:$E$200,2,FALSE)","v":103.13},{"$f":"W10696/Y10696*'Cenové indexy '!$E$149","v":0},0,2016,"11","04","2016-11-04","Áno","Áno","Neurčené","Nie",null,"24 mesiacov","neurčené","48 hodín ","Zmluva 395_AT",null,null,null,null,null,{"$f":"VLOOKUP(M10696,Adresy!$A$4:$C$156,2,FALSE)","v":"Banská Bystrica"},{"$f":"VLOOKUP(M10696,Adresy!$A$4:$C$156,3,FALSE)","v":"Cesta k nemocnici 622/1"},"M","2016M11",null,null,null,null,null,"Banská Bystrica","Cesta k nemocnici 622/1",0,0,0,0]
["echokardiograf",null,"zobrazovacie režimy","duplex pre súčasné zobrazenie 2D a Doppler",null,null,"Philips CX 50",null,null,"Philips","bez položkovej identifikácie ceny (v rámci sumárnej ceny)",null,"Stredoslovenský ústav srdcových a cievnych chorôb, a.s.","SR","VITALITE s.r.o.",46985051,null,null,null,{"$f":"IF(N10697=\"SR\",1,IF(AC10697=\"\",VLOOKUP(AW10697,'CZKEUR Xchange rate'!$D$13:$E$234,2,FALSE),VLOOKUP(AW10697,'CZKEUR Xchange rate'!$A$13:$B$234,2,FALSE)))","v":1},0,0,null,null,{"$f":"VLOOKUP(AW10697,'Cenové indexy '!$D$7:$E$200,2,FALSE)","v":103.13},{"$f":"W10697/Y10697*'Cenové indexy '!$E$149","v":0},0,2016,"11","04","2016-11-04","Áno","Áno","Neurčené","Nie",null,"24 mesiacov","neurčené","48 hodín ","Zmluva 395_AT",null,null,null,null,null,{"$f":"VLOOKUP(M10697,Adresy!$A$4:$C$156,2,FALSE)","v":"Banská Bystrica"},{"$f":"VLOOKUP(M10697,Adresy!$A$4:$C$156,3,FALSE)","v":"Cesta k nemocnici 622/1"},"M","2016M11",null,null,null,null,null,"Banská Bystrica","Cesta k nemocnici 622/1",0,0,0,0]
["echokardiograf",null,"zobrazovacie režimy","triplex pre súčasné zobrazenie 2D, Doppler a CFM",null,null,"Philips CX 50",null,null,"Philips","bez položkovej identifikácie ceny (v rámci sumárnej ceny)",null,"Stredoslovenský ústav srdcových a cievnych chorôb, a.s.","SR","VITALITE s.r.o.",46985051,null,null,null,{"$f":"IF(N10698=\"SR\",1,IF(AC10698=\"\",VLOOKUP(AW10698,'CZKEUR Xchange rate'!$D$13:$E$234,2,FALSE),VLOOKUP(AW10698,'CZKEUR Xchange rate'!$A$13:$B$234,2,FALSE)))","v":1},0,0,null,null,{"$f":"VLOOKUP(AW10698,'Cenové indexy '!$D$7:$E$200,2,FALSE)","v":103.13},{"$f":"W10698/Y10698*'Cenové indexy '!$E$149","v":0},0,2016,"11","04","2016-11-04","Áno","Áno","Neurčené","Nie",null,"24 mesiacov","neurčené","48 hodín ","Zmluva 395_AT",null,null,null,null,null,{"$f":"VLOOKUP(M10698,Adresy!$A$4:$C$156,2,FALSE)","v":"Banská Bystrica"},{"$f":"VLOOKUP(M10698,Adresy!$A$4:$C$156,3,FALSE)","v":"Cesta k nemocnici 622/1"},"M","2016M11",null,null,null,null,null,"Banská Bystrica","Cesta k nemocnici 622/1",0,0,0,0]
["echokardiograf",null,"zobrazovacie režimy","tkanivový Doppler, farebný tkanivový Doppler",null,null,"Philips CX 50",null,null,"Philips","bez položkovej identifikácie ceny (v rámci sumárnej ceny)",null,"Stredoslovenský ústav srdcových a cievnych chorôb, a.s.","SR","VITALITE s.r.o.",46985051,null,null,null,{"$f":"IF(N10699=\"SR\",1,IF(AC10699=\"\",VLOOKUP(AW10699,'CZKEUR Xchange rate'!$D$13:$E$234,2,FALSE),VLOOKUP(AW10699,'CZKEUR Xchange rate'!$A$13:$B$234,2,FALSE)))","v":1},0,0,null,null,{"$f":"VLOOKUP(AW10699,'Cenové indexy '!$D$7:$E$200,2,FALSE)","v":103.13},{"$f":"W10699/Y10699*'Cenové indexy '!$E$149","v":0},0,2016,"11","04","2016-11-04","Áno","Áno","Neurčené","Nie",null,"24 mesiacov","neurčené","48 hodín ","Zmluva 395_AT",null,null,null,null,null,{"$f":"VLOOKUP(M10699,Adresy!$A$4:$C$156,2,FALSE)","v":"Banská Bystrica"},{"$f":"VLOOKUP(M10699,Adresy!$A$4:$C$156,3,FALSE)","v":"Cesta k nemocnici 622/1"},"M","2016M11",null,null,null,null,null,"Banská Bystrica","Cesta k nemocnici 622/1",0,0,0,0]
["echokardiograf",null,"zobrazovacie režimy","tkanivový Doppler s PW Dopplerom",null,null,"Philips CX 50",null,null,"Philips","bez položkovej identifikácie ceny (v rámci sumárnej ceny)",null,"Stredoslovenský ústav srdcových a cievnych chorôb, a.s.","SR","VITALITE s.r.o.",46985051,null,null,null,{"$f":"IF(N10700=\"SR\",1,IF(AC10700=\"\",VLOOKUP(AW10700,'CZKEUR Xchange rate'!$D$13:$E$234,2,FALSE),VLOOKUP(AW10700,'CZKEUR Xchange rate'!$A$13:$B$234,2,FALSE)))","v":1},0,0,null,null,{"$f":"VLOOKUP(AW10700,'Cenové indexy '!$D$7:$E$200,2,FALSE)","v":103.13},{"$f":"W10700/Y10700*'Cenové indexy '!$E$149","v":0},0,2016,"11","04","2016-11-04","Áno","Áno","Neurčené","Nie",null,"24 mesiacov","neurčené","48 hodín ","Zmluva 395_AT",null,null,null,null,null,{"$f":"VLOOKUP(M10700,Adresy!$A$4:$C$156,2,FALSE)","v":"Banská Bystrica"},{"$f":"VLOOKUP(M10700,Adresy!$A$4:$C$156,3,FALSE)","v":"Cesta k nemocnici 622/1"},"M","2016M11",null,null,null,null,null,"Banská Bystrica","Cesta k nemocnici 622/1",0,0,0,0]
["echokardiograf",null,"zobrazovacie režimy","M-mód",null,null,"Philips CX 50",null,null,"Philips","bez položkovej identifikácie ceny (v rámci sumárnej ceny)",null,"Stredoslovenský ústav srdcových a cievnych chorôb, a.s.","SR","VITALITE s.r.o.",46985051,null,null,null,{"$f":"IF(N10701=\"SR\",1,IF(AC10701=\"\",VLOOKUP(AW10701,'CZKEUR Xchange rate'!$D$13:$E$234,2,FALSE),VLOOKUP(AW10701,'CZKEUR Xchange rate'!$A$13:$B$234,2,FALSE)))","v":1},0,0,null,null,{"$f":"VLOOKUP(AW10701,'Cenové indexy '!$D$7:$E$200,2,FALSE)","v":103.13},{"$f":"W10701/Y10701*'Cenové indexy '!$E$149","v":0},0,2016,"11","04","2016-11-04","Áno","Áno","Neurčené","Nie",null,"24 mesiacov","neurčené","48 hodín ","Zmluva 395_AT",null,null,null,null,null,{"$f":"VLOOKUP(M10701,Adresy!$A$4:$C$156,2,FALSE)","v":"Banská Bystrica"},{"$f":"VLOOKUP(M10701,Adresy!$A$4:$C$156,3,FALSE)","v":"Cesta k nemocnici 622/1"},"M","2016M11",null,null,null,null,null,"Banská Bystrica","Cesta k nemocnici 622/1",0,0,0,0]
["echokardiograf",null,"zobrazovacie režimy","anatomický M-mód",null,null,"Philips CX 50",null,null,"Philips","bez položkovej identifikácie ceny (v rámci sumárnej ceny)",null,"Stredoslovenský ústav srdcových a cievnych chorôb, a.s.","SR","VITALITE s.r.o.",46985051,null,null,null,{"$f":"IF(N10702=\"SR\",1,IF(AC10702=\"\",VLOOKUP(AW10702,'CZKEUR Xchange rate'!$D$13:$E$234,2,FALSE),VLOOKUP(AW10702,'CZKEUR Xchange rate'!$A$13:$B$234,2,FALSE)))","v":1},0,0,null,null,{"$f":"VLOOKUP(AW10702,'Cenové indexy '!$D$7:$E$200,2,FALSE)","v":103.13},{"$f":"W10702/Y10702*'Cenové indexy '!$E$149","v":0},0,2016,"11","04","2016-11-04","Áno","Áno","Neurčené","Nie",null,"24 mesiacov","neurčené","48 hodín ","Zmluva 395_AT",null,null,null,null,null,{"$f":"VLOOKUP(M10702,Adresy!$A$4:$C$156,2,FALSE)","v":"Banská Bystrica"},{"$f":"VLOOKUP(M10702,Adresy!$A$4:$C$156,3,FALSE)","v":"Cesta k nemocnici 622/1"},"M","2016M11",null,null,null,null,null,"Banská Bystrica","Cesta k nemocnici 622/1",0,0,0,0]
["echokardiograf",null,"zobrazovacie režimy","Live 3D zobrazenie pomocou transezofageálnej sondy",null,null,"Philips CX 50",null,null,"Philips","bez položkovej identifikácie ceny (v rámci sumárnej ceny)",null,"Stredoslovenský ústav srdcových a cievnych chorôb, a.s.","SR","VITALITE s.r.o.",46985051,null,null,null,{"$f":"IF(N10703=\"SR\",1,IF(AC10703=\"\",VLOOKUP(AW10703,'CZKEUR Xchange rate'!$D$13:$E$234,2,FALSE),VLOOKUP(AW10703,'CZKEUR Xchange rate'!$A$13:$B$234,2,FALSE)))","v":1},0,0,null,null,{"$f":"VLOOKUP(AW10703,'Cenové indexy '!$D$7:$E$200,2,FALSE)","v":103.13},{"$f":"W10703/Y10703*'Cenové indexy '!$E$149","v":0},0,2016,"11","04","2016-11-04","Áno","Áno","Neurčené","Nie",null,"24 mesiacov","neurčené","48 hodín ","Zmluva 395_AT",null,null,null,null,null,{"$f":"VLOOKUP(M10703,Adresy!$A$4:$C$156,2,FALSE)","v":"Banská Bystrica"},{"$f":"VLOOKUP(M10703,Adresy!$A$4:$C$156,3,FALSE)","v":"Cesta k nemocnici 622/1"},"M","2016M11",null,null,null,null,null,"Banská Bystrica","Cesta k nemocnici 622/1",0,0,0,0]
["echokardiograf",null,"zobrazovacie režimy","Live Color Compare režim",null,null,"Philips CX 50",null,null,"Philips","bez položkovej identifikácie ceny (v rámci sumárnej ceny)",null,"Stredoslovenský ústav srdcových a cievnych chorôb, a.s.","SR","VITALITE s.r.o.",46985051,null,null,null,{"$f":"IF(N10704=\"SR\",1,IF(AC10704=\"\",VLOOKUP(AW10704,'CZKEUR Xchange rate'!$D$13:$E$234,2,FALSE),VLOOKUP(AW10704,'CZKEUR Xchange rate'!$A$13:$B$234,2,FALSE)))","v":1},0,0,null,null,{"$f":"VLOOKUP(AW10704,'Cenové indexy '!$D$7:$E$200,2,FALSE)","v":103.13},{"$f":"W10704/Y10704*'Cenové indexy '!$E$149","v":0},0,2016,"11","04","2016-11-04","Áno","Áno","Neurčené","Nie",null,"24 mesiacov","neurčené","48 hodín ","Zmluva 395_AT",null,null,null,null,null,{"$f":"VLOOKUP(M10704,Adresy!$A$4:$C$156,2,FALSE)","v":"Banská Bystrica"},{"$f":"VLOOKUP(M10704,Adresy!$A$4:$C$156,3,FALSE)","v":"Cesta k nemocnici 622/1"},"M","2016M11",null,null,null,null,null,"Banská Bystrica","Cesta k nemocnici 622/1",0,0,0,0]
["echokardiograf",null,"zobrazovacie režimy","dva druhy zoomu (read/ write)",null,null,"Philips CX 50",null,null,"Philips","bez položkovej identifikácie ceny (v rámci sumárnej ceny)",null,"Stredoslovenský ústav srdcových a cievnych chorôb, a.s.","SR","VITALITE s.r.o.",46985051,null,null,null,{"$f":"IF(N10705=\"SR\",1,IF(AC10705=\"\",VLOOKUP(AW10705,'CZKEUR Xchange rate'!$D$13:$E$234,2,FALSE),VLOOKUP(AW10705,'CZKEUR Xchange rate'!$A$13:$B$234,2,FALSE)))","v":1},0,0,null,null,{"$f":"VLOOKUP(AW10705,'Cenové indexy '!$D$7:$E$200,2,FALSE)","v":103.13},{"$f":"W10705/Y10705*'Cenové indexy '!$E$149","v":0},0,2016,"11","04","2016-11-04","Áno","Áno","Neurčené","Nie",null,"24 mesiacov","neurčené","48 hodín ","Zmluva 395_AT",null,null,null,null,null,{"$f":"VLOOKUP(M10705,Adresy!$A$4:$C$156,2,FALSE)","v":"Banská Bystrica"},{"$f":"VLOOKUP(M10705,Adresy!$A$4:$C$156,3,FALSE)","v":"Cesta k nemocnici 622/1"},"M","2016M11",null,null,null,null,null,"Banská Bystrica","Cesta k nemocnici 622/1",0,0,0,0]
["echokardiograf",null,"zobrazovacie režimy","zobrazenie EKG krivky",null,null,"Philips CX 50",null,null,"Philips","bez položkovej identifikácie ceny (v rámci sumárnej ceny)",null,"Stredoslovenský ústav srdcových a cievnych chorôb, a.s.","SR","VITALITE s.r.o.",46985051,null,null,null,{"$f":"IF(N10706=\"SR\",1,IF(AC10706=\"\",VLOOKUP(AW10706,'CZKEUR Xchange rate'!$D$13:$E$234,2,FALSE),VLOOKUP(AW10706,'CZKEUR Xchange rate'!$A$13:$B$234,2,FALSE)))","v":1},0,0,null,null,{"$f":"VLOOKUP(AW10706,'Cenové indexy '!$D$7:$E$200,2,FALSE)","v":103.13},{"$f":"W10706/Y10706*'Cenové indexy '!$E$149","v":0},0,2016,"11","04","2016-11-04","Áno","Áno","Neurčené","Nie",null,"24 mesiacov","neurčené","48 hodín ","Zmluva 395_AT",null,null,null,null,null,{"$f":"VLOOKUP(M10706,Adresy!$A$4:$C$156,2,FALSE)","v":"Banská Bystrica"},{"$f":"VLOOKUP(M10706,Adresy!$A$4:$C$156,3,FALSE)","v":"Cesta k nemocnici 622/1"},"M","2016M11",null,null,null,null,null,"Banská Bystrica","Cesta k nemocnici 622/1",0,0,0,0]
["echokardiograf",null,"merania, programy a kvantifikácia","kardiologické  programové vybavenie",null,null,"Philips CX 50",null,null,"Philips","bez položkovej identifikácie ceny (v rámci sumárnej ceny)",null,"Stredoslovenský ústav srdcových a cievnych chorôb, a.s.","SR","VITALITE s.r.o.",46985051,null,null,null,{"$f":"IF(N10707=\"SR\",1,IF(AC10707=\"\",VLOOKUP(AW10707,'CZKEUR Xchange rate'!$D$13:$E$234,2,FALSE),VLOOKUP(AW10707,'CZKEUR Xchange rate'!$A$13:$B$234,2,FALSE)))","v":1},0,0,null,null,{"$f":"VLOOKUP(AW10707,'Cenové indexy '!$D$7:$E$200,2,FALSE)","v":103.13},{"$f":"W10707/Y10707*'Cenové indexy '!$E$149","v":0},0,2016,"11","04","2016-11-04","Áno","Áno","Neurčené","Nie",null,"24 mesiacov","neurčené","48 hodín ","Zmluva 395_AT",null,null,null,null,null,{"$f":"VLOOKUP(M10707,Adresy!$A$4:$C$156,2,FALSE)","v":"Banská Bystrica"},{"$f":"VLOOKUP(M10707,Adresy!$A$4:$C$156,3,FALSE)","v":"Cesta k nemocnici 622/1"},"M","2016M11",null,null,null,null,null,"Banská Bystrica","Cesta k nemocnici 622/1",0,0,0,0]
["echokardiograf",null,"merania, programy a kvantifikácia","možnosť využívania zmenšených indexových obrázkov, videosekvencií a reportov",null,null,"Philips CX 50",null,null,"Philips","bez položkovej identifikácie ceny (v rámci sumárnej ceny)",null,"Stredoslovenský ústav srdcových a cievnych chorôb, a.s.","SR","VITALITE s.r.o.",46985051,null,null,null,{"$f":"IF(N10708=\"SR\",1,IF(AC10708=\"\",VLOOKUP(AW10708,'CZKEUR Xchange rate'!$D$13:$E$234,2,FALSE),VLOOKUP(AW10708,'CZKEUR Xchange rate'!$A$13:$B$234,2,FALSE)))","v":1},0,0,null,null,{"$f":"VLOOKUP(AW10708,'Cenové indexy '!$D$7:$E$200,2,FALSE)","v":103.13},{"$f":"W10708/Y10708*'Cenové indexy '!$E$149","v":0},0,2016,"11","04","2016-11-04","Áno","Áno","Neurčené","Nie",null,"24 mesiacov","neurčené","48 hodín ","Zmluva 395_AT",null,null,null,null,null,{"$f":"VLOOKUP(M10708,Adresy!$A$4:$C$156,2,FALSE)","v":"Banská Bystrica"},{"$f":"VLOOKUP(M10708,Adresy!$A$4:$C$156,3,FALSE)","v":"Cesta k nemocnici 622/1"},"M","2016M11",null,null,null,null,null,"Banská Bystrica","Cesta k nemocnici 622/1",0,0,0,0]
["echokardiograf",null,"archivácia a prenos","integrovaná pamäť","150 GB",null,"Philips CX 50",null,null,"Philips","bez položkovej identifikácie ceny (v rámci sumárnej ceny)",null,"Stredoslovenský ústav srdcových a cievnych chorôb, a.s.","SR","VITALITE s.r.o.",46985051,null,null,null,{"$f":"IF(N10709=\"SR\",1,IF(AC10709=\"\",VLOOKUP(AW10709,'CZKEUR Xchange rate'!$D$13:$E$234,2,FALSE),VLOOKUP(AW10709,'CZKEUR Xchange rate'!$A$13:$B$234,2,FALSE)))","v":1},0,0,null,null,{"$f":"VLOOKUP(AW10709,'Cenové indexy '!$D$7:$E$200,2,FALSE)","v":103.13},{"$f":"W10709/Y10709*'Cenové indexy '!$E$149","v":0},0,2016,"11","04","2016-11-04","Áno","Áno","Neurčené","Nie",null,"24 mesiacov","neurčené","48 hodín ","Zmluva 395_AT",null,null,null,null,null,{"$f":"VLOOKUP(M10709,Adresy!$A$4:$C$156,2,FALSE)","v":"Banská Bystrica"},{"$f":"VLOOKUP(M10709,Adresy!$A$4:$C$156,3,FALSE)","v":"Cesta k nemocnici 622/1"},"M","2016M11",null,null,null,null,null,"Banská Bystrica","Cesta k nemocnici 622/1",0,0,0,0]
["echokardiograf",null,"archivácia a prenos","archivácia obrázkov a skučiek","na USB, CD/DVD,PACS",null,"Philips CX 50",null,null,"Philips","bez položkovej identifikácie ceny (v rámci sumárnej ceny)",null,"Stredoslovenský ústav srdcových a cievnych chorôb, a.s.","SR","VITALITE s.r.o.",46985051,null,null,null,{"$f":"IF(N10710=\"SR\",1,IF(AC10710=\"\",VLOOKUP(AW10710,'CZKEUR Xchange rate'!$D$13:$E$234,2,FALSE),VLOOKUP(AW10710,'CZKEUR Xchange rate'!$A$13:$B$234,2,FALSE)))","v":1},0,0,null,null,{"$f":"VLOOKUP(AW10710,'Cenové indexy '!$D$7:$E$200,2,FALSE)","v":103.13},{"$f":"W10710/Y10710*'Cenové indexy '!$E$149","v":0},0,2016,"11","04","2016-11-04","Áno","Áno","Neurčené","Nie",null,"24 mesiacov","neurčené","48 hodín ","Zmluva 395_AT",null,null,null,null,null,{"$f":"VLOOKUP(M10710,Adresy!$A$4:$C$156,2,FALSE)","v":"Banská Bystrica"},{"$f":"VLOOKUP(M10710,Adresy!$A$4:$C$156,3,FALSE)","v":"Cesta k nemocnici 622/1"},"M","2016M11",null,null,null,null,null,"Banská Bystrica","Cesta k nemocnici 622/1",0,0,0,0]
["echokardiograf",null,"archivácia a prenos","VGA/DVI/HDMI výstup",null,null,"Philips CX 50",null,null,"Philips","bez položkovej identifikácie ceny (v rámci sumárnej ceny)",null,"Stredoslovenský ústav srdcových a cievnych chorôb, a.s.","SR","VITALITE s.r.o.",46985051,null,null,null,{"$f":"IF(N10711=\"SR\",1,IF(AC10711=\"\",VLOOKUP(AW10711,'CZKEUR Xchange rate'!$D$13:$E$234,2,FALSE),VLOOKUP(AW10711,'CZKEUR Xchange rate'!$A$13:$B$234,2,FALSE)))","v":1},0,0,null,null,{"$f":"VLOOKUP(AW10711,'Cenové indexy '!$D$7:$E$200,2,FALSE)","v":103.13},{"$f":"W10711/Y10711*'Cenové indexy '!$E$149","v":0},0,2016,"11","04","2016-11-04","Áno","Áno","Neurčené","Nie",null,"24 mesiacov","neurčené","48 hodín ","Zmluva 395_AT",null,null,null,null,null,{"$f":"VLOOKUP(M10711,Adresy!$A$4:$C$156,2,FALSE)","v":"Banská Bystrica"},{"$f":"VLOOKUP(M10711,Adresy!$A$4:$C$156,3,FALSE)","v":"Cesta k nemocnici 622/1"},"M","2016M11",null,null,null,null,null,"Banská Bystrica","Cesta k nemocnici 622/1",0,0,0,0]
["echokardiograf",null,"archivácia a prenos","DICOM export do PACS",null,null,"Philips CX 50",null,null,"Philips","bez položkovej identifikácie ceny (v rámci sumárnej ceny)",null,"Stredoslovenský ústav srdcových a cievnych chorôb, a.s.","SR","VITALITE s.r.o.",46985051,null,null,null,{"$f":"IF(N10712=\"SR\",1,IF(AC10712=\"\",VLOOKUP(AW10712,'CZKEUR Xchange rate'!$D$13:$E$234,2,FALSE),VLOOKUP(AW10712,'CZKEUR Xchange rate'!$A$13:$B$234,2,FALSE)))","v":1},0,0,null,null,{"$f":"VLOOKUP(AW10712,'Cenové indexy '!$D$7:$E$200,2,FALSE)","v":103.13},{"$f":"W10712/Y10712*'Cenové indexy '!$E$149","v":0},0,2016,"11","04","2016-11-04","Áno","Áno","Neurčené","Nie",null,"24 mesiacov","neurčené","48 hodín ","Zmluva 395_AT",null,null,null,null,null,{"$f":"VLOOKUP(M10712,Adresy!$A$4:$C$156,2,FALSE)","v":"Banská Bystrica"},{"$f":"VLOOKUP(M10712,Adresy!$A$4:$C$156,3,FALSE)","v":"Cesta k nemocnici 622/1"},"M","2016M11",null,null,null,null,null,"Banská Bystrica","Cesta k nemocnici 622/1",0,0,0,0]
["echokardiograf",null,"archivácia a prenos","možnosť archivácie slučiek a obrázkov vo formáte DICOm 3.0, AVI a BMP",null,null,"Philips CX 50",null,null,"Philips","bez položkovej identifikácie ceny (v rámci sumárnej ceny)",null,"Stredoslovenský ústav srdcových a cievnych chorôb, a.s.","SR","VITALITE s.r.o.",46985051,null,null,null,{"$f":"IF(N10713=\"SR\",1,IF(AC10713=\"\",VLOOKUP(AW10713,'CZKEUR Xchange rate'!$D$13:$E$234,2,FALSE),VLOOKUP(AW10713,'CZKEUR Xchange rate'!$A$13:$B$234,2,FALSE)))","v":1},0,0,null,null,{"$f":"VLOOKUP(AW10713,'Cenové indexy '!$D$7:$E$200,2,FALSE)","v":103.13},{"$f":"W10713/Y10713*'Cenové indexy '!$E$149","v":0},0,2016,"11","04","2016-11-04","Áno","Áno","Neurčené","Nie",null,"24 mesiacov","neurčené","48 hodín ","Zmluva 395_AT",null,null,null,null,null,{"$f":"VLOOKUP(M10713,Adresy!$A$4:$C$156,2,FALSE)","v":"Banská Bystrica"},{"$f":"VLOOKUP(M10713,Adresy!$A$4:$C$156,3,FALSE)","v":"Cesta k nemocnici 622/1"},"M","2016M11",null,null,null,null,null,"Banská Bystrica","Cesta k nemocnici 622/1",0,0,0,0]
["echokardiograf",null,"archivácia a prenos","čiernobiela termocitlivá tlačiareň",null,null,"Philips CX 50",null,null,"Philips","bez položkovej identifikácie ceny (v rámci sumárnej ceny)",null,"Stredoslovenský ústav srdcových a cievnych chorôb, a.s.","SR","VITALITE s.r.o.",46985051,null,null,null,{"$f":"IF(N10714=\"SR\",1,IF(AC10714=\"\",VLOOKUP(AW10714,'CZKEUR Xchange rate'!$D$13:$E$234,2,FALSE),VLOOKUP(AW10714,'CZKEUR Xchange rate'!$A$13:$B$234,2,FALSE)))","v":1},0,0,null,null,{"$f":"VLOOKUP(AW10714,'Cenové indexy '!$D$7:$E$200,2,FALSE)","v":103.13},{"$f":"W10714/Y10714*'Cenové indexy '!$E$149","v":0},0,2016,"11","04","2016-11-04","Áno","Áno","Neurčené","Nie",null,"24 mesiacov","neurčené","48 hodín ","Zmluva 395_AT",null,null,null,null,null,{"$f":"VLOOKUP(M10714,Adresy!$A$4:$C$156,2,FALSE)","v":"Banská Bystrica"},{"$f":"VLOOKUP(M10714,Adresy!$A$4:$C$156,3,FALSE)","v":"Cesta k nemocnici 622/1"},"M","2016M11",null,null,null,null,null,"Banská Bystrica","Cesta k nemocnici 622/1",0,0,0,0]
["echokardiograf",null,"sondy","sektorová monokryštalická sonda","1-5 MHz",null,"Philips CX 50","S5-1",null,"Philips","bez položkovej identifikácie ceny (v rámci sumárnej ceny)",null,"Stredoslovenský ústav srdcových a cievnych chorôb, a.s.","SR","VITALITE s.r.o.",46985051,null,null,null,{"$f":"IF(N10715=\"SR\",1,IF(AC10715=\"\",VLOOKUP(AW10715,'CZKEUR Xchange rate'!$D$13:$E$234,2,FALSE),VLOOKUP(AW10715,'CZKEUR Xchange rate'!$A$13:$B$234,2,FALSE)))","v":1},0,0,null,null,{"$f":"VLOOKUP(AW10715,'Cenové indexy '!$D$7:$E$200,2,FALSE)","v":103.13},{"$f":"W10715/Y10715*'Cenové indexy '!$E$149","v":0},0,2016,"11","04","2016-11-04","Áno","Áno","Neurčené","Nie",null,"24 mesiacov","neurčené","48 hodín ","Zmluva 395_AT",null,null,null,null,null,{"$f":"VLOOKUP(M10715,Adresy!$A$4:$C$156,2,FALSE)","v":"Banská Bystrica"},{"$f":"VLOOKUP(M10715,Adresy!$A$4:$C$156,3,FALSE)","v":"Cesta k nemocnici 622/1"},"M","2016M11",null,null,null,null,null,"Banská Bystrica","Cesta k nemocnici 622/1",0,0,0,0]
["echokardiograf",null,"sondy","transezofageálna sonda ","2-7 MHz",null,"Philips CX 50","X7-2t",null,"Philips","bez položkovej identifikácie ceny (v rámci sumárnej ceny)",null,"Stredoslovenský ústav srdcových a cievnych chorôb, a.s.","SR","VITALITE s.r.o.",46985051,null,null,null,{"$f":"IF(N10716=\"SR\",1,IF(AC10716=\"\",VLOOKUP(AW10716,'CZKEUR Xchange rate'!$D$13:$E$234,2,FALSE),VLOOKUP(AW10716,'CZKEUR Xchange rate'!$A$13:$B$234,2,FALSE)))","v":1},0,0,null,null,{"$f":"VLOOKUP(AW10716,'Cenové indexy '!$D$7:$E$200,2,FALSE)","v":103.13},{"$f":"W10716/Y10716*'Cenové indexy '!$E$149","v":0},0,2016,"11","04","2016-11-04","Áno","Áno","Neurčené","Nie",null,"24 mesiacov","neurčené","48 hodín ","Zmluva 395_AT",null,null,null,null,null,{"$f":"VLOOKUP(M10716,Adresy!$A$4:$C$156,2,FALSE)","v":"Banská Bystrica"},{"$f":"VLOOKUP(M10716,Adresy!$A$4:$C$156,3,FALSE)","v":"Cesta k nemocnici 622/1"},"M","2016M11",null,null,null,null,null,"Banská Bystrica","Cesta k nemocnici 622/1",0,0,0,0]
["echokardiograf",null,"celá zostava",null,null,null,"neurčené","neurčené",null,"neurčené","sumárna cena","HW/SW","Východoslovenský ústav srdcových a cievnych chorôb, a.s.","SR","Siemens Healthcare s.r.o.",48146676,1,94980,113976,{"$f":"IF(N10717=\"SR\",1,IF(AC10717=\"\",VLOOKUP(AW10717,'CZKEUR Xchange rate'!$D$13:$E$234,2,FALSE),VLOOKUP(AW10717,'CZKEUR Xchange rate'!$A$13:$B$234,2,FALSE)))","v":1},94980,113976,{"$f":"U10717/Q10717","v":94980},{"$f":"V10717/Q10717","v":113976},{"$f":"VLOOKUP(AW10717,'Cenové indexy '!$D$7:$E$200,2,FALSE)","v":106.01},{"$f":"W10717/Y10717*'Cenové indexy '!$E$149","v":92399.654749551919},110879.5856994623,2017,"01","12","2017-01-12","Áno","Áno","Neurčené","Nie",null,"24 mesiacov","neurčené","24 hodín ","Zmluva 396_AT",null,null,null,null,null,{"$f":"VLOOKUP(M10717,Adresy!$A$4:$C$156,2,FALSE)","v":"Košice"},{"$f":"VLOOKUP(M10717,Adresy!$A$4:$C$156,3,FALSE)","v":"Ondavská č.8"},"M","2017M01",null,null,null,null,null,"Košice","Ondavská č.8",0,0,0,0]
["echokardiograf",null,"architektúra systému","prístroj",null,null,"neurčené",null,null,"neurčené","bez položkovej identifikácie ceny (v rámci sumárnej ceny)",null,"Východoslovenský ústav srdcových a cievnych chorôb, a.s.","SR","Siemens Healthcare s.r.o.",48146676,null,null,null,{"$f":"IF(N10718=\"SR\",1,IF(AC10718=\"\",VLOOKUP(AW10718,'CZKEUR Xchange rate'!$D$13:$E$234,2,FALSE),VLOOKUP(AW10718,'CZKEUR Xchange rate'!$A$13:$B$234,2,FALSE)))","v":1},0,0,null,null,{"$f":"VLOOKUP(AW10718,'Cenové indexy '!$D$7:$E$200,2,FALSE)","v":106.01},{"$f":"W10718/Y10718*'Cenové indexy '!$E$149","v":0},0,2017,"01","12","2017-01-12","Áno","Áno","Neurčené","Nie",null,"24 mesiacov","neurčené","24 hodín ","Zmluva 396_AT",null,null,null,null,null,{"$f":"VLOOKUP(M10718,Adresy!$A$4:$C$156,2,FALSE)","v":"Košice"},{"$f":"VLOOKUP(M10718,Adresy!$A$4:$C$156,3,FALSE)","v":"Ondavská č.8"},"M","2017M01",null,null,null,null,null,"Košice","Ondavská č.8",0,0,0,0]
["echokardiograf",null,"architektúra systému","monitor","\"20",null,"neurčené",null,null,"neurčené","bez položkovej identifikácie ceny (v rámci sumárnej ceny)",null,"Východoslovenský ústav srdcových a cievnych chorôb, a.s.","SR","Siemens Healthcare s.r.o.",48146676,null,null,null,{"$f":"IF(N10719=\"SR\",1,IF(AC10719=\"\",VLOOKUP(AW10719,'CZKEUR Xchange rate'!$D$13:$E$234,2,FALSE),VLOOKUP(AW10719,'CZKEUR Xchange rate'!$A$13:$B$234,2,FALSE)))","v":1},0,0,null,null,{"$f":"VLOOKUP(AW10719,'Cenové indexy '!$D$7:$E$200,2,FALSE)","v":106.01},{"$f":"W10719/Y10719*'Cenové indexy '!$E$149","v":0},0,2017,"01","12","2017-01-12","Áno","Áno","Neurčené","Nie",null,"24 mesiacov","neurčené","24 hodín ","Zmluva 396_AT",null,null,null,null,null,{"$f":"VLOOKUP(M10719,Adresy!$A$4:$C$156,2,FALSE)","v":"Košice"},{"$f":"VLOOKUP(M10719,Adresy!$A$4:$C$156,3,FALSE)","v":"Ondavská č.8"},"M","2017M01",null,null,null,null,null,"Košice","Ondavská č.8",0,0,0,0]
["echokardiograf",null,"zobrazovacie režimy","2D",null,null,"neurčené",null,null,"neurčené","bez položkovej identifikácie ceny (v rámci sumárnej ceny)",null,"Východoslovenský ústav srdcových a cievnych chorôb, a.s.","SR","Siemens Healthcare s.r.o.",48146676,null,null,null,{"$f":"IF(N10720=\"SR\",1,IF(AC10720=\"\",VLOOKUP(AW10720,'CZKEUR Xchange rate'!$D$13:$E$234,2,FALSE),VLOOKUP(AW10720,'CZKEUR Xchange rate'!$A$13:$B$234,2,FALSE)))","v":1},0,0,null,null,{"$f":"VLOOKUP(AW10720,'Cenové indexy '!$D$7:$E$200,2,FALSE)","v":106.01},{"$f":"W10720/Y10720*'Cenové indexy '!$E$149","v":0},0,2017,"01","12","2017-01-12","Áno","Áno","Neurčené","Nie",null,"24 mesiacov","neurčené","24 hodín ","Zmluva 396_AT",null,null,null,null,null,{"$f":"VLOOKUP(M10720,Adresy!$A$4:$C$156,2,FALSE)","v":"Košice"},{"$f":"VLOOKUP(M10720,Adresy!$A$4:$C$156,3,FALSE)","v":"Ondavská č.8"},"M","2017M01",null,null,null,null,null,"Košice","Ondavská č.8",0,0,0,0]
["echokardiograf",null,"zobrazovacie režimy","farebný Doppler (CFM)",null,null,"neurčené",null,null,"neurčené","bez položkovej identifikácie ceny (v rámci sumárnej ceny)",null,"Východoslovenský ústav srdcových a cievnych chorôb, a.s.","SR","Siemens Healthcare s.r.o.",48146676,null,null,null,{"$f":"IF(N10721=\"SR\",1,IF(AC10721=\"\",VLOOKUP(AW10721,'CZKEUR Xchange rate'!$D$13:$E$234,2,FALSE),VLOOKUP(AW10721,'CZKEUR Xchange rate'!$A$13:$B$234,2,FALSE)))","v":1},0,0,null,null,{"$f":"VLOOKUP(AW10721,'Cenové indexy '!$D$7:$E$200,2,FALSE)","v":106.01},{"$f":"W10721/Y10721*'Cenové indexy '!$E$149","v":0},0,2017,"01","12","2017-01-12","Áno","Áno","Neurčené","Nie",null,"24 mesiacov","neurčené","24 hodín ","Zmluva 396_AT",null,null,null,null,null,{"$f":"VLOOKUP(M10721,Adresy!$A$4:$C$156,2,FALSE)","v":"Košice"},{"$f":"VLOOKUP(M10721,Adresy!$A$4:$C$156,3,FALSE)","v":"Ondavská č.8"},"M","2017M01",null,null,null,null,null,"Košice","Ondavská č.8",0,0,0,0]
["echokardiograf",null,"zobrazovacie režimy","pulzný Doppler (PW)",null,null,"neurčené",null,null,"neurčené","bez položkovej identifikácie ceny (v rámci sumárnej ceny)",null,"Východoslovenský ústav srdcových a cievnych chorôb, a.s.","SR","Siemens Healthcare s.r.o.",48146676,null,null,null,{"$f":"IF(N10722=\"SR\",1,IF(AC10722=\"\",VLOOKUP(AW10722,'CZKEUR Xchange rate'!$D$13:$E$234,2,FALSE),VLOOKUP(AW10722,'CZKEUR Xchange rate'!$A$13:$B$234,2,FALSE)))","v":1},0,0,null,null,{"$f":"VLOOKUP(AW10722,'Cenové indexy '!$D$7:$E$200,2,FALSE)","v":106.01},{"$f":"W10722/Y10722*'Cenové indexy '!$E$149","v":0},0,2017,"01","12","2017-01-12","Áno","Áno","Neurčené","Nie",null,"24 mesiacov","neurčené","24 hodín ","Zmluva 396_AT",null,null,null,null,null,{"$f":"VLOOKUP(M10722,Adresy!$A$4:$C$156,2,FALSE)","v":"Košice"},{"$f":"VLOOKUP(M10722,Adresy!$A$4:$C$156,3,FALSE)","v":"Ondavská č.8"},"M","2017M01",null,null,null,null,null,"Košice","Ondavská č.8",0,0,0,0]
["echokardiograf",null,"zobrazovacie režimy","kontinuálny Doppler (CW)",null,null,"neurčené",null,null,"neurčené","bez položkovej identifikácie ceny (v rámci sumárnej ceny)",null,"Východoslovenský ústav srdcových a cievnych chorôb, a.s.","SR","Siemens Healthcare s.r.o.",48146676,null,null,null,{"$f":"IF(N10723=\"SR\",1,IF(AC10723=\"\",VLOOKUP(AW10723,'CZKEUR Xchange rate'!$D$13:$E$234,2,FALSE),VLOOKUP(AW10723,'CZKEUR Xchange rate'!$A$13:$B$234,2,FALSE)))","v":1},0,0,null,null,{"$f":"VLOOKUP(AW10723,'Cenové indexy '!$D$7:$E$200,2,FALSE)","v":106.01},{"$f":"W10723/Y10723*'Cenové indexy '!$E$149","v":0},0,2017,"01","12","2017-01-12","Áno","Áno","Neurčené","Nie",null,"24 mesiacov","neurčené","24 hodín ","Zmluva 396_AT",null,null,null,null,null,{"$f":"VLOOKUP(M10723,Adresy!$A$4:$C$156,2,FALSE)","v":"Košice"},{"$f":"VLOOKUP(M10723,Adresy!$A$4:$C$156,3,FALSE)","v":"Ondavská č.8"},"M","2017M01",null,null,null,null,null,"Košice","Ondavská č.8",0,0,0,0]
["echokardiograf",null,"zobrazovacie režimy","automatické vyhodnotenie rýchlostného spektra toku a vypočítať indexy PI, RI,stenózy",null,null,"neurčené",null,null,"neurčené","bez položkovej identifikácie ceny (v rámci sumárnej ceny)",null,"Východoslovenský ústav srdcových a cievnych chorôb, a.s.","SR","Siemens Healthcare s.r.o.",48146676,null,null,null,{"$f":"IF(N10724=\"SR\",1,IF(AC10724=\"\",VLOOKUP(AW10724,'CZKEUR Xchange rate'!$D$13:$E$234,2,FALSE),VLOOKUP(AW10724,'CZKEUR Xchange rate'!$A$13:$B$234,2,FALSE)))","v":1},{"$f":"R10724/T10724","v":0},{"$f":"S10724/T10724","v":0},null,null,{"$f":"VLOOKUP(AW10724,'Cenové indexy '!$D$7:$E$200,2,FALSE)","v":106.01},{"$f":"W10724/Y10724*'Cenové indexy '!$E$149","v":0},0,2017,"01","12","2017-01-12","Áno","Áno","Neurčené","Nie",null,"24 mesiacov","neurčené","24 hodín ","Zmluva 396_AT",null,null,null,null,null,{"$f":"VLOOKUP(M10724,Adresy!$A$4:$C$156,2,FALSE)","v":"Košice"},{"$f":"VLOOKUP(M10724,Adresy!$A$4:$C$156,3,FALSE)","v":"Ondavská č.8"},"M","2017M01",null,null,null,null,null,"Košice","Ondavská č.8",0,0,0,0]
["echokardiograf",null,"zobrazovacie režimy","prístroj musí umožňovať semi - automatické merania",null,null,"neurčené",null,null,"neurčené","bez položkovej identifikácie ceny (v rámci sumárnej ceny)",null,"Východoslovenský ústav srdcových a cievnych chorôb, a.s.","SR","Siemens Healthcare s.r.o.",48146676,null,null,null,{"$f":"IF(N10725=\"SR\",1,IF(AC10725=\"\",VLOOKUP(AW10725,'CZKEUR Xchange rate'!$D$13:$E$234,2,FALSE),VLOOKUP(AW10725,'CZKEUR Xchange rate'!$A$13:$B$234,2,FALSE)))","v":1},0,0,null,null,{"$f":"VLOOKUP(AW10725,'Cenové indexy '!$D$7:$E$200,2,FALSE)","v":106.01},{"$f":"W10725/Y10725*'Cenové indexy '!$E$149","v":0},0,2017,"01","12","2017-01-12","Áno","Áno","Neurčené","Nie",null,"24 mesiacov","neurčené","24 hodín ","Zmluva 396_AT",null,null,null,null,null,{"$f":"VLOOKUP(M10725,Adresy!$A$4:$C$156,2,FALSE)","v":"Košice"},{"$f":"VLOOKUP(M10725,Adresy!$A$4:$C$156,3,FALSE)","v":"Ondavská č.8"},"M","2017M01",null,null,null,null,null,"Košice","Ondavská č.8",0,0,0,0]
["echokardiograf",null,"zobrazovacie režimy","M-mód",null,null,"neurčené",null,null,"neurčené","bez položkovej identifikácie ceny (v rámci sumárnej ceny)",null,"Východoslovenský ústav srdcových a cievnych chorôb, a.s.","SR","Siemens Healthcare s.r.o.",48146676,null,null,null,{"$f":"IF(N10726=\"SR\",1,IF(AC10726=\"\",VLOOKUP(AW10726,'CZKEUR Xchange rate'!$D$13:$E$234,2,FALSE),VLOOKUP(AW10726,'CZKEUR Xchange rate'!$A$13:$B$234,2,FALSE)))","v":1},0,0,null,null,{"$f":"VLOOKUP(AW10726,'Cenové indexy '!$D$7:$E$200,2,FALSE)","v":106.01},{"$f":"W10726/Y10726*'Cenové indexy '!$E$149","v":0},0,2017,"01","12","2017-01-12","Áno","Áno","Neurčené","Nie",null,"24 mesiacov","neurčené","24 hodín ","Zmluva 396_AT",null,null,null,null,null,{"$f":"VLOOKUP(M10726,Adresy!$A$4:$C$156,2,FALSE)","v":"Košice"},{"$f":"VLOOKUP(M10726,Adresy!$A$4:$C$156,3,FALSE)","v":"Ondavská č.8"},"M","2017M01",null,null,null,null,null,"Košice","Ondavská č.8",0,0,0,0]
["echokardiograf",null,"archivácia a prenos","interný HDD min. 1000 GB",null,null,"neurčené",null,null,"neurčené","bez položkovej identifikácie ceny (v rámci sumárnej ceny)",null,"Východoslovenský ústav srdcových a cievnych chorôb, a.s.","SR","Siemens Healthcare s.r.o.",48146676,null,null,null,{"$f":"IF(N10727=\"SR\",1,IF(AC10727=\"\",VLOOKUP(AW10727,'CZKEUR Xchange rate'!$D$13:$E$234,2,FALSE),VLOOKUP(AW10727,'CZKEUR Xchange rate'!$A$13:$B$234,2,FALSE)))","v":1},0,0,null,null,{"$f":"VLOOKUP(AW10727,'Cenové indexy '!$D$7:$E$200,2,FALSE)","v":106.01},{"$f":"W10727/Y10727*'Cenové indexy '!$E$149","v":0},0,2017,"01","12","2017-01-12","Áno","Áno","Neurčené","Nie",null,"24 mesiacov","neurčené","24 hodín ","Zmluva 396_AT",null,null,null,null,null,{"$f":"VLOOKUP(M10727,Adresy!$A$4:$C$156,2,FALSE)","v":"Košice"},{"$f":"VLOOKUP(M10727,Adresy!$A$4:$C$156,3,FALSE)","v":"Ondavská č.8"},"M","2017M01",null,null,null,null,null,"Košice","Ondavská č.8",0,0,0,0]
["echokardiograf",null,"archivácia a prenos","USB/DVD-I/DVD",null,null,"neurčené",null,null,"neurčené","bez položkovej identifikácie ceny (v rámci sumárnej ceny)",null,"Východoslovenský ústav srdcových a cievnych chorôb, a.s.","SR","Siemens Healthcare s.r.o.",48146676,null,null,null,{"$f":"IF(N10728=\"SR\",1,IF(AC10728=\"\",VLOOKUP(AW10728,'CZKEUR Xchange rate'!$D$13:$E$234,2,FALSE),VLOOKUP(AW10728,'CZKEUR Xchange rate'!$A$13:$B$234,2,FALSE)))","v":1},0,0,null,null,{"$f":"VLOOKUP(AW10728,'Cenové indexy '!$D$7:$E$200,2,FALSE)","v":106.01},{"$f":"W10728/Y10728*'Cenové indexy '!$E$149","v":0},0,2017,"01","12","2017-01-12","Áno","Áno","Neurčené","Nie",null,"24 mesiacov","neurčené","24 hodín ","Zmluva 396_AT",null,null,null,null,null,{"$f":"VLOOKUP(M10728,Adresy!$A$4:$C$156,2,FALSE)","v":"Košice"},{"$f":"VLOOKUP(M10728,Adresy!$A$4:$C$156,3,FALSE)","v":"Ondavská č.8"},"M","2017M01",null,null,null,null,null,"Košice","Ondavská č.8",0,0,0,0]
["echokardiograf",null,"archivácia a prenos","čiernobiela termocitlivá tlačiareň",null,null,"neurčené",null,null,"neurčené","bez položkovej identifikácie ceny (v rámci sumárnej ceny)",null,"Východoslovenský ústav srdcových a cievnych chorôb, a.s.","SR","Siemens Healthcare s.r.o.",48146676,null,null,null,{"$f":"IF(N10729=\"SR\",1,IF(AC10729=\"\",VLOOKUP(AW10729,'CZKEUR Xchange rate'!$D$13:$E$234,2,FALSE),VLOOKUP(AW10729,'CZKEUR Xchange rate'!$A$13:$B$234,2,FALSE)))","v":1},0,0,null,null,{"$f":"VLOOKUP(AW10729,'Cenové indexy '!$D$7:$E$200,2,FALSE)","v":106.01},{"$f":"W10729/Y10729*'Cenové indexy '!$E$149","v":0},0,2017,"01","12","2017-01-12","Áno","Áno","Neurčené","Nie",null,"24 mesiacov","neurčené","24 hodín ","Zmluva 396_AT",null,null,null,null,null,{"$f":"VLOOKUP(M10729,Adresy!$A$4:$C$156,2,FALSE)","v":"Košice"},{"$f":"VLOOKUP(M10729,Adresy!$A$4:$C$156,3,FALSE)","v":"Ondavská č.8"},"M","2017M01",null,null,null,null,null,"Košice","Ondavská č.8",0,0,0,0]
["echokardiograf",null,"merania, programy a kvantifikácia","automatická analýza ľavej komory 3D/4D",null,null,"neurčené",null,null,"neurčené","bez položkovej identifikácie ceny (v rámci sumárnej ceny)",null,"Východoslovenský ústav srdcových a cievnych chorôb, a.s.","SR","Siemens Healthcare s.r.o.",48146676,null,null,null,{"$f":"IF(N10730=\"SR\",1,IF(AC10730=\"\",VLOOKUP(AW10730,'CZKEUR Xchange rate'!$D$13:$E$234,2,FALSE),VLOOKUP(AW10730,'CZKEUR Xchange rate'!$A$13:$B$234,2,FALSE)))","v":1},0,0,null,null,{"$f":"VLOOKUP(AW10730,'Cenové indexy '!$D$7:$E$200,2,FALSE)","v":106.01},{"$f":"W10730/Y10730*'Cenové indexy '!$E$149","v":0},0,2017,"01","12","2017-01-12","Áno","Áno","Neurčené","Nie",null,"24 mesiacov","neurčené","24 hodín ","Zmluva 396_AT",null,null,null,null,null,{"$f":"VLOOKUP(M10730,Adresy!$A$4:$C$156,2,FALSE)","v":"Košice"},{"$f":"VLOOKUP(M10730,Adresy!$A$4:$C$156,3,FALSE)","v":"Ondavská č.8"},"M","2017M01",null,null,null,null,null,"Košice","Ondavská č.8",0,0,0,0]
["echokardiograf",null,"merania, programy a kvantifikácia","analýzy a výpočty objemov ľavej komory založenej na znalostnej databáze",null,null,"neurčené",null,null,"neurčené","bez položkovej identifikácie ceny (v rámci sumárnej ceny)",null,"Východoslovenský ústav srdcových a cievnych chorôb, a.s.","SR","Siemens Healthcare s.r.o.",48146676,null,null,null,{"$f":"IF(N10731=\"SR\",1,IF(AC10731=\"\",VLOOKUP(AW10731,'CZKEUR Xchange rate'!$D$13:$E$234,2,FALSE),VLOOKUP(AW10731,'CZKEUR Xchange rate'!$A$13:$B$234,2,FALSE)))","v":1},0,0,null,null,{"$f":"VLOOKUP(AW10731,'Cenové indexy '!$D$7:$E$200,2,FALSE)","v":106.01},{"$f":"W10731/Y10731*'Cenové indexy '!$E$149","v":0},0,2017,"01","12","2017-01-12","Áno","Áno","Neurčené","Nie",null,"24 mesiacov","neurčené","24 hodín ","Zmluva 396_AT",null,null,null,null,null,{"$f":"VLOOKUP(M10731,Adresy!$A$4:$C$156,2,FALSE)","v":"Košice"},{"$f":"VLOOKUP(M10731,Adresy!$A$4:$C$156,3,FALSE)","v":"Ondavská č.8"},"M","2017M01",null,null,null,null,null,"Košice","Ondavská č.8",0,0,0,0]
["echokardiograf",null,"merania, programy a kvantifikácia","vyhodnocovanie mechaniky a kynetiky myokardu",null,null,"neurčené",null,null,"neurčené","bez položkovej identifikácie ceny (v rámci sumárnej ceny)",null,"Východoslovenský ústav srdcových a cievnych chorôb, a.s.","SR","Siemens Healthcare s.r.o.",48146676,null,null,null,{"$f":"IF(N10732=\"SR\",1,IF(AC10732=\"\",VLOOKUP(AW10732,'CZKEUR Xchange rate'!$D$13:$E$234,2,FALSE),VLOOKUP(AW10732,'CZKEUR Xchange rate'!$A$13:$B$234,2,FALSE)))","v":1},0,0,null,null,{"$f":"VLOOKUP(AW10732,'Cenové indexy '!$D$7:$E$200,2,FALSE)","v":106.01},{"$f":"W10732/Y10732*'Cenové indexy '!$E$149","v":0},0,2017,"01","12","2017-01-12","Áno","Áno","Neurčené","Nie",null,"24 mesiacov","neurčené","24 hodín ","Zmluva 396_AT",null,null,null,null,null,{"$f":"VLOOKUP(M10732,Adresy!$A$4:$C$156,2,FALSE)","v":"Košice"},{"$f":"VLOOKUP(M10732,Adresy!$A$4:$C$156,3,FALSE)","v":"Ondavská č.8"},"M","2017M01",null,null,null,null,null,"Košice","Ondavská č.8",0,0,0,0]
["echokardiograf",null,"sondy","transtorakalna sonda ","1,5-3,5 MHz",null,"neurčené",null,null,"neurčené","bez položkovej identifikácie ceny (v rámci sumárnej ceny)",null,"Východoslovenský ústav srdcových a cievnych chorôb, a.s.","SR","Siemens Healthcare s.r.o.",48146676,null,null,null,{"$f":"IF(N10733=\"SR\",1,IF(AC10733=\"\",VLOOKUP(AW10733,'CZKEUR Xchange rate'!$D$13:$E$234,2,FALSE),VLOOKUP(AW10733,'CZKEUR Xchange rate'!$A$13:$B$234,2,FALSE)))","v":1},0,0,null,null,{"$f":"VLOOKUP(AW10733,'Cenové indexy '!$D$7:$E$200,2,FALSE)","v":106.01},{"$f":"W10733/Y10733*'Cenové indexy '!$E$149","v":0},0,2017,"01","12","2017-01-12","Áno","Áno","Neurčené","Nie",null,"24 mesiacov","neurčené","24 hodín ","Zmluva 396_AT",null,null,null,null,null,{"$f":"VLOOKUP(M10733,Adresy!$A$4:$C$156,2,FALSE)","v":"Košice"},{"$f":"VLOOKUP(M10733,Adresy!$A$4:$C$156,3,FALSE)","v":"Ondavská č.8"},"M","2017M01",null,null,null,null,null,"Košice","Ondavská č.8",0,0,0,0]
["echokardiograf",null,"sondy","sonda s fázovým riadením","1,25-4,25 MHz",null,"neurčené",null,null,"neurčené","bez položkovej identifikácie ceny (v rámci sumárnej ceny)",null,"Východoslovenský ústav srdcových a cievnych chorôb, a.s.","SR","Siemens Healthcare s.r.o.",48146676,null,null,null,{"$f":"IF(N10734=\"SR\",1,IF(AC10734=\"\",VLOOKUP(AW10734,'CZKEUR Xchange rate'!$D$13:$E$234,2,FALSE),VLOOKUP(AW10734,'CZKEUR Xchange rate'!$A$13:$B$234,2,FALSE)))","v":1},0,0,null,null,{"$f":"VLOOKUP(AW10734,'Cenové indexy '!$D$7:$E$200,2,FALSE)","v":106.01},{"$f":"W10734/Y10734*'Cenové indexy '!$E$149","v":0},0,2017,"01","12","2017-01-12","Áno","Áno","Neurčené","Nie",null,"24 mesiacov","neurčené","24 hodín ","Zmluva 396_AT",null,null,null,null,null,{"$f":"VLOOKUP(M10734,Adresy!$A$4:$C$156,2,FALSE)","v":"Košice"},{"$f":"VLOOKUP(M10734,Adresy!$A$4:$C$156,3,FALSE)","v":"Ondavská č.8"},"M","2017M01",null,null,null,null,null,"Košice","Ondavská č.8",0,0,0,0]
["echokardiograf",null,"možnosť rozšírenia o TEE sondu",null,null,null,"neurčené",null,null,"neurčené","bez položkovej identifikácie ceny (v rámci sumárnej ceny)",null,"Východoslovenský ústav srdcových a cievnych chorôb, a.s.","SR","Siemens Healthcare s.r.o.",48146676,null,null,null,{"$f":"IF(N10735=\"SR\",1,IF(AC10735=\"\",VLOOKUP(AW10735,'CZKEUR Xchange rate'!$D$13:$E$234,2,FALSE),VLOOKUP(AW10735,'CZKEUR Xchange rate'!$A$13:$B$234,2,FALSE)))","v":1},0,0,null,null,{"$f":"VLOOKUP(AW10735,'Cenové indexy '!$D$7:$E$200,2,FALSE)","v":106.01},{"$f":"W10735/Y10735*'Cenové indexy '!$E$149","v":0},0,2017,"01","12","2017-01-12","Áno","Áno","Neurčené","Nie",null,"24 mesiacov","neurčené","24 hodín ","Zmluva 396_AT",null,null,null,null,null,{"$f":"VLOOKUP(M10735,Adresy!$A$4:$C$156,2,FALSE)","v":"Košice"},{"$f":"VLOOKUP(M10735,Adresy!$A$4:$C$156,3,FALSE)","v":"Ondavská č.8"},"M","2017M01",null,null,null,null,null,"Košice","Ondavská č.8",0,0,0,0]
["echokardiograf",null,"celá zostava",null,null,null,"Philips EPIQ 7","Philips EPIQ 7",null,"Philips","sumárna cena","HW/SW","Národný ústav srdcových a cievnych chorôb, a.s.","SR","S&T",31349935,2,205934,247120.8,{"$f":"IF(N10736=\"SR\",1,IF(AC10736=\"\",VLOOKUP(AW10736,'CZKEUR Xchange rate'!$D$13:$E$234,2,FALSE),VLOOKUP(AW10736,'CZKEUR Xchange rate'!$A$13:$B$234,2,FALSE)))","v":1},205934,247120.8,{"$f":"U10736/Q10736","v":102967},{"$f":"V10736/Q10736","v":123560.4},{"$f":"VLOOKUP(AW10736,'Cenové indexy '!$D$7:$E$200,2,FALSE)","v":103.65},{"$f":"W10736/Y10736*'Cenové indexy '!$E$149","v":102450.42653159671},122940.51183791604,2017,"04","24","2017-04-24","Áno","Áno","Neurčené","Nie",null,"24 mesiacov","neurčené","24 hodín ","Zmluva 397_AT",null,null,null,null,null,{"$f":"VLOOKUP(M10736,Adresy!$A$4:$C$156,2,FALSE)","v":"Bratislava"},{"$f":"VLOOKUP(M10736,Adresy!$A$4:$C$156,3,FALSE)","v":"Pod Krásnou hôrkou 1"},"M","2017M04",null,null,null,null,null,"Bratislava","Pod Krásnou hôrkou 1",0,0,0,0]
["echokardiograf",null,"architektúra systému","prístroj",null,null,"Philips EPIQ 7",null,null,"Philips","bez položkovej identifikácie ceny (v rámci sumárnej ceny)",null,"Národný ústav srdcových a cievnych chorôb, a.s.","SR","S&T",31349935,null,null,null,{"$f":"IF(N10737=\"SR\",1,IF(AC10737=\"\",VLOOKUP(AW10737,'CZKEUR Xchange rate'!$D$13:$E$234,2,FALSE),VLOOKUP(AW10737,'CZKEUR Xchange rate'!$A$13:$B$234,2,FALSE)))","v":1},0,0,null,null,{"$f":"VLOOKUP(AW10737,'Cenové indexy '!$D$7:$E$200,2,FALSE)","v":103.65},{"$f":"W10737/Y10737*'Cenové indexy '!$E$149","v":0},0,2017,"04","24","2017-04-24","Áno","Áno","Neurčené","Nie",null,"24 mesiacov","neurčené","24 hodín ","Zmluva 397_AT",null,null,null,null,null,{"$f":"VLOOKUP(M10737,Adresy!$A$4:$C$156,2,FALSE)","v":"Bratislava"},{"$f":"VLOOKUP(M10737,Adresy!$A$4:$C$156,3,FALSE)","v":"Pod Krásnou hôrkou 1"},"M","2017M04",null,null,null,null,null,"Bratislava","Pod Krásnou hôrkou 1",0,0,0,0]
["echokardiograf",null,"architektúra systému","monitor","\"20",null,"Philips EPIQ 7",null,null,"Philips","bez položkovej identifikácie ceny (v rámci sumárnej ceny)",null,"Národný ústav srdcových a cievnych chorôb, a.s.","SR","S&T",31349935,null,null,null,{"$f":"IF(N10738=\"SR\",1,IF(AC10738=\"\",VLOOKUP(AW10738,'CZKEUR Xchange rate'!$D$13:$E$234,2,FALSE),VLOOKUP(AW10738,'CZKEUR Xchange rate'!$A$13:$B$234,2,FALSE)))","v":1},0,0,null,null,{"$f":"VLOOKUP(AW10738,'Cenové indexy '!$D$7:$E$200,2,FALSE)","v":103.65},{"$f":"W10738/Y10738*'Cenové indexy '!$E$149","v":0},0,2017,"04","24","2017-04-24","Áno","Áno","Neurčené","Nie",null,"24 mesiacov","neurčené","24 hodín ","Zmluva 397_AT",null,null,null,null,null,{"$f":"VLOOKUP(M10738,Adresy!$A$4:$C$156,2,FALSE)","v":"Bratislava"},{"$f":"VLOOKUP(M10738,Adresy!$A$4:$C$156,3,FALSE)","v":"Pod Krásnou hôrkou 1"},"M","2017M04",null,null,null,null,null,"Bratislava","Pod Krásnou hôrkou 1",0,0,0,0]
["echokardiograf",null,"zobrazovacie režimy","2D",null,null,"Philips EPIQ 7",null,null,"Philips","bez položkovej identifikácie ceny (v rámci sumárnej ceny)",null,"Národný ústav srdcových a cievnych chorôb, a.s.","SR","S&T",31349935,null,null,null,{"$f":"IF(N10739=\"SR\",1,IF(AC10739=\"\",VLOOKUP(AW10739,'CZKEUR Xchange rate'!$D$13:$E$234,2,FALSE),VLOOKUP(AW10739,'CZKEUR Xchange rate'!$A$13:$B$234,2,FALSE)))","v":1},0,0,null,null,{"$f":"VLOOKUP(AW10739,'Cenové indexy '!$D$7:$E$200,2,FALSE)","v":103.65},{"$f":"W10739/Y10739*'Cenové indexy '!$E$149","v":0},0,2017,"04","24","2017-04-24","Áno","Áno","Neurčené","Nie",null,"24 mesiacov","neurčené","24 hodín ","Zmluva 397_AT",null,null,null,null,null,{"$f":"VLOOKUP(M10739,Adresy!$A$4:$C$156,2,FALSE)","v":"Bratislava"},{"$f":"VLOOKUP(M10739,Adresy!$A$4:$C$156,3,FALSE)","v":"Pod Krásnou hôrkou 1"},"M","2017M04",null,null,null,null,null,"Bratislava","Pod Krásnou hôrkou 1",0,0,0,0]
["echokardiograf",null,"zobrazovacie režimy","farebný Doppler (CFM)",null,null,"Philips EPIQ 7",null,null,"Philips","bez položkovej identifikácie ceny (v rámci sumárnej ceny)",null,"Národný ústav srdcových a cievnych chorôb, a.s.","SR","S&T",31349935,null,null,null,{"$f":"IF(N10740=\"SR\",1,IF(AC10740=\"\",VLOOKUP(AW10740,'CZKEUR Xchange rate'!$D$13:$E$234,2,FALSE),VLOOKUP(AW10740,'CZKEUR Xchange rate'!$A$13:$B$234,2,FALSE)))","v":1},0,0,null,null,{"$f":"VLOOKUP(AW10740,'Cenové indexy '!$D$7:$E$200,2,FALSE)","v":103.65},{"$f":"W10740/Y10740*'Cenové indexy '!$E$149","v":0},0,2017,"04","24","2017-04-24","Áno","Áno","Neurčené","Nie",null,"24 mesiacov","neurčené","24 hodín ","Zmluva 397_AT",null,null,null,null,null,{"$f":"VLOOKUP(M10740,Adresy!$A$4:$C$156,2,FALSE)","v":"Bratislava"},{"$f":"VLOOKUP(M10740,Adresy!$A$4:$C$156,3,FALSE)","v":"Pod Krásnou hôrkou 1"},"M","2017M04",null,null,null,null,null,"Bratislava","Pod Krásnou hôrkou 1",0,0,0,0]
["echokardiograf",null,"zobrazovacie režimy","pulzný Doppler (PW)",null,null,"Philips EPIQ 7",null,null,"Philips","bez položkovej identifikácie ceny (v rámci sumárnej ceny)",null,"Národný ústav srdcových a cievnych chorôb, a.s.","SR","S&T",31349935,null,null,null,{"$f":"IF(N10741=\"SR\",1,IF(AC10741=\"\",VLOOKUP(AW10741,'CZKEUR Xchange rate'!$D$13:$E$234,2,FALSE),VLOOKUP(AW10741,'CZKEUR Xchange rate'!$A$13:$B$234,2,FALSE)))","v":1},0,0,null,null,{"$f":"VLOOKUP(AW10741,'Cenové indexy '!$D$7:$E$200,2,FALSE)","v":103.65},{"$f":"W10741/Y10741*'Cenové indexy '!$E$149","v":0},0,2017,"04","24","2017-04-24","Áno","Áno","Neurčené","Nie",null,"24 mesiacov","neurčené","24 hodín ","Zmluva 397_AT",null,null,null,null,null,{"$f":"VLOOKUP(M10741,Adresy!$A$4:$C$156,2,FALSE)","v":"Bratislava"},{"$f":"VLOOKUP(M10741,Adresy!$A$4:$C$156,3,FALSE)","v":"Pod Krásnou hôrkou 1"},"M","2017M04",null,null,null,null,null,"Bratislava","Pod Krásnou hôrkou 1",0,0,0,0]
["echokardiograf",null,"zobrazovacie režimy","kontinuálny Doppler (CW)",null,null,"Philips EPIQ 7",null,null,"Philips","bez položkovej identifikácie ceny (v rámci sumárnej ceny)",null,"Národný ústav srdcových a cievnych chorôb, a.s.","SR","S&T",31349935,null,null,null,{"$f":"IF(N10742=\"SR\",1,IF(AC10742=\"\",VLOOKUP(AW10742,'CZKEUR Xchange rate'!$D$13:$E$234,2,FALSE),VLOOKUP(AW10742,'CZKEUR Xchange rate'!$A$13:$B$234,2,FALSE)))","v":1},0,0,null,null,{"$f":"VLOOKUP(AW10742,'Cenové indexy '!$D$7:$E$200,2,FALSE)","v":103.65},{"$f":"W10742/Y10742*'Cenové indexy '!$E$149","v":0},0,2017,"04","24","2017-04-24","Áno","Áno","Neurčené","Nie",null,"24 mesiacov","neurčené","24 hodín ","Zmluva 397_AT",null,null,null,null,null,{"$f":"VLOOKUP(M10742,Adresy!$A$4:$C$156,2,FALSE)","v":"Bratislava"},{"$f":"VLOOKUP(M10742,Adresy!$A$4:$C$156,3,FALSE)","v":"Pod Krásnou hôrkou 1"},"M","2017M04",null,null,null,null,null,"Bratislava","Pod Krásnou hôrkou 1",0,0,0,0]
["echokardiograf",null,"zobrazovacie režimy","TDI",null,null,"Philips EPIQ 7",null,null,"Philips","bez položkovej identifikácie ceny (v rámci sumárnej ceny)",null,"Národný ústav srdcových a cievnych chorôb, a.s.","SR","S&T",31349935,null,null,null,{"$f":"IF(N10743=\"SR\",1,IF(AC10743=\"\",VLOOKUP(AW10743,'CZKEUR Xchange rate'!$D$13:$E$234,2,FALSE),VLOOKUP(AW10743,'CZKEUR Xchange rate'!$A$13:$B$234,2,FALSE)))","v":1},0,0,null,null,{"$f":"VLOOKUP(AW10743,'Cenové indexy '!$D$7:$E$200,2,FALSE)","v":103.65},{"$f":"W10743/Y10743*'Cenové indexy '!$E$149","v":0},0,2017,"04","24","2017-04-24","Áno","Áno","Neurčené","Nie",null,"24 mesiacov","neurčené","24 hodín ","Zmluva 397_AT",null,null,null,null,null,{"$f":"VLOOKUP(M10743,Adresy!$A$4:$C$156,2,FALSE)","v":"Bratislava"},{"$f":"VLOOKUP(M10743,Adresy!$A$4:$C$156,3,FALSE)","v":"Pod Krásnou hôrkou 1"},"M","2017M04",null,null,null,null,null,"Bratislava","Pod Krásnou hôrkou 1",0,0,0,0]
["echokardiograf",null,"zobrazovacie režimy","M-mód",null,null,"Philips EPIQ 7",null,null,"Philips","bez položkovej identifikácie ceny (v rámci sumárnej ceny)",null,"Národný ústav srdcových a cievnych chorôb, a.s.","SR","S&T",31349935,null,null,null,{"$f":"IF(N10744=\"SR\",1,IF(AC10744=\"\",VLOOKUP(AW10744,'CZKEUR Xchange rate'!$D$13:$E$234,2,FALSE),VLOOKUP(AW10744,'CZKEUR Xchange rate'!$A$13:$B$234,2,FALSE)))","v":1},0,0,null,null,{"$f":"VLOOKUP(AW10744,'Cenové indexy '!$D$7:$E$200,2,FALSE)","v":103.65},{"$f":"W10744/Y10744*'Cenové indexy '!$E$149","v":0},0,2017,"04","24",{"$f":"DATE(AB10744,AC10744,AD10744)","v":"2017-04-24"},"Áno","Áno","Neurčené","Nie",null,"24 mesiacov","neurčené","24 hodín ","Zmluva 397_AT",null,null,null,null,null,{"$f":"VLOOKUP(M10744,Adresy!$A$4:$C$156,2,FALSE)","v":"Bratislava"},{"$f":"VLOOKUP(M10744,Adresy!$A$4:$C$156,3,FALSE)","v":"Pod Krásnou hôrkou 1"},"M","2017M04",null,null,null,null,null,"Bratislava","Pod Krásnou hôrkou 1",0,0,0,0]
["echokardiograf",null,"archivácia a prenos","Native RAW Data, *BMP/ekvivalent, *AVI/ekvivalent, DICOM",null,null,"Philips EPIQ 7",null,null,"Philips","bez položkovej identifikácie ceny (v rámci sumárnej ceny)",null,"Národný ústav srdcových a cievnych chorôb, a.s.","SR","S&T",31349935,null,null,null,{"$f":"IF(N10745=\"SR\",1,IF(AC10745=\"\",VLOOKUP(AW10745,'CZKEUR Xchange rate'!$D$13:$E$234,2,FALSE),VLOOKUP(AW10745,'CZKEUR Xchange rate'!$A$13:$B$234,2,FALSE)))","v":1},0,0,null,null,{"$f":"VLOOKUP(AW10745,'Cenové indexy '!$D$7:$E$200,2,FALSE)","v":103.65},{"$f":"W10745/Y10745*'Cenové indexy '!$E$149","v":0},0,2017,"04","24","2017-04-24","Áno","Áno","Neurčené","Nie",null,"24 mesiacov","neurčené","24 hodín ","Zmluva 397_AT",null,null,null,null,null,{"$f":"VLOOKUP(M10745,Adresy!$A$4:$C$156,2,FALSE)","v":"Bratislava"},{"$f":"VLOOKUP(M10745,Adresy!$A$4:$C$156,3,FALSE)","v":"Pod Krásnou hôrkou 1"},"M","2017M04",null,null,null,null,null,"Bratislava","Pod Krásnou hôrkou 1",0,0,0,0]
["echokardiograf",null,"archivácia a prenos","čiernobiela termocitlivá tlačiareň",null,null,"Philips EPIQ 7",null,null,"Philips","bez položkovej identifikácie ceny (v rámci sumárnej ceny)",null,"Národný ústav srdcových a cievnych chorôb, a.s.","SR","S&T",31349935,null,null,null,{"$f":"IF(N10746=\"SR\",1,IF(AC10746=\"\",VLOOKUP(AW10746,'CZKEUR Xchange rate'!$D$13:$E$234,2,FALSE),VLOOKUP(AW10746,'CZKEUR Xchange rate'!$A$13:$B$234,2,FALSE)))","v":1},0,0,null,null,{"$f":"VLOOKUP(AW10746,'Cenové indexy '!$D$7:$E$200,2,FALSE)","v":103.65},{"$f":"W10746/Y10746*'Cenové indexy '!$E$149","v":0},0,2017,"04","24","2017-04-24","Áno","Áno","Neurčené","Nie",null,"24 mesiacov","neurčené","24 hodín ","Zmluva 397_AT",null,null,null,null,null,{"$f":"VLOOKUP(M10746,Adresy!$A$4:$C$156,2,FALSE)","v":"Bratislava"},{"$f":"VLOOKUP(M10746,Adresy!$A$4:$C$156,3,FALSE)","v":"Pod Krásnou hôrkou 1"},"M","2017M04",null,null,null,null,null,"Bratislava","Pod Krásnou hôrkou 1",0,0,0,0]
["echokardiograf",null,"sondy","sektorová transtorakálna sonda","1,25-4,25 MHz",null,"Philips EPIQ 7",null,null,"Philips","bez položkovej identifikácie ceny (v rámci sumárnej ceny)",null,"Národný ústav srdcových a cievnych chorôb, a.s.","SR","S&T",31349935,null,null,null,{"$f":"IF(N10747=\"SR\",1,IF(AC10747=\"\",VLOOKUP(AW10747,'CZKEUR Xchange rate'!$D$13:$E$234,2,FALSE),VLOOKUP(AW10747,'CZKEUR Xchange rate'!$A$13:$B$234,2,FALSE)))","v":1},0,0,null,null,{"$f":"VLOOKUP(AW10747,'Cenové indexy '!$D$7:$E$200,2,FALSE)","v":103.65},{"$f":"W10747/Y10747*'Cenové indexy '!$E$149","v":0},0,2017,"04","24","2017-04-24","Áno","Áno","Neurčené","Nie",null,"24 mesiacov","neurčené","24 hodín ","Zmluva 397_AT",null,null,null,null,null,{"$f":"VLOOKUP(M10747,Adresy!$A$4:$C$156,2,FALSE)","v":"Bratislava"},{"$f":"VLOOKUP(M10747,Adresy!$A$4:$C$156,3,FALSE)","v":"Pod Krásnou hôrkou 1"},"M","2017M04",null,null,null,null,null,"Bratislava","Pod Krásnou hôrkou 1",0,0,0,0]
["echokardiograf",null,"sondy","transezofageálna sonda","3-6,3 MHz",null,"Philips EPIQ 7",null,null,"Philips","bez položkovej identifikácie ceny (v rámci sumárnej ceny)",null,"Národný ústav srdcových a cievnych chorôb, a.s.","SR","S&T",31349935,null,null,null,{"$f":"IF(N10748=\"SR\",1,IF(AC10748=\"\",VLOOKUP(AW10748,'CZKEUR Xchange rate'!$D$13:$E$234,2,FALSE),VLOOKUP(AW10748,'CZKEUR Xchange rate'!$A$13:$B$234,2,FALSE)))","v":1},0,0,null,null,{"$f":"VLOOKUP(AW10748,'Cenové indexy '!$D$7:$E$200,2,FALSE)","v":103.65},{"$f":"W10748/Y10748*'Cenové indexy '!$E$149","v":0},0,2017,"04","24","2017-04-24","Áno","Áno","Neurčené","Nie",null,"24 mesiacov","neurčené","24 hodín ","Zmluva 397_AT",null,null,null,null,null,{"$f":"VLOOKUP(M10748,Adresy!$A$4:$C$156,2,FALSE)","v":"Bratislava"},{"$f":"VLOOKUP(M10748,Adresy!$A$4:$C$156,3,FALSE)","v":"Pod Krásnou hôrkou 1"},"M","2017M04",null,null,null,null,null,"Bratislava","Pod Krásnou hôrkou 1",0,0,0,0]
["echokardiograf",null,"možnosť neskoršieho rozšírenia funkčnosti prístroja o:","Live 3D/4D, real-time biplanárne zobrazenie pomocou objemovej už ponúkanej TEE sondy a objemovej TTE sondy s frekvenčným rozsahom minimálne 1,5-3,5 MHz",null,null,"Philips EPIQ 7",null,null,"Philips","bez položkovej identifikácie ceny (v rámci sumárnej ceny)",null,"Národný ústav srdcových a cievnych chorôb, a.s.","SR","S&T",31349935,null,null,null,{"$f":"IF(N10749=\"SR\",1,IF(AC10749=\"\",VLOOKUP(AW10749,'CZKEUR Xchange rate'!$D$13:$E$234,2,FALSE),VLOOKUP(AW10749,'CZKEUR Xchange rate'!$A$13:$B$234,2,FALSE)))","v":1},0,0,null,null,{"$f":"VLOOKUP(AW10749,'Cenové indexy '!$D$7:$E$200,2,FALSE)","v":103.65},{"$f":"W10749/Y10749*'Cenové indexy '!$E$149","v":0},0,2017,"04","24","2017-04-24","Áno","Áno","Neurčené","Nie",null,"24 mesiacov","neurčené","24 hodín ","Zmluva 397_AT",null,null,null,null,null,{"$f":"VLOOKUP(M10749,Adresy!$A$4:$C$156,2,FALSE)","v":"Bratislava"},{"$f":"VLOOKUP(M10749,Adresy!$A$4:$C$156,3,FALSE)","v":"Pod Krásnou hôrkou 1"},"M","2017M04",null,null,null,null,null,"Bratislava","Pod Krásnou hôrkou 1",0,0,0,0]
["echokardiograf",null,"možnosť neskoršieho rozšírenia funkčnosti prístroja o:","automatický výpočet EF a globálneho longitudinálneho strainu speckle tracking metódou",null,null,"Philips EPIQ 7",null,null,"Philips","bez položkovej identifikácie ceny (v rámci sumárnej ceny)",null,"Národný ústav srdcových a cievnych chorôb, a.s.","SR","S&T",31349935,null,null,null,{"$f":"IF(N10750=\"SR\",1,IF(AC10750=\"\",VLOOKUP(AW10750,'CZKEUR Xchange rate'!$D$13:$E$234,2,FALSE),VLOOKUP(AW10750,'CZKEUR Xchange rate'!$A$13:$B$234,2,FALSE)))","v":1},0,0,null,null,{"$f":"VLOOKUP(AW10750,'Cenové indexy '!$D$7:$E$200,2,FALSE)","v":103.65},{"$f":"W10750/Y10750*'Cenové indexy '!$E$149","v":0},0,2017,"04","24","2017-04-24","Áno","Áno","Neurčené","Nie",null,"24 mesiacov","neurčené","24 hodín ","Zmluva 397_AT",null,null,null,null,null,{"$f":"VLOOKUP(M10750,Adresy!$A$4:$C$156,2,FALSE)","v":"Bratislava"},{"$f":"VLOOKUP(M10750,Adresy!$A$4:$C$156,3,FALSE)","v":"Pod Krásnou hôrkou 1"},"M","2017M04",null,null,null,null,null,"Bratislava","Pod Krásnou hôrkou 1",0,0,0,0]
["echokardiograf",null,"možnosť neskoršieho rozšírenia funkčnosti prístroja o:","programové vybavenie pre nadštandardnú kvantifikáciu ĽK so semi-automatickou detekciou hraníc myokardu",null,null,"Philips EPIQ 7",null,null,"Philips","bez položkovej identifikácie ceny (v rámci sumárnej ceny)",null,"Národný ústav srdcových a cievnych chorôb, a.s.","SR","S&T",31349935,null,null,null,{"$f":"IF(N10751=\"SR\",1,IF(AC10751=\"\",VLOOKUP(AW10751,'CZKEUR Xchange rate'!$D$13:$E$234,2,FALSE),VLOOKUP(AW10751,'CZKEUR Xchange rate'!$A$13:$B$234,2,FALSE)))","v":1},0,0,null,null,{"$f":"VLOOKUP(AW10751,'Cenové indexy '!$D$7:$E$200,2,FALSE)","v":103.65},{"$f":"W10751/Y10751*'Cenové indexy '!$E$149","v":0},0,2017,"04","24","2017-04-24","Áno","Áno","Neurčené","Nie",null,"24 mesiacov","neurčené","24 hodín ","Zmluva 397_AT",null,null,null,null,null,{"$f":"VLOOKUP(M10751,Adresy!$A$4:$C$156,2,FALSE)","v":"Bratislava"},{"$f":"VLOOKUP(M10751,Adresy!$A$4:$C$156,3,FALSE)","v":"Pod Krásnou hôrkou 1"},"M","2017M04",null,null,null,null,null,"Bratislava","Pod Krásnou hôrkou 1",0,0,0,0]
["echokardiograf",null,"možnosť neskoršieho rozšírenia funkčnosti prístroja o:","programové vybavenie pre nadštandardnú objemovú kvantifikáciu ĽK",null,null,"Philips EPIQ 7",null,null,"Philips","bez položkovej identifikácie ceny (v rámci sumárnej ceny)",null,"Národný ústav srdcových a cievnych chorôb, a.s.","SR","S&T",31349935,null,null,null,{"$f":"IF(N10752=\"SR\",1,IF(AC10752=\"\",VLOOKUP(AW10752,'CZKEUR Xchange rate'!$D$13:$E$234,2,FALSE),VLOOKUP(AW10752,'CZKEUR Xchange rate'!$A$13:$B$234,2,FALSE)))","v":1},0,0,null,null,{"$f":"VLOOKUP(AW10752,'Cenové indexy '!$D$7:$E$200,2,FALSE)","v":103.65},{"$f":"W10752/Y10752*'Cenové indexy '!$E$149","v":0},0,2017,"04","24","2017-04-24","Áno","Áno","Neurčené","Nie",null,"24 mesiacov","neurčené","24 hodín ","Zmluva 397_AT",null,null,null,null,null,{"$f":"VLOOKUP(M10752,Adresy!$A$4:$C$156,2,FALSE)","v":"Bratislava"},{"$f":"VLOOKUP(M10752,Adresy!$A$4:$C$156,3,FALSE)","v":"Pod Krásnou hôrkou 1"},"M","2017M04",null,null,null,null,null,"Bratislava","Pod Krásnou hôrkou 1",0,0,0,0]
["echokardiograf",null,"možnosť neskoršieho rozšírenia funkčnosti prístroja o:","nadštandardná funkcia automatického výpočtu objemu ĽK a ĽP z nasnímaného 3D obrazu s výpočtami EF a SV",null,null,"Philips EPIQ 7",null,null,"Philips","bez položkovej identifikácie ceny (v rámci sumárnej ceny)",null,"Národný ústav srdcových a cievnych chorôb, a.s.","SR","S&T",31349935,null,null,null,{"$f":"IF(N10753=\"SR\",1,IF(AC10753=\"\",VLOOKUP(AW10753,'CZKEUR Xchange rate'!$D$13:$E$234,2,FALSE),VLOOKUP(AW10753,'CZKEUR Xchange rate'!$A$13:$B$234,2,FALSE)))","v":1},0,0,null,null,{"$f":"VLOOKUP(AW10753,'Cenové indexy '!$D$7:$E$200,2,FALSE)","v":103.65},{"$f":"W10753/Y10753*'Cenové indexy '!$E$149","v":0},0,2017,"04","24","2017-04-24","Áno","Áno","Neurčené","Nie",null,"24 mesiacov","neurčené","24 hodín ","Zmluva 397_AT",null,null,null,null,null,{"$f":"VLOOKUP(M10753,Adresy!$A$4:$C$156,2,FALSE)","v":"Bratislava"},{"$f":"VLOOKUP(M10753,Adresy!$A$4:$C$156,3,FALSE)","v":"Pod Krásnou hôrkou 1"},"M","2017M04",null,null,null,null,null,"Bratislava","Pod Krásnou hôrkou 1",0,0,0,0]
["echokardiograf",null,"možnosť neskoršieho rozšírenia funkčnosti prístroja o:","Stress Echo",null,null,"Philips EPIQ 7",null,null,"Philips","bez položkovej identifikácie ceny (v rámci sumárnej ceny)",null,"Národný ústav srdcových a cievnych chorôb, a.s.","SR","S&T",31349935,null,null,null,{"$f":"IF(N10754=\"SR\",1,IF(AC10754=\"\",VLOOKUP(AW10754,'CZKEUR Xchange rate'!$D$13:$E$234,2,FALSE),VLOOKUP(AW10754,'CZKEUR Xchange rate'!$A$13:$B$234,2,FALSE)))","v":1},0,0,null,null,{"$f":"VLOOKUP(AW10754,'Cenové indexy '!$D$7:$E$200,2,FALSE)","v":103.65},{"$f":"W10754/Y10754*'Cenové indexy '!$E$149","v":0},{"$f":"Z10754*1.2","v":0},2017,"04","24","2017-04-24","Áno","Áno","Neurčené","Nie",null,"24 mesiacov","neurčené","24 hodín ","Zmluva 397_AT",null,null,null,null,null,{"$f":"VLOOKUP(M10754,Adresy!$A$4:$C$156,2,FALSE)","v":"Bratislava"},{"$f":"VLOOKUP(M10754,Adresy!$A$4:$C$156,3,FALSE)","v":"Pod Krásnou hôrkou 1"},"M","2017M04",null,null,null,null,null,"Bratislava","Pod Krásnou hôrkou 1",{"$f":"IF(BC10754<>AT10754,1,0)","v":0},0,0,0]
["fakoemulzifikačný prístroj",null,"fakoemulzifikačný prístroj","celá zostava ",null,null,"EVA ",null,"mikrochirurgický systém ","neurčené","sumárna cena","HW/SW","Fakultná nemocnica s poliklinkou Žilina","SR","Medilas s.r.o.",31332528,1,{"$f":"SUM(R10756:R10761)","v":113647.04999999999},{"$f":"SUM(S10756:S10761)","v":136376.46},{"$f":"IF(N10755=\"SR\",1,IF(AC10755=\"\",VLOOKUP(AW10755,'CZKEUR Xchange rate'!$D$13:$E$234,2,FALSE),VLOOKUP(AW10755,'CZKEUR Xchange rate'!$A$13:$B$234,2,FALSE)))","v":1},113647.04999999999,136376.46,{"$f":"U10755/Q10755","v":113647.04999999999},{"$f":"V10755/Q10755","v":136376.46},{"$f":"VLOOKUP(AW10755,'Cenové indexy '!$D$7:$E$200,2,FALSE)","v":101.44},{"$f":"W10755/Y10755*'Cenové indexy '!$E$149","v":115540.42060824131},138648.50472988957,2016,"04","18","2016-04-18","Áno","Áno","Neurčené","Nie","24 mesiacov","neurčené","neurčené","neurčené","Zmluva 143_NF",null,null,null,null,null,{"$f":"VLOOKUP(M10755,Adresy!$A$4:$C$156,2,FALSE)","v":"Žilina"},{"$f":"VLOOKUP(M10755,Adresy!$A$4:$C$156,3,FALSE)","v":"Vojtecha Spanyola 43"},"M",{"$f":"IF(AC10755=\"\",CONCATENATE(AB10755,AV10755,\"06\"),IF(LEN(AC10755)=1,CONCATENATE(AB10755,AV10755,\"0\"&AC10755),CONCATENATE(AB10755,AV10755,AC10755)))","v":"2016M04"},null,null,null,null,null,{"$f":"VLOOKUP(M10755,Adresy!$A$3:$C$122,2,FALSE)","v":"Žilina"},{"$f":"VLOOKUP(M10755,Adresy!$A$3:$C$122,3,FALSE)","v":"Vojtecha Spanyola 43"},0,0,0,0]
["fakoemulzifikačný prístroj",null,"fakoemulzifikačný prístroj","phaco rukoväť na fakoemulzifikáciu a fakofragment",null,null,"EVA ",null,"mikrochirurgický systém ","neurčené","položková cena (súčasť sumárnej ceny)",null,"Fakultná nemocnica s poliklinkou Žilina","SR","Medilas s.r.o.",31332528,2,7532,9038.4,{"$f":"IF(N10756=\"SR\",1,IF(AC10756=\"\",VLOOKUP(AW10756,'CZKEUR Xchange rate'!$D$13:$E$234,2,FALSE),VLOOKUP(AW10756,'CZKEUR Xchange rate'!$A$13:$B$234,2,FALSE)))","v":1},7532,9038.4,{"$f":"U10756/Q10756","v":3766},{"$f":"V10756/Q10756","v":4519.2},{"$f":"VLOOKUP(AW10756,'Cenové indexy '!$D$7:$E$200,2,FALSE)","v":101.44},{"$f":"W10756/Y10756*'Cenové indexy '!$E$149","v":3828.7419164037856},4594.4902996845422,2016,"04","18","2016-04-18","Áno","Áno","Neurčené","Nie","24 mesiacov","neurčené","neurčené","neurčené","Zmluva 143_NF",null,null,null,null,null,{"$f":"VLOOKUP(M10756,Adresy!$A$4:$C$156,2,FALSE)","v":"Žilina"},{"$f":"VLOOKUP(M10756,Adresy!$A$4:$C$156,3,FALSE)","v":"Vojtecha Spanyola 43"},"M","2016M04",null,null,null,null,null,{"$f":"VLOOKUP(M10756,Adresy!$A$3:$C$122,2,FALSE)","v":"Žilina"},{"$f":"VLOOKUP(M10756,Adresy!$A$3:$C$122,3,FALSE)","v":"Vojtecha Spanyola 43"},0,0,0,0]
["fakoemulzifikačný prístroj",null,"fakoemulzifikačný prístroj","endodiatermická rúčka 20 G",null,null,"EVA ",null,"mikrochirurgický systém ","neurčené","položková cena (súčasť sumárnej ceny)",null,"Fakultná nemocnica s poliklinkou Žilina","SR","Medilas s.r.o.",31332528,1,300,360,{"$f":"IF(N10757=\"SR\",1,IF(AC10757=\"\",VLOOKUP(AW10757,'CZKEUR Xchange rate'!$D$13:$E$234,2,FALSE),VLOOKUP(AW10757,'CZKEUR Xchange rate'!$A$13:$B$234,2,FALSE)))","v":1},300,360,300,360,{"$f":"VLOOKUP(AW10757,'Cenové indexy '!$D$7:$E$200,2,FALSE)","v":101.44},{"$f":"W10757/Y10757*'Cenové indexy '!$E$149","v":304.99802839116722},365.99763406940065,2016,"04","18","2016-04-18","Áno","Áno","Neurčené","Nie","24 mesiacov","neurčené","neurčené","neurčené","Zmluva 143_NF",null,null,null,null,null,{"$f":"VLOOKUP(M10757,Adresy!$A$4:$C$156,2,FALSE)","v":"Žilina"},{"$f":"VLOOKUP(M10757,Adresy!$A$4:$C$156,3,FALSE)","v":"Vojtecha Spanyola 43"},"M","2016M04",null,null,null,null,null,{"$f":"VLOOKUP(M10757,Adresy!$A$3:$C$122,2,FALSE)","v":"Žilina"},{"$f":"VLOOKUP(M10757,Adresy!$A$3:$C$122,3,FALSE)","v":"Vojtecha Spanyola 43"},0,0,0,0]
["fakoemulzifikačný prístroj",null,"fakoemulzifikačný prístroj","kábel pre endodiatermickú sondu ",null,null,"EVA ",null,"mikrochirurgický systém ","neurčené","položková cena (súčasť sumárnej ceny)",null,"Fakultná nemocnica s poliklinkou Žilina","SR","Medilas s.r.o.",31332528,1,242,290.39999999999998,{"$f":"IF(N10758=\"SR\",1,IF(AC10758=\"\",VLOOKUP(AW10758,'CZKEUR Xchange rate'!$D$13:$E$234,2,FALSE),VLOOKUP(AW10758,'CZKEUR Xchange rate'!$A$13:$B$234,2,FALSE)))","v":1},242,290.39999999999998,242,290.39999999999998,{"$f":"VLOOKUP(AW10758,'Cenové indexy '!$D$7:$E$200,2,FALSE)","v":101.44},{"$f":"W10758/Y10758*'Cenové indexy '!$E$149","v":246.03174290220821},295.23809148264985,2016,"04","18","2016-04-18","Áno","Áno","Neurčené","Nie","24 mesiacov","neurčené","neurčené","neurčené","Zmluva 143_NF",null,null,null,null,null,{"$f":"VLOOKUP(M10758,Adresy!$A$4:$C$156,2,FALSE)","v":"Žilina"},{"$f":"VLOOKUP(M10758,Adresy!$A$4:$C$156,3,FALSE)","v":"Vojtecha Spanyola 43"},"M","2016M04",null,null,null,null,null,{"$f":"VLOOKUP(M10758,Adresy!$A$3:$C$122,2,FALSE)","v":"Žilina"},{"$f":"VLOOKUP(M10758,Adresy!$A$3:$C$122,3,FALSE)","v":"Vojtecha Spanyola 43"},0,0,0,0]
["fakoemulzifikačný prístroj",null,"fakoemulzifikačný prístroj","bipolárna koagulačná pinzeta ",null,null,"EVA ",null,"mikrochirurgický systém ","neurčené","položková cena (súčasť sumárnej ceny)",null,"Fakultná nemocnica s poliklinkou Žilina","SR","Medilas s.r.o.",31332528,1,596.70000000000005,716.04,{"$f":"IF(N10759=\"SR\",1,IF(AC10759=\"\",VLOOKUP(AW10759,'CZKEUR Xchange rate'!$D$13:$E$234,2,FALSE),VLOOKUP(AW10759,'CZKEUR Xchange rate'!$A$13:$B$234,2,FALSE)))","v":1},596.70000000000005,716.04,596.70000000000005,716.04,{"$f":"VLOOKUP(AW10759,'Cenové indexy '!$D$7:$E$200,2,FALSE)","v":101.44},{"$f":"W10759/Y10759*'Cenové indexy '!$E$149","v":606.64107847003163},727.96929416403793,2016,"04","18","2016-04-18","Áno","Áno","Neurčené","Nie","24 mesiacov","neurčené","neurčené","neurčené","Zmluva 143_NF",null,null,null,null,null,{"$f":"VLOOKUP(M10759,Adresy!$A$4:$C$156,2,FALSE)","v":"Žilina"},{"$f":"VLOOKUP(M10759,Adresy!$A$4:$C$156,3,FALSE)","v":"Vojtecha Spanyola 43"},"M","2016M04",null,null,null,null,null,{"$f":"VLOOKUP(M10759,Adresy!$A$3:$C$122,2,FALSE)","v":"Žilina"},{"$f":"VLOOKUP(M10759,Adresy!$A$3:$C$122,3,FALSE)","v":"Vojtecha Spanyola 43"},0,0,0,0]
["fakoemulzifikačný prístroj",null,"fakoemulzifikačný prístroj","kábel pre bipolárnu diatermickú pinzetu ",null,null,"EVA ",null,"mikrochirurgický systém ","neurčené","položková cena (súčasť sumárnej ceny)",null,"Fakultná nemocnica s poliklinkou Žilina","SR","Medilas s.r.o.",31332528,1,291.7,350.04,{"$f":"IF(N10760=\"SR\",1,IF(AC10760=\"\",VLOOKUP(AW10760,'CZKEUR Xchange rate'!$D$13:$E$234,2,FALSE),VLOOKUP(AW10760,'CZKEUR Xchange rate'!$A$13:$B$234,2,FALSE)))","v":1},291.7,350.04,291.7,350.04,{"$f":"VLOOKUP(AW10760,'Cenové indexy '!$D$7:$E$200,2,FALSE)","v":101.44},{"$f":"W10760/Y10760*'Cenové indexy '!$E$149","v":296.55974960567823},355.87169952681387,2016,"04","18","2016-04-18","Áno","Áno","Neurčené","Nie","24 mesiacov","neurčené","neurčené","neurčené","Zmluva 143_NF",null,null,null,null,null,{"$f":"VLOOKUP(M10760,Adresy!$A$4:$C$156,2,FALSE)","v":"Žilina"},{"$f":"VLOOKUP(M10760,Adresy!$A$4:$C$156,3,FALSE)","v":"Vojtecha Spanyola 43"},"M","2016M04",null,null,null,null,null,{"$f":"VLOOKUP(M10760,Adresy!$A$3:$C$122,2,FALSE)","v":"Žilina"},{"$f":"VLOOKUP(M10760,Adresy!$A$3:$C$122,3,FALSE)","v":"Vojtecha Spanyola 43"},0,0,0,0]
["fakoemulzifikačný prístroj",null,"fakoemulzifikačný prístroj","mikrochirurgický systém ",null,null,"EVA ",null,"mikrochirurgický systém ","neurčené","položková cena (súčasť sumárnej ceny)",null,"Fakultná nemocnica s poliklinkou Žilina","SR","Medilas s.r.o.",31332528,1,104684.65,125621.58,{"$f":"IF(N10761=\"SR\",1,IF(AC10761=\"\",VLOOKUP(AW10761,'CZKEUR Xchange rate'!$D$13:$E$234,2,FALSE),VLOOKUP(AW10761,'CZKEUR Xchange rate'!$A$13:$B$234,2,FALSE)))","v":1},104684.65,125621.58,104684.65,125621.58,{"$f":"VLOOKUP(AW10761,'Cenové indexy '!$D$7:$E$200,2,FALSE)","v":101.44},{"$f":"W10761/Y10761*'Cenové indexy '!$E$149","v":106428.70617606466},127714.44741127759,2016,"04","18","2016-04-18","Áno","Áno","Neurčené","Nie","24 mesiacov","neurčené","neurčené","neurčené","Zmluva 143_NF",null,null,null,null,null,{"$f":"VLOOKUP(M10761,Adresy!$A$4:$C$156,2,FALSE)","v":"Žilina"},{"$f":"VLOOKUP(M10761,Adresy!$A$4:$C$156,3,FALSE)","v":"Vojtecha Spanyola 43"},"M","2016M04",null,null,null,null,null,{"$f":"VLOOKUP(M10761,Adresy!$A$3:$C$122,2,FALSE)","v":"Žilina"},{"$f":"VLOOKUP(M10761,Adresy!$A$3:$C$122,3,FALSE)","v":"Vojtecha Spanyola 43"},0,0,0,0]
["fakoemulzifikačný prístroj",null,"fakoemulzifikačný prístroj","monitor ","19\"",null,"EVA ",null,"mikrochirurgický systém ","neurčené","bez položkovej identifikácie ceny (v rámci sumárnej ceny)",null,"Fakultná nemocnica s poliklinkou Žilina","SR","Medilas s.r.o.",31332528,1,null,null,{"$f":"IF(N10762=\"SR\",1,IF(AC10762=\"\",VLOOKUP(AW10762,'CZKEUR Xchange rate'!$D$13:$E$234,2,FALSE),VLOOKUP(AW10762,'CZKEUR Xchange rate'!$A$13:$B$234,2,FALSE)))","v":1},0,0,null,null,{"$f":"VLOOKUP(AW10762,'Cenové indexy '!$D$7:$E$200,2,FALSE)","v":101.44},{"$f":"W10762/Y10762*'Cenové indexy '!$E$149","v":0},0,2016,"04","18","2016-04-18","Áno","Áno","Neurčené","Nie","24 mesiacov","neurčené","neurčené","neurčené","Zmluva 143_NF",null,null,null,null,null,{"$f":"VLOOKUP(M10762,Adresy!$A$4:$C$156,2,FALSE)","v":"Žilina"},{"$f":"VLOOKUP(M10762,Adresy!$A$4:$C$156,3,FALSE)","v":"Vojtecha Spanyola 43"},"M","2016M04",null,null,null,null,null,{"$f":"VLOOKUP(M10762,Adresy!$A$3:$C$122,2,FALSE)","v":"Žilina"},{"$f":"VLOOKUP(M10762,Adresy!$A$3:$C$122,3,FALSE)","v":"Vojtecha Spanyola 43"},0,0,0,0]
["fakoemulzifikačný prístroj",null,"fakoemulzifikačný prístroj","pumpa ",null,null,"EVA ","VacuFlow Vti","mikrochirurgický systém ","neurčené","bez položkovej identifikácie ceny (v rámci sumárnej ceny)",null,"Fakultná nemocnica s poliklinkou Žilina","SR","Medilas s.r.o.",31332528,1,null,null,{"$f":"IF(N10763=\"SR\",1,IF(AC10763=\"\",VLOOKUP(AW10763,'CZKEUR Xchange rate'!$D$13:$E$234,2,FALSE),VLOOKUP(AW10763,'CZKEUR Xchange rate'!$A$13:$B$234,2,FALSE)))","v":1},0,0,null,null,{"$f":"VLOOKUP(AW10763,'Cenové indexy '!$D$7:$E$200,2,FALSE)","v":101.44},{"$f":"W10763/Y10763*'Cenové indexy '!$E$149","v":0},0,2016,"04","18","2016-04-18","Áno","Áno","Neurčené","Nie","24 mesiacov","neurčené","neurčené","neurčené","Zmluva 143_NF",null,null,null,null,null,{"$f":"VLOOKUP(M10763,Adresy!$A$4:$C$156,2,FALSE)","v":"Žilina"},{"$f":"VLOOKUP(M10763,Adresy!$A$4:$C$156,3,FALSE)","v":"Vojtecha Spanyola 43"},"M","2016M04",null,null,null,null,null,{"$f":"VLOOKUP(M10763,Adresy!$A$3:$C$122,2,FALSE)","v":"Žilina"},{"$f":"VLOOKUP(M10763,Adresy!$A$3:$C$122,3,FALSE)","v":"Vojtecha Spanyola 43"},0,0,0,0]
["fakoemulzifikačný prístroj",null,"fakoemulzifikačný prístroj","LED zdroj",null,null,"EVA ",null,"mikrochirurgický systém ","neurčené","bez položkovej identifikácie ceny (v rámci sumárnej ceny)",null,"Fakultná nemocnica s poliklinkou Žilina","SR","Medilas s.r.o.",31332528,1,null,null,{"$f":"IF(N10764=\"SR\",1,IF(AC10764=\"\",VLOOKUP(AW10764,'CZKEUR Xchange rate'!$D$13:$E$234,2,FALSE),VLOOKUP(AW10764,'CZKEUR Xchange rate'!$A$13:$B$234,2,FALSE)))","v":1},0,0,null,null,{"$f":"VLOOKUP(AW10764,'Cenové indexy '!$D$7:$E$200,2,FALSE)","v":101.44},{"$f":"W10764/Y10764*'Cenové indexy '!$E$149","v":0},0,2016,"04","18","2016-04-18","Áno","Áno","Neurčené","Nie","24 mesiacov","neurčené","neurčené","neurčené","Zmluva 143_NF",null,null,null,null,null,{"$f":"VLOOKUP(M10764,Adresy!$A$4:$C$156,2,FALSE)","v":"Žilina"},{"$f":"VLOOKUP(M10764,Adresy!$A$4:$C$156,3,FALSE)","v":"Vojtecha Spanyola 43"},"M","2016M04",null,null,null,null,null,{"$f":"VLOOKUP(M10764,Adresy!$A$3:$C$122,2,FALSE)","v":"Žilina"},{"$f":"VLOOKUP(M10764,Adresy!$A$3:$C$122,3,FALSE)","v":"Vojtecha Spanyola 43"},0,0,0,0]
["fakoemulzifikačný prístroj",null,"fakoemulzifikačný prístroj","modul infúzia / aspirácia ",null,null,"EVA ",null,"mikrochirurgický systém ","neurčené","bez položkovej identifikácie ceny (v rámci sumárnej ceny)",null,"Fakultná nemocnica s poliklinkou Žilina","SR","Medilas s.r.o.",31332528,1,null,null,{"$f":"IF(N10765=\"SR\",1,IF(AC10765=\"\",VLOOKUP(AW10765,'CZKEUR Xchange rate'!$D$13:$E$234,2,FALSE),VLOOKUP(AW10765,'CZKEUR Xchange rate'!$A$13:$B$234,2,FALSE)))","v":1},0,0,null,null,{"$f":"VLOOKUP(AW10765,'Cenové indexy '!$D$7:$E$200,2,FALSE)","v":101.44},{"$f":"W10765/Y10765*'Cenové indexy '!$E$149","v":0},0,2016,"04","18","2016-04-18","Áno","Áno","Neurčené","Nie","24 mesiacov","neurčené","neurčené","neurčené","Zmluva 143_NF",null,null,null,null,null,{"$f":"VLOOKUP(M10765,Adresy!$A$4:$C$156,2,FALSE)","v":"Žilina"},{"$f":"VLOOKUP(M10765,Adresy!$A$4:$C$156,3,FALSE)","v":"Vojtecha Spanyola 43"},"M","2016M04",null,null,null,null,null,{"$f":"VLOOKUP(M10765,Adresy!$A$3:$C$122,2,FALSE)","v":"Žilina"},{"$f":"VLOOKUP(M10765,Adresy!$A$3:$C$122,3,FALSE)","v":"Vojtecha Spanyola 43"},0,0,0,0]
["fakoemulzifikačný prístroj",null,"fakoemulzifikačný prístroj","modul diathermia",null,null,"EVA ",null,"mikrochirurgický systém ","neurčené","bez položkovej identifikácie ceny (v rámci sumárnej ceny)",null,"Fakultná nemocnica s poliklinkou Žilina","SR","Medilas s.r.o.",31332528,1,null,null,{"$f":"IF(N10766=\"SR\",1,IF(AC10766=\"\",VLOOKUP(AW10766,'CZKEUR Xchange rate'!$D$13:$E$234,2,FALSE),VLOOKUP(AW10766,'CZKEUR Xchange rate'!$A$13:$B$234,2,FALSE)))","v":1},0,0,null,null,{"$f":"VLOOKUP(AW10766,'Cenové indexy '!$D$7:$E$200,2,FALSE)","v":101.44},{"$f":"W10766/Y10766*'Cenové indexy '!$E$149","v":0},0,2016,"04","18","2016-04-18","Áno","Áno","Neurčené","Nie","24 mesiacov","neurčené","neurčené","neurčené","Zmluva 143_NF",null,null,null,null,null,{"$f":"VLOOKUP(M10766,Adresy!$A$4:$C$156,2,FALSE)","v":"Žilina"},{"$f":"VLOOKUP(M10766,Adresy!$A$4:$C$156,3,FALSE)","v":"Vojtecha Spanyola 43"},"M","2016M04",null,null,null,null,null,{"$f":"VLOOKUP(M10766,Adresy!$A$3:$C$122,2,FALSE)","v":"Žilina"},{"$f":"VLOOKUP(M10766,Adresy!$A$3:$C$122,3,FALSE)","v":"Vojtecha Spanyola 43"},0,0,0,0]
["fakoemulzifikačný prístroj",null,"fakoemulzifikačný prístroj","modul phaco",null,null,"EVA ",null,"mikrochirurgický systém ","neurčené","bez položkovej identifikácie ceny (v rámci sumárnej ceny)",null,"Fakultná nemocnica s poliklinkou Žilina","SR","Medilas s.r.o.",31332528,1,null,null,{"$f":"IF(N10767=\"SR\",1,IF(AC10767=\"\",VLOOKUP(AW10767,'CZKEUR Xchange rate'!$D$13:$E$234,2,FALSE),VLOOKUP(AW10767,'CZKEUR Xchange rate'!$A$13:$B$234,2,FALSE)))","v":1},0,0,null,null,{"$f":"VLOOKUP(AW10767,'Cenové indexy '!$D$7:$E$200,2,FALSE)","v":101.44},{"$f":"W10767/Y10767*'Cenové indexy '!$E$149","v":0},0,2016,"04","18","2016-04-18","Áno","Áno","Neurčené","Nie","24 mesiacov","neurčené","neurčené","neurčené","Zmluva 143_NF",null,null,null,null,null,{"$f":"VLOOKUP(M10767,Adresy!$A$4:$C$156,2,FALSE)","v":"Žilina"},{"$f":"VLOOKUP(M10767,Adresy!$A$4:$C$156,3,FALSE)","v":"Vojtecha Spanyola 43"},"M","2016M04",null,null,null,null,null,{"$f":"VLOOKUP(M10767,Adresy!$A$3:$C$122,2,FALSE)","v":"Žilina"},{"$f":"VLOOKUP(M10767,Adresy!$A$3:$C$122,3,FALSE)","v":"Vojtecha Spanyola 43"},0,0,0,0]
["fakoemulzifikačný prístroj",null,"fakoemulzifikačný prístroj","modul virektómia ",null,null,"EVA ",null,"mikrochirurgický systém ","neurčené","bez položkovej identifikácie ceny (v rámci sumárnej ceny)",null,"Fakultná nemocnica s poliklinkou Žilina","SR","Medilas s.r.o.",31332528,1,null,null,{"$f":"IF(N10768=\"SR\",1,IF(AC10768=\"\",VLOOKUP(AW10768,'CZKEUR Xchange rate'!$D$13:$E$234,2,FALSE),VLOOKUP(AW10768,'CZKEUR Xchange rate'!$A$13:$B$234,2,FALSE)))","v":1},0,0,null,null,{"$f":"VLOOKUP(AW10768,'Cenové indexy '!$D$7:$E$200,2,FALSE)","v":101.44},{"$f":"W10768/Y10768*'Cenové indexy '!$E$149","v":0},0,2016,"04","18","2016-04-18","Áno","Áno","Neurčené","Nie","24 mesiacov","neurčené","neurčené","neurčené","Zmluva 143_NF",null,null,null,null,null,{"$f":"VLOOKUP(M10768,Adresy!$A$4:$C$156,2,FALSE)","v":"Žilina"},{"$f":"VLOOKUP(M10768,Adresy!$A$4:$C$156,3,FALSE)","v":"Vojtecha Spanyola 43"},"M","2016M04",null,null,null,null,null,{"$f":"VLOOKUP(M10768,Adresy!$A$3:$C$122,2,FALSE)","v":"Žilina"},{"$f":"VLOOKUP(M10768,Adresy!$A$3:$C$122,3,FALSE)","v":"Vojtecha Spanyola 43"},0,0,0,0]
["fakoemulzifikačný prístroj",null,"fakoemulzifikačný prístroj","modul laser",null,null,"EVA ",null,"mikrochirurgický systém ","neurčené","bez položkovej identifikácie ceny (v rámci sumárnej ceny)",null,"Fakultná nemocnica s poliklinkou Žilina","SR","Medilas s.r.o.",31332528,1,null,null,{"$f":"IF(N10769=\"SR\",1,IF(AC10769=\"\",VLOOKUP(AW10769,'CZKEUR Xchange rate'!$D$13:$E$234,2,FALSE),VLOOKUP(AW10769,'CZKEUR Xchange rate'!$A$13:$B$234,2,FALSE)))","v":1},0,0,null,null,{"$f":"VLOOKUP(AW10769,'Cenové indexy '!$D$7:$E$200,2,FALSE)","v":101.44},{"$f":"W10769/Y10769*'Cenové indexy '!$E$149","v":0},0,2016,"04","18","2016-04-18","Áno","Áno","Neurčené","Nie","24 mesiacov","neurčené","neurčené","neurčené","Zmluva 143_NF",null,null,null,null,null,{"$f":"VLOOKUP(M10769,Adresy!$A$4:$C$156,2,FALSE)","v":"Žilina"},{"$f":"VLOOKUP(M10769,Adresy!$A$4:$C$156,3,FALSE)","v":"Vojtecha Spanyola 43"},"M","2016M04",null,null,null,null,null,{"$f":"VLOOKUP(M10769,Adresy!$A$3:$C$122,2,FALSE)","v":"Žilina"},{"$f":"VLOOKUP(M10769,Adresy!$A$3:$C$122,3,FALSE)","v":"Vojtecha Spanyola 43"},0,0,0,0]
["fakoemulzifikačný prístroj",null,"fakoemulzifikačný prístroj","nožný spínač na ovládanie funkcií/ laseru ",null,null,"EVA ",null,"mikrochirurgický systém ","neurčené","bez položkovej identifikácie ceny (v rámci sumárnej ceny)",null,"Fakultná nemocnica s poliklinkou Žilina","SR","Medilas s.r.o.",31332528,1,null,null,{"$f":"IF(N10770=\"SR\",1,IF(AC10770=\"\",VLOOKUP(AW10770,'CZKEUR Xchange rate'!$D$13:$E$234,2,FALSE),VLOOKUP(AW10770,'CZKEUR Xchange rate'!$A$13:$B$234,2,FALSE)))","v":1},0,0,null,null,{"$f":"VLOOKUP(AW10770,'Cenové indexy '!$D$7:$E$200,2,FALSE)","v":101.44},{"$f":"W10770/Y10770*'Cenové indexy '!$E$149","v":0},0,2016,"04","18","2016-04-18","Áno","Áno","Neurčené","Nie","24 mesiacov","neurčené","neurčené","neurčené","Zmluva 143_NF",null,null,null,null,null,{"$f":"VLOOKUP(M10770,Adresy!$A$4:$C$156,2,FALSE)","v":"Žilina"},{"$f":"VLOOKUP(M10770,Adresy!$A$4:$C$156,3,FALSE)","v":"Vojtecha Spanyola 43"},"M","2016M04",null,null,null,null,null,{"$f":"VLOOKUP(M10770,Adresy!$A$3:$C$122,2,FALSE)","v":"Žilina"},{"$f":"VLOOKUP(M10770,Adresy!$A$3:$C$122,3,FALSE)","v":"Vojtecha Spanyola 43"},0,0,0,0]
["elektrochirurgický prístroj","elektrokoagulačný prístroj","celá zostava",null,null,null,"ERBE VIO 300D ",null,null,"","sumárna cena","HW/SW","Nemocnica Poprad, a. s.","SR","E-BA spol. s r.o.",31367712,1,38250,45900,{"$f":"IF(N10771=\"SR\",1,IF(AC10771=\"\",VLOOKUP(AW10771,'CZKEUR Xchange rate'!$D$13:$E$234,2,FALSE),VLOOKUP(AW10771,'CZKEUR Xchange rate'!$A$13:$B$234,2,FALSE)))","v":1},38250,45900,{"$f":"U10771/Q10771","v":38250},{"$f":"V10771/Q10771","v":45900},{"$f":"VLOOKUP(AW10771,'Cenové indexy '!$D$7:$E$200,2,FALSE)","v":103.93},{"$f":"W10771/Y10771*'Cenové indexy '!$E$149","v":37955.571057442503},45546.685268931004,2017,"03","16","2017-03-16","Áno","Áno","Neurčené","Nie",null,"24 mesiacov","neurčené","24 hodín","Zmluva 142_NF",null,null,null,null,null,{"$f":"VLOOKUP(M10771,Adresy!$A$4:$C$156,2,FALSE)","v":"Poprad"},{"$f":"VLOOKUP(M10771,Adresy!$A$4:$C$156,3,FALSE)","v":"Banícka"},"M","2017M03",null,null,null,null,null,{"$f":"VLOOKUP(M10771,Adresy!$A$3:$C$122,2,FALSE)","v":"Poprad"},{"$f":"VLOOKUP(M10771,Adresy!$A$3:$C$122,3,FALSE)","v":"Banícka"},0,0,0,0]
["elektrochirurgický prístroj","elektrokoagulačný prístroj","monopolárne a bipolárne rezanie","rezacie režimy ","min. 5",null,"ERBE VIO 300D ",null,null,"","bez položkovej identifikácie ceny (v rámci sumárnej ceny)",null,"Nemocnica Poprad, a. s.","SR","E-BA spol. s r.o.",31367712,null,null,null,{"$f":"IF(N10772=\"SR\",1,IF(AC10772=\"\",VLOOKUP(AW10772,'CZKEUR Xchange rate'!$D$13:$E$234,2,FALSE),VLOOKUP(AW10772,'CZKEUR Xchange rate'!$A$13:$B$234,2,FALSE)))","v":1},0,0,null,null,{"$f":"VLOOKUP(AW10772,'Cenové indexy '!$D$7:$E$200,2,FALSE)","v":103.93},{"$f":"W10772/Y10772*'Cenové indexy '!$E$149","v":0},0,2017,"03","16","2017-03-16","Áno","Áno","Neurčené","Nie",null,"24 mesiacov","neurčené","24 hodín","Zmluva 142_NF",null,null,null,null,null,{"$f":"VLOOKUP(M10772,Adresy!$A$4:$C$156,2,FALSE)","v":"Poprad"},{"$f":"VLOOKUP(M10772,Adresy!$A$4:$C$156,3,FALSE)","v":"Banícka"},"M","2017M03",null,null,null,null,null,{"$f":"VLOOKUP(M10772,Adresy!$A$3:$C$122,2,FALSE)","v":"Poprad"},{"$f":"VLOOKUP(M10772,Adresy!$A$3:$C$122,3,FALSE)","v":"Banícka"},0,0,0,0]
["elektrochirurgický prístroj","elektrokoagulačný prístroj","monopolárne a bipolárne rezanie","hemostatická úroveň ","min. 8",null,"ERBE VIO 300D ",null,null,"","bez položkovej identifikácie ceny (v rámci sumárnej ceny)",null,"Nemocnica Poprad, a. s.","SR","E-BA spol. s r.o.",31367712,null,null,null,{"$f":"IF(N10773=\"SR\",1,IF(AC10773=\"\",VLOOKUP(AW10773,'CZKEUR Xchange rate'!$D$13:$E$234,2,FALSE),VLOOKUP(AW10773,'CZKEUR Xchange rate'!$A$13:$B$234,2,FALSE)))","v":1},0,0,null,null,{"$f":"VLOOKUP(AW10773,'Cenové indexy '!$D$7:$E$200,2,FALSE)","v":103.93},{"$f":"W10773/Y10773*'Cenové indexy '!$E$149","v":0},0,2017,"03","16","2017-03-16","Áno","Áno","Neurčené","Nie",null,"24 mesiacov","neurčené","24 hodín","Zmluva 142_NF",null,null,null,null,null,{"$f":"VLOOKUP(M10773,Adresy!$A$4:$C$156,2,FALSE)","v":"Poprad"},{"$f":"VLOOKUP(M10773,Adresy!$A$4:$C$156,3,FALSE)","v":"Banícka"},"M","2017M03",null,null,null,null,null,{"$f":"VLOOKUP(M10773,Adresy!$A$3:$C$122,2,FALSE)","v":"Poprad"},{"$f":"VLOOKUP(M10773,Adresy!$A$3:$C$122,3,FALSE)","v":"Banícka"},0,0,0,0]
["elektrochirurgický prístroj","elektrokoagulačný prístroj","monopolárne a bipolárne koaugulačné režimy",null,"min. 5",null,"ERBE VIO 300D ",null,null,"","bez položkovej identifikácie ceny (v rámci sumárnej ceny)",null,"Nemocnica Poprad, a. s.","SR","E-BA spol. s r.o.",31367712,null,null,null,{"$f":"IF(N10774=\"SR\",1,IF(AC10774=\"\",VLOOKUP(AW10774,'CZKEUR Xchange rate'!$D$13:$E$234,2,FALSE),VLOOKUP(AW10774,'CZKEUR Xchange rate'!$A$13:$B$234,2,FALSE)))","v":1},0,0,null,null,{"$f":"VLOOKUP(AW10774,'Cenové indexy '!$D$7:$E$200,2,FALSE)","v":103.93},{"$f":"W10774/Y10774*'Cenové indexy '!$E$149","v":0},0,2017,"03","16","2017-03-16","Áno","Áno","Neurčené","Nie",null,"24 mesiacov","neurčené","24 hodín","Zmluva 142_NF",null,null,null,null,null,{"$f":"VLOOKUP(M10774,Adresy!$A$4:$C$156,2,FALSE)","v":"Poprad"},{"$f":"VLOOKUP(M10774,Adresy!$A$4:$C$156,3,FALSE)","v":"Banícka"},"M","2017M03",null,null,null,null,null,{"$f":"VLOOKUP(M10774,Adresy!$A$3:$C$122,2,FALSE)","v":"Poprad"},{"$f":"VLOOKUP(M10774,Adresy!$A$3:$C$122,3,FALSE)","v":"Banícka"},0,0,0,0]
["elektrochirurgický prístroj","elektrokoagulačný prístroj","automatický rez","nominálny výkon ","300 W",null,"ERBE VIO 300D ",null,null,"","bez položkovej identifikácie ceny (v rámci sumárnej ceny)",null,"Nemocnica Poprad, a. s.","SR","E-BA spol. s r.o.",31367712,null,null,null,{"$f":"IF(N10775=\"SR\",1,IF(AC10775=\"\",VLOOKUP(AW10775,'CZKEUR Xchange rate'!$D$13:$E$234,2,FALSE),VLOOKUP(AW10775,'CZKEUR Xchange rate'!$A$13:$B$234,2,FALSE)))","v":1},0,0,null,null,{"$f":"VLOOKUP(AW10775,'Cenové indexy '!$D$7:$E$200,2,FALSE)","v":103.93},{"$f":"W10775/Y10775*'Cenové indexy '!$E$149","v":0},0,2017,"03","16","2017-03-16","Áno","Áno","Neurčené","Nie",null,"24 mesiacov","neurčené","24 hodín","Zmluva 142_NF",null,null,null,null,null,{"$f":"VLOOKUP(M10775,Adresy!$A$4:$C$156,2,FALSE)","v":"Poprad"},{"$f":"VLOOKUP(M10775,Adresy!$A$4:$C$156,3,FALSE)","v":"Banícka"},"M","2017M03",null,null,null,null,null,{"$f":"VLOOKUP(M10775,Adresy!$A$3:$C$122,2,FALSE)","v":"Poprad"},{"$f":"VLOOKUP(M10775,Adresy!$A$3:$C$122,3,FALSE)","v":"Banícka"},0,0,0,0]
["elektrochirurgický prístroj","elektrokoagulačný prístroj","automatický rez","automatická regulácia napätia ","670 Vp",null,"ERBE VIO 300D ",null,null,"","bez položkovej identifikácie ceny (v rámci sumárnej ceny)",null,"Nemocnica Poprad, a. s.","SR","E-BA spol. s r.o.",31367712,null,null,null,{"$f":"IF(N10776=\"SR\",1,IF(AC10776=\"\",VLOOKUP(AW10776,'CZKEUR Xchange rate'!$D$13:$E$234,2,FALSE),VLOOKUP(AW10776,'CZKEUR Xchange rate'!$A$13:$B$234,2,FALSE)))","v":1},0,0,null,null,{"$f":"VLOOKUP(AW10776,'Cenové indexy '!$D$7:$E$200,2,FALSE)","v":103.93},{"$f":"W10776/Y10776*'Cenové indexy '!$E$149","v":0},0,2017,"03","16","2017-03-16","Áno","Áno","Neurčené","Nie",null,"24 mesiacov","neurčené","24 hodín","Zmluva 142_NF",null,null,null,null,null,{"$f":"VLOOKUP(M10776,Adresy!$A$4:$C$156,2,FALSE)","v":"Poprad"},{"$f":"VLOOKUP(M10776,Adresy!$A$4:$C$156,3,FALSE)","v":"Banícka"},"M","2017M03",null,null,null,null,null,{"$f":"VLOOKUP(M10776,Adresy!$A$3:$C$122,2,FALSE)","v":"Poprad"},{"$f":"VLOOKUP(M10776,Adresy!$A$3:$C$122,3,FALSE)","v":"Banícka"},0,0,0,0]
["elektrochirurgický prístroj","elektrokoagulačný prístroj","vysoký rez","nominálny výkon ","300 W",null,"ERBE VIO 300D ",null,null,"","bez položkovej identifikácie ceny (v rámci sumárnej ceny)",null,"Nemocnica Poprad, a. s.","SR","E-BA spol. s r.o.",31367712,null,null,null,{"$f":"IF(N10777=\"SR\",1,IF(AC10777=\"\",VLOOKUP(AW10777,'CZKEUR Xchange rate'!$D$13:$E$234,2,FALSE),VLOOKUP(AW10777,'CZKEUR Xchange rate'!$A$13:$B$234,2,FALSE)))","v":1},0,0,null,null,{"$f":"VLOOKUP(AW10777,'Cenové indexy '!$D$7:$E$200,2,FALSE)","v":103.93},{"$f":"W10777/Y10777*'Cenové indexy '!$E$149","v":0},0,2017,"03","16","2017-03-16","Áno","Áno","Neurčené","Nie",null,"24 mesiacov","neurčené","24 hodín","Zmluva 142_NF",null,null,null,null,null,{"$f":"VLOOKUP(M10777,Adresy!$A$4:$C$156,2,FALSE)","v":"Poprad"},{"$f":"VLOOKUP(M10777,Adresy!$A$4:$C$156,3,FALSE)","v":"Banícka"},"M","2017M03",null,null,null,null,null,{"$f":"VLOOKUP(M10777,Adresy!$A$3:$C$122,2,FALSE)","v":"Poprad"},{"$f":"VLOOKUP(M10777,Adresy!$A$3:$C$122,3,FALSE)","v":"Banícka"},0,0,0,0]
["elektrochirurgický prístroj","elektrokoagulačný prístroj","vysoký rez","automatická regulácia iskry/oblúka ","950 Vp",null,"ERBE VIO 300D ",null,null,"","bez položkovej identifikácie ceny (v rámci sumárnej ceny)",null,"Nemocnica Poprad, a. s.","SR","E-BA spol. s r.o.",31367712,null,null,null,{"$f":"IF(N10778=\"SR\",1,IF(AC10778=\"\",VLOOKUP(AW10778,'CZKEUR Xchange rate'!$D$13:$E$234,2,FALSE),VLOOKUP(AW10778,'CZKEUR Xchange rate'!$A$13:$B$234,2,FALSE)))","v":1},0,0,null,null,{"$f":"VLOOKUP(AW10778,'Cenové indexy '!$D$7:$E$200,2,FALSE)","v":103.93},{"$f":"W10778/Y10778*'Cenové indexy '!$E$149","v":0},0,2017,"03","16","2017-03-16","Áno","Áno","Neurčené","Nie",null,"24 mesiacov","neurčené","24 hodín","Zmluva 142_NF",null,null,null,null,null,{"$f":"VLOOKUP(M10778,Adresy!$A$4:$C$156,2,FALSE)","v":"Poprad"},{"$f":"VLOOKUP(M10778,Adresy!$A$4:$C$156,3,FALSE)","v":"Banícka"},"M","2017M03",null,null,null,null,null,{"$f":"VLOOKUP(M10778,Adresy!$A$3:$C$122,2,FALSE)","v":"Poprad"},{"$f":"VLOOKUP(M10778,Adresy!$A$3:$C$122,3,FALSE)","v":"Banícka"},0,0,0,0]
["elektrochirurgický prístroj","elektrokoagulačný prístroj","suchý rez","nominálny výkon ","200 W",null,"ERBE VIO 300D ",null,null,"","bez položkovej identifikácie ceny (v rámci sumárnej ceny)",null,"Nemocnica Poprad, a. s.","SR","E-BA spol. s r.o.",31367712,null,null,null,{"$f":"IF(N10779=\"SR\",1,IF(AC10779=\"\",VLOOKUP(AW10779,'CZKEUR Xchange rate'!$D$13:$E$234,2,FALSE),VLOOKUP(AW10779,'CZKEUR Xchange rate'!$A$13:$B$234,2,FALSE)))","v":1},0,0,null,null,{"$f":"VLOOKUP(AW10779,'Cenové indexy '!$D$7:$E$200,2,FALSE)","v":103.93},{"$f":"W10779/Y10779*'Cenové indexy '!$E$149","v":0},0,2017,"03","16","2017-03-16","Áno","Áno","Neurčené","Nie",null,"24 mesiacov","neurčené","24 hodín","Zmluva 142_NF",null,null,null,null,null,{"$f":"VLOOKUP(M10779,Adresy!$A$4:$C$156,2,FALSE)","v":"Poprad"},{"$f":"VLOOKUP(M10779,Adresy!$A$4:$C$156,3,FALSE)","v":"Banícka"},"M","2017M03",null,null,null,null,null,{"$f":"VLOOKUP(M10779,Adresy!$A$3:$C$122,2,FALSE)","v":"Poprad"},{"$f":"VLOOKUP(M10779,Adresy!$A$3:$C$122,3,FALSE)","v":"Banícka"},0,0,0,0]
["elektrochirurgický prístroj","elektrokoagulačný prístroj","prerušovaný rez","nominálny výkon ","200W",null,"ERBE VIO 300D ",null,null,"","bez položkovej identifikácie ceny (v rámci sumárnej ceny)",null,"Nemocnica Poprad, a. s.","SR","E-BA spol. s r.o.",31367712,null,null,null,{"$f":"IF(N10780=\"SR\",1,IF(AC10780=\"\",VLOOKUP(AW10780,'CZKEUR Xchange rate'!$D$13:$E$234,2,FALSE),VLOOKUP(AW10780,'CZKEUR Xchange rate'!$A$13:$B$234,2,FALSE)))","v":1},0,0,null,null,{"$f":"VLOOKUP(AW10780,'Cenové indexy '!$D$7:$E$200,2,FALSE)","v":103.93},{"$f":"W10780/Y10780*'Cenové indexy '!$E$149","v":0},0,2017,"03","16","2017-03-16","Áno","Áno","Neurčené","Nie",null,"24 mesiacov","neurčené","24 hodín","Zmluva 142_NF",null,null,null,null,null,{"$f":"VLOOKUP(M10780,Adresy!$A$4:$C$156,2,FALSE)","v":"Poprad"},{"$f":"VLOOKUP(M10780,Adresy!$A$4:$C$156,3,FALSE)","v":"Banícka"},"M","2017M03",null,null,null,null,null,{"$f":"VLOOKUP(M10780,Adresy!$A$3:$C$122,2,FALSE)","v":"Poprad"},{"$f":"VLOOKUP(M10780,Adresy!$A$3:$C$122,3,FALSE)","v":"Banícka"},0,0,0,0]
["elektrochirurgický prístroj","elektrokoagulačný prístroj","bipolárny rez","nominálny výkon ","100 W",null,"ERBE VIO 300D ",null,null,"","bez položkovej identifikácie ceny (v rámci sumárnej ceny)",null,"Nemocnica Poprad, a. s.","SR","E-BA spol. s r.o.",31367712,null,null,null,{"$f":"IF(N10781=\"SR\",1,IF(AC10781=\"\",VLOOKUP(AW10781,'CZKEUR Xchange rate'!$D$13:$E$234,2,FALSE),VLOOKUP(AW10781,'CZKEUR Xchange rate'!$A$13:$B$234,2,FALSE)))","v":1},0,0,null,null,{"$f":"VLOOKUP(AW10781,'Cenové indexy '!$D$7:$E$200,2,FALSE)","v":103.93},{"$f":"W10781/Y10781*'Cenové indexy '!$E$149","v":0},0,2017,"03","16","2017-03-16","Áno","Áno","Neurčené","Nie",null,"24 mesiacov","neurčené","24 hodín","Zmluva 142_NF",null,null,null,null,null,{"$f":"VLOOKUP(M10781,Adresy!$A$4:$C$156,2,FALSE)","v":"Poprad"},{"$f":"VLOOKUP(M10781,Adresy!$A$4:$C$156,3,FALSE)","v":"Banícka"},"M","2017M03",null,null,null,null,null,{"$f":"VLOOKUP(M10781,Adresy!$A$3:$C$122,2,FALSE)","v":"Poprad"},{"$f":"VLOOKUP(M10781,Adresy!$A$3:$C$122,3,FALSE)","v":"Banícka"},0,0,0,0]
["elektrochirurgický prístroj","elektrokoagulačný prístroj","ľahká koagulácia","nominálny výkon ","200 W",null,"ERBE VIO 300D ",null,null,"","bez položkovej identifikácie ceny (v rámci sumárnej ceny)",null,"Nemocnica Poprad, a. s.","SR","E-BA spol. s r.o.",31367712,null,null,null,{"$f":"IF(N10782=\"SR\",1,IF(AC10782=\"\",VLOOKUP(AW10782,'CZKEUR Xchange rate'!$D$13:$E$234,2,FALSE),VLOOKUP(AW10782,'CZKEUR Xchange rate'!$A$13:$B$234,2,FALSE)))","v":1},0,0,null,null,{"$f":"VLOOKUP(AW10782,'Cenové indexy '!$D$7:$E$200,2,FALSE)","v":103.93},{"$f":"W10782/Y10782*'Cenové indexy '!$E$149","v":0},0,2017,"03","16","2017-03-16","Áno","Áno","Neurčené","Nie",null,"24 mesiacov","neurčené","24 hodín","Zmluva 142_NF",null,null,null,null,null,{"$f":"VLOOKUP(M10782,Adresy!$A$4:$C$156,2,FALSE)","v":"Poprad"},{"$f":"VLOOKUP(M10782,Adresy!$A$4:$C$156,3,FALSE)","v":"Banícka"},"M","2017M03",null,null,null,null,null,{"$f":"VLOOKUP(M10782,Adresy!$A$3:$C$122,2,FALSE)","v":"Poprad"},{"$f":"VLOOKUP(M10782,Adresy!$A$3:$C$122,3,FALSE)","v":"Banícka"},0,0,0,0]
["elektrochirurgický prístroj","elektrokoagulačný prístroj","iskrivá koagulácia","nominálny výkon ","200 W",null,"ERBE VIO 300D ",null,null,"","bez položkovej identifikácie ceny (v rámci sumárnej ceny)",null,"Nemocnica Poprad, a. s.","SR","E-BA spol. s r.o.",31367712,null,null,null,{"$f":"IF(N10783=\"SR\",1,IF(AC10783=\"\",VLOOKUP(AW10783,'CZKEUR Xchange rate'!$D$13:$E$234,2,FALSE),VLOOKUP(AW10783,'CZKEUR Xchange rate'!$A$13:$B$234,2,FALSE)))","v":1},0,0,null,null,{"$f":"VLOOKUP(AW10783,'Cenové indexy '!$D$7:$E$200,2,FALSE)","v":103.93},{"$f":"W10783/Y10783*'Cenové indexy '!$E$149","v":0},0,2017,"03","16","2017-03-16","Áno","Áno","Neurčené","Nie",null,"24 mesiacov","neurčené","24 hodín","Zmluva 142_NF",null,null,null,null,null,{"$f":"VLOOKUP(M10783,Adresy!$A$4:$C$156,2,FALSE)","v":"Poprad"},{"$f":"VLOOKUP(M10783,Adresy!$A$4:$C$156,3,FALSE)","v":"Banícka"},"M","2017M03",null,null,null,null,null,{"$f":"VLOOKUP(M10783,Adresy!$A$3:$C$122,2,FALSE)","v":"Poprad"},{"$f":"VLOOKUP(M10783,Adresy!$A$3:$C$122,3,FALSE)","v":"Banícka"},0,0,0,0]
["elektrochirurgický prístroj","elektrokoagulačný prístroj","forsírovaná koagulácia","nominálny výkon ","120 W",null,"ERBE VIO 300D ",null,null,"","bez položkovej identifikácie ceny (v rámci sumárnej ceny)",null,"Nemocnica Poprad, a. s.","SR","E-BA spol. s r.o.",31367712,null,null,null,{"$f":"IF(N10784=\"SR\",1,IF(AC10784=\"\",VLOOKUP(AW10784,'CZKEUR Xchange rate'!$D$13:$E$234,2,FALSE),VLOOKUP(AW10784,'CZKEUR Xchange rate'!$A$13:$B$234,2,FALSE)))","v":1},0,0,null,null,{"$f":"VLOOKUP(AW10784,'Cenové indexy '!$D$7:$E$200,2,FALSE)","v":103.93},{"$f":"W10784/Y10784*'Cenové indexy '!$E$149","v":0},0,2017,"03","16","2017-03-16","Áno","Áno","Neurčené","Nie",null,"24 mesiacov","neurčené","24 hodín","Zmluva 142_NF",null,null,null,null,null,{"$f":"VLOOKUP(M10784,Adresy!$A$4:$C$156,2,FALSE)","v":"Poprad"},{"$f":"VLOOKUP(M10784,Adresy!$A$4:$C$156,3,FALSE)","v":"Banícka"},"M","2017M03",null,null,null,null,null,{"$f":"VLOOKUP(M10784,Adresy!$A$3:$C$122,2,FALSE)","v":"Poprad"},{"$f":"VLOOKUP(M10784,Adresy!$A$3:$C$122,3,FALSE)","v":"Banícka"},0,0,0,0]
["elektrochirurgický prístroj","elektrokoagulačný prístroj","bezkontaktná - sprejová koagulácia","nominálny výkon ","120 W ",null,"ERBE VIO 300D ",null,null,"","bez položkovej identifikácie ceny (v rámci sumárnej ceny)",null,"Nemocnica Poprad, a. s.","SR","E-BA spol. s r.o.",31367712,null,null,null,{"$f":"IF(N10785=\"SR\",1,IF(AC10785=\"\",VLOOKUP(AW10785,'CZKEUR Xchange rate'!$D$13:$E$234,2,FALSE),VLOOKUP(AW10785,'CZKEUR Xchange rate'!$A$13:$B$234,2,FALSE)))","v":1},0,0,null,null,{"$f":"VLOOKUP(AW10785,'Cenové indexy '!$D$7:$E$200,2,FALSE)","v":103.93},{"$f":"W10785/Y10785*'Cenové indexy '!$E$149","v":0},0,2017,"03","16","2017-03-16","Áno","Áno","Neurčené","Nie",null,"24 mesiacov","neurčené","24 hodín","Zmluva 142_NF",null,null,null,null,null,{"$f":"VLOOKUP(M10785,Adresy!$A$4:$C$156,2,FALSE)","v":"Poprad"},{"$f":"VLOOKUP(M10785,Adresy!$A$4:$C$156,3,FALSE)","v":"Banícka"},"M","2017M03",null,null,null,null,null,{"$f":"VLOOKUP(M10785,Adresy!$A$3:$C$122,2,FALSE)","v":"Poprad"},{"$f":"VLOOKUP(M10785,Adresy!$A$3:$C$122,3,FALSE)","v":"Banícka"},0,0,0,0]
["elektrochirurgický prístroj","elektrokoagulačný prístroj","bipolárna ľahká koagulácia","nominálny výkon ","120 W",null,"ERBE VIO 300D ",null,null,"","bez položkovej identifikácie ceny (v rámci sumárnej ceny)",null,"Nemocnica Poprad, a. s.","SR","E-BA spol. s r.o.",31367712,null,null,null,{"$f":"IF(N10786=\"SR\",1,IF(AC10786=\"\",VLOOKUP(AW10786,'CZKEUR Xchange rate'!$D$13:$E$234,2,FALSE),VLOOKUP(AW10786,'CZKEUR Xchange rate'!$A$13:$B$234,2,FALSE)))","v":1},0,0,null,null,{"$f":"VLOOKUP(AW10786,'Cenové indexy '!$D$7:$E$200,2,FALSE)","v":103.93},{"$f":"W10786/Y10786*'Cenové indexy '!$E$149","v":0},0,2017,"03","16","2017-03-16","Áno","Áno","Neurčené","Nie",null,"24 mesiacov","neurčené","24 hodín","Zmluva 142_NF",null,null,null,null,null,{"$f":"VLOOKUP(M10786,Adresy!$A$4:$C$156,2,FALSE)","v":"Poprad"},{"$f":"VLOOKUP(M10786,Adresy!$A$4:$C$156,3,FALSE)","v":"Banícka"},"M","2017M03",null,null,null,null,null,{"$f":"VLOOKUP(M10786,Adresy!$A$3:$C$122,2,FALSE)","v":"Poprad"},{"$f":"VLOOKUP(M10786,Adresy!$A$3:$C$122,3,FALSE)","v":"Banícka"},0,0,0,0]
["elektrochirurgický prístroj","elektrokoagulačný prístroj","bipolárna forsírovaná koagulácia","nominálny výkon ","90 W",null,"ERBE VIO 300D ",null,null,"","bez položkovej identifikácie ceny (v rámci sumárnej ceny)",null,"Nemocnica Poprad, a. s.","SR","E-BA spol. s r.o.",31367712,null,null,null,{"$f":"IF(N10787=\"SR\",1,IF(AC10787=\"\",VLOOKUP(AW10787,'CZKEUR Xchange rate'!$D$13:$E$234,2,FALSE),VLOOKUP(AW10787,'CZKEUR Xchange rate'!$A$13:$B$234,2,FALSE)))","v":1},0,0,null,null,{"$f":"VLOOKUP(AW10787,'Cenové indexy '!$D$7:$E$200,2,FALSE)","v":103.93},{"$f":"W10787/Y10787*'Cenové indexy '!$E$149","v":0},0,2017,"03","16","2017-03-16","Áno","Áno","Neurčené","Nie",null,"24 mesiacov","neurčené","24 hodín","Zmluva 142_NF",null,null,null,null,null,{"$f":"VLOOKUP(M10787,Adresy!$A$4:$C$156,2,FALSE)","v":"Poprad"},{"$f":"VLOOKUP(M10787,Adresy!$A$4:$C$156,3,FALSE)","v":"Banícka"},"M","2017M03",null,null,null,null,null,{"$f":"VLOOKUP(M10787,Adresy!$A$3:$C$122,2,FALSE)","v":"Poprad"},{"$f":"VLOOKUP(M10787,Adresy!$A$3:$C$122,3,FALSE)","v":"Banícka"},0,0,0,0]
["elektrochirurgický prístroj","elektrokoagulačný prístroj","argón plazmový koagulátor APK",null,null,null,"ERBE VIO 300D ",null,null,"","bez položkovej identifikácie ceny (v rámci sumárnej ceny)",null,"Nemocnica Poprad, a. s.","SR","E-BA spol. s r.o.",31367712,null,null,null,{"$f":"IF(N10788=\"SR\",1,IF(AC10788=\"\",VLOOKUP(AW10788,'CZKEUR Xchange rate'!$D$13:$E$234,2,FALSE),VLOOKUP(AW10788,'CZKEUR Xchange rate'!$A$13:$B$234,2,FALSE)))","v":1},{"$f":"R10788/T10788","v":0},{"$f":"S10788/T10788","v":0},null,null,{"$f":"VLOOKUP(AW10788,'Cenové indexy '!$D$7:$E$200,2,FALSE)","v":103.93},{"$f":"W10788/Y10788*'Cenové indexy '!$E$149","v":0},0,2017,"03","16","2017-03-16","Áno","Áno","Neurčené","Nie",null,"24 mesiacov","neurčené","24 hodín","Zmluva 142_NF",null,null,null,null,null,{"$f":"VLOOKUP(M10788,Adresy!$A$4:$C$156,2,FALSE)","v":"Poprad"},{"$f":"VLOOKUP(M10788,Adresy!$A$4:$C$156,3,FALSE)","v":"Banícka"},"M","2017M03",null,null,null,null,null,{"$f":"VLOOKUP(M10788,Adresy!$A$3:$C$122,2,FALSE)","v":"Poprad"},{"$f":"VLOOKUP(M10788,Adresy!$A$3:$C$122,3,FALSE)","v":"Banícka"},0,0,0,0]
["elektrochirurgický prístroj","elektrokoagulačný prístroj","hlavné pripojenie elektrochirurgického systému a argón-plazmového koagulátoru APK","sieťová frekvencia ","45-60 HZ",null,"ERBE VIO 300D ",null,null,"","bez položkovej identifikácie ceny (v rámci sumárnej ceny)",null,"Nemocnica Poprad, a. s.","SR","E-BA spol. s r.o.",31367712,null,null,null,{"$f":"IF(N10789=\"SR\",1,IF(AC10789=\"\",VLOOKUP(AW10789,'CZKEUR Xchange rate'!$D$13:$E$234,2,FALSE),VLOOKUP(AW10789,'CZKEUR Xchange rate'!$A$13:$B$234,2,FALSE)))","v":1},0,0,null,null,{"$f":"VLOOKUP(AW10789,'Cenové indexy '!$D$7:$E$200,2,FALSE)","v":103.93},{"$f":"W10789/Y10789*'Cenové indexy '!$E$149","v":0},0,2017,"03","16","2017-03-16","Áno","Áno","Neurčené","Nie",null,"24 mesiacov","neurčené","24 hodín","Zmluva 142_NF",null,null,null,null,null,{"$f":"VLOOKUP(M10789,Adresy!$A$4:$C$156,2,FALSE)","v":"Poprad"},{"$f":"VLOOKUP(M10789,Adresy!$A$4:$C$156,3,FALSE)","v":"Banícka"},"M","2017M03",null,null,null,null,null,{"$f":"VLOOKUP(M10789,Adresy!$A$3:$C$122,2,FALSE)","v":"Poprad"},{"$f":"VLOOKUP(M10789,Adresy!$A$3:$C$122,3,FALSE)","v":"Banícka"},0,0,0,0]

{"sheet":"Cenové indexy ","index":2,"n_rows":155,"n_cols":5,"rows_kept":155,"cut":false,"hidden":true,"merged":[]}
["HICP (2005 = 100) - monthly data (index)  [prc_hicp_midx]"]
[]
["UNIT","Index, 2005=100"]
["COICOP","Medical products, appliances and equipment"]
[]
["GEO/TIME","Slovakia",null,"GEO/TIME","Slovakia"]
["2011M01",124.49,null,"2005M01",69.58]
["2011M02",124.71,null,"2005M02",69.900000000000006]
["2011M03",124.82,null,"2005M03",70.239999999999995]
["2011M04",125.02,null,"2005M04",71.31]
["2011M05",125.2,null,"2005M05",71.400000000000006]
["2011M06",125.33,null,"2005M06",71.400000000000006]
["2011M07",127.11,null,"2005M07",71.67]
["2011M08",127.26,null,"2005M08",71.88]
["2011M09",127.51,null,"2005M09",71.989999999999995]
["2011M10",128.86000000000001,null,"2005M10",72.39]
["2011M11",129.16,null,"2005M11",72.599999999999994]
["2011M12",129.4,null,"2005M12",72.680000000000007]
["2012M01",129.93,null,"2006M01",77.25]
["2012M02",130.13999999999999,null,"2006M02",77.13]
["2012M03",130.33000000000001,null,"2006M03",77.2]
["2012M04",135.53,null,"2006M04",79.48]
["2012M05",135.62,null,"2006M05",79.72]
["2012M06",134.47999999999999,null,"2006M06",79.790000000000006]
["2012M07",134.9,null,"2006M07",82.77]
["2012M08",137.44999999999999,null,"2006M08",82.91]
["2012M09",137.27000000000001,null,"2006M09",82.96]
["2012M10",139.05000000000001,null,"2006M10",83.17]
["2012M11",139.04,null,"2006M11",83.01]
["2012M12",139.12,null,"2006M12",83.04]
["2013M01",138.33000000000001,null,"2007M01",79.790000000000006]
["2013M02",138.61000000000001,null,"2007M02",79.83]
["2013M03",138.53,null,"2007M03",79.8]
["2013M04",137.71,null,"2007M04",79.599999999999994]
["2013M05",137.84,null,"2007M05",75.48]
["2013M06",138.01,null,"2007M06",75.790000000000006]
["2013M07",138.06,null,"2007M07",76.11]
["2013M08",138.37,null,"2007M08",76.239999999999995]
["2013M09",138.21,null,"2007M09",77.010000000000005]
["2013M10",139.05000000000001,null,"2007M10",79.069999999999993]
["2013M11",139.24,null,"2007M11",79.239999999999995]
["2013M12",139.02000000000001,null,"2007M12",79.459999999999994]
["2014M01",139.19999999999999,null,"2008M01",80.599999999999994]
["2014M02",139.35,null,"2008M02",81.38]
["2014M03",139.34,null,"2008M03",81.739999999999995]
["2014M04",139.1,null,"2008M04",82.19]
["2014M05",139.21,null,"2008M05",82.4]
["2014M06",139.32,null,"2008M06",82.02]
["2014M07",139.61000000000001,null,"2008M07",80.87]
["2014M08",139.84,null,"2008M08",81.16]
["2014M09",139.78,null,"2008M09",81.31]
["2014M10",139.94,null,"2008M10",82.09]
["2014M11",139.97999999999999,null,"2008M11",82.23]
["2014M12",139.9,null,"2008M12",82.32]
["2015M01",139.83000000000001,null,"2009M01",83.2]
["2015M02",139.94,null,"2009M02",83.44]
["2015M03",140.06,null,"2009M03",83.6]
["2015M04",139.66999999999999,null,"2009M04",84.32]
["2015M05",139.77000000000001,null,"2009M05",84.62]
["2015M06",139.86000000000001,null,"2009M06",84.79]
["2015M07",139.94999999999999,null,"2009M07",85.58]
["2015M08",140.16999999999999,null,"2009M08",85.8]
["2015M09",140.21,null,"2009M09",86.06]
["2015M10",140.12,null,"2009M10",87.51]
["2015M11",140.21,null,"2009M11",87.74]
["2015M12",140.43,null,"2009M12",87.87]
["2016M01",141.01,null,"2010M01",87.62]
["2016M02",141.18,null,"2010M02",87.69]
["2016M03",141.53,null,"2010M03",87.83]
["2016M04",142.03,null,"2010M04",87.76]
["2016M05",142.24,null,"2010M05",87.83]
["2016M06",142.43,null,"2010M06",87.95]
["2016M07",142.5,null,"2010M07",88.24]
["2016M08",142.62,null,"2010M08",88.29]
["2016M09",142.6,null,"2010M09",88.12]
["2016M10",144.16,null,"2010M10",88.18]
["2016M11",144.4,null,"2010M11",88.07]
["2016M12",144.65,null,"2010M12",88.01]
["2017M01",148.44,null,"2011M01",88.91]
["2017M02",148.82,null,"2011M02",89.07]
["2017M03",145.53,null,"2011M03",89.14]
["2017M04",145.13,null,"2011M04",89.29]
["2017M05",145.35,null,"2011M05",89.42]
[null,null,null,"2011M06",89.51]
[null,null,null,"2011M07",90.78]
[null,null,null,"2011M08",90.89]
[null,null,null,"2011M09",91.07]
[null,null,null,"2011M10",92.03]
[null,null,null,"2011M11",92.25]
[null,null,null,"2011M12",92.42]
[null,null,null,"2012M01",92.79]
[null,null,null,"2012M02",92.95]
[null,null,null,"2012M03",93.08]
[null,null,null,"2012M04",96.8]
[null,null,null,"2012M05",96.86]
[null,null,null,"2012M06",96.04]
[null,null,null,"2012M07",96.35]
[null,null,null,"2012M08",98.17]
[null,null,null,"2012M09",98.04]
[null,null,null,"2012M10",99.31]
[null,null,null,"2012M11",99.3]
[null,null,null,"2012M12",99.36]
[null,null,null,"2013M01",98.79]
[null,null,null,"2013M02",99]
[null,null,null,"2013M03",98.94]
[null,null,null,"2013M04",98.35]
[null,null,null,"2013M05",98.45]
[null,null,null,"2013M06",98.57]
[null,null,null,"2013M07",98.6]
[null,null,null,"2013M08",98.82]
[null,null,null,"2013M09",98.71]
[null,null,null,"2013M10",99.31]
[null,null,null,"2013M11",99.45]
[null,null,null,"2013M12",99.28]
[null,null,null,"2014M01",99.41]
[null,null,null,"2014M02",99.52]
[null,null,null,"2014M03",99.52]
[null,null,null,"2014M04",99.35]
[null,null,null,"2014M05",99.42]
[null,null,null,"2014M06",99.5]
[null,null,null,"2014M07",99.71]
[null,null,null,"2014M08",99.87]
[null,null,null,"2014M09",99.83]
[null,null,null,"2014M10",99.94]
[null,null,null,"2014M11",99.98]
[null,null,null,"2014M12",99.92]
[null,null,null,"2015M01",99.86]
[null,null,null,"2015M02",99.95]
[null,null,null,"2015M03",100.03]
[null,null,null,"2015M04",99.75]
[null,null,null,"2015M05",99.82]
[null,null,null,"2015M06",99.88]
[null,null,null,"2015M07",99.95]
[null,null,null,"2015M08",100.11]
[null,null,null,"2015M09",100.14]
[null,null,null,"2015M10",100.07]
[null,null,null,"2015M11",100.14]
[null,null,null,"2015M12",100.29]
[null,null,null,"2016M01",100.71]
[null,null,null,"2016M02",100.83]
[null,null,null,"2016M03",101.08]
[null,null,null,"2016M04",101.44]
[null,null,null,"2016M05",101.58]
[null,null,null,"2016M06",101.72]
[null,null,null,"2016M07",101.77]
[null,null,null,"2016M08",101.86]
[null,null,null,"2016M09",101.84]
[null,null,null,"2016M10",102.96]
[null,null,null,"2016M11",103.13]
[null,null,null,"2016M12",103.31]
[null,null,null,"2017M01",106.01]
[null,null,null,"2017M02",106.29]
[null,null,null,"2017M03",103.93]
[null,null,null,"2017M04",103.65]
[null,null,null,"2017M05",103.8]

{"sheet":"Adresy","index":3,"n_rows":156,"n_cols":8,"rows_kept":156,"cut":false,"hidden":true,"merged":[]}
[]
[]
["Nemocnica","Mesto","Adresa",null,null,null,null,"Krajská zdravotní"]
["Centrum kardiovaskulárni a transplantační chirurgie","Brno","Pekařská 664/53",null,null,null,null,"Nemocnice Chomutov, o.z."]
["Česká zemědelská univerzita va Prahe ","Praha","Kamýcka 129"]
["Detská fakultná nemocnica Košice","Košice","Trieda SNP 457/1",null,null,null,null,"Nemocnice Most, o.z."]
["Detská fakultná nemocnica s poliklinikou Banská Bystrica","Banská Bystrica","Námestie Ludvíka Svobodu 6818/4",null,null,null,null,"Nemocnice Teplice"]
["Detská fakultná nemocnica s poliklinikou Bratislava","Bratislava","Limbová 1",null,null,null,null,"Masarykova nemocnice v Ústí nad Labem, o.z."]
["Dolnooravská nemocnica s poliklinikou MUDr. L. Nádaši Jégého Dolný Kubín","Dolný Kubín","Nemocničná 1944",null,null,null,null,"Nemocnice Děčín"]
["Fakultná nemocnica Kráľovské Vinohrady","Praha","Šrobárova 1150/50"]
["Fakultná nemocnica Nitra","Nitra","Špitálska 6"]
["Fakultní nemocnica Olomouc","Olomouc","I.P. Pavolva 185/6",null,null,null,null,"Zdravotnícky holding Královohradeckého kraje"]
["Fakultná nemocnica s poliklinikou F. D. Roosevelta Banská Bystrica","Banská Bystrica","Námestie Ludvíka Svobodu 6818/4",null,null,null,null,"Nemocnice Trutnov/Oblastní nemocnice Trutnov"]
["Fakultná nemocnica s poliklinikou J.A.Reimana Prešov","Prešov","Jána Hollého",null,null,null,null,"Nemocnice Náchod/Oblastní nemocnice Náchod, a.s."]
["Fakultná nemocnica s poliklinikou Nové Zámky","Nové Zámky","Slovenská 11",null,null,null,null,"Nemocnice Jičín/Oblastní nemocnice Jičín a.s"]
["Fakultná nemocnica s poliklinkou Žilina","Žilina","Vojtecha Spanyola 43",null,null,null,null,"Nemocnice Dvur Králové nad Labem"]
["Fakultná nemocnica Trenčín","Trenčín","Legionárska 594/2",null,null,null,null,"Nemocnice Rychnov nad Kněžnou"]
["Fakultná nemocnica Trnava","Trnava","Andreja Žarnova 11"]
["Fakultní nemocnice Brno","Brno","Jihlavská 340/20"]
["Fakultní nemocnice Hradec Králové","Hradec Králové","Sokolská 581",null,null,null,null,"Nemocnice Pardubického kraje"]
["Fakultní nemocnice Ostrava","Ostrava","17. listopadu",null,null,null,null,"Pardubická nemocnice "]
["Fakultní nemocnice Plzeň","Plzeň","Dr. E. Beneše 1128/13",null,null,null,null,"Chrudimská nemocnice"]
["Fakultní nemocnice u sv. Anny v Brně","Brno","Pekařská 53",null,null,null,null,"Orlickoústecká nemocnice"]
["Fakultní nemocnice v Motole","Praha","V úvalu 84",null,null,null,null,"Litomyšlská nemocnice"]
["Hornooravská NsP Trstená","Trstená","Nábrežie Ľudovíta Štúra",null,null,null,null,"Svitavská nemocnice"]
["Chrudimská nemocnice","Chrudim","Václavská 570"]
["Institut klinické a experimentální medicíny","Praha","Vídeňská 1959/9",null,null,null,null,"Nemocnice Olomouckého kraja (Strednomoravské nemocnice)"]
["Inštitút nukleárnej a molekulárnej medicíny","Košice","Rastislavova 785/43",null,null,null,null,"Nemocnica Prostějov "]
["Karlovarská krajská  nemocnice a.s","Karlovy Vary","Bezručova 1190/19",null,null,null,null,"Nemocnica Přerov "]
["Karlova univerzita v Prahe ","Praha ","Ovocní trh 650",null,null,null,null,"Nemocnica Šternberk"]
["Klatovská nemocnice","Klatov","Plzeňská 929",null,null,null,null,"Nemocnica Šternberk"]
["Krajská nemocnica T.Bati, a.s.","Zlín","Havlíčkovo nábř. 600"]
["Krajská nemocnice Liberec, a.s.","Liberec","Husova 357/10"]
["Královohradecký kraj","Hradec Králové"]
["Královéhradecká lekárna a.s.","Hradec Králové","Veverkova 1343/1"]
["Kroměřížska nemocnica a.s.","Kroměříž","Havlíčkova 660/69"]
["Kysucká nemocnica s poliklinikou Čadca","Čadca","Športovcov"]
["Letecká vojenská nemocnica, a.s.","Košice","Murgašova 1"]
["Liptovská nemocnica s poliklinikou MUDr. Ivana Stodolu Liptovský Mikuláš","Liptovský Mikuláš","Hurbanova"]
["Litomyšlská nemocnice","Litomyšl","J. E. Purkyně 652"]
["Ľubovnianska nemocnica, n.o.","Stará Ľubovňa","Obrancov mieru 3"]
["MANUS - MED, s.r.o., Prievidza","Prievidza","Štefana Závodníka 41"]
["Masarykov onkologický ústav","Brno","Žlutý kopec 543/7"]
["Masarykova nemocnice v Ústí nad Labem, o.z.","Ústí nad Labem","Sociální péčer 12A"]
["Město Jirkov","Námestí Dr.E.Beneše čp.1","Jirkov"]
["Město Šumperk","Šumperk","náměstí Míru 1"]
["Mestská nemocnica Ostrava","Ostrava","Nemocniční 20"]
["Mestská poliklinika Šurany","Šurany","SNP 2"]
["Národní ústav duševního zdraví","Klecany","Topolová 748"]
["Národný onkologický ústav","Bratislava","Klenová 3019/1"]
["Národný ústav reumatických chorôb","Piešťany","Nábr. I. Krasku 4"]
["Národný ústav srdcových a cievnych chorôb, a.s.","Bratislava","Pod Krásnou hôrkou 1"]
["Národný ústav tuberkulózy, pl'úcnych chorôb a hrudníkovej chirurgie Vyšné Hágy","Vysoké Tatry","Vysoké Tatry 1"]
["Nemocnica České Budejovice, a.s.","České Budějovice","B. Němcové 585/54"]
["Nemocnica Košice-Šaca a.s. 1. súkromná nemocnica","Košice","Košice-Šaca"]
["Nemocnica Nový Jičín a.s.","Nový Jičín","K Nemocnici 76"]
["Nemocnica Poprad, a. s.","Poprad","Banícka"]
["Nemocnica s poliklinikou Brezno, n.o.","Brezno","Banisko 1"]
["Nemocnica s poliklinikou Myjava","Myjava","Staromyjavská 59"]
["Nemocnica s poliklinikou Považská Bystrica","Považská Bystrica","Nemocničná"]
["Nemocnica s poliklinikou Prievidza so sídlom v Bojniciach","Bojnice","Nemocničná"]
["Nemocnica s poliklinikou Žilina","Žilina","V. Spanyola 43"]
["Nemocnica s poliklinikou, n.o. Revúca","Revúca","Litovelská 25,"]
["Nemocnica svätého Michala, a.s.","Bratislava","Cintorínska 2365"]
["Nemocnica Třinec","Třinec","Kaštanova 268"]
["Nemocnica ve Frýdku-Místku, príspevková organizácia","Frýdek-Mýstek","El. Krásnohorské 321"]
["Nemocnice Boskovice","Boskovice","Otakara Kubína 179"]
["Nemocnice Břeclav","U Nemocnice 3066/1","Břeclav"]
["Nemocnice Česká Lípa","Česká Lípa","Purkyňova 1849"]
["Nemocnice České Budějovice, a.s.","České Budějovice ","B. Němcové 54"]
["Nemocnice Český Krumlov","Český Krumlov","Nemocniční 429"]
["Nemocnice Děčín","Dečín","U Nemocnice 604/1"]
["Nemocnice Havlíčkuv Brod","Havlíčkův Brod","Husova 2624"]
["Nemocnice Chomutov, o.z.","Chomutov","Kochova 1185"]
["Nemocnice Jablonec nad Nisou","Jablonec nad Nisou","Nemocniční 4446/15"]
["Nemocnice Jihlava","Jihlava","Vrchlického 59"]
["Nemocnice Jindrichuv Hradec, a.s.","Jindřichův Hradec","U Nemocnice 380/III"]
["Nemocnice Kyjov, příspěvková organizace","Kyjov","Strážovská 1247"]
["Nemocnice Most, o.z.","Most","Jana Evangelisty Purkyně 270/5"]
["Nemocnice následné péče Moravská Třebová","Moravská Třebová","Svitavská 480/25"]
["Nemocnice na Bulovce","Praha","Budínova 67/2"]
["Nemocnice na Homolce","Praha","Roentgenova 37/2"]
["Nemocnice Nové Mesto na Morave","Nové Mesto na Morave","Žďárská 610"]
["Nemocnice Nový Jičín a.s.","Nový Jičín","K Nemocnici 76"]
["Nemocnice Olomouckého kraje, a.s.","Olomouc","Jeremenkova 1191/40a"]
["Nemocnice Pelhřimov"," Pelhřimov","Slovanského bratrství 710"]
["Nemocnice Prachatice a.s","Prachatice","Nebahovská 1015"]
["Nemocnice Rudolfa a Stefanie Benešov, a.s.","Benešov","Máchova 400"]
["Nemocnice s poliklinikami n.o Nitra - Topoľčany","Topoľčany","Pavlovova"]
["Nemocnice s poliklinikami n.o. - Nitra/Levice","Levice","29. augusta 52/2"]
["Nemocnice s poliklinikami, n.o.","Levice","29. augusta 52/2"]
["Nemocnice s poliklinikou Karviná","Karviná","Vydmuchov 399/5"]
["Nemocnice s poliklinikou v Semilech","Semily","3. května 421"]
["Nemocnice Strakonice ","Strakonice ","Radomyšlská 336"]
["Nemocnice Šternberk","Šternberk","Jivavaská 20"]
["Nemocnice Tábor","Tábor","Kpt. Jaroše 2000"]
["Nemocnice Teplice","Teplice","Duchovská 53"]
["Nemocnice TGM Hodonín, p.o.","Hodonín","Purkyňova 2731/11"]
["Nemocnice Třebíč","Třebíč","Purkyňovo nám. 133/2"]
["Nemocnice Třinec","Třinec","Kaštanová 268"]
["Nemocnice Vyškov","Vyškov","Purkyňova 36"]
["Nemocnice Znojmo"," Znojmo","MUDr. Jana Janského 2675/11"]
["NsP Dunajská Streda, a.s.","Dunajská Streda","Veľkoblahovská cesta 23"]
["NsP Sv. Jakuba, n.o. Bardejov","Bardejov","Sv. Jakuba 510/21"]
["Obec Zvolenská Slatina","Zvolenská Slatina","Ulica SNP 370/19"]
["Oblastní nemocnice Jičín a.s","Jičín","Bolzanova 512"]
["Oblastní nemocnice Kolín, a.s.","Kolín","Žižkova 146"]
["Oblastní nemocnice Náchod, a.s.","Náchod","Purkyňova 446"]
["Oblastní nemocnice Trutnov, a.s.","Trutnov","Maxima Gorkého 77"]
["Onkologický ústav sv. Alžbety s.r.o.","Bratislava","Heydukova 2157/1"]
["Orlickoústecká nemocnice","Ústí nad Orlicí","Čs. armády 1076"]
["Ostrov Zdraví o.p.s.","Ostrov","U Nemocnice 1161"]
["PANMED, s.r.o.","Nové Zámky","Tatranská 615/48"]
["Pardubická krajská nemocnice a.s","Pardubice","Kyjevská 44"]
["Pardubická nemocnice ","Pardubice","Kyjevská 44"]
["Poliklinika Štúrovo","Štúrovo","Jesenského,"]
["Poliklinika Žďár nad Sázavou ","Žďár nad Sázavou","Studentská 1699/5"]
["PRO VITAE, n.o.","Gelnica","Nemocničná 33"]
["Psychiatrická liečebňa Havlíčkov Brod","Havlíčkův Brod","Rozkošská 2322"]
["Psychiatrická nemocnica Opava","Opava","Olomoucká 305/88"]
["Psychiatrická nemocnica Philippa Pinela Pezinok","Pezinok","Malacká cesta"]
["PURUS Púchov","Púchov","Pod Lachovcom 1727/55"]
["Revmatologický ústav","Praha ","Na Slupi 4"]
["Slezká nemocnice v Opavě p.o.","Opava","Olomoucká 86"]
["Slovenská zdravotnícka univerzita v Bratislave ","Limbová 12","Bratislava"]
["Stodecká nemocnice, a.s.","Stod","Hradecká 600"]
["Stredoslovenský ústav srdcových a cievnych chorôb, a.s.","Banská Bystrica","Cesta k nemocnici 622/1"]
["Svitavská nemocnice","Svitavy","Kollárova 7"]
["Špecializovaná nemocnica sv. Svorada Zobor, n.o.","Nitra","Kláštorská 134"]
["Thomayerova nemocnice","Praha","Vídeňská 800"]
["Uherskohradišťská nemocnice","Uherské Hradiště","Jana Evangelisty Purkyně 365"]
["Umiverzita Palackého v Olomouci","Olomouc","Křížkovského 8"]
["Uniklinika Kardinála Korca v Prievidzi","Prievidza","Nábrežná 5"]
["Univerzita Komenského v Bratislave","Bratislava","Vajanského nábrežie"]
["Univerzitná nemocnica Bratislava","Bratislava","Ružinovská 4810/6"]
["Univerzitná nemocnica Bratislava ","Bratislava","Ružinovská 4810/6"]
["Univerzitná nemocnica L. Pasteura Košice","Košice","Trieda SNP 457/1"]
["Univerzitná nemocnica Martin","Martin","Kollárova 2"]
["UPJŠ Košice","Košice","Moyzesova"]
["Úrazová nemocnice v Brne","Brno","Ponávka 6"]
["Ústav hematológie a krvnej transfúzie","Praha","U Nemocnice 1"]
["Ústredná vojenská nemocnica SNP Ružomberok","Ružomberok","Generála Miloša Vesela 21"]
["Virologický ústav SAV","Bratislava ","Dúbravská č.9"]
["Vojenská fakultná nemocnica Praha","Praha","U Vojenské nemocnice 1/1200"]
["Vojenská nemocnice Brno","Brno","Zábrdovická 3"]
["Vojenská nemocnice Olomouc","Olomouc","Sušilovo nám. 5"]
["Vsetínska nemocnice","Vsetín","Nemocniční 955"]
["Všeobecná fakultní nemocnice Praha","Praha ","U Nemocnice 2"]
["Všeobecná nemocnica s poliklinikou Lučenec n.o.","Lučenec","Námestie republiky"]
["Všeobecná nemocnica s poliklinikou Veľký Krtíš, n.o.","Veľký Krtíš","Nemocničná 1"]
["Východoslovenský onkologický ústav","Košice","Rastislavova 43"]
["Východoslovenský ústav srdcových a cievnych chorôb, a.s.","Košice","Ondavská č.8"]
["Vysoká škola zdravotníctva a sociálnej práce Sv. Alžbety","Bratislava","Námestie 1. Mája"]
["Záchranná služba Košice","Košice","Rastislavova 785/43"]
["Zdravotnícka záchranná služba Pardubického kraje, p.o.","Pardubice","Průmyslová 450"]
["Žilinský samosprávny kraj","Žilina","Komenského 2622/48"]

{"sheet":"CZKEUR Xchange rate","index":4,"n_rows":234,"n_cols":5,"rows_kept":234,"cut":false,"hidden":true,"merged":[]}
["Euro/ECU exchange rates - monthly data [ert_bil_eur_m]"]
[]
["Last update","2017-07-05T02:04:31"]
["Extracted on","2017-07-11T16:56:23.267"]
["Source of data","Eurostat"]
[]
["UNIT","National currency",null,"UNIT","National currency"]
["STATINFO","Average",null,"STATINFO","Value at the end of the period"]
[]
[]
[]
["CURRENCY/TIME","Czech koruna",null,"CURRENCY/TIME","Czech koruna"]
["1999M01",35.741,null,"1999M01",36.826999999999998]
["1999M02",37.799999999999997,null,"1999M02",37.908000000000001]
["1999M03",37.993000000000002,null,"1999M03",38.393000000000001]
["1999M04",37.981999999999999,null,"1999M04",37.643000000000001]
["1999M05",37.685000000000002,null,"1999M05",37.552999999999997]
["1999M06",37.094000000000001,null,"1999M06",36.417999999999999]
["1999M07",36.503,null,"1999M07",36.664000000000001]
["1999M08",36.412999999999997,null,"1999M08",36.573]
["1999M09",36.313000000000002,null,"1999M09",35.774999999999999]
["1999M10",36.619999999999997,null,"1999M10",36.612000000000002]
["1999M11",36.372,null,"1999M11",36.076999999999998]
["1999M12",36.048000000000002,null,"1999M12",36.103000000000002]
["2000M01",36.005000000000003,null,"2000M01",35.79]
["2000M02",35.685000000000002,null,"2000M02",35.585000000000001]
["2000M03",35.627000000000002,null,"2000M03",36.222999999999999]
["2000M04",36.323,null,"2000M04",36.323999999999998]
["2000M05",36.548999999999999,null,"2000M05",36.134999999999998]
["2000M06",35.973999999999997,null,"2000M06",35.622]
["2000M07",35.607999999999997,null,"2000M07",35.423999999999999]
["2000M08",35.356000000000002,null,"2000M08",35.369999999999997]
["2000M09",35.44,null,"2000M09",35.549999999999997]
["2000M10",35.235999999999997,null,"2000M10",34.869]
["2000M11",34.609000000000002,null,"2000M11",34.628]
["2000M12",34.834000000000003,null,"2000M12",35.046999999999997]
["2001M01",35.128,null,"2001M01",34.69]
["2001M02",34.64,null,"2001M02",34.642000000000003]
["2001M03",34.590000000000003,null,"2001M03",34.552]
["2001M04",34.555,null,"2001M04",34.526000000000003]
["2001M05",34.375,null,"2001M05",34.195]
["2001M06",33.954000000000001,null,"2001M06",33.78]
["2001M07",33.868000000000002,null,"2001M07",33.979999999999997]
["2001M08",34.049999999999997,null,"2001M08",34.322000000000003]
["2001M09",34.156999999999996,null,"2001M09",33.911999999999999]
["2001M10",33.548999999999999,null,"2001M10",33.619999999999997]
["2001M11",33.290999999999997,null,"2001M11",33.097000000000001]
["2001M12",32.531999999999996,null,"2001M12",31.962]
["2002M01",32.066000000000003,null,"2002M01",31.902000000000001]
["2002M02",31.789000000000001,null,"2002M02",31.611999999999998]
["2002M03",31.419,null,"2002M03",31.013000000000002]
["2002M04",30.335999999999999,null,"2002M04",30.64]
["2002M05",30.552,null,"2002M05",30.417999999999999]
["2002M06",30.3,null,"2002M06",29.266999999999999]
["2002M07",29.727,null,"2002M07",30.33]
["2002M08",30.795999999999999,null,"2002M08",30.443999999999999]
["2002M09",30.19,null,"2002M09",30.285]
["2002M10",30.66,null,"2002M10",30.777999999999999]
["2002M11",30.751999999999999,null,"2002M11",30.856999999999999]
["2002M12",31.193999999999999,null,"2002M12",31.577000000000002]
["2003M01",31.489000000000001,null,"2003M01",31.571999999999999]
["2003M02",31.640999999999998,null,"2003M02",31.802]
["2003M03",31.751000000000001,null,"2003M03",31.946999999999999]
["2003M04",31.617999999999999,null,"2003M04",31.433]
["2003M05",31.387,null,"2003M05",31.332999999999998]
["2003M06",31.411999999999999,null,"2003M06",31.571999999999999]
["2003M07",31.88,null,"2003M07",32.22]
["2003M08",32.286999999999999,null,"2003M08",32.44]
["2003M09",32.354999999999997,null,"2003M09",31.844000000000001]
["2003M10",31.989000000000001,null,"2003M10",32.034999999999997]
["2003M11",31.974,null,"2003M11",32.094999999999999]
["2003M12",32.329000000000001,null,"2003M12",32.409999999999997]
["2004M01",32.723999999999997,null,"2004M01",33.323]
["2004M02",32.856999999999999,null,"2004M02",32.435000000000002]
["2004M03",32.984999999999999,null,"2004M03",32.832999999999998]
["2004M04",32.518999999999998,null,"2004M04",32.542999999999999]
["2004M05",31.975999999999999,null,"2004M05",31.625]
["2004M06",31.614000000000001,null,"2004M06",31.754999999999999]
["2004M07",31.545000000000002,null,"2004M07",31.693000000000001]
["2004M08",31.634,null,"2004M08",31.878]
["2004M09",31.600999999999999,null,"2004M09",31.66]
["2004M10",31.491,null,"2004M10",31.535]
["2004M11",31.286000000000001,null,"2004M11",30.988]
["2004M12",30.635999999999999,null,"2004M12",30.463999999999999]
["2005M01",30.303999999999998,null,"2005M01",30.14]
["2005M02",29.957000000000001,null,"2005M02",29.742999999999999]
["2005M03",29.771000000000001,null,"2005M03",29.954999999999998]
["2005M04",30.134,null,"2005M04",30.498999999999999]
["2005M05",30.22,null,"2005M05",30.372]
["2005M06",30.033999999999999,null,"2005M06",30.03]
["2005M07",30.18,null,"2005M07",30.15]
["2005M08",29.594000000000001,null,"2005M08",29.568000000000001]
["2005M09",29.317,null,"2005M09",29.553000000000001]
["2005M10",29.675000000000001,null,"2005M10",29.594999999999999]
["2005M11",29.265999999999998,null,"2005M11",28.933]
["2005M12",28.972000000000001,null,"2005M12",29]
["2006M01",28.722000000000001,null,"2006M01",28.408000000000001]
["2006M02",28.407,null,"2006M02",28.32]
["2006M03",28.65,null,"2006M03",28.594999999999999]
["2006M04",28.501000000000001,null,"2006M04",28.42]
["2006M05",28.271000000000001,null,"2006M05",28.207999999999998]
["2006M06",28.385999999999999,null,"2006M06",28.492999999999999]
["2006M07",28.448,null,"2006M07",28.527999999999999]
["2006M08",28.193999999999999,null,"2006M08",28.213999999999999]
["2006M09",28.382999999999999,null,"2006M09",28.326000000000001]
["2006M10",28.29,null,"2006M10",28.219000000000001]
["2006M11",28.029,null,"2006M11",27.972000000000001]
["2006M12",27.777999999999999,null,"2006M12",27.484999999999999]
["2007M01",27.84,null,"2007M01",28.163]
["2007M02",28.233000000000001,null,"2007M02",28.295000000000002]
["2007M03",28.056999999999999,null,"2007M03",28.01]
["2007M04",28.015000000000001,null,"2007M04",28.123000000000001]
["2007M05",28.231000000000002,null,"2007M05",28.324000000000002]
["2007M06",28.545999999999999,null,"2007M06",28.718]
["2007M07",28.359000000000002,null,"2007M07",28.036999999999999]
["2007M08",27.86,null,"2007M08",27.725999999999999]
["2007M09",27.573,null,"2007M09",27.532]
["2007M10",27.335000000000001,null,"2007M10",26.972999999999999]
["2007M11",26.733000000000001,null,"2007M11",26.260999999999999]
["2007M12",26.317,null,"2007M12",26.628]
["2008M01",26.05,null,"2008M01",26.07]
["2008M02",25.376999999999999,null,"2008M02",25.228000000000002]
["2008M03",25.207999999999998,null,"2008M03",25.335000000000001]
["2008M04",25.064,null,"2008M04",25.204999999999998]
["2008M05",25.1,null,"2008M05",25.088000000000001]
["2008M06",24.315999999999999,null,"2008M06",23.893000000000001]
["2008M07",23.527999999999999,null,"2008M07",23.946999999999999]
["2008M08",24.286999999999999,null,"2008M08",24.734999999999999]
["2008M09",24.497,null,"2008M09",24.66]
["2008M10",24.768000000000001,null,"2008M10",24.22]
["2008M11",25.193000000000001,null,"2008M11",25.209]
["2008M12",26.12,null,"2008M12",26.875]
["2009M01",27.169,null,"2009M01",27.882000000000001]
["2009M02",28.460999999999999,null,"2009M02",28.09]
["2009M03",27.231000000000002,null,"2009M03",27.388000000000002]
["2009M04",26.774000000000001,null,"2009M04",26.701000000000001]
["2009M05",26.731000000000002,null,"2009M05",26.824999999999999]
["2009M06",26.545000000000002,null,"2009M06",25.882000000000001]
["2009M07",25.792999999999999,null,"2009M07",25.573]
["2009M08",25.646000000000001,null,"2009M08",25.376000000000001]
["2009M09",25.346,null,"2009M09",25.164000000000001]
["2009M10",25.861000000000001,null,"2009M10",26.457999999999998]
["2009M11",25.812000000000001,null,"2009M11",26.135000000000002]
["2009M12",26.088999999999999,null,"2009M12",26.472999999999999]
["2010M01",26.132999999999999,null,"2010M01",26.222999999999999]
["2010M02",25.978999999999999,null,"2010M02",25.97]
["2010M03",25.541,null,"2010M03",25.44]
["2010M04",25.308,null,"2010M04",25.527000000000001]
["2010M05",25.663,null,"2010M05",25.504999999999999]
["2010M06",25.78,null,"2010M06",25.690999999999999]
["2010M07",25.327999999999999,null,"2010M07",24.777000000000001]
["2010M08",24.806000000000001,null,"2010M08",24.85]
["2010M09",24.651,null,"2010M09",24.6]
["2010M10",24.530999999999999,null,"2010M10",24.597999999999999]
["2010M11",24.632999999999999,null,"2010M11",24.914999999999999]
["2010M12",25.173999999999999,null,"2010M12",25.061]
["2011M01",24.449000000000002,null,"2011M01",24.222999999999999]
["2011M02",24.277000000000001,null,"2011M02",24.353000000000002]
["2011M03",24.393000000000001,null,"2011M03",24.542999999999999]
["2011M04",24.300999999999998,null,"2011M04",24.222999999999999]
["2011M05",24.381,null,"2011M05",24.547000000000001]
["2011M06",24.286000000000001,null,"2011M06",24.344999999999999]
["2011M07",24.335000000000001,null,"2011M07",24.187999999999999]
["2011M08",24.273,null,"2011M08",24.11]
["2011M09",24.556000000000001,null,"2011M09",24.754000000000001]
["2011M10",24.841000000000001,null,"2011M10",24.800999999999998]
["2011M11",25.463999999999999,null,"2011M11",25.321000000000002]
["2011M12",25.513999999999999,null,"2011M12",25.786999999999999]
["2012M01",25.530999999999999,null,"2012M01",25.187999999999999]
["2012M02",25.042000000000002,null,"2012M02",24.843]
["2012M03",24.675999999999998,null,"2012M03",24.73]
["2012M04",24.809000000000001,null,"2012M04",24.867000000000001]
["2012M05",25.312999999999999,null,"2012M05",25.693000000000001]
["2012M06",25.64,null,"2012M06",25.64]
["2012M07",25.446999999999999,null,"2012M07",25.254999999999999]
["2012M08",25.021000000000001,null,"2012M08",24.84]
["2012M09",24.751999999999999,null,"2012M09",25.140999999999998]
["2012M10",24.939,null,"2012M10",25.064]
["2012M11",25.364999999999998,null,"2012M11",25.262]
["2012M12",25.213999999999999,null,"2012M12",25.151]
["2013M01",25.562999999999999,null,"2013M01",25.619]
["2013M02",25.475000000000001,null,"2013M02",25.637]
["2013M03",25.658999999999999,null,"2013M03",25.74]
["2013M04",25.841000000000001,null,"2013M04",25.798999999999999]
["2013M05",25.888000000000002,null,"2013M05",25.710999999999999]
["2013M06",25.759,null,"2013M06",25.949000000000002]
["2013M07",25.943999999999999,null,"2013M07",25.856999999999999]
["2013M08",25.818000000000001,null,"2013M08",25.734999999999999]
["2013M09",25.789000000000001,null,"2013M09",25.73]
["2013M10",25.661999999999999,null,"2013M10",25.728999999999999]
["2013M11",26.927,null,"2013M11",27.390999999999998]
["2013M12",27.521000000000001,null,"2013M12",27.427]
["2014M01",27.484999999999999,null,"2014M01",27.5]
["2014M02",27.443999999999999,null,"2014M02",27.344000000000001]
["2014M03",27.395,null,"2014M03",27.442]
["2014M04",27.45,null,"2014M04",27.454000000000001]
["2014M05",27.437000000000001,null,"2014M05",27.471]
["2014M06",27.45,null,"2014M06",27.452999999999999]
["2014M07",27.457999999999998,null,"2014M07",27.57]
["2014M08",27.815999999999999,null,"2014M08",27.725000000000001]
["2014M09",27.599,null,"2014M09",27.5]
["2014M10",27.588000000000001,null,"2014M10",27.77]
["2014M11",27.667000000000002,null,"2014M11",27.652000000000001]
["2014M12",27.64,null,"2014M12",27.734999999999999]
["2015M01",27.895,null,"2015M01",27.797000000000001]
["2015M02",27.608000000000001,null,"2015M02",27.437999999999999]
["2015M03",27.379000000000001,null,"2015M03",27.533000000000001]
["2015M04",27.439,null,"2015M04",27.43]
["2015M05",27.396999999999998,null,"2015M05",27.401]
["2015M06",27.306999999999999,null,"2015M06",27.253]
["2015M07",27.094000000000001,null,"2015M07",27.030999999999999]
["2015M08",27.041,null,"2015M08",27.021000000000001]
["2015M09",27.088999999999999,null,"2015M09",27.187000000000001]
["2015M10",27.105,null,"2015M10",27.09]
["2015M11",27.039000000000001,null,"2015M11",27.03]
["2015M12",27.027000000000001,null,"2015M12",27.023]
["2016M01",27.027000000000001,null,"2016M01",27.026]
["2016M02",27.04,null,"2016M02",27.056999999999999]
["2016M03",27.050999999999998,null,"2016M03",27.050999999999998]
["2016M04",27.030999999999999,null,"2016M04",27.038]
["2016M05",27.026,null,"2016M05",27.021999999999998]
["2016M06",27.061,null,"2016M06",27.131]
["2016M07",27.042000000000002,null,"2016M07",27.030999999999999]
["2016M08",27.024999999999999,null,"2016M08",27.026]
["2016M09",27.021999999999998,null,"2016M09",27.021000000000001]
["2016M10",27.021999999999998,null,"2016M10",27.024000000000001]
["2016M11",27.033000000000001,null,"2016M11",27.06]
["2016M12",27.030999999999999,null,"2016M12",27.021000000000001]
["2017M01",27.021000000000001,null,"2017M01",27.021000000000001]
["2017M02",27.021000000000001,null,"2017M02",27.021000000000001]
["2017M03",27.021000000000001,null,"2017M03",27.03]
["2017M04",26.823,null,"2017M04",26.922000000000001]
["2017M05",26.571999999999999,null,"2017M05",26.422000000000001]
["2017M06",26.263999999999999,null,"2017M06",26.196999999999999]