Workbook

Sheet Kalkulačka - zjednodušená
B3: MINISTERSTVO ZDRAVOTNÍCTVA
B4: Slovenskej republiky
B6: Výpočet cien - Degresívna obchodná prirážka pre dietetické potraviny
B7: Zjednodušená kalkulačka - mena euro
B10: Sadzba DPH: | C10: 0.05
B12: Model Degresívnej obchodnej prirážky
B14: Prosím, zadajte cenu výrobcu:
B16: ="Konečná cena v lekárni s " & C10*100 & "% DPH:" -> Konečná cena v lekárni s 5% DPH: | C16: =+ROUND((ROUND(C14,2)+VLOOKUP(VLOOKUP(ROUND(C14,2),Data!$B$2:$H$12,1,1),Data!$B$2:$H$12,6,1)+(ROUND(C14,2)-VLOOKUP(ROUND(C14,2),Data!$B$2:$I$12,8,1))*VLOOKUP(VLOOKUP(ROUND(C14,2),Data!$B$2:$H$12,1,1),Data!$B$2:$H$12,7,1))*(1+C10),2) -> 0
B21: Prevrátený model Degresívnej obchodnej prirážky
B23: ="Prosím, zadajte konečnú cenu v lekárni s " & C10*100 &"% DPH:" -> Prosím, zadajte konečnú cenu v lekárni s 5% DPH:
B25: Cena výrobcu: | C25: =ROUND((ROUND(C23,2)/(1+C10)-VLOOKUP(VLOOKUP(ROUND(C23,2)/(1+C10),Data!$A$2:$H$12,2,1),Data!$B$2:$H$12,6,1)+VLOOKUP(ROUND(C23,2)/(1+C10),Data!$A$2:$I$12,9,1)*VLOOKUP(VLOOKUP(ROUND(C23,2)/(1+C10),Data!$A$2:$H$12,2,1),Data!$B$2:$H$12,7,1))/(1+VLOOKUP(VLOOKUP(ROUND(C23,2)/(1+C10),Data!$A$2:$H$12,2,1),Data!$B$2:$H$12,7,1)),2) -> 0

Sheet Kalkulačka - detail
B3: MINISTERSTVO ZDRAVOTNÍCTVA
B4: Slovenskej republiky
B6: Výpočet cien - Degresívna obchodná prirážka pre dietetické potraviny
B7: Kalkulačka - mena euro
B10: Sadzba DPH: | H10: 0.05
B12: Model Degresívnej obchodnej prirážky
B14: Prosím, zadajte cenu výrobcu:
B16: Výpočet: | F16: Distribútor | I16: Lekáreň | L16: Spolu | N16: ="Konečná cena v lekárni s " & H10*100 &"% DPH" -> Konečná cena v lekárni s 5% DPH
F17: Zákl. suma | G17: Deg. obch. prir. | H17: Predajná cena | I17: Zákl. suma | J17: Deg. obch. prir. | K17: Predajná cena | L17: Zákl. suma | M17: Deg. obch. prir.
B18: Pásmo | C18: =VLOOKUP(C19,Data!$B$2:$H$12,1,1) -> 0 | D18: =+VLOOKUP(C19,Data!$B$2:$I$12,8,1) -> 0 | E18: =+VLOOKUP(C19,Data!$B$2:$J$12,9,1) -> od 0,00 do 2,66 euro | F18: =VLOOKUP(C18,Data!$B$2:$H$12,2,1) -> 0 | G18: =VLOOKUP(C18,Data!$B$2:$H$12,3,1) -> 0.141 | I18: =VLOOKUP(C18,Data!$B$2:$H$12,4,1) -> 0 | J18: =VLOOKUP(C18,Data!$B$2:$H$12,5,1) -> 0.329 | L18: =VLOOKUP(C18,Data!$B$2:$H$12,6,1) -> 0 | M18: =VLOOKUP(C18,Data!$B$2:$H$12,7,1) -> 0.47
B19: Suma | C19: =+ROUND(H14,2) -> 0 | E19: =+C19 -> 0 | F19: =+F18 -> 0 | G19: =(C19-D18)*G18 -> 0 | H19: =SUM(E19:G19) -> 0 | I19: =+I18 -> 0 | J19: =(C19-D18)*J18 -> 0 | K19: =+C19+L19+M19 -> 0 | L19: =+L18 -> 0 | M19: =(C19-D18)*M18 -> 0 | N19: =+ROUND(K19*(1+H10),2) -> 0
B21: ="Konečná cena v lekárni s " & H10*100 & "% DPH:" -> Konečná cena v lekárni s 5% DPH: | H21: =+ROUND((C19+VLOOKUP(VLOOKUP(C19,Data!$B$2:$H$12,1,1),Data!$B$2:$H$12,6,1)+(C19-VLOOKUP(C19,Data!$B$2:$I$12,8,1))*VLOOKUP(VLOOKUP(C19,Data!$B$2:$H$12,1,1),Data!$B$2:$H$12,7,1))*(1+H10),2) -> 0
B27: Prevrátený model Degresívnej obchodnej prirážky
B29: ="Prosím, zadajte konečnú cenu v lekárni s "&H10*100 &"% DPH:" -> Prosím, zadajte konečnú cenu v lekárni s 5% DPH:
B31: Výpočet: | F31: Distribútor | I31: Lekáreň | L31: Spolu | N31: ="Konečná cena v lekárni s " & H10*100 &" % DPH" -> Konečná cena v lekárni s 5 % DPH
F32: Zákl. suma | G32: Deg. obch. prir. | H32: Predajná cena | I32: Zákl. suma | J32: Deg. obch. prir. | K32: Predajná cena | L32: Zákl. suma | M32: Deg. obch. prir.
B33: Pásmo | C33: =VLOOKUP(K34,Data!$A$2:$H$12,2,1) -> 0 | D33: =+VLOOKUP(K34,Data!$A$2:$I$12,9,1) -> 0 | E33: =+VLOOKUP(K34,Data!$A$2:$J$12,10,1) -> od 0,00 do 2,66 euro | F33: =VLOOKUP(C33,Data!$B$2:$H$12,2,1) -> 0 | G33: =VLOOKUP(C33,Data!$B$2:$H$12,3,1) -> 0.141 | I33: =VLOOKUP(C33,Data!$B$2:$H$12,4,1) -> 0 | J33: =VLOOKUP(C33,Data!$B$2:$H$12,5,1) -> 0.329 | L33: =VLOOKUP(C33,Data!$B$2:$H$12,6,1) -> 0 | M33: =VLOOKUP(C33,Data!$B$2:$H$12,7,1) -> 0.47
B34: Suma | C34: =ROUND((K34-L33+D33*M33)/(1+M33),2) -> 0 | E34: =+C34 -> 0 | F34: =+F33 -> 0 | G34: =(C34-D33)*G33 -> 0 | H34: =SUM(E34:G34) -> 0 | I34: =+I33 -> 0 | J34: =(C34-D33)*J33 -> 0 | K34: =+N34/(1+H10) -> 0 | L34: =+L33 -> 0 | M34: =(C34-D33)*M33 -> 0 | N34: =+ROUND(H29,2) -> 0
B36: Cena výrobcu: | H36: =ROUND((N34/(1+H10)-VLOOKUP(VLOOKUP(N34/(1+H10),Data!$A$2:$H$12,2,1),Data!$B$2:$H$12,6,1)+VLOOKUP(N34/(1+H10),Data!$A$2:$I$12,9,1)*VLOOKUP(VLOOKUP(N34/(1+H10),Data!$A$2:$H$12,2,1),Data!$B$2:$H$12,7,1))/(1+VLOOKUP(VLOOKUP(N34/(1+H10),Data!$A$2:$H$12,2,1),Data!$B$2:$H$12,7,1)),2) -> 0

Sheet Data
A1: Price limit KC bez DPH | B1: Price limit CIP | C1: distributors | E1: pharmacies | G1: Total
A2: 0 | B2: 0 | C2: 0 | D2: 0.141 | E2: 0 | F2: 0.329 | G2: =+C2+E2 -> 0 | H2: =+D2+F2 -> 0.47 | I2: 0 | J2: od 0,00 do 2,66 euro | K2: od 0,00 do 80,00 Sk
A3: 3.91 | B3: 2.6601 | C3: 0.37 | D3: 0.111 | E3: 0.87 | F3: 0.259 | G3: =+C3+E3 -> 1.24 | H3: =+D3+F3 -> 0.37 | I3: 2.66 | J3: od 2,67 do 5,31 euro | K3: od 80,01 do 160,00 Sk
A4: 7.53 | B4: 5.3101 | C4: 0.67 | D4: 0.081 | E4: 1.56 | F4: 0.189 | G4: =+C4+E4 -> 2.23 | H4: =+D4+F4 -> 0.27 | I4: 5.31 | J4: od 5,32 do 7,97 euro | K4: od 160,01 do 240,00 Sk
A5: 10.92 | B5: 7.9701 | C5: 0.88 | D5: 0.051 | E5: 2.06 | F5: 0.119 | G5: =+C5+E5 -> 2.94 | H5: =+D5+F5 -> 0.17 | I5: 7.97 | J5: od 7,98 do 13,28 euro | K5: od 240,01 do 400,00 Sk
A6: 17.12 | B6: 13.2801 | C6: 1.16 | D6: 0.033 | E6: 2.7 | F6: 0.077 | G6: =+C6+E6 -> 3.86 | H6: =+D6+F6 -> 0.11 | I6: 13.28 | J6: od 13,29 do 23,24 euro | K6: od 400,01 do 700,00 Sk
A7: 28.2 | B7: 23.2401 | C7: 1.48 | D7: 0.027 | E7: 3.46 | F7: 0.063 | G7: =+C7+E7 -> 4.94 | H7: =+D7+F7 -> 0.09 | I7: 23.24 | J7: od 23,25 do 39,83 euro | K7: od 700,01 do 1200,00 Sk
A8: 46.26 | B8: 39.8301 | C8: 1.93 | D8: 0.024 | E8: 4.51 | F8: 0.056 | G8: =+C8+E8 -> 6.44 | H8: =+D8+F8 -> 0.08 | I8: 39.83 | J8: od 39,84 do 73,03 euro | K8: od 1200,01 do 2200,00 Sk
A9: 82.13 | B9: 73.0301 | C9: 2.73 | D9: 0.0225 | E9: 6.37 | F9: 0.0525 | G9: =+C9+E9 -> 9.1 | H9: =+D9+F9 -> 0.075 | I9: 73.03 | J9: od 73,04 do 165,97 euro | K9: od 2200,01 do 5000,00 Sk
A10: 182.04 | B10: 165.9701 | C10: 4.82 | D10: 0.021 | E10: 11.25 | F10: 0.049 | G10: =+C10+E10 -> 16.07 | H10: =+D10+F10 -> 0.07 | I10: 165.97 | J10: od 165,98 do 331,94 euro | K10: od 5000,01 do 10 000,00 Sk
A11: 359.63 | B11: 331.9401 | C11: 8.31 | D11: 0.0195 | E11: 19.38 | F11: 0.0455 | G11: =+C11+E11 -> 27.69 | H11: =+D11+F11 -> 0.065 | I11: 331.94 | J11: od 331,95 do 663,88 euro | K11: od 10 000,01 do 20 000,00 Sk
A12: 713.15 | B12: 663.8801 | C12: 14.78 | D12: 0.018 | E12: 34.48 | F12: 0.042 | G12: =+C12+E12 -> 49.26 | H12: =+D12+F12 -> 0.06 | I12: 663.88 | J12: viac ako 663,88 euro | K12: viac ako 20 000,00 Sk
A14: 1 | B14: 2 | C14: 3 | D14: 4 | E14: 5 | F14: 6 | G14: 7 | H14: 8 | I14: 9 | J14: 10
A16: Price limit CIP
A17: 0 | B17: od 0,00 do 2,66 euro
A18: 2.66 | B18: od 2,67 do 5,31 euro
A19: 5.31 | B19: od 5,32 do 7,97 euro
A20: 7.97 | B20: od 7,98 do 13,28 euro
A21: 13.28 | B21: od 13,29 do 23,24 euro
A22: 23.24 | B22: od 23,25 do 39,83 euro
A23: 39.83 | B23: od 39,84 do 73,03 euro
A24: 73.03 | B24: od 73,04 do 165,97 euro
A25: 165.97 | B25: od 165,98 do 331,94 euro
A26: 331.94 | B26: od 331,95 do 663,88 euro
A27: 663.88 | B27: viac ako 663,88 euro
A32: DPH
A33: 0.05
A34: 0.19
A35: 0.23
